Workbook

Sheet Торговый журнал
A1: № | B1: Дата входа | C1: Время открытия | D1: День | E1: Инстр-т | F1: Сетап | G1: Поза | H1: Цена Входа | I1: SL | J1: TP | K1: Цена Выхода | L1: Дата выхода | M1: Выход | N1: Комиссия | O1: Своп | P1: Рез-т USD | Q1: Risk R USD | R1: SL, пп | S1: TP, пп | T1: 1:R | U1: Рез-т R | V1: Накоп USD | W1: Накоп R | X1: Макс R | Y1: Просадка R
A2: 0 | B2: 44562 | L2: 44562 | V2: 0 | W2: 0 | X2: 0 | Y2: 0
A3: 1 | B3: 44768 | C3: 0.81875 | D3: =WEEKDAY(B3,2) -> 2 | E3: GBPCAD | F3: SLP | G3: Buy | H3: 1.549 | I3: 1.5408 | J3: 1.5785 | K3: 1.5736 | L3: 44774 | M3: Hand | N3: -0.1 | O3: -0.72 | P3: 38.3 | Q3: 10 | R3: =IF(OR(E3="USDJPY",E3="EURJPY",E3="GBPJPY",E3="AUDJPY",E3="NZDJPY",E3="CHFJPY",E3="CADJPY",E3="BRENT",E3="XAUUSD",E3="XAGUSD"),ABS((H3-I3)*10^2),ABS((I3-H3)*10^4)) -> 82 | S3: =IF(OR(E3="USDJPY",E3="EURJPY",E3="GBPJPY",E3="AUDJPY",E3="NZDJPY",E3="CHFJPY",E3="CADJPY",E3="BRENT",E3="XAUUSD",E3="XAGUSD"),ABS((H3-J3)*10^2),ABS((J3-H3)*10^4)) -> 295 | T3: =IF(AND(R3<>0,S3<>0),S3/R3,0) -> 3.597561 | U3: =(N3+O3+P3)/Q3 -> 3.748 | V3: =V2+N3+O3+P3 -> 37.48 | W3: =W2+U3 -> 3.748 | X3: =IF(W3>X2,W3,X2) -> 3.748 | Y3: =(X3-W3)*(-1) -> 0
A4: 2 | B4: 44771 | C4: 0.28055556 | D4: =WEEKDAY(B4,2) -> 5 | E4: EURAUD | F4: LP | G4: Buy | H4: 1.4583 | I4: 1.4509 | J4: 1.479 | K4: 1.4759 | L4: 44775 | M4: Hand | N4: -0.08 | O4: -0.32 | P4: 24.58 | Q4: 10 | R4: =IF(OR(E4="USDJPY",E4="EURJPY",E4="GBPJPY",E4="AUDJPY",E4="NZDJPY",E4="CHFJPY",E4="CADJPY",E4="BRENT",E4="XAUUSD",E4="XAGUSD"),ABS((H4-I4)*10^2),ABS((I4-H4)*10^4)) -> 74 | S4: =IF(OR(E4="USDJPY",E4="EURJPY",E4="GBPJPY",E4="AUDJPY",E4="NZDJPY",E4="CHFJPY",E4="CADJPY",E4="BRENT",E4="XAUUSD",E4="XAGUSD"),ABS((H4-J4)*10^2),ABS((J4-H4)*10^4)) -> 207 | T4: =IF(AND(R4<>0,S4<>0),S4/R4,0) -> 2.7972973 | U4: =(N4+O4+P4)/Q4 -> 2.418 | V4: =V3+N4+O4+P4 -> 61.66 | W4: =W3+U4 -> 6.166 | X4: =IF(W4>X3,W4,X3) -> 6.166 | Y4: =(X4-W4)*(-1) -> 0
A5: 3 | B5: 44776 | C5: 0.25763889 | D5: =WEEKDAY(B5,2) -> 3 | E5: NZDJPY | F5: LP | G5: Buy | H5: 83.1 | I5: 82.44 | J5: 84.7 | K5: 84.7 | L5: 44777 | M5: TP | N5: -0.05 | O5: -0.03 | P5: 23.85 | Q5: 10 | R5: =IF(OR(E5="USDJPY",E5="EURJPY",E5="GBPJPY",E5="AUDJPY",E5="NZDJPY",E5="CHFJPY",E5="CADJPY",E5="BRENT",E5="XAUUSD",E5="XAGUSD"),ABS((H5-I5)*10^2),ABS((I5-H5)*10^4)) -> 66 | S5: =IF(OR(E5="USDJPY",E5="EURJPY",E5="GBPJPY",E5="AUDJPY",E5="NZDJPY",E5="CHFJPY",E5="CADJPY",E5="BRENT",E5="XAUUSD",E5="XAGUSD"),ABS((H5-J5)*10^2),ABS((J5-H5)*10^4)) -> 160 | T5: =IF(AND(R5<>0,S5<>0),S5/R5,0) -> 2.4242424 | U5: =(N5+O5+P5)/Q5 -> 2.377 | V5: =V4+N5+O5+P5 -> 85.43 | W5: =W4+U5 -> 8.543 | X5: =IF(W5>X4,W5,X4) -> 8.543 | Y5: =(X5-W5)*(-1) -> 0
A6: 4 | B6: 44777 | C6: 0.55 | D6: =WEEKDAY(B6,2) -> 4 | E6: USDCAD | F6: SLP | G6: Buy | H6: 1.2823 | I6: 1.2765 | J6: 1.2945 | K6: =J6 -> 1.2945 | L6: 44778 | M6: TP | N6: -0.08 | O6: -0.07 | P6: 18.86 | Q6: 10 | R6: =IF(OR(E6="USDJPY",E6="EURJPY",E6="GBPJPY",E6="AUDJPY",E6="NZDJPY",E6="CHFJPY",E6="CADJPY",E6="BRENT",E6="XAUUSD",E6="XAGUSD"),ABS((H6-I6)*10^2),ABS((I6-H6)*10^4)) -> 58 | S6: =IF(OR(E6="USDJPY",E6="EURJPY",E6="GBPJPY",E6="AUDJPY",E6="NZDJPY",E6="CHFJPY",E6="CADJPY",E6="BRENT",E6="XAUUSD",E6="XAGUSD"),ABS((H6-J6)*10^2),ABS((J6-H6)*10^4)) -> 122 | T6: =IF(AND(R6<>0,S6<>0),S6/R6,0) -> 2.1034483 | U6: =(N6+O6+P6)/Q6 -> 1.871 | V6: =V5+N6+O6+P6 -> 104.14 | W6: =W5+U6 -> 10.414 | X6: =IF(W6>X5,W6,X5) -> 10.414 | Y6: =(X6-W6)*(-1) -> 0
A7: 5 | B7: 44784 | C7: 0.85486111 | D7: =WEEKDAY(B7,2) -> 4 | E7: CADCHF | F7: LP | G7: Buy | H7: 0.7381 | I7: 0.7335 | J7: 0.749 | K7: =I7 -> 0.7335 | L7: 44788 | M7: SL | N7: -0.06 | O7: 0.04 | P7: -9.7 | Q7: 10 | R7: =IF(OR(E7="USDJPY",E7="EURJPY",E7="GBPJPY",E7="AUDJPY",E7="NZDJPY",E7="CHFJPY",E7="CADJPY",E7="BRENT",E7="XAUUSD",E7="XAGUSD"),ABS((H7-I7)*10^2),ABS((I7-H7)*10^4)) -> 46 | S7: =IF(OR(E7="USDJPY",E7="EURJPY",E7="GBPJPY",E7="AUDJPY",E7="NZDJPY",E7="CHFJPY",E7="CADJPY",E7="BRENT",E7="XAUUSD",E7="XAGUSD"),ABS((H7-J7)*10^2),ABS((J7-H7)*10^4)) -> 109 | T7: =IF(AND(R7<>0,S7<>0),S7/R7,0) -> 2.3695652 | U7: =(N7+O7+P7)/Q7 -> -0.972 | V7: =V6+N7+O7+P7 -> 94.42 | W7: =W6+U7 -> 9.442 | X7: =IF(W7>X6,W7,X6) -> 10.414 | Y7: =(X7-W7)*(-1) -> -0.972
A8: 6 | B8: 44789 | C8: 0.0069444444 | D8: =WEEKDAY(B8,2) -> 2 | E8: GBPAUD | F8: SLP | G8: Buy | H8: 1.7181 | I8: 1.703 | J8: 1.7495 | K8: 1.7377 | L8: 44790 | M8: Hand | N8: -0.05 | O8: -0.04 | P8: 13.65 | Q8: 10 | R8: =IF(OR(E8="USDJPY",E8="EURJPY",E8="GBPJPY",E8="AUDJPY",E8="NZDJPY",E8="CHFJPY",E8="CADJPY",E8="BRENT",E8="XAUUSD",E8="XAGUSD"),ABS((H8-I8)*10^2),ABS((I8-H8)*10^4)) -> 151 | S8: =IF(OR(E8="USDJPY",E8="EURJPY",E8="GBPJPY",E8="AUDJPY",E8="NZDJPY",E8="CHFJPY",E8="CADJPY",E8="BRENT",E8="XAUUSD",E8="XAGUSD"),ABS((H8-J8)*10^2),ABS((J8-H8)*10^4)) -> 314 | T8: =IF(AND(R8<>0,S8<>0),S8/R8,0) -> 2.0794702 | U8: =(N8+O8+P8)/Q8 -> 1.356 | V8: =V7+N8+O8+P8 -> 107.98 | W8: =W7+U8 -> 10.798 | X8: =IF(W8>X7,W8,X7) -> 10.798 | Y8: =(X8-W8)*(-1) -> 0
A9: 7 | B9: 44789 | C9: 0.41736111 | D9: =WEEKDAY(B9,2) -> 2 | E9: USDCHF | F9: SLP | G9: Buy | H9: 0.9472 | I9: 0.9389 | J9: 0.9632 | K9: 0.9505 | L9: 44790 | M9: Hand | N9: -0.04 | O9: 0.01 | P9: 3.49 | Q9: 10 | R9: =IF(OR(E9="USDJPY",E9="EURJPY",E9="GBPJPY",E9="AUDJPY",E9="NZDJPY",E9="CHFJPY",E9="CADJPY",E9="BRENT",E9="XAUUSD",E9="XAGUSD"),ABS((H9-I9)*10^2),ABS((I9-H9)*10^4)) -> 83 | S9: =IF(OR(E9="USDJPY",E9="EURJPY",E9="GBPJPY",E9="AUDJPY",E9="NZDJPY",E9="CHFJPY",E9="CADJPY",E9="BRENT",E9="XAUUSD",E9="XAGUSD"),ABS((H9-J9)*10^2),ABS((J9-H9)*10^4)) -> 160 | T9: =IF(AND(R9<>0,S9<>0),S9/R9,0) -> 1.9277108 | U9: =(N9+O9+P9)/Q9 -> 0.346 | V9: =V8+N9+O9+P9 -> 111.44 | W9: =W8+U9 -> 11.144 | X9: =IF(W9>X8,W9,X8) -> 11.144 | Y9: =(X9-W9)*(-1) -> 0
A10: 10 | B10: 44796 | C10: 0.99513889 | D10: =WEEKDAY(B10,2) -> 2 | E10: EURUSD | F10: SLP | G10: Buy | H10: 0.9969 | I10: 0.9899 | J10: 1.0116 | K10: 0.9979 | L10: 44799 | M10: Hand | N10: -0.08 | O10: -0.96 | P10: 2.08 | Q10: 10 | R10: =IF(OR(E10="USDJPY",E10="EURJPY",E10="GBPJPY",E10="AUDJPY",E10="NZDJPY",E10="CHFJPY",E10="CADJPY",E10="BRENT",E10="XAUUSD",E10="XAGUSD"),ABS((H10-I10)*10^2),ABS((I10-H10)*10^4)) -> 70 | S10: =IF(OR(E10="USDJPY",E10="EURJPY",E10="GBPJPY",E10="AUDJPY",E10="NZDJPY",E10="CHFJPY",E10="CADJPY",E10="BRENT",E10="XAUUSD",E10="XAGUSD"),ABS((H10-J10)*10^2),ABS((J10-H10)*10^4)) -> 147 | T10: =IF(AND(R10<>0,S10<>0),S10/R10,0) -> 2.1 | U10: =(N10+O10+P10)/Q10 -> 0.104 | V10: =V9+N10+O10+P10 -> 112.48 | W10: =W9+U10 -> 11.248 | X10: =IF(W10>X9,W10,X9) -> 11.248 | Y10: =(X10-W10)*(-1) -> 0
A11: 11 | B11: 44797 | C11: 0.87638889 | D11: =WEEKDAY(B11,2) -> 3 | E11: GBPCHF | F11: SLP | G11: Buy | H11: 1.1398 | I11: 1.1338 | J11: 1.1521 | K11: 1.1338 | L11: 44799 | M11: SL | N11: -0.09 | O11: 0.07 | P11: -12.32 | Q11: 10 | R11: =IF(OR(E11="USDJPY",E11="EURJPY",E11="GBPJPY",E11="AUDJPY",E11="NZDJPY",E11="CHFJPY",E11="CADJPY",E11="BRENT",E11="XAUUSD",E11="XAGUSD"),ABS((H11-I11)*10^2),ABS((I11-H11)*10^4)) -> 60 | S11: =IF(OR(E11="USDJPY",E11="EURJPY",E11="GBPJPY",E11="AUDJPY",E11="NZDJPY",E11="CHFJPY",E11="CADJPY",E11="BRENT",E11="XAUUSD",E11="XAGUSD"),ABS((H11-J11)*10^2),ABS((J11-H11)*10^4)) -> 123 | T11: =IF(AND(R11<>0,S11<>0),S11/R11,0) -> 2.05 | U11: =(N11+O11+P11)/Q11 -> -1.234 | V11: =V10+N11+O11+P11 -> 100.14 | W11: =W10+U11 -> 10.014 | X11: =IF(W11>X10,W11,X10) -> 11.248 | Y11: =(X11-W11)*(-1) -> -1.234
A12: 8 | B12: 44790 | C12: 0.89097222 | D12: =WEEKDAY(B12,2) -> 3 | E12: CADCHF | F12: SLP | G12: Buy | H12: 0.7377 | I12: 0.7319 | J12: 0.7488 | K12: 0.7413 | L12: 44802 | M12: Hand | N12: -0.06 | O12: 0.22 | P12: 7.51 | Q12: 10 | R12: =IF(OR(E12="USDJPY",E12="EURJPY",E12="GBPJPY",E12="AUDJPY",E12="NZDJPY",E12="CHFJPY",E12="CADJPY",E12="BRENT",E12="XAUUSD",E12="XAGUSD"),ABS((H12-I12)*10^2),ABS((I12-H12)*10^4)) -> 58 | S12: =IF(OR(E12="USDJPY",E12="EURJPY",E12="GBPJPY",E12="AUDJPY",E12="NZDJPY",E12="CHFJPY",E12="CADJPY",E12="BRENT",E12="XAUUSD",E12="XAGUSD"),ABS((H12-J12)*10^2),ABS((J12-H12)*10^4)) -> 111 | T12: =IF(AND(R12<>0,S12<>0),S12/R12,0) -> 1.9137931 | U12: =(N12+O12+P12)/Q12 -> 0.767 | V12: =V11+N12+O12+P12 -> 107.81 | W12: =W11+U12 -> 10.781 | X12: =IF(W12>X11,W12,X11) -> 11.248 | Y12: =(X12-W12)*(-1) -> -0.467
A13: 9 | B13: 44795 | C13: 0.825 | D13: =WEEKDAY(B13,2) -> 1 | E13: CHFJPY | F13: LP | G13: Sell | H13: 142.57 | I13: 143.33 | J13: 140.55 | K13: 142.47 | L13: 44802 | M13: Hand | N13: -0.08 | O13: -0.34 | P13: 1.41 | Q13: 10 | R13: =IF(OR(E13="USDJPY",E13="EURJPY",E13="GBPJPY",E13="AUDJPY",E13="NZDJPY",E13="CHFJPY",E13="CADJPY",E13="BRENT",E13="XAUUSD",E13="XAGUSD"),ABS((H13-I13)*10^2),ABS((I13-H13)*10^4)) -> 76 | S13: =IF(OR(E13="USDJPY",E13="EURJPY",E13="GBPJPY",E13="AUDJPY",E13="NZDJPY",E13="CHFJPY",E13="CADJPY",E13="BRENT",E13="XAUUSD",E13="XAGUSD"),ABS((H13-J13)*10^2),ABS((J13-H13)*10^4)) -> 202 | T13: =IF(AND(R13<>0,S13<>0),S13/R13,0) -> 2.6578947 | U13: =(N13+O13+P13)/Q13 -> 0.099 | V13: =V12+N13+O13+P13 -> 108.8 | W13: =W12+U13 -> 10.88 | X13: =IF(W13>X12,W13,X12) -> 11.248 | Y13: =(X13-W13)*(-1) -> -0.368
A14: 12 | B14: 44802 | C14: 0.089583333 | D14: =WEEKDAY(B14,2) -> 1 | E14: AUDJPY | F14: SLP | G14: Sell | H14: 94.85 | I14: 95.5 | J14: 93.1 | K14: 95.5 | L14: 44802 | M14: SL | N14: -0.06 | O14: 0 | P14: -9.38 | Q14: 10 | R14: =IF(OR(E14="USDJPY",E14="EURJPY",E14="GBPJPY",E14="AUDJPY",E14="NZDJPY",E14="CHFJPY",E14="CADJPY",E14="BRENT",E14="XAUUSD",E14="XAGUSD"),ABS((H14-I14)*10^2),ABS((I14-H14)*10^4)) -> 65 | S14: =IF(OR(E14="USDJPY",E14="EURJPY",E14="GBPJPY",E14="AUDJPY",E14="NZDJPY",E14="CHFJPY",E14="CADJPY",E14="BRENT",E14="XAUUSD",E14="XAGUSD"),ABS((H14-J14)*10^2),ABS((J14-H14)*10^4)) -> 175 | T14: =IF(AND(R14<>0,S14<>0),S14/R14,0) -> 2.6923077 | U14: =(N14+O14+P14)/Q14 -> -0.944 | V14: =V13+N14+O14+P14 -> 99.36 | W14: =W13+U14 -> 9.936 | X14: =IF(W14>X13,W14,X13) -> 11.248 | Y14: =(X14-W14)*(-1) -> -1.312
A15: 14 | B15: 44802 | C15: 0.32430556 | D15: =WEEKDAY(B15,2) -> 1 | E15: GBPAUD | F15: SLP | G15: Buy | H15: 1.7033 | I15: 1.694 | J15: 1.7285 | K15: =I15 -> 1.694 | L15: 44803 | M15: SL | N15: -0.1 | O15: -0.08 | P15: =-6.43-6.36 -> -12.79 | Q15: 10 | R15: =IF(OR(E15="USDJPY",E15="EURJPY",E15="GBPJPY",E15="AUDJPY",E15="NZDJPY",E15="CHFJPY",E15="CADJPY",E15="BRENT",E15="XAUUSD",E15="XAGUSD"),ABS((H15-I15)*10^2),ABS((I15-H15)*10^4)) -> 93 | S15: =IF(OR(E15="USDJPY",E15="EURJPY",E15="GBPJPY",E15="AUDJPY",E15="NZDJPY",E15="CHFJPY",E15="CADJPY",E15="BRENT",E15="XAUUSD",E15="XAGUSD"),ABS((H15-J15)*10^2),ABS((J15-H15)*10^4)) -> 252 | T15: =IF(AND(R15<>0,S15<>0),S15/R15,0) -> 2.7096774 | U15: =(N15+O15+P15)/Q15 -> -1.297 | V15: =V14+N15+O15+P15 -> 86.39 | W15: =W14+U15 -> 8.639 | X15: =IF(W15>X14,W15,X14) -> 11.248 | Y15: =(X15-W15)*(-1) -> -2.609
A16: 15 | B16: 44803 | C16: 0.59722222 | D16: =WEEKDAY(B16,2) -> 2 | E16: EURNZD | F16: LP | G16: Sell | H16: 1.6224 | I16: 1.6309 | J16: 1.5995 | K16: 1.6302 | L16: 44803 | M16: SL | N16: -0.08 | O16: 0 | P16: -9.52 | Q16: 10 | R16: =IF(OR(E16="USDJPY",E16="EURJPY",E16="GBPJPY",E16="AUDJPY",E16="NZDJPY",E16="CHFJPY",E16="CADJPY",E16="BRENT",E16="XAUUSD",E16="XAGUSD"),ABS((H16-I16)*10^2),ABS((I16-H16)*10^4)) -> 85 | S16: =IF(OR(E16="USDJPY",E16="EURJPY",E16="GBPJPY",E16="AUDJPY",E16="NZDJPY",E16="CHFJPY",E16="CADJPY",E16="BRENT",E16="XAUUSD",E16="XAGUSD"),ABS((H16-J16)*10^2),ABS((J16-H16)*10^4)) -> 229 | T16: =IF(AND(R16<>0,S16<>0),S16/R16,0) -> 2.6941176 | U16: =(N16+O16+P16)/Q16 -> -0.96 | V16: =V15+N16+O16+P16 -> 76.79 | W16: =W15+U16 -> 7.679 | X16: =IF(W16>X15,W16,X15) -> 11.248 | Y16: =(X16-W16)*(-1) -> -3.569
A17: 13 | B17: 44802 | C17: 0.18888889 | D17: =WEEKDAY(B17,2) -> 1 | E17: EURCAD | F17: SLP | G17: Buy | H17: 1.297 | I17: 1.2879 | J17: 1.3163 | K17: 1.3109 | L17: 44804 | M17: Hand | N17: -0.08 | O17: -0.41 | P17: 21.31 | Q17: 10 | R17: =IF(OR(E17="USDJPY",E17="EURJPY",E17="GBPJPY",E17="AUDJPY",E17="NZDJPY",E17="CHFJPY",E17="CADJPY",E17="BRENT",E17="XAUUSD",E17="XAGUSD"),ABS((H17-I17)*10^2),ABS((I17-H17)*10^4)) -> 91 | S17: =IF(OR(E17="USDJPY",E17="EURJPY",E17="GBPJPY",E17="AUDJPY",E17="NZDJPY",E17="CHFJPY",E17="CADJPY",E17="BRENT",E17="XAUUSD",E17="XAGUSD"),ABS((H17-J17)*10^2),ABS((J17-H17)*10^4)) -> 193 | T17: =IF(AND(R17<>0,S17<>0),S17/R17,0) -> 2.1208791 | U17: =(N17+O17+P17)/Q17 -> 2.082 | V17: =V16+N17+O17+P17 -> 97.61 | W17: =W16+U17 -> 9.761 | X17: =IF(W17>X16,W17,X16) -> 11.248 | Y17: =(X17-W17)*(-1) -> -1.487
A18: 17 | B18: 44804 | C18: 0.42222222 | D18: =WEEKDAY(B18,2) -> 3 | E18: EURGBP | F18: SLP | G18: Sell | H18: 0.8582 | I18: 0.8605 | J18: 0.8522 | K18: =I18 -> 0.8605 | L18: 44804 | M18: SL | N18: -0.16 | O18: 0 | P18: -10.76 | Q18: 10 | R18: =IF(OR(E18="USDJPY",E18="EURJPY",E18="GBPJPY",E18="AUDJPY",E18="NZDJPY",E18="CHFJPY",E18="CADJPY",E18="BRENT",E18="XAUUSD",E18="XAGUSD"),ABS((H18-I18)*10^2),ABS((I18-H18)*10^4)) -> 23 | S18: =IF(OR(E18="USDJPY",E18="EURJPY",E18="GBPJPY",E18="AUDJPY",E18="NZDJPY",E18="CHFJPY",E18="CADJPY",E18="BRENT",E18="XAUUSD",E18="XAGUSD"),ABS((H18-J18)*10^2),ABS((J18-H18)*10^4)) -> 60 | T18: =IF(AND(R18<>0,S18<>0),S18/R18,0) -> 2.6086957 | U18: =(N18+O18+P18)/Q18 -> -1.092 | V18: =V17+N18+O18+P18 -> 86.69 | W18: =W17+U18 -> 8.669 | X18: =IF(W18>X17,W18,X17) -> 11.248 | Y18: =(X18-W18)*(-1) -> -2.579
A19: 18 | D19: =WEEKDAY(B19,2) -> 6 | Q19: 10 | R19: =IF(OR(E19="USDJPY",E19="EURJPY",E19="GBPJPY",E19="AUDJPY",E19="NZDJPY",E19="CHFJPY",E19="CADJPY",E19="BRENT",E19="XAUUSD",E19="XAGUSD"),ABS((H19-I19)*10^2),ABS((I19-H19)*10^4)) -> 0 | S19: =IF(OR(E19="USDJPY",E19="EURJPY",E19="GBPJPY",E19="AUDJPY",E19="NZDJPY",E19="CHFJPY",E19="CADJPY",E19="BRENT",E19="XAUUSD",E19="XAGUSD"),ABS((H19-J19)*10^2),ABS((J19-H19)*10^4)) -> 0 | T19: =IF(AND(R19<>0,S19<>0),S19/R19,0) -> 0 | U19: =(N19+O19+P19)/Q19 -> 0 | V19: =V18+N19+O19+P19 -> 86.69 | W19: =W18+U19 -> 8.669 | X19: =IF(W19>X18,W19,X18) -> 11.248 | Y19: =(X19-W19)*(-1) -> -2.579
A20: 16 | D20: =WEEKDAY(B20,2) -> 6 | Q20: 10 | R20: =IF(OR(E20="USDJPY",E20="EURJPY",E20="GBPJPY",E20="AUDJPY",E20="NZDJPY",E20="CHFJPY",E20="CADJPY",E20="BRENT",E20="XAUUSD",E20="XAGUSD"),ABS((H20-I20)*10^2),ABS((I20-H20)*10^4)) -> 0 | S20: =IF(OR(E20="USDJPY",E20="EURJPY",E20="GBPJPY",E20="AUDJPY",E20="NZDJPY",E20="CHFJPY",E20="CADJPY",E20="BRENT",E20="XAUUSD",E20="XAGUSD"),ABS((H20-J20)*10^2),ABS((J20-H20)*10^4)) -> 0 | T20: =IF(AND(R20<>0,S20<>0),S20/R20,0) -> 0 | U20: =(N20+O20+P20)/Q20 -> 0 | V20: =V19+N20+O20+P20 -> 86.69 | W20: =W19+U20 -> 8.669 | X20: =IF(W20>X19,W20,X19) -> 11.248 | Y20: =(X20-W20)*(-1) -> -2.579
A21: 19 | D21: =WEEKDAY(B21,2) -> 6 | Q21: 10 | R21: =IF(OR(E21="USDJPY",E21="EURJPY",E21="GBPJPY",E21="AUDJPY",E21="NZDJPY",E21="CHFJPY",E21="CADJPY",E21="BRENT",E21="XAUUSD",E21="XAGUSD"),ABS((H21-I21)*10^2),ABS((I21-H21)*10^4)) -> 0 | S21: =IF(OR(E21="USDJPY",E21="EURJPY",E21="GBPJPY",E21="AUDJPY",E21="NZDJPY",E21="CHFJPY",E21="CADJPY",E21="BRENT",E21="XAUUSD",E21="XAGUSD"),ABS((H21-J21)*10^2),ABS((J21-H21)*10^4)) -> 0 | T21: =IF(AND(R21<>0,S21<>0),S21/R21,0) -> 0 | U21: =(N21+O21+P21)/Q21 -> 0 | V21: =V20+N21+O21+P21 -> 86.69 | W21: =W20+U21 -> 8.669 | X21: =IF(W21>X20,W21,X20) -> 11.248 | Y21: =(X21-W21)*(-1) -> -2.579
A22: 20 | D22: =WEEKDAY(B22,2) -> 6 | Q22: 10 | R22: =IF(OR(E22="USDJPY",E22="EURJPY",E22="GBPJPY",E22="AUDJPY",E22="NZDJPY",E22="CHFJPY",E22="CADJPY",E22="BRENT",E22="XAUUSD",E22="XAGUSD"),ABS((H22-I22)*10^2),ABS((I22-H22)*10^4)) -> 0 | S22: =IF(OR(E22="USDJPY",E22="EURJPY",E22="GBPJPY",E22="AUDJPY",E22="NZDJPY",E22="CHFJPY",E22="CADJPY",E22="BRENT",E22="XAUUSD",E22="XAGUSD"),ABS((H22-J22)*10^2),ABS((J22-H22)*10^4)) -> 0 | T22: =IF(AND(R22<>0,S22<>0),S22/R22,0) -> 0 | U22: =(N22+O22+P22)/Q22 -> 0 | V22: =V21+N22+O22+P22 -> 86.69 | W22: =W21+U22 -> 8.669 | X22: =IF(W22>X21,W22,X21) -> 11.248 | Y22: =(X22-W22)*(-1) -> -2.579
A23: 21 | D23: =WEEKDAY(B23,2) -> 6 | Q23: 10 | R23: =IF(OR(E23="USDJPY",E23="EURJPY",E23="GBPJPY",E23="AUDJPY",E23="NZDJPY",E23="CHFJPY",E23="CADJPY",E23="BRENT",E23="XAUUSD",E23="XAGUSD"),ABS((H23-I23)*10^2),ABS((I23-H23)*10^4)) -> 0 | S23: =IF(OR(E23="USDJPY",E23="EURJPY",E23="GBPJPY",E23="AUDJPY",E23="NZDJPY",E23="CHFJPY",E23="CADJPY",E23="BRENT",E23="XAUUSD",E23="XAGUSD"),ABS((H23-J23)*10^2),ABS((J23-H23)*10^4)) -> 0 | T23: =IF(AND(R23<>0,S23<>0),S23/R23,0) -> 0 | U23: =(N23+O23+P23)/Q23 -> 0 | V23: =V22+N23+O23+P23 -> 86.69 | W23: =W22+U23 -> 8.669 | X23: =IF(W23>X22,W23,X22) -> 11.248 | Y23: =(X23-W23)*(-1) -> -2.579
A24: 22 | D24: =WEEKDAY(B24,2) -> 6 | Q24: 10 | R24: =IF(OR(E24="USDJPY",E24="EURJPY",E24="GBPJPY",E24="AUDJPY",E24="NZDJPY",E24="CHFJPY",E24="CADJPY",E24="BRENT",E24="XAUUSD",E24="XAGUSD"),ABS((H24-I24)*10^2),ABS((I24-H24)*10^4)) -> 0 | S24: =IF(OR(E24="USDJPY",E24="EURJPY",E24="GBPJPY",E24="AUDJPY",E24="NZDJPY",E24="CHFJPY",E24="CADJPY",E24="BRENT",E24="XAUUSD",E24="XAGUSD"),ABS((H24-J24)*10^2),ABS((J24-H24)*10^4)) -> 0 | T24: =IF(AND(R24<>0,S24<>0),S24/R24,0) -> 0 | U24: =(N24+O24+P24)/Q24 -> 0 | V24: =V23+N24+O24+P24 -> 86.69 | W24: =W23+U24 -> 8.669 | X24: =IF(W24>X23,W24,X23) -> 11.248 | Y24: =(X24-W24)*(-1) -> -2.579
A25: 23 | D25: =WEEKDAY(B25,2) -> 6 | Q25: 10 | R25: =IF(OR(E25="USDJPY",E25="EURJPY",E25="GBPJPY",E25="AUDJPY",E25="NZDJPY",E25="CHFJPY",E25="CADJPY",E25="BRENT",E25="XAUUSD",E25="XAGUSD"),ABS((H25-I25)*10^2),ABS((I25-H25)*10^4)) -> 0 | S25: =IF(OR(E25="USDJPY",E25="EURJPY",E25="GBPJPY",E25="AUDJPY",E25="NZDJPY",E25="CHFJPY",E25="CADJPY",E25="BRENT",E25="XAUUSD",E25="XAGUSD"),ABS((H25-J25)*10^2),ABS((J25-H25)*10^4)) -> 0 | T25: =IF(AND(R25<>0,S25<>0),S25/R25,0) -> 0 | U25: =(N25+O25+P25)/Q25 -> 0 | V25: =V24+N25+O25+P25 -> 86.69 | W25: =W24+U25 -> 8.669 | X25: =IF(W25>X24,W25,X24) -> 11.248 | Y25: =(X25-W25)*(-1) -> -2.579
A26: 24 | D26: =WEEKDAY(B26,2) -> 6 | Q26: 10 | R26: =IF(OR(E26="USDJPY",E26="EURJPY",E26="GBPJPY",E26="AUDJPY",E26="NZDJPY",E26="CHFJPY",E26="CADJPY",E26="BRENT",E26="XAUUSD",E26="XAGUSD"),ABS((H26-I26)*10^2),ABS((I26-H26)*10^4)) -> 0 | S26: =IF(OR(E26="USDJPY",E26="EURJPY",E26="GBPJPY",E26="AUDJPY",E26="NZDJPY",E26="CHFJPY",E26="CADJPY",E26="BRENT",E26="XAUUSD",E26="XAGUSD"),ABS((H26-J26)*10^2),ABS((J26-H26)*10^4)) -> 0 | T26: =IF(AND(R26<>0,S26<>0),S26/R26,0) -> 0 | U26: =(N26+O26+P26)/Q26 -> 0 | V26: =V25+N26+O26+P26 -> 86.69 | W26: =W25+U26 -> 8.669 | X26: =IF(W26>X25,W26,X25) -> 11.248 | Y26: =(X26-W26)*(-1) -> -2.579
A27: 25 | D27: =WEEKDAY(B27,2) -> 6 | Q27: 10 | R27: =IF(OR(E27="USDJPY",E27="EURJPY",E27="GBPJPY",E27="AUDJPY",E27="NZDJPY",E27="CHFJPY",E27="CADJPY",E27="BRENT",E27="XAUUSD",E27="XAGUSD"),ABS((H27-I27)*10^2),ABS((I27-H27)*10^4)) -> 0 | S27: =IF(OR(E27="USDJPY",E27="EURJPY",E27="GBPJPY",E27="AUDJPY",E27="NZDJPY",E27="CHFJPY",E27="CADJPY",E27="BRENT",E27="XAUUSD",E27="XAGUSD"),ABS((H27-J27)*10^2),ABS((J27-H27)*10^4)) -> 0 | T27: =IF(AND(R27<>0,S27<>0),S27/R27,0) -> 0 | U27: =(N27+O27+P27)/Q27 -> 0 | V27: =V26+N27+O27+P27 -> 86.69 | W27: =W26+U27 -> 8.669 | X27: =IF(W27>X26,W27,X26) -> 11.248 | Y27: =(X27-W27)*(-1) -> -2.579
A28: 26 | D28: =WEEKDAY(B28,2) -> 6 | Q28: 10 | R28: =IF(OR(E28="USDJPY",E28="EURJPY",E28="GBPJPY",E28="AUDJPY",E28="NZDJPY",E28="CHFJPY",E28="CADJPY",E28="BRENT",E28="XAUUSD",E28="XAGUSD"),ABS((H28-I28)*10^2),ABS((I28-H28)*10^4)) -> 0 | S28: =IF(OR(E28="USDJPY",E28="EURJPY",E28="GBPJPY",E28="AUDJPY",E28="NZDJPY",E28="CHFJPY",E28="CADJPY",E28="BRENT",E28="XAUUSD",E28="XAGUSD"),ABS((H28-J28)*10^2),ABS((J28-H28)*10^4)) -> 0 | T28: =IF(AND(R28<>0,S28<>0),S28/R28,0) -> 0 | U28: =(N28+O28+P28)/Q28 -> 0 | V28: =V27+N28+O28+P28 -> 86.69 | W28: =W27+U28 -> 8.669 | X28: =IF(W28>X27,W28,X27) -> 11.248 | Y28: =(X28-W28)*(-1) -> -2.579
A29: 27 | D29: =WEEKDAY(B29,2) -> 6 | Q29: 10 | R29: =IF(OR(E29="USDJPY",E29="EURJPY",E29="GBPJPY",E29="AUDJPY",E29="NZDJPY",E29="CHFJPY",E29="CADJPY",E29="BRENT",E29="XAUUSD",E29="XAGUSD"),ABS((H29-I29)*10^2),ABS((I29-H29)*10^4)) -> 0 | S29: =IF(OR(E29="USDJPY",E29="EURJPY",E29="GBPJPY",E29="AUDJPY",E29="NZDJPY",E29="CHFJPY",E29="CADJPY",E29="BRENT",E29="XAUUSD",E29="XAGUSD"),ABS((H29-J29)*10^2),ABS((J29-H29)*10^4)) -> 0 | T29: =IF(AND(R29<>0,S29<>0),S29/R29,0) -> 0 | U29: =(N29+O29+P29)/Q29 -> 0 | V29: =V28+N29+O29+P29 -> 86.69 | W29: =W28+U29 -> 8.669 | X29: =IF(W29>X28,W29,X28) -> 11.248 | Y29: =(X29-W29)*(-1) -> -2.579
A30: 28 | D30: =WEEKDAY(B30,2) -> 6 | Q30: 10 | R30: =IF(OR(E30="USDJPY",E30="EURJPY",E30="GBPJPY",E30="AUDJPY",E30="NZDJPY",E30="CHFJPY",E30="CADJPY",E30="BRENT",E30="XAUUSD",E30="XAGUSD"),ABS((H30-I30)*10^2),ABS((I30-H30)*10^4)) -> 0 | S30: =IF(OR(E30="USDJPY",E30="EURJPY",E30="GBPJPY",E30="AUDJPY",E30="NZDJPY",E30="CHFJPY",E30="CADJPY",E30="BRENT",E30="XAUUSD",E30="XAGUSD"),ABS((H30-J30)*10^2),ABS((J30-H30)*10^4)) -> 0 | T30: =IF(AND(R30<>0,S30<>0),S30/R30,0) -> 0 | U30: =(N30+O30+P30)/Q30 -> 0 | V30: =V29+N30+O30+P30 -> 86.69 | W30: =W29+U30 -> 8.669 | X30: =IF(W30>X29,W30,X29) -> 11.248 | Y30: =(X30-W30)*(-1) -> -2.579
... A97: 100 | D97: =WEEKDAY(B97,2) -> 6 | Q97: 10 | R97: =IF(OR(E97="USDJPY",E97="EURJPY",E97="GBPJPY",E97="AUDJPY",E97="NZDJPY",E97="CHFJPY",E97="CADJPY",E97="BRENT",E97="XAUUSD",E97="XAGUSD"),ABS((H97-I97)*10^2),ABS((I97-H97)*10^4)) -> 0 | S97: =IF(OR(E97="USDJPY",E97="EURJPY",E97="GBPJPY",E97="AUDJPY",E97="NZDJPY",E97="CHFJPY",E97="CADJPY",E97="BRENT",E97="XAUUSD",E97="XAGUSD"),ABS((H97-J97)*10^2),ABS((J97-H97)*10^4)) -> 0 | T97: =IF(AND(R97<>0,S97<>0),S97/R97,0) -> 0 | U97: =(N97+O97+P97)/Q97 -> 0 | V97: =V96+N97+O97+P97 -> 86.69 | W97: =W96+U97 -> 8.669 | X97: =IF(W97>X96,W97,X96) -> 11.248 | Y97: =(X97-W97)*(-1) -> -2.579

Sheet График
B2: График доходности за Август 2022
M4: Результат месяца | O4: ='Торговый журнал'!W18 -> 8.669
M5: Текущая просадка | O5: ='Торговый журнал'!Y18 -> -2.579
M7: Всего сделок | O7: =COUNT('Торговый журнал'!U3:U18) -> 16
M8: Прибыльных сделок | O8: =COUNTIF('Торговый журнал'!U3:U18,">=0") -> 10 | P8: =O8/O7 -> 0.625
M9: Убыточных сделок | O9: =COUNTIF('Торговый журнал'!U3:U18,"<0") -> 6 | P9: =O9/O7 -> 0.375
M11: Средняя прибыль | O11: =AVERAGEIF('Торговый журнал'!U3:U18,">=0") -> 1.5168
M12: Средний убыток | O12: =AVERAGEIF('Торговый журнал'!U3:U18,"<0") -> -1.0831667
M14: Мат. ожидание | O14: =O11*P8+O12*P9 -> 0.5418125
M15: Профит фактор | O15: =SUMIF('Торговый журнал'!U3:U18,">=0")/ABS(SUMIF('Торговый журнал'!U3:U18,"<0")) -> 2.3338975
M17: 1R = 2% от капитала на начало месяца
B20: График просадки за Август 2022
