Workbook

Sheet EURUSD
B2: День | C2: Понедельник | E2: Дата | F2: 46083
B4: Фундаментальные данные
B5: Время выхода | C5: Страна | D5: Событие | E5: Фактические данные | G5: Прогнозируемые | H5: Предыдущие
B19: Ожидания на день
B20: Недельный перевес | C20: Дневной перевес | D20: Ожидания На Этот День | F20: Ключевые уровни Buy | G20: Ключевые уровни Sell | H20: Развитие
B23: Заключенные сделки
B24: Время | C24: Сетап | D24: Buy/Sell | E24: Вход | F24: Stop | G24: Цель | H24: Выход | I24: Реакция после выхода | J24: Результат в (R)
B32: Результат
B33: Количество сделок | C33: R
B36: Что произошло Сегодня?
B46: Выводы
B47: Сделал хорошо:
B48: Сделал плохо:
B49: Почему (Для Обоих)?
B50: Как улучшить ситуацию?
C52: Если цвет вкладки красный, значит скоро появится возможносто продать
C54: Если цвет вкладки зелёный, значит скоро появится возможносто купить
C56: Если цвет вкладки оранжевый, значит есть потенциальные возможности в обе стороны
C58: Если белый, значит делать нечего

Sheet EURGBP
B2: День | C2: Понедельник | E2: Дата | F2: =EURUSD!F2 -> 46083
B4: Фундаментальные данные
B5: Время выхода | C5: Страна | D5: Событие | E5: Фактические данные | G5: Прогнозируемые | H5: Предыдущие
B6: =IF(ISBLANK(EURUSD!B6),"",EURUSD!B6) | C6: =IF(ISBLANK(EURUSD!C6),"",EURUSD!C6) | D6: =IF(ISBLANK(EURUSD!D6),"",EURUSD!D6) | E6: =IF(ISBLANK(EURUSD!E6),"",EURUSD!E6) | G6: =IF(ISBLANK(EURUSD!G6),"",EURUSD!G6) | H6: =IF(ISBLANK(EURUSD!H6),"",EURUSD!H6)
B7: =IF(ISBLANK(EURUSD!B7),"",EURUSD!B7) | C7: =IF(ISBLANK(EURUSD!C7),"",EURUSD!C7) | D7: =IF(ISBLANK(EURUSD!D7),"",EURUSD!D7) | E7: =IF(ISBLANK(EURUSD!E7),"",EURUSD!E7) | G7: =IF(ISBLANK(EURUSD!G7),"",EURUSD!G7) | H7: =IF(ISBLANK(EURUSD!H7),"",EURUSD!H7)
B8: =IF(ISBLANK(EURUSD!B8),"",EURUSD!B8) | C8: =IF(ISBLANK(EURUSD!C8),"",EURUSD!C8) | D8: =IF(ISBLANK(EURUSD!D8),"",EURUSD!D8) | E8: =IF(ISBLANK(EURUSD!E8),"",EURUSD!E8) | G8: =IF(ISBLANK(EURUSD!G8),"",EURUSD!G8) | H8: =IF(ISBLANK(EURUSD!H8),"",EURUSD!H8)
B9: =IF(ISBLANK(EURUSD!B9),"",EURUSD!B9) | C9: =IF(ISBLANK(EURUSD!C9),"",EURUSD!C9) | D9: =IF(ISBLANK(EURUSD!D9),"",EURUSD!D9) | E9: =IF(ISBLANK(EURUSD!E9),"",EURUSD!E9) | G9: =IF(ISBLANK(EURUSD!G9),"",EURUSD!G9) | H9: =IF(ISBLANK(EURUSD!H9),"",EURUSD!H9)
B10: =IF(ISBLANK(EURUSD!B10),"",EURUSD!B10) | C10: =IF(ISBLANK(EURUSD!C10),"",EURUSD!C10) | D10: =IF(ISBLANK(EURUSD!D10),"",EURUSD!D10) | E10: =IF(ISBLANK(EURUSD!E10),"",EURUSD!E10) | G10: =IF(ISBLANK(EURUSD!G10),"",EURUSD!G10) | H10: =IF(ISBLANK(EURUSD!H10),"",EURUSD!H10)
B11: =IF(ISBLANK(EURUSD!B11),"",EURUSD!B11) | C11: =IF(ISBLANK(EURUSD!C11),"",EURUSD!C11) | D11: =IF(ISBLANK(EURUSD!D11),"",EURUSD!D11) | E11: =IF(ISBLANK(EURUSD!E11),"",EURUSD!E11) | G11: =IF(ISBLANK(EURUSD!G11),"",EURUSD!G11) | H11: =IF(ISBLANK(EURUSD!H11),"",EURUSD!H11)
B12: =IF(ISBLANK(EURUSD!B12),"",EURUSD!B12) | C12: =IF(ISBLANK(EURUSD!C12),"",EURUSD!C12) | D12: =IF(ISBLANK(EURUSD!D12),"",EURUSD!D12) | E12: =IF(ISBLANK(EURUSD!E12),"",EURUSD!E12) | G12: =IF(ISBLANK(EURUSD!G12),"",EURUSD!G12) | H12: =IF(ISBLANK(EURUSD!H12),"",EURUSD!H12)
B13: =IF(ISBLANK(EURUSD!B13),"",EURUSD!B13) | C13: =IF(ISBLANK(EURUSD!C13),"",EURUSD!C13) | D13: =IF(ISBLANK(EURUSD!D13),"",EURUSD!D13) | E13: =IF(ISBLANK(EURUSD!E13),"",EURUSD!E13) | G13: =IF(ISBLANK(EURUSD!G13),"",EURUSD!G13) | H13: =IF(ISBLANK(EURUSD!H13),"",EURUSD!H13)
B14: =IF(ISBLANK(EURUSD!B14),"",EURUSD!B14) | C14: =IF(ISBLANK(EURUSD!C14),"",EURUSD!C14) | D14: =IF(ISBLANK(EURUSD!D14),"",EURUSD!D14) | E14: =IF(ISBLANK(EURUSD!E14),"",EURUSD!E14) | G14: =IF(ISBLANK(EURUSD!G14),"",EURUSD!G14) | H14: =IF(ISBLANK(EURUSD!H14),"",EURUSD!H14)
B15: =IF(ISBLANK(EURUSD!B15),"",EURUSD!B15) | C15: =IF(ISBLANK(EURUSD!C15),"",EURUSD!C15) | D15: =IF(ISBLANK(EURUSD!D15),"",EURUSD!D15) | E15: =IF(ISBLANK(EURUSD!E15),"",EURUSD!E15) | G15: =IF(ISBLANK(EURUSD!G15),"",EURUSD!G15) | H15: =IF(ISBLANK(EURUSD!H15),"",EURUSD!H15)
B16: =IF(ISBLANK(EURUSD!B16),"",EURUSD!B16) | C16: =IF(ISBLANK(EURUSD!C16),"",EURUSD!C16) | D16: =IF(ISBLANK(EURUSD!D16),"",EURUSD!D16) | E16: =IF(ISBLANK(EURUSD!E16),"",EURUSD!E16) | G16: =IF(ISBLANK(EURUSD!G16),"",EURUSD!G16) | H16: =IF(ISBLANK(EURUSD!H16),"",EURUSD!H16)
B17: =IF(ISBLANK(EURUSD!B17),"",EURUSD!B17) | C17: =IF(ISBLANK(EURUSD!C17),"",EURUSD!C17) | D17: =IF(ISBLANK(EURUSD!D17),"",EURUSD!D17) | E17: =IF(ISBLANK(EURUSD!E17),"",EURUSD!E17) | G17: =IF(ISBLANK(EURUSD!G17),"",EURUSD!G17) | H17: =IF(ISBLANK(EURUSD!H17),"",EURUSD!H17)
B19: Ожидания на день
B20: Недельный перевес | C20: Дневной перевес | D20: Ожидания На Этот День | F20: Ключевые уровни Buy | G20: Ключевые уровни Sell | H20: Развитие
B23: Заключенные сделки
B24: Время | C24: Сетап | D24: Buy/Sell | E24: Вход | F24: Stop | G24: Цель | H24: Выход | I24: Реакция после выхода | J24: Результат в (R)
B32: Результат
B33: Количество сделок | C33: R
B36: Что произошло Сегодня?
B46: Выводы
B47: Сделал хорошо:
B48: Сделал плохо:
B49: Почему (Для Обоих)?
B50: Как улучшить ситуацию?

Sheet GBPUSD
B2: День | C2: Понедельник | E2: Дата | F2: =EURUSD!F2 -> 46083
B4: Фундаментальные данные
B5: Время выхода | C5: Страна | D5: Событие | E5: Фактические данные | G5: Прогнозируемые | H5: Предыдущие
B6: =IF(ISBLANK(EURUSD!B6),"",EURUSD!B6) | C6: =IF(ISBLANK(EURUSD!C6),"",EURUSD!C6) | D6: =IF(ISBLANK(EURUSD!D6),"",EURUSD!D6) | E6: =IF(ISBLANK(EURUSD!E6),"",EURUSD!E6) | G6: =IF(ISBLANK(EURUSD!G6),"",EURUSD!G6) | H6: =IF(ISBLANK(EURUSD!H6),"",EURUSD!H6)
B7: =IF(ISBLANK(EURUSD!B7),"",EURUSD!B7) | C7: =IF(ISBLANK(EURUSD!C7),"",EURUSD!C7) | D7: =IF(ISBLANK(EURUSD!D7),"",EURUSD!D7) | E7: =IF(ISBLANK(EURUSD!E7),"",EURUSD!E7) | G7: =IF(ISBLANK(EURUSD!G7),"",EURUSD!G7) | H7: =IF(ISBLANK(EURUSD!H7),"",EURUSD!H7)
B8: =IF(ISBLANK(EURUSD!B8),"",EURUSD!B8) | C8: =IF(ISBLANK(EURUSD!C8),"",EURUSD!C8) | D8: =IF(ISBLANK(EURUSD!D8),"",EURUSD!D8) | E8: =IF(ISBLANK(EURUSD!E8),"",EURUSD!E8) | G8: =IF(ISBLANK(EURUSD!G8),"",EURUSD!G8) | H8: =IF(ISBLANK(EURUSD!H8),"",EURUSD!H8)
B9: =IF(ISBLANK(EURUSD!B9),"",EURUSD!B9) | C9: =IF(ISBLANK(EURUSD!C9),"",EURUSD!C9) | D9: =IF(ISBLANK(EURUSD!D9),"",EURUSD!D9) | E9: =IF(ISBLANK(EURUSD!E9),"",EURUSD!E9) | G9: =IF(ISBLANK(EURUSD!G9),"",EURUSD!G9) | H9: =IF(ISBLANK(EURUSD!H9),"",EURUSD!H9)
B10: =IF(ISBLANK(EURUSD!B10),"",EURUSD!B10) | C10: =IF(ISBLANK(EURUSD!C10),"",EURUSD!C10) | D10: =IF(ISBLANK(EURUSD!D10),"",EURUSD!D10) | E10: =IF(ISBLANK(EURUSD!E10),"",EURUSD!E10) | G10: =IF(ISBLANK(EURUSD!G10),"",EURUSD!G10) | H10: =IF(ISBLANK(EURUSD!H10),"",EURUSD!H10)
B11: =IF(ISBLANK(EURUSD!B11),"",EURUSD!B11) | C11: =IF(ISBLANK(EURUSD!C11),"",EURUSD!C11) | D11: =IF(ISBLANK(EURUSD!D11),"",EURUSD!D11) | E11: =IF(ISBLANK(EURUSD!E11),"",EURUSD!E11) | G11: =IF(ISBLANK(EURUSD!G11),"",EURUSD!G11) | H11: =IF(ISBLANK(EURUSD!H11),"",EURUSD!H11)
B12: =IF(ISBLANK(EURUSD!B12),"",EURUSD!B12) | C12: =IF(ISBLANK(EURUSD!C12),"",EURUSD!C12) | D12: =IF(ISBLANK(EURUSD!D12),"",EURUSD!D12) | E12: =IF(ISBLANK(EURUSD!E12),"",EURUSD!E12) | G12: =IF(ISBLANK(EURUSD!G12),"",EURUSD!G12) | H12: =IF(ISBLANK(EURUSD!H12),"",EURUSD!H12)
B13: =IF(ISBLANK(EURUSD!B13),"",EURUSD!B13) | C13: =IF(ISBLANK(EURUSD!C13),"",EURUSD!C13) | D13: =IF(ISBLANK(EURUSD!D13),"",EURUSD!D13) | E13: =IF(ISBLANK(EURUSD!E13),"",EURUSD!E13) | G13: =IF(ISBLANK(EURUSD!G13),"",EURUSD!G13) | H13: =IF(ISBLANK(EURUSD!H13),"",EURUSD!H13)
B14: =IF(ISBLANK(EURUSD!B14),"",EURUSD!B14) | C14: =IF(ISBLANK(EURUSD!C14),"",EURUSD!C14) | D14: =IF(ISBLANK(EURUSD!D14),"",EURUSD!D14) | E14: =IF(ISBLANK(EURUSD!E14),"",EURUSD!E14) | G14: =IF(ISBLANK(EURUSD!G14),"",EURUSD!G14) | H14: =IF(ISBLANK(EURUSD!H14),"",EURUSD!H14)
B15: =IF(ISBLANK(EURUSD!B15),"",EURUSD!B15) | C15: =IF(ISBLANK(EURUSD!C15),"",EURUSD!C15) | D15: =IF(ISBLANK(EURUSD!D15),"",EURUSD!D15) | E15: =IF(ISBLANK(EURUSD!E15),"",EURUSD!E15) | G15: =IF(ISBLANK(EURUSD!G15),"",EURUSD!G15) | H15: =IF(ISBLANK(EURUSD!H15),"",EURUSD!H15)
B16: =IF(ISBLANK(EURUSD!B16),"",EURUSD!B16) | C16: =IF(ISBLANK(EURUSD!C16),"",EURUSD!C16) | D16: =IF(ISBLANK(EURUSD!D16),"",EURUSD!D16) | E16: =IF(ISBLANK(EURUSD!E16),"",EURUSD!E16) | G16: =IF(ISBLANK(EURUSD!G16),"",EURUSD!G16) | H16: =IF(ISBLANK(EURUSD!H16),"",EURUSD!H16)
B17: =IF(ISBLANK(EURUSD!B17),"",EURUSD!B17) | C17: =IF(ISBLANK(EURUSD!C17),"",EURUSD!C17) | D17: =IF(ISBLANK(EURUSD!D17),"",EURUSD!D17) | E17: =IF(ISBLANK(EURUSD!E17),"",EURUSD!E17) | G17: =IF(ISBLANK(EURUSD!G17),"",EURUSD!G17) | H17: =IF(ISBLANK(EURUSD!H17),"",EURUSD!H17)
B19: Ожидания на день
B20: Недельный перевес | C20: Дневной перевес | D20: Ожидания На Этот День | F20: Ключевые уровни Buy | G20: Ключевые уровни Sell | H20: Развитие
B23: Заключенные сделки
B24: Время | C24: Сетап | D24: Buy/Sell | E24: Вход | F24: Stop | G24: Цель | H24: Выход | I24: Реакция после выхода | J24: Результат в (R)
B32: Результат
B33: Количество сделок | C33: R
B36: Что произошло Сегодня?
B46: Выводы
B47: Сделал хорошо:
B48: Сделал плохо:
B49: Почему (Для Обоих)?
B50: Как улучшить ситуацию?

Sheet USDCAD
B2: День | C2: Понедельник | E2: Дата | F2: =EURUSD!F2 -> 46083
B4: Фундаментальные данные
B5: Время выхода | C5: Страна | D5: Событие | E5: Фактические данные | G5: Прогнозируемые | H5: Предыдущие
B6: =IF(ISBLANK(EURUSD!B6),"",EURUSD!B6) | C6: =IF(ISBLANK(EURUSD!C6),"",EURUSD!C6) | D6: =IF(ISBLANK(EURUSD!D6),"",EURUSD!D6) | E6: =IF(ISBLANK(EURUSD!E6),"",EURUSD!E6) | G6: =IF(ISBLANK(EURUSD!G6),"",EURUSD!G6) | H6: =IF(ISBLANK(EURUSD!H6),"",EURUSD!H6)
B7: =IF(ISBLANK(EURUSD!B7),"",EURUSD!B7) | C7: =IF(ISBLANK(EURUSD!C7),"",EURUSD!C7) | D7: =IF(ISBLANK(EURUSD!D7),"",EURUSD!D7) | E7: =IF(ISBLANK(EURUSD!E7),"",EURUSD!E7) | G7: =IF(ISBLANK(EURUSD!G7),"",EURUSD!G7) | H7: =IF(ISBLANK(EURUSD!H7),"",EURUSD!H7)
B8: =IF(ISBLANK(EURUSD!B8),"",EURUSD!B8) | C8: =IF(ISBLANK(EURUSD!C8),"",EURUSD!C8) | D8: =IF(ISBLANK(EURUSD!D8),"",EURUSD!D8) | E8: =IF(ISBLANK(EURUSD!E8),"",EURUSD!E8) | G8: =IF(ISBLANK(EURUSD!G8),"",EURUSD!G8) | H8: =IF(ISBLANK(EURUSD!H8),"",EURUSD!H8)
B9: =IF(ISBLANK(EURUSD!B9),"",EURUSD!B9) | C9: =IF(ISBLANK(EURUSD!C9),"",EURUSD!C9) | D9: =IF(ISBLANK(EURUSD!D9),"",EURUSD!D9) | E9: =IF(ISBLANK(EURUSD!E9),"",EURUSD!E9) | G9: =IF(ISBLANK(EURUSD!G9),"",EURUSD!G9) | H9: =IF(ISBLANK(EURUSD!H9),"",EURUSD!H9)
B10: =IF(ISBLANK(EURUSD!B10),"",EURUSD!B10) | C10: =IF(ISBLANK(EURUSD!C10),"",EURUSD!C10) | D10: =IF(ISBLANK(EURUSD!D10),"",EURUSD!D10) | E10: =IF(ISBLANK(EURUSD!E10),"",EURUSD!E10) | G10: =IF(ISBLANK(EURUSD!G10),"",EURUSD!G10) | H10: =IF(ISBLANK(EURUSD!H10),"",EURUSD!H10)
B11: =IF(ISBLANK(EURUSD!B11),"",EURUSD!B11) | C11: =IF(ISBLANK(EURUSD!C11),"",EURUSD!C11) | D11: =IF(ISBLANK(EURUSD!D11),"",EURUSD!D11) | E11: =IF(ISBLANK(EURUSD!E11),"",EURUSD!E11) | G11: =IF(ISBLANK(EURUSD!G11),"",EURUSD!G11) | H11: =IF(ISBLANK(EURUSD!H11),"",EURUSD!H11)
B12: =IF(ISBLANK(EURUSD!B12),"",EURUSD!B12) | C12: =IF(ISBLANK(EURUSD!C12),"",EURUSD!C12) | D12: =IF(ISBLANK(EURUSD!D12),"",EURUSD!D12) | E12: =IF(ISBLANK(EURUSD!E12),"",EURUSD!E12) | G12: =IF(ISBLANK(EURUSD!G12),"",EURUSD!G12) | H12: =IF(ISBLANK(EURUSD!H12),"",EURUSD!H12)
B13: =IF(ISBLANK(EURUSD!B13),"",EURUSD!B13) | C13: =IF(ISBLANK(EURUSD!C13),"",EURUSD!C13) | D13: =IF(ISBLANK(EURUSD!D13),"",EURUSD!D13) | E13: =IF(ISBLANK(EURUSD!E13),"",EURUSD!E13) | G13: =IF(ISBLANK(EURUSD!G13),"",EURUSD!G13) | H13: =IF(ISBLANK(EURUSD!H13),"",EURUSD!H13)
B14: =IF(ISBLANK(EURUSD!B14),"",EURUSD!B14) | C14: =IF(ISBLANK(EURUSD!C14),"",EURUSD!C14) | D14: =IF(ISBLANK(EURUSD!D14),"",EURUSD!D14) | E14: =IF(ISBLANK(EURUSD!E14),"",EURUSD!E14) | G14: =IF(ISBLANK(EURUSD!G14),"",EURUSD!G14) | H14: =IF(ISBLANK(EURUSD!H14),"",EURUSD!H14)
B15: =IF(ISBLANK(EURUSD!B15),"",EURUSD!B15) | C15: =IF(ISBLANK(EURUSD!C15),"",EURUSD!C15) | D15: =IF(ISBLANK(EURUSD!D15),"",EURUSD!D15) | E15: =IF(ISBLANK(EURUSD!E15),"",EURUSD!E15) | G15: =IF(ISBLANK(EURUSD!G15),"",EURUSD!G15) | H15: =IF(ISBLANK(EURUSD!H15),"",EURUSD!H15)
B16: =IF(ISBLANK(EURUSD!B16),"",EURUSD!B16) | C16: =IF(ISBLANK(EURUSD!C16),"",EURUSD!C16) | D16: =IF(ISBLANK(EURUSD!D16),"",EURUSD!D16) | E16: =IF(ISBLANK(EURUSD!E16),"",EURUSD!E16) | G16: =IF(ISBLANK(EURUSD!G16),"",EURUSD!G16) | H16: =IF(ISBLANK(EURUSD!H16),"",EURUSD!H16)
B17: =IF(ISBLANK(EURUSD!B17),"",EURUSD!B17) | C17: =IF(ISBLANK(EURUSD!C17),"",EURUSD!C17) | D17: =IF(ISBLANK(EURUSD!D17),"",EURUSD!D17) | E17: =IF(ISBLANK(EURUSD!E17),"",EURUSD!E17) | G17: =IF(ISBLANK(EURUSD!G17),"",EURUSD!G17) | H17: =IF(ISBLANK(EURUSD!H17),"",EURUSD!H17)
B19: Ожидания на день
B20: Недельный перевес | C20: Дневной перевес | D20: Ожидания На Этот День | F20: Ключевые уровни Buy | G20: Ключевые уровни Sell | H20: Развитие
B23: Заключенные сделки
B24: Время | C24: Сетап | D24: Buy/Sell | E24: Вход | F24: Stop | G24: Цель | H24: Выход | I24: Реакция после выхода | J24: Результат в (R)
B32: Результат
B33: Количество сделок | C33: R
B36: Что произошло Сегодня?
B46: Выводы
B47: Сделал хорошо:
B48: Сделал плохо:
B49: Почему (Для Обоих)?
B50: Как улучшить ситуацию?

Sheet USDJPY
B2: День | C2: Понедельник | E2: Дата | F2: =EURUSD!F2 -> 46083
B4: Фундаментальные данные
B5: Время выхода | C5: Страна | D5: Событие | E5: Фактические данные | G5: Прогнозируемые | H5: Предыдущие
B6: =IF(ISBLANK(EURUSD!B6),"",EURUSD!B6) | C6: =IF(ISBLANK(EURUSD!C6),"",EURUSD!C6) | D6: =IF(ISBLANK(EURUSD!D6),"",EURUSD!D6) | E6: =IF(ISBLANK(EURUSD!E6),"",EURUSD!E6) | G6: =IF(ISBLANK(EURUSD!G6),"",EURUSD!G6) | H6: =IF(ISBLANK(EURUSD!H6),"",EURUSD!H6)
B7: =IF(ISBLANK(EURUSD!B7),"",EURUSD!B7) | C7: =IF(ISBLANK(EURUSD!C7),"",EURUSD!C7) | D7: =IF(ISBLANK(EURUSD!D7),"",EURUSD!D7) | E7: =IF(ISBLANK(EURUSD!E7),"",EURUSD!E7) | G7: =IF(ISBLANK(EURUSD!G7),"",EURUSD!G7) | H7: =IF(ISBLANK(EURUSD!H7),"",EURUSD!H7)
B8: =IF(ISBLANK(EURUSD!B8),"",EURUSD!B8) | C8: =IF(ISBLANK(EURUSD!C8),"",EURUSD!C8) | D8: =IF(ISBLANK(EURUSD!D8),"",EURUSD!D8) | E8: =IF(ISBLANK(EURUSD!E8),"",EURUSD!E8) | G8: =IF(ISBLANK(EURUSD!G8),"",EURUSD!G8) | H8: =IF(ISBLANK(EURUSD!H8),"",EURUSD!H8)
B9: =IF(ISBLANK(EURUSD!B9),"",EURUSD!B9) | C9: =IF(ISBLANK(EURUSD!C9),"",EURUSD!C9) | D9: =IF(ISBLANK(EURUSD!D9),"",EURUSD!D9) | E9: =IF(ISBLANK(EURUSD!E9),"",EURUSD!E9) | G9: =IF(ISBLANK(EURUSD!G9),"",EURUSD!G9) | H9: =IF(ISBLANK(EURUSD!H9),"",EURUSD!H9)
B10: =IF(ISBLANK(EURUSD!B10),"",EURUSD!B10) | C10: =IF(ISBLANK(EURUSD!C10),"",EURUSD!C10) | D10: =IF(ISBLANK(EURUSD!D10),"",EURUSD!D10) | E10: =IF(ISBLANK(EURUSD!E10),"",EURUSD!E10) | G10: =IF(ISBLANK(EURUSD!G10),"",EURUSD!G10) | H10: =IF(ISBLANK(EURUSD!H10),"",EURUSD!H10)
B11: =IF(ISBLANK(EURUSD!B11),"",EURUSD!B11) | C11: =IF(ISBLANK(EURUSD!C11),"",EURUSD!C11) | D11: =IF(ISBLANK(EURUSD!D11),"",EURUSD!D11) | E11: =IF(ISBLANK(EURUSD!E11),"",EURUSD!E11) | G11: =IF(ISBLANK(EURUSD!G11),"",EURUSD!G11) | H11: =IF(ISBLANK(EURUSD!H11),"",EURUSD!H11)
B12: =IF(ISBLANK(EURUSD!B12),"",EURUSD!B12) | C12: =IF(ISBLANK(EURUSD!C12),"",EURUSD!C12) | D12: =IF(ISBLANK(EURUSD!D12),"",EURUSD!D12) | E12: =IF(ISBLANK(EURUSD!E12),"",EURUSD!E12) | G12: =IF(ISBLANK(EURUSD!G12),"",EURUSD!G12) | H12: =IF(ISBLANK(EURUSD!H12),"",EURUSD!H12)
B13: =IF(ISBLANK(EURUSD!B13),"",EURUSD!B13) | C13: =IF(ISBLANK(EURUSD!C13),"",EURUSD!C13) | D13: =IF(ISBLANK(EURUSD!D13),"",EURUSD!D13) | E13: =IF(ISBLANK(EURUSD!E13),"",EURUSD!E13) | G13: =IF(ISBLANK(EURUSD!G13),"",EURUSD!G13) | H13: =IF(ISBLANK(EURUSD!H13),"",EURUSD!H13)
B14: =IF(ISBLANK(EURUSD!B14),"",EURUSD!B14) | C14: =IF(ISBLANK(EURUSD!C14),"",EURUSD!C14) | D14: =IF(ISBLANK(EURUSD!D14),"",EURUSD!D14) | E14: =IF(ISBLANK(EURUSD!E14),"",EURUSD!E14) | G14: =IF(ISBLANK(EURUSD!G14),"",EURUSD!G14) | H14: =IF(ISBLANK(EURUSD!H14),"",EURUSD!H14)
B15: =IF(ISBLANK(EURUSD!B15),"",EURUSD!B15) | C15: =IF(ISBLANK(EURUSD!C15),"",EURUSD!C15) | D15: =IF(ISBLANK(EURUSD!D15),"",EURUSD!D15) | E15: =IF(ISBLANK(EURUSD!E15),"",EURUSD!E15) | G15: =IF(ISBLANK(EURUSD!G15),"",EURUSD!G15) | H15: =IF(ISBLANK(EURUSD!H15),"",EURUSD!H15)
B16: =IF(ISBLANK(EURUSD!B16),"",EURUSD!B16) | C16: =IF(ISBLANK(EURUSD!C16),"",EURUSD!C16) | D16: =IF(ISBLANK(EURUSD!D16),"",EURUSD!D16) | E16: =IF(ISBLANK(EURUSD!E16),"",EURUSD!E16) | G16: =IF(ISBLANK(EURUSD!G16),"",EURUSD!G16) | H16: =IF(ISBLANK(EURUSD!H16),"",EURUSD!H16)
B17: =IF(ISBLANK(EURUSD!B17),"",EURUSD!B17) | C17: =IF(ISBLANK(EURUSD!C17),"",EURUSD!C17) | D17: =IF(ISBLANK(EURUSD!D17),"",EURUSD!D17) | E17: =IF(ISBLANK(EURUSD!E17),"",EURUSD!E17) | G17: =IF(ISBLANK(EURUSD!G17),"",EURUSD!G17) | H17: =IF(ISBLANK(EURUSD!H17),"",EURUSD!H17)
B19: Ожидания на день
B20: Недельный перевес | C20: Дневной перевес | D20: Ожидания На Этот День | F20: Ключевые уровни Buy | G20: Ключевые уровни Sell | H20: Развитие
B23: Заключенные сделки
B24: Время | C24: Сетап | D24: Buy/Sell | E24: Вход | F24: Stop | G24: Цель | H24: Выход | I24: Реакция после выхода | J24: Результат в (R)
B32: Результат
B33: Количество сделок | C33: R
B36: Что произошло Сегодня?
B46: Выводы
B47: Сделал хорошо:
B48: Сделал плохо:
B49: Почему (Для Обоих)?
B50: Как улучшить ситуацию?

Sheet AUDUSD
B2: День | C2: Понедельник | E2: Дата | F2: =EURUSD!F2 -> 46083
B4: Фундаментальные данные
B5: Время выхода | C5: Страна | D5: Событие | E5: Фактические данные | G5: Прогнозируемые | H5: Предыдущие
B6: =IF(ISBLANK(EURUSD!B6),"",EURUSD!B6) | C6: =IF(ISBLANK(EURUSD!C6),"",EURUSD!C6) | D6: =IF(ISBLANK(EURUSD!D6),"",EURUSD!D6) | E6: =IF(ISBLANK(EURUSD!E6),"",EURUSD!E6) | G6: =IF(ISBLANK(EURUSD!G6),"",EURUSD!G6) | H6: =IF(ISBLANK(EURUSD!H6),"",EURUSD!H6)
B7: =IF(ISBLANK(EURUSD!B7),"",EURUSD!B7) | C7: =IF(ISBLANK(EURUSD!C7),"",EURUSD!C7) | D7: =IF(ISBLANK(EURUSD!D7),"",EURUSD!D7) | E7: =IF(ISBLANK(EURUSD!E7),"",EURUSD!E7) | G7: =IF(ISBLANK(EURUSD!G7),"",EURUSD!G7) | H7: =IF(ISBLANK(EURUSD!H7),"",EURUSD!H7)
B8: =IF(ISBLANK(EURUSD!B8),"",EURUSD!B8) | C8: =IF(ISBLANK(EURUSD!C8),"",EURUSD!C8) | D8: =IF(ISBLANK(EURUSD!D8),"",EURUSD!D8) | E8: =IF(ISBLANK(EURUSD!E8),"",EURUSD!E8) | G8: =IF(ISBLANK(EURUSD!G8),"",EURUSD!G8) | H8: =IF(ISBLANK(EURUSD!H8),"",EURUSD!H8)
B9: =IF(ISBLANK(EURUSD!B9),"",EURUSD!B9) | C9: =IF(ISBLANK(EURUSD!C9),"",EURUSD!C9) | D9: =IF(ISBLANK(EURUSD!D9),"",EURUSD!D9) | E9: =IF(ISBLANK(EURUSD!E9),"",EURUSD!E9) | G9: =IF(ISBLANK(EURUSD!G9),"",EURUSD!G9) | H9: =IF(ISBLANK(EURUSD!H9),"",EURUSD!H9)
B10: =IF(ISBLANK(EURUSD!B10),"",EURUSD!B10) | C10: =IF(ISBLANK(EURUSD!C10),"",EURUSD!C10) | D10: =IF(ISBLANK(EURUSD!D10),"",EURUSD!D10) | E10: =IF(ISBLANK(EURUSD!E10),"",EURUSD!E10) | G10: =IF(ISBLANK(EURUSD!G10),"",EURUSD!G10) | H10: =IF(ISBLANK(EURUSD!H10),"",EURUSD!H10)
B11: =IF(ISBLANK(EURUSD!B11),"",EURUSD!B11) | C11: =IF(ISBLANK(EURUSD!C11),"",EURUSD!C11) | D11: =IF(ISBLANK(EURUSD!D11),"",EURUSD!D11) | E11: =IF(ISBLANK(EURUSD!E11),"",EURUSD!E11) | G11: =IF(ISBLANK(EURUSD!G11),"",EURUSD!G11) | H11: =IF(ISBLANK(EURUSD!H11),"",EURUSD!H11)
B12: =IF(ISBLANK(EURUSD!B12),"",EURUSD!B12) | C12: =IF(ISBLANK(EURUSD!C12),"",EURUSD!C12) | D12: =IF(ISBLANK(EURUSD!D12),"",EURUSD!D12) | E12: =IF(ISBLANK(EURUSD!E12),"",EURUSD!E12) | G12: =IF(ISBLANK(EURUSD!G12),"",EURUSD!G12) | H12: =IF(ISBLANK(EURUSD!H12),"",EURUSD!H12)
B13: =IF(ISBLANK(EURUSD!B13),"",EURUSD!B13) | C13: =IF(ISBLANK(EURUSD!C13),"",EURUSD!C13) | D13: =IF(ISBLANK(EURUSD!D13),"",EURUSD!D13) | E13: =IF(ISBLANK(EURUSD!E13),"",EURUSD!E13) | G13: =IF(ISBLANK(EURUSD!G13),"",EURUSD!G13) | H13: =IF(ISBLANK(EURUSD!H13),"",EURUSD!H13)
B14: =IF(ISBLANK(EURUSD!B14),"",EURUSD!B14) | C14: =IF(ISBLANK(EURUSD!C14),"",EURUSD!C14) | D14: =IF(ISBLANK(EURUSD!D14),"",EURUSD!D14) | E14: =IF(ISBLANK(EURUSD!E14),"",EURUSD!E14) | G14: =IF(ISBLANK(EURUSD!G14),"",EURUSD!G14) | H14: =IF(ISBLANK(EURUSD!H14),"",EURUSD!H14)
B15: =IF(ISBLANK(EURUSD!B15),"",EURUSD!B15) | C15: =IF(ISBLANK(EURUSD!C15),"",EURUSD!C15) | D15: =IF(ISBLANK(EURUSD!D15),"",EURUSD!D15) | E15: =IF(ISBLANK(EURUSD!E15),"",EURUSD!E15) | G15: =IF(ISBLANK(EURUSD!G15),"",EURUSD!G15) | H15: =IF(ISBLANK(EURUSD!H15),"",EURUSD!H15)
B16: =IF(ISBLANK(EURUSD!B16),"",EURUSD!B16) | C16: =IF(ISBLANK(EURUSD!C16),"",EURUSD!C16) | D16: =IF(ISBLANK(EURUSD!D16),"",EURUSD!D16) | E16: =IF(ISBLANK(EURUSD!E16),"",EURUSD!E16) | G16: =IF(ISBLANK(EURUSD!G16),"",EURUSD!G16) | H16: =IF(ISBLANK(EURUSD!H16),"",EURUSD!H16)
B17: =IF(ISBLANK(EURUSD!B17),"",EURUSD!B17) | C17: =IF(ISBLANK(EURUSD!C17),"",EURUSD!C17) | D17: =IF(ISBLANK(EURUSD!D17),"",EURUSD!D17) | E17: =IF(ISBLANK(EURUSD!E17),"",EURUSD!E17) | G17: =IF(ISBLANK(EURUSD!G17),"",EURUSD!G17) | H17: =IF(ISBLANK(EURUSD!H17),"",EURUSD!H17)
B19: Ожидания на день
B20: Недельный перевес | C20: Дневной перевес | D20: Ожидания На Этот День | F20: Ключевые уровни Buy | G20: Ключевые уровни Sell | H20: Развитие
B23: Заключенные сделки
B24: Время | C24: Сетап | D24: Buy/Sell | E24: Вход | F24: Stop | G24: Цель | H24: Выход | I24: Реакция после выхода | J24: Результат в (R)
B32: Результат
B33: Количество сделок | C33: R
B36: Что произошло Сегодня?
B46: Выводы
B47: Сделал хорошо:
B48: Сделал плохо:
B49: Почему (Для Обоих)?
B50: Как улучшить ситуацию?

Sheet NZDUSD
B2: День | C2: Понедельник | E2: Дата | F2: =EURUSD!F2 -> 46083
B4: Фундаментальные данные
B5: Время выхода | C5: Страна | D5: Событие | E5: Фактические данные | G5: Прогнозируемые | H5: Предыдущие
B6: =IF(ISBLANK(EURUSD!B6),"",EURUSD!B6) | C6: =IF(ISBLANK(EURUSD!C6),"",EURUSD!C6) | D6: =IF(ISBLANK(EURUSD!D6),"",EURUSD!D6) | E6: =IF(ISBLANK(EURUSD!E6),"",EURUSD!E6) | G6: =IF(ISBLANK(EURUSD!G6),"",EURUSD!G6) | H6: =IF(ISBLANK(EURUSD!H6),"",EURUSD!H6)
B7: =IF(ISBLANK(EURUSD!B7),"",EURUSD!B7) | C7: =IF(ISBLANK(EURUSD!C7),"",EURUSD!C7) | D7: =IF(ISBLANK(EURUSD!D7),"",EURUSD!D7) | E7: =IF(ISBLANK(EURUSD!E7),"",EURUSD!E7) | G7: =IF(ISBLANK(EURUSD!G7),"",EURUSD!G7) | H7: =IF(ISBLANK(EURUSD!H7),"",EURUSD!H7)
B8: =IF(ISBLANK(EURUSD!B8),"",EURUSD!B8) | C8: =IF(ISBLANK(EURUSD!C8),"",EURUSD!C8) | D8: =IF(ISBLANK(EURUSD!D8),"",EURUSD!D8) | E8: =IF(ISBLANK(EURUSD!E8),"",EURUSD!E8) | G8: =IF(ISBLANK(EURUSD!G8),"",EURUSD!G8) | H8: =IF(ISBLANK(EURUSD!H8),"",EURUSD!H8)
B9: =IF(ISBLANK(EURUSD!B9),"",EURUSD!B9) | C9: =IF(ISBLANK(EURUSD!C9),"",EURUSD!C9) | D9: =IF(ISBLANK(EURUSD!D9),"",EURUSD!D9) | E9: =IF(ISBLANK(EURUSD!E9),"",EURUSD!E9) | G9: =IF(ISBLANK(EURUSD!G9),"",EURUSD!G9) | H9: =IF(ISBLANK(EURUSD!H9),"",EURUSD!H9)
B10: =IF(ISBLANK(EURUSD!B10),"",EURUSD!B10) | C10: =IF(ISBLANK(EURUSD!C10),"",EURUSD!C10) | D10: =IF(ISBLANK(EURUSD!D10),"",EURUSD!D10) | E10: =IF(ISBLANK(EURUSD!E10),"",EURUSD!E10) | G10: =IF(ISBLANK(EURUSD!G10),"",EURUSD!G10) | H10: =IF(ISBLANK(EURUSD!H10),"",EURUSD!H10)
B11: =IF(ISBLANK(EURUSD!B11),"",EURUSD!B11) | C11: =IF(ISBLANK(EURUSD!C11),"",EURUSD!C11) | D11: =IF(ISBLANK(EURUSD!D11),"",EURUSD!D11) | E11: =IF(ISBLANK(EURUSD!E11),"",EURUSD!E11) | G11: =IF(ISBLANK(EURUSD!G11),"",EURUSD!G11) | H11: =IF(ISBLANK(EURUSD!H11),"",EURUSD!H11)
B12: =IF(ISBLANK(EURUSD!B12),"",EURUSD!B12) | C12: =IF(ISBLANK(EURUSD!C12),"",EURUSD!C12) | D12: =IF(ISBLANK(EURUSD!D12),"",EURUSD!D12) | E12: =IF(ISBLANK(EURUSD!E12),"",EURUSD!E12) | G12: =IF(ISBLANK(EURUSD!G12),"",EURUSD!G12) | H12: =IF(ISBLANK(EURUSD!H12),"",EURUSD!H12)
B13: =IF(ISBLANK(EURUSD!B13),"",EURUSD!B13) | C13: =IF(ISBLANK(EURUSD!C13),"",EURUSD!C13) | D13: =IF(ISBLANK(EURUSD!D13),"",EURUSD!D13) | E13: =IF(ISBLANK(EURUSD!E13),"",EURUSD!E13) | G13: =IF(ISBLANK(EURUSD!G13),"",EURUSD!G13) | H13: =IF(ISBLANK(EURUSD!H13),"",EURUSD!H13)
B14: =IF(ISBLANK(EURUSD!B14),"",EURUSD!B14) | C14: =IF(ISBLANK(EURUSD!C14),"",EURUSD!C14) | D14: =IF(ISBLANK(EURUSD!D14),"",EURUSD!D14) | E14: =IF(ISBLANK(EURUSD!E14),"",EURUSD!E14) | G14: =IF(ISBLANK(EURUSD!G14),"",EURUSD!G14) | H14: =IF(ISBLANK(EURUSD!H14),"",EURUSD!H14)
B15: =IF(ISBLANK(EURUSD!B15),"",EURUSD!B15) | C15: =IF(ISBLANK(EURUSD!C15),"",EURUSD!C15) | D15: =IF(ISBLANK(EURUSD!D15),"",EURUSD!D15) | E15: =IF(ISBLANK(EURUSD!E15),"",EURUSD!E15) | G15: =IF(ISBLANK(EURUSD!G15),"",EURUSD!G15) | H15: =IF(ISBLANK(EURUSD!H15),"",EURUSD!H15)
B16: =IF(ISBLANK(EURUSD!B16),"",EURUSD!B16) | C16: =IF(ISBLANK(EURUSD!C16),"",EURUSD!C16) | D16: =IF(ISBLANK(EURUSD!D16),"",EURUSD!D16) | E16: =IF(ISBLANK(EURUSD!E16),"",EURUSD!E16) | G16: =IF(ISBLANK(EURUSD!G16),"",EURUSD!G16) | H16: =IF(ISBLANK(EURUSD!H16),"",EURUSD!H16)
B17: =IF(ISBLANK(EURUSD!B17),"",EURUSD!B17) | C17: =IF(ISBLANK(EURUSD!C17),"",EURUSD!C17) | D17: =IF(ISBLANK(EURUSD!D17),"",EURUSD!D17) | E17: =IF(ISBLANK(EURUSD!E17),"",EURUSD!E17) | G17: =IF(ISBLANK(EURUSD!G17),"",EURUSD!G17) | H17: =IF(ISBLANK(EURUSD!H17),"",EURUSD!H17)
B19: Ожидания на день
B20: Недельный перевес | C20: Дневной перевес | D20: Ожидания На Этот День | F20: Ключевые уровни Buy | G20: Ключевые уровни Sell | H20: Развитие
B23: Заключенные сделки
B24: Время | C24: Сетап | D24: Buy/Sell | E24: Вход | F24: Stop | G24: Цель | H24: Выход | I24: Реакция после выхода | J24: Результат в (R)
B32: Результат
B33: Количество сделок | C33: R
B36: Что произошло Сегодня?
B46: Выводы
B47: Сделал хорошо:
B48: Сделал плохо:
B49: Почему (Для Обоих)?
B50: Как улучшить ситуацию?

Sheet USDCHF
B2: День | C2: Понедельник | E2: Дата | F2: =EURUSD!F2 -> 46083
B4: Фундаментальные данные
B5: Время выхода | C5: Страна | D5: Событие | E5: Фактические данные | G5: Прогнозируемые | H5: Предыдущие
B6: =IF(ISBLANK(EURUSD!B6),"",EURUSD!B6) | C6: =IF(ISBLANK(EURUSD!C6),"",EURUSD!C6) | D6: =IF(ISBLANK(EURUSD!D6),"",EURUSD!D6) | E6: =IF(ISBLANK(EURUSD!E6),"",EURUSD!E6) | G6: =IF(ISBLANK(EURUSD!G6),"",EURUSD!G6) | H6: =IF(ISBLANK(EURUSD!H6),"",EURUSD!H6)
B7: =IF(ISBLANK(EURUSD!B7),"",EURUSD!B7) | C7: =IF(ISBLANK(EURUSD!C7),"",EURUSD!C7) | D7: =IF(ISBLANK(EURUSD!D7),"",EURUSD!D7) | E7: =IF(ISBLANK(EURUSD!E7),"",EURUSD!E7) | G7: =IF(ISBLANK(EURUSD!G7),"",EURUSD!G7) | H7: =IF(ISBLANK(EURUSD!H7),"",EURUSD!H7)
B8: =IF(ISBLANK(EURUSD!B8),"",EURUSD!B8) | C8: =IF(ISBLANK(EURUSD!C8),"",EURUSD!C8) | D8: =IF(ISBLANK(EURUSD!D8),"",EURUSD!D8) | E8: =IF(ISBLANK(EURUSD!E8),"",EURUSD!E8) | G8: =IF(ISBLANK(EURUSD!G8),"",EURUSD!G8) | H8: =IF(ISBLANK(EURUSD!H8),"",EURUSD!H8)
B9: =IF(ISBLANK(EURUSD!B9),"",EURUSD!B9) | C9: =IF(ISBLANK(EURUSD!C9),"",EURUSD!C9) | D9: =IF(ISBLANK(EURUSD!D9),"",EURUSD!D9) | E9: =IF(ISBLANK(EURUSD!E9),"",EURUSD!E9) | G9: =IF(ISBLANK(EURUSD!G9),"",EURUSD!G9) | H9: =IF(ISBLANK(EURUSD!H9),"",EURUSD!H9)
B10: =IF(ISBLANK(EURUSD!B10),"",EURUSD!B10) | C10: =IF(ISBLANK(EURUSD!C10),"",EURUSD!C10) | D10: =IF(ISBLANK(EURUSD!D10),"",EURUSD!D10) | E10: =IF(ISBLANK(EURUSD!E10),"",EURUSD!E10) | G10: =IF(ISBLANK(EURUSD!G10),"",EURUSD!G10) | H10: =IF(ISBLANK(EURUSD!H10),"",EURUSD!H10)
B11: =IF(ISBLANK(EURUSD!B11),"",EURUSD!B11) | C11: =IF(ISBLANK(EURUSD!C11),"",EURUSD!C11) | D11: =IF(ISBLANK(EURUSD!D11),"",EURUSD!D11) | E11: =IF(ISBLANK(EURUSD!E11),"",EURUSD!E11) | G11: =IF(ISBLANK(EURUSD!G11),"",EURUSD!G11) | H11: =IF(ISBLANK(EURUSD!H11),"",EURUSD!H11)
B12: =IF(ISBLANK(EURUSD!B12),"",EURUSD!B12) | C12: =IF(ISBLANK(EURUSD!C12),"",EURUSD!C12) | D12: =IF(ISBLANK(EURUSD!D12),"",EURUSD!D12) | E12: =IF(ISBLANK(EURUSD!E12),"",EURUSD!E12) | G12: =IF(ISBLANK(EURUSD!G12),"",EURUSD!G12) | H12: =IF(ISBLANK(EURUSD!H12),"",EURUSD!H12)
B13: =IF(ISBLANK(EURUSD!B13),"",EURUSD!B13) | C13: =IF(ISBLANK(EURUSD!C13),"",EURUSD!C13) | D13: =IF(ISBLANK(EURUSD!D13),"",EURUSD!D13) | E13: =IF(ISBLANK(EURUSD!E13),"",EURUSD!E13) | G13: =IF(ISBLANK(EURUSD!G13),"",EURUSD!G13) | H13: =IF(ISBLANK(EURUSD!H13),"",EURUSD!H13)
B14: =IF(ISBLANK(EURUSD!B14),"",EURUSD!B14) | C14: =IF(ISBLANK(EURUSD!C14),"",EURUSD!C14) | D14: =IF(ISBLANK(EURUSD!D14),"",EURUSD!D14) | E14: =IF(ISBLANK(EURUSD!E14),"",EURUSD!E14) | G14: =IF(ISBLANK(EURUSD!G14),"",EURUSD!G14) | H14: =IF(ISBLANK(EURUSD!H14),"",EURUSD!H14)
B15: =IF(ISBLANK(EURUSD!B15),"",EURUSD!B15) | C15: =IF(ISBLANK(EURUSD!C15),"",EURUSD!C15) | D15: =IF(ISBLANK(EURUSD!D15),"",EURUSD!D15) | E15: =IF(ISBLANK(EURUSD!E15),"",EURUSD!E15) | G15: =IF(ISBLANK(EURUSD!G15),"",EURUSD!G15) | H15: =IF(ISBLANK(EURUSD!H15),"",EURUSD!H15)
B16: =IF(ISBLANK(EURUSD!B16),"",EURUSD!B16) | C16: =IF(ISBLANK(EURUSD!C16),"",EURUSD!C16) | D16: =IF(ISBLANK(EURUSD!D16),"",EURUSD!D16) | E16: =IF(ISBLANK(EURUSD!E16),"",EURUSD!E16) | G16: =IF(ISBLANK(EURUSD!G16),"",EURUSD!G16) | H16: =IF(ISBLANK(EURUSD!H16),"",EURUSD!H16)
B17: =IF(ISBLANK(EURUSD!B17),"",EURUSD!B17) | C17: =IF(ISBLANK(EURUSD!C17),"",EURUSD!C17) | D17: =IF(ISBLANK(EURUSD!D17),"",EURUSD!D17) | E17: =IF(ISBLANK(EURUSD!E17),"",EURUSD!E17) | G17: =IF(ISBLANK(EURUSD!G17),"",EURUSD!G17) | H17: =IF(ISBLANK(EURUSD!H17),"",EURUSD!H17)
B19: Ожидания на день
B20: Недельный перевес | C20: Дневной перевес | D20: Ожидания На Этот День | F20: Ключевые уровни Buy | G20: Ключевые уровни Sell | H20: Развитие
B23: Заключенные сделки
B24: Время | C24: Сетап | D24: Buy/Sell | E24: Вход | F24: Stop | G24: Цель | H24: Выход | I24: Реакция после выхода | J24: Результат в (R)
B32: Результат
B33: Количество сделок | C33: R
B36: Что произошло Сегодня?
B46: Выводы
B47: Сделал хорошо:
B48: Сделал плохо:
B49: Почему (Для Обоих)?
B50: Как улучшить ситуацию?

Sheet BTC
B2: День | C2: Понедельник | E2: Дата | F2: =EURUSD!F2 -> 46083
B4: Фундаментальные данные
B5: Время выхода | C5: Страна | D5: Событие | E5: Фактические данные | G5: Прогнозируемые | H5: Предыдущие
B6: =IF(ISBLANK(EURUSD!B6),"",EURUSD!B6) | C6: =IF(ISBLANK(EURUSD!C6),"",EURUSD!C6) | D6: =IF(ISBLANK(EURUSD!D6),"",EURUSD!D6) | E6: =IF(ISBLANK(EURUSD!E6),"",EURUSD!E6) | G6: =IF(ISBLANK(EURUSD!G6),"",EURUSD!G6) | H6: =IF(ISBLANK(EURUSD!H6),"",EURUSD!H6)
B7: =IF(ISBLANK(EURUSD!B7),"",EURUSD!B7) | C7: =IF(ISBLANK(EURUSD!C7),"",EURUSD!C7) | D7: =IF(ISBLANK(EURUSD!D7),"",EURUSD!D7) | E7: =IF(ISBLANK(EURUSD!E7),"",EURUSD!E7) | G7: =IF(ISBLANK(EURUSD!G7),"",EURUSD!G7) | H7: =IF(ISBLANK(EURUSD!H7),"",EURUSD!H7)
B8: =IF(ISBLANK(EURUSD!B8),"",EURUSD!B8) | C8: =IF(ISBLANK(EURUSD!C8),"",EURUSD!C8) | D8: =IF(ISBLANK(EURUSD!D8),"",EURUSD!D8) | E8: =IF(ISBLANK(EURUSD!E8),"",EURUSD!E8) | G8: =IF(ISBLANK(EURUSD!G8),"",EURUSD!G8) | H8: =IF(ISBLANK(EURUSD!H8),"",EURUSD!H8)
B9: =IF(ISBLANK(EURUSD!B9),"",EURUSD!B9) | C9: =IF(ISBLANK(EURUSD!C9),"",EURUSD!C9) | D9: =IF(ISBLANK(EURUSD!D9),"",EURUSD!D9) | E9: =IF(ISBLANK(EURUSD!E9),"",EURUSD!E9) | G9: =IF(ISBLANK(EURUSD!G9),"",EURUSD!G9) | H9: =IF(ISBLANK(EURUSD!H9),"",EURUSD!H9)
B10: =IF(ISBLANK(EURUSD!B10),"",EURUSD!B10) | C10: =IF(ISBLANK(EURUSD!C10),"",EURUSD!C10) | D10: =IF(ISBLANK(EURUSD!D10),"",EURUSD!D10) | E10: =IF(ISBLANK(EURUSD!E10),"",EURUSD!E10) | G10: =IF(ISBLANK(EURUSD!G10),"",EURUSD!G10) | H10: =IF(ISBLANK(EURUSD!H10),"",EURUSD!H10)
B11: =IF(ISBLANK(EURUSD!B11),"",EURUSD!B11) | C11: =IF(ISBLANK(EURUSD!C11),"",EURUSD!C11) | D11: =IF(ISBLANK(EURUSD!D11),"",EURUSD!D11) | E11: =IF(ISBLANK(EURUSD!E11),"",EURUSD!E11) | G11: =IF(ISBLANK(EURUSD!G11),"",EURUSD!G11) | H11: =IF(ISBLANK(EURUSD!H11),"",EURUSD!H11)
B12: =IF(ISBLANK(EURUSD!B12),"",EURUSD!B12) | C12: =IF(ISBLANK(EURUSD!C12),"",EURUSD!C12) | D12: =IF(ISBLANK(EURUSD!D12),"",EURUSD!D12) | E12: =IF(ISBLANK(EURUSD!E12),"",EURUSD!E12) | G12: =IF(ISBLANK(EURUSD!G12),"",EURUSD!G12) | H12: =IF(ISBLANK(EURUSD!H12),"",EURUSD!H12)
B13: =IF(ISBLANK(EURUSD!B13),"",EURUSD!B13) | C13: =IF(ISBLANK(EURUSD!C13),"",EURUSD!C13) | D13: =IF(ISBLANK(EURUSD!D13),"",EURUSD!D13) | E13: =IF(ISBLANK(EURUSD!E13),"",EURUSD!E13) | G13: =IF(ISBLANK(EURUSD!G13),"",EURUSD!G13) | H13: =IF(ISBLANK(EURUSD!H13),"",EURUSD!H13)
B14: =IF(ISBLANK(EURUSD!B14),"",EURUSD!B14) | C14: =IF(ISBLANK(EURUSD!C14),"",EURUSD!C14) | D14: =IF(ISBLANK(EURUSD!D14),"",EURUSD!D14) | E14: =IF(ISBLANK(EURUSD!E14),"",EURUSD!E14) | G14: =IF(ISBLANK(EURUSD!G14),"",EURUSD!G14) | H14: =IF(ISBLANK(EURUSD!H14),"",EURUSD!H14)
B15: =IF(ISBLANK(EURUSD!B15),"",EURUSD!B15) | C15: =IF(ISBLANK(EURUSD!C15),"",EURUSD!C15) | D15: =IF(ISBLANK(EURUSD!D15),"",EURUSD!D15) | E15: =IF(ISBLANK(EURUSD!E15),"",EURUSD!E15) | G15: =IF(ISBLANK(EURUSD!G15),"",EURUSD!G15) | H15: =IF(ISBLANK(EURUSD!H15),"",EURUSD!H15)
B16: =IF(ISBLANK(EURUSD!B16),"",EURUSD!B16) | C16: =IF(ISBLANK(EURUSD!C16),"",EURUSD!C16) | D16: =IF(ISBLANK(EURUSD!D16),"",EURUSD!D16) | E16: =IF(ISBLANK(EURUSD!E16),"",EURUSD!E16) | G16: =IF(ISBLANK(EURUSD!G16),"",EURUSD!G16) | H16: =IF(ISBLANK(EURUSD!H16),"",EURUSD!H16)
B17: =IF(ISBLANK(EURUSD!B17),"",EURUSD!B17) | C17: =IF(ISBLANK(EURUSD!C17),"",EURUSD!C17) | D17: =IF(ISBLANK(EURUSD!D17),"",EURUSD!D17) | E17: =IF(ISBLANK(EURUSD!E17),"",EURUSD!E17) | G17: =IF(ISBLANK(EURUSD!G17),"",EURUSD!G17) | H17: =IF(ISBLANK(EURUSD!H17),"",EURUSD!H17)
B19: Ожидания на день
B20: Недельный перевес | C20: Дневной перевес | D20: Ожидания На Этот День | F20: Ключевые уровни Buy | G20: Ключевые уровни Sell | H20: Развитие
B23: Заключенные сделки
B24: Время | C24: Сетап | D24: Buy/Sell | E24: Вход | F24: Stop | G24: Цель | H24: Выход | I24: Реакция после выхода | J24: Результат в (R)
B32: Результат
B33: Количество сделок | C33: R
B36: Что произошло Сегодня?
B46: Выводы
B47: Сделал хорошо:
B48: Сделал плохо:
B49: Почему (Для Обоих)?
B50: Как улучшить ситуацию?

Sheet DAX
B2: День | C2: Понедельник | E2: Дата | F2: =EURUSD!F2 -> 46083
B4: Фундаментальные данные
B5: Время выхода | C5: Страна | D5: Событие | E5: Фактические данные | G5: Прогнозируемые | H5: Предыдущие
B6: =IF(ISBLANK(EURUSD!B6),"",EURUSD!B6) | C6: =IF(ISBLANK(EURUSD!C6),"",EURUSD!C6) | D6: =IF(ISBLANK(EURUSD!D6),"",EURUSD!D6) | E6: =IF(ISBLANK(EURUSD!E6),"",EURUSD!E6) | G6: =IF(ISBLANK(EURUSD!G6),"",EURUSD!G6) | H6: =IF(ISBLANK(EURUSD!H6),"",EURUSD!H6)
B7: =IF(ISBLANK(EURUSD!B7),"",EURUSD!B7) | C7: =IF(ISBLANK(EURUSD!C7),"",EURUSD!C7) | D7: =IF(ISBLANK(EURUSD!D7),"",EURUSD!D7) | E7: =IF(ISBLANK(EURUSD!E7),"",EURUSD!E7) | G7: =IF(ISBLANK(EURUSD!G7),"",EURUSD!G7) | H7: =IF(ISBLANK(EURUSD!H7),"",EURUSD!H7)
B8: =IF(ISBLANK(EURUSD!B8),"",EURUSD!B8) | C8: =IF(ISBLANK(EURUSD!C8),"",EURUSD!C8) | D8: =IF(ISBLANK(EURUSD!D8),"",EURUSD!D8) | E8: =IF(ISBLANK(EURUSD!E8),"",EURUSD!E8) | G8: =IF(ISBLANK(EURUSD!G8),"",EURUSD!G8) | H8: =IF(ISBLANK(EURUSD!H8),"",EURUSD!H8)
B9: =IF(ISBLANK(EURUSD!B9),"",EURUSD!B9) | C9: =IF(ISBLANK(EURUSD!C9),"",EURUSD!C9) | D9: =IF(ISBLANK(EURUSD!D9),"",EURUSD!D9) | E9: =IF(ISBLANK(EURUSD!E9),"",EURUSD!E9) | G9: =IF(ISBLANK(EURUSD!G9),"",EURUSD!G9) | H9: =IF(ISBLANK(EURUSD!H9),"",EURUSD!H9)
B10: =IF(ISBLANK(EURUSD!B10),"",EURUSD!B10) | C10: =IF(ISBLANK(EURUSD!C10),"",EURUSD!C10) | D10: =IF(ISBLANK(EURUSD!D10),"",EURUSD!D10) | E10: =IF(ISBLANK(EURUSD!E10),"",EURUSD!E10) | G10: =IF(ISBLANK(EURUSD!G10),"",EURUSD!G10) | H10: =IF(ISBLANK(EURUSD!H10),"",EURUSD!H10)
B11: =IF(ISBLANK(EURUSD!B11),"",EURUSD!B11) | C11: =IF(ISBLANK(EURUSD!C11),"",EURUSD!C11) | D11: =IF(ISBLANK(EURUSD!D11),"",EURUSD!D11) | E11: =IF(ISBLANK(EURUSD!E11),"",EURUSD!E11) | G11: =IF(ISBLANK(EURUSD!G11),"",EURUSD!G11) | H11: =IF(ISBLANK(EURUSD!H11),"",EURUSD!H11)
B12: =IF(ISBLANK(EURUSD!B12),"",EURUSD!B12) | C12: =IF(ISBLANK(EURUSD!C12),"",EURUSD!C12) | D12: =IF(ISBLANK(EURUSD!D12),"",EURUSD!D12) | E12: =IF(ISBLANK(EURUSD!E12),"",EURUSD!E12) | G12: =IF(ISBLANK(EURUSD!G12),"",EURUSD!G12) | H12: =IF(ISBLANK(EURUSD!H12),"",EURUSD!H12)
B13: =IF(ISBLANK(EURUSD!B13),"",EURUSD!B13) | C13: =IF(ISBLANK(EURUSD!C13),"",EURUSD!C13) | D13: =IF(ISBLANK(EURUSD!D13),"",EURUSD!D13) | E13: =IF(ISBLANK(EURUSD!E13),"",EURUSD!E13) | G13: =IF(ISBLANK(EURUSD!G13),"",EURUSD!G13) | H13: =IF(ISBLANK(EURUSD!H13),"",EURUSD!H13)
B14: =IF(ISBLANK(EURUSD!B14),"",EURUSD!B14) | C14: =IF(ISBLANK(EURUSD!C14),"",EURUSD!C14) | D14: =IF(ISBLANK(EURUSD!D14),"",EURUSD!D14) | E14: =IF(ISBLANK(EURUSD!E14),"",EURUSD!E14) | G14: =IF(ISBLANK(EURUSD!G14),"",EURUSD!G14) | H14: =IF(ISBLANK(EURUSD!H14),"",EURUSD!H14)
B15: =IF(ISBLANK(EURUSD!B15),"",EURUSD!B15) | C15: =IF(ISBLANK(EURUSD!C15),"",EURUSD!C15) | D15: =IF(ISBLANK(EURUSD!D15),"",EURUSD!D15) | E15: =IF(ISBLANK(EURUSD!E15),"",EURUSD!E15) | G15: =IF(ISBLANK(EURUSD!G15),"",EURUSD!G15) | H15: =IF(ISBLANK(EURUSD!H15),"",EURUSD!H15)
B16: =IF(ISBLANK(EURUSD!B16),"",EURUSD!B16) | C16: =IF(ISBLANK(EURUSD!C16),"",EURUSD!C16) | D16: =IF(ISBLANK(EURUSD!D16),"",EURUSD!D16) | E16: =IF(ISBLANK(EURUSD!E16),"",EURUSD!E16) | G16: =IF(ISBLANK(EURUSD!G16),"",EURUSD!G16) | H16: =IF(ISBLANK(EURUSD!H16),"",EURUSD!H16)
B17: =IF(ISBLANK(EURUSD!B17),"",EURUSD!B17) | C17: =IF(ISBLANK(EURUSD!C17),"",EURUSD!C17) | D17: =IF(ISBLANK(EURUSD!D17),"",EURUSD!D17) | E17: =IF(ISBLANK(EURUSD!E17),"",EURUSD!E17) | G17: =IF(ISBLANK(EURUSD!G17),"",EURUSD!G17) | H17: =IF(ISBLANK(EURUSD!H17),"",EURUSD!H17)
B19: Ожидания на день
B20: Недельный перевес | C20: Дневной перевес | D20: Ожидания На Этот День | F20: Ключевые уровни Buy | G20: Ключевые уровни Sell | H20: Развитие
B23: Заключенные сделки
B24: Время | C24: Сетап | D24: Buy/Sell | E24: Вход | F24: Stop | G24: Цель | H24: Выход | I24: Реакция после выхода | J24: Результат в (R)
B32: Результат
B33: Количество сделок | C33: R
B36: Что произошло Сегодня?
B46: Выводы
B47: Сделал хорошо:
B48: Сделал плохо:
B49: Почему (Для Обоих)?
B50: Как улучшить ситуацию?

Sheet Gold
B2: День | C2: Понедельник | E2: Дата | F2: =EURUSD!F2 -> 46083
B4: Фундаментальные данные
B5: Время выхода | C5: Страна | D5: Событие | E5: Фактические данные | G5: Прогнозируемые | H5: Предыдущие
B6: =IF(ISBLANK(EURUSD!B6),"",EURUSD!B6) | C6: =IF(ISBLANK(EURUSD!C6),"",EURUSD!C6) | D6: =IF(ISBLANK(EURUSD!D6),"",EURUSD!D6) | E6: =IF(ISBLANK(EURUSD!E6),"",EURUSD!E6) | G6: =IF(ISBLANK(EURUSD!G6),"",EURUSD!G6) | H6: =IF(ISBLANK(EURUSD!H6),"",EURUSD!H6)
B7: =IF(ISBLANK(EURUSD!B7),"",EURUSD!B7) | C7: =IF(ISBLANK(EURUSD!C7),"",EURUSD!C7) | D7: =IF(ISBLANK(EURUSD!D7),"",EURUSD!D7) | E7: =IF(ISBLANK(EURUSD!E7),"",EURUSD!E7) | G7: =IF(ISBLANK(EURUSD!G7),"",EURUSD!G7) | H7: =IF(ISBLANK(EURUSD!H7),"",EURUSD!H7)
B8: =IF(ISBLANK(EURUSD!B8),"",EURUSD!B8) | C8: =IF(ISBLANK(EURUSD!C8),"",EURUSD!C8) | D8: =IF(ISBLANK(EURUSD!D8),"",EURUSD!D8) | E8: =IF(ISBLANK(EURUSD!E8),"",EURUSD!E8) | G8: =IF(ISBLANK(EURUSD!G8),"",EURUSD!G8) | H8: =IF(ISBLANK(EURUSD!H8),"",EURUSD!H8)
B9: =IF(ISBLANK(EURUSD!B9),"",EURUSD!B9) | C9: =IF(ISBLANK(EURUSD!C9),"",EURUSD!C9) | D9: =IF(ISBLANK(EURUSD!D9),"",EURUSD!D9) | E9: =IF(ISBLANK(EURUSD!E9),"",EURUSD!E9) | G9: =IF(ISBLANK(EURUSD!G9),"",EURUSD!G9) | H9: =IF(ISBLANK(EURUSD!H9),"",EURUSD!H9)
B10: =IF(ISBLANK(EURUSD!B10),"",EURUSD!B10) | C10: =IF(ISBLANK(EURUSD!C10),"",EURUSD!C10) | D10: =IF(ISBLANK(EURUSD!D10),"",EURUSD!D10) | E10: =IF(ISBLANK(EURUSD!E10),"",EURUSD!E10) | G10: =IF(ISBLANK(EURUSD!G10),"",EURUSD!G10) | H10: =IF(ISBLANK(EURUSD!H10),"",EURUSD!H10)
B11: =IF(ISBLANK(EURUSD!B11),"",EURUSD!B11) | C11: =IF(ISBLANK(EURUSD!C11),"",EURUSD!C11) | D11: =IF(ISBLANK(EURUSD!D11),"",EURUSD!D11) | E11: =IF(ISBLANK(EURUSD!E11),"",EURUSD!E11) | G11: =IF(ISBLANK(EURUSD!G11),"",EURUSD!G11) | H11: =IF(ISBLANK(EURUSD!H11),"",EURUSD!H11)
B12: =IF(ISBLANK(EURUSD!B12),"",EURUSD!B12) | C12: =IF(ISBLANK(EURUSD!C12),"",EURUSD!C12) | D12: =IF(ISBLANK(EURUSD!D12),"",EURUSD!D12) | E12: =IF(ISBLANK(EURUSD!E12),"",EURUSD!E12) | G12: =IF(ISBLANK(EURUSD!G12),"",EURUSD!G12) | H12: =IF(ISBLANK(EURUSD!H12),"",EURUSD!H12)
B13: =IF(ISBLANK(EURUSD!B13),"",EURUSD!B13) | C13: =IF(ISBLANK(EURUSD!C13),"",EURUSD!C13) | D13: =IF(ISBLANK(EURUSD!D13),"",EURUSD!D13) | E13: =IF(ISBLANK(EURUSD!E13),"",EURUSD!E13) | G13: =IF(ISBLANK(EURUSD!G13),"",EURUSD!G13) | H13: =IF(ISBLANK(EURUSD!H13),"",EURUSD!H13)
B14: =IF(ISBLANK(EURUSD!B14),"",EURUSD!B14) | C14: =IF(ISBLANK(EURUSD!C14),"",EURUSD!C14) | D14: =IF(ISBLANK(EURUSD!D14),"",EURUSD!D14) | E14: =IF(ISBLANK(EURUSD!E14),"",EURUSD!E14) | G14: =IF(ISBLANK(EURUSD!G14),"",EURUSD!G14) | H14: =IF(ISBLANK(EURUSD!H14),"",EURUSD!H14)
B15: =IF(ISBLANK(EURUSD!B15),"",EURUSD!B15) | C15: =IF(ISBLANK(EURUSD!C15),"",EURUSD!C15) | D15: =IF(ISBLANK(EURUSD!D15),"",EURUSD!D15) | E15: =IF(ISBLANK(EURUSD!E15),"",EURUSD!E15) | G15: =IF(ISBLANK(EURUSD!G15),"",EURUSD!G15) | H15: =IF(ISBLANK(EURUSD!H15),"",EURUSD!H15)
B16: =IF(ISBLANK(EURUSD!B16),"",EURUSD!B16) | C16: =IF(ISBLANK(EURUSD!C16),"",EURUSD!C16) | D16: =IF(ISBLANK(EURUSD!D16),"",EURUSD!D16) | E16: =IF(ISBLANK(EURUSD!E16),"",EURUSD!E16) | G16: =IF(ISBLANK(EURUSD!G16),"",EURUSD!G16) | H16: =IF(ISBLANK(EURUSD!H16),"",EURUSD!H16)
B17: =IF(ISBLANK(EURUSD!B17),"",EURUSD!B17) | C17: =IF(ISBLANK(EURUSD!C17),"",EURUSD!C17) | D17: =IF(ISBLANK(EURUSD!D17),"",EURUSD!D17) | E17: =IF(ISBLANK(EURUSD!E17),"",EURUSD!E17) | G17: =IF(ISBLANK(EURUSD!G17),"",EURUSD!G17) | H17: =IF(ISBLANK(EURUSD!H17),"",EURUSD!H17)
B19: Ожидания на день
B20: Недельный перевес | C20: Дневной перевес | D20: Ожидания На Этот День | F20: Ключевые уровни Buy | G20: Ключевые уровни Sell | H20: Развитие
B23: Заключенные сделки
B24: Время | C24: Сетап | D24: Buy/Sell | E24: Вход | F24: Stop | G24: Цель | H24: Выход | I24: Реакция после выхода | J24: Результат в (R)
B32: Результат
B33: Количество сделок | C33: R
B36: Что произошло Сегодня?
B46: Выводы
B47: Сделал хорошо:
B48: Сделал плохо:
B49: Почему (Для Обоих)?
B50: Как улучшить ситуацию?

Sheet Silver
B2: День | C2: Понедельник | E2: Дата | F2: =EURUSD!F2 -> 46083
B4: Фундаментальные данные
B5: Время выхода | C5: Страна | D5: Событие | E5: Фактические данные | G5: Прогнозируемые | H5: Предыдущие
B6: =IF(ISBLANK(EURUSD!B6),"",EURUSD!B6) | C6: =IF(ISBLANK(EURUSD!C6),"",EURUSD!C6) | D6: =IF(ISBLANK(EURUSD!D6),"",EURUSD!D6) | E6: =IF(ISBLANK(EURUSD!E6),"",EURUSD!E6) | G6: =IF(ISBLANK(EURUSD!G6),"",EURUSD!G6) | H6: =IF(ISBLANK(EURUSD!H6),"",EURUSD!H6)
B7: =IF(ISBLANK(EURUSD!B7),"",EURUSD!B7) | C7: =IF(ISBLANK(EURUSD!C7),"",EURUSD!C7) | D7: =IF(ISBLANK(EURUSD!D7),"",EURUSD!D7) | E7: =IF(ISBLANK(EURUSD!E7),"",EURUSD!E7) | G7: =IF(ISBLANK(EURUSD!G7),"",EURUSD!G7) | H7: =IF(ISBLANK(EURUSD!H7),"",EURUSD!H7)
B8: =IF(ISBLANK(EURUSD!B8),"",EURUSD!B8) | C8: =IF(ISBLANK(EURUSD!C8),"",EURUSD!C8) | D8: =IF(ISBLANK(EURUSD!D8),"",EURUSD!D8) | E8: =IF(ISBLANK(EURUSD!E8),"",EURUSD!E8) | G8: =IF(ISBLANK(EURUSD!G8),"",EURUSD!G8) | H8: =IF(ISBLANK(EURUSD!H8),"",EURUSD!H8)
B9: =IF(ISBLANK(EURUSD!B9),"",EURUSD!B9) | C9: =IF(ISBLANK(EURUSD!C9),"",EURUSD!C9) | D9: =IF(ISBLANK(EURUSD!D9),"",EURUSD!D9) | E9: =IF(ISBLANK(EURUSD!E9),"",EURUSD!E9) | G9: =IF(ISBLANK(EURUSD!G9),"",EURUSD!G9) | H9: =IF(ISBLANK(EURUSD!H9),"",EURUSD!H9)
B10: =IF(ISBLANK(EURUSD!B10),"",EURUSD!B10) | C10: =IF(ISBLANK(EURUSD!C10),"",EURUSD!C10) | D10: =IF(ISBLANK(EURUSD!D10),"",EURUSD!D10) | E10: =IF(ISBLANK(EURUSD!E10),"",EURUSD!E10) | G10: =IF(ISBLANK(EURUSD!G10),"",EURUSD!G10) | H10: =IF(ISBLANK(EURUSD!H10),"",EURUSD!H10)
B11: =IF(ISBLANK(EURUSD!B11),"",EURUSD!B11) | C11: =IF(ISBLANK(EURUSD!C11),"",EURUSD!C11) | D11: =IF(ISBLANK(EURUSD!D11),"",EURUSD!D11) | E11: =IF(ISBLANK(EURUSD!E11),"",EURUSD!E11) | G11: =IF(ISBLANK(EURUSD!G11),"",EURUSD!G11) | H11: =IF(ISBLANK(EURUSD!H11),"",EURUSD!H11)
B12: =IF(ISBLANK(EURUSD!B12),"",EURUSD!B12) | C12: =IF(ISBLANK(EURUSD!C12),"",EURUSD!C12) | D12: =IF(ISBLANK(EURUSD!D12),"",EURUSD!D12) | E12: =IF(ISBLANK(EURUSD!E12),"",EURUSD!E12) | G12: =IF(ISBLANK(EURUSD!G12),"",EURUSD!G12) | H12: =IF(ISBLANK(EURUSD!H12),"",EURUSD!H12)
B13: =IF(ISBLANK(EURUSD!B13),"",EURUSD!B13) | C13: =IF(ISBLANK(EURUSD!C13),"",EURUSD!C13) | D13: =IF(ISBLANK(EURUSD!D13),"",EURUSD!D13) | E13: =IF(ISBLANK(EURUSD!E13),"",EURUSD!E13) | G13: =IF(ISBLANK(EURUSD!G13),"",EURUSD!G13) | H13: =IF(ISBLANK(EURUSD!H13),"",EURUSD!H13)
B14: =IF(ISBLANK(EURUSD!B14),"",EURUSD!B14) | C14: =IF(ISBLANK(EURUSD!C14),"",EURUSD!C14) | D14: =IF(ISBLANK(EURUSD!D14),"",EURUSD!D14) | E14: =IF(ISBLANK(EURUSD!E14),"",EURUSD!E14) | G14: =IF(ISBLANK(EURUSD!G14),"",EURUSD!G14) | H14: =IF(ISBLANK(EURUSD!H14),"",EURUSD!H14)
B15: =IF(ISBLANK(EURUSD!B15),"",EURUSD!B15) | C15: =IF(ISBLANK(EURUSD!C15),"",EURUSD!C15) | D15: =IF(ISBLANK(EURUSD!D15),"",EURUSD!D15) | E15: =IF(ISBLANK(EURUSD!E15),"",EURUSD!E15) | G15: =IF(ISBLANK(EURUSD!G15),"",EURUSD!G15) | H15: =IF(ISBLANK(EURUSD!H15),"",EURUSD!H15)
B16: =IF(ISBLANK(EURUSD!B16),"",EURUSD!B16) | C16: =IF(ISBLANK(EURUSD!C16),"",EURUSD!C16) | D16: =IF(ISBLANK(EURUSD!D16),"",EURUSD!D16) | E16: =IF(ISBLANK(EURUSD!E16),"",EURUSD!E16) | G16: =IF(ISBLANK(EURUSD!G16),"",EURUSD!G16) | H16: =IF(ISBLANK(EURUSD!H16),"",EURUSD!H16)
B17: =IF(ISBLANK(EURUSD!B17),"",EURUSD!B17) | C17: =IF(ISBLANK(EURUSD!C17),"",EURUSD!C17) | D17: =IF(ISBLANK(EURUSD!D17),"",EURUSD!D17) | E17: =IF(ISBLANK(EURUSD!E17),"",EURUSD!E17) | G17: =IF(ISBLANK(EURUSD!G17),"",EURUSD!G17) | H17: =IF(ISBLANK(EURUSD!H17),"",EURUSD!H17)
B19: Ожидания на день
B20: Недельный перевес | C20: Дневной перевес | D20: Ожидания На Этот День | F20: Ключевые уровни Buy | G20: Ключевые уровни Sell | H20: Развитие
B23: Заключенные сделки
B24: Время | C24: Сетап | D24: Buy/Sell | E24: Вход | F24: Stop | G24: Цель | H24: Выход | I24: Реакция после выхода | J24: Результат в (R)
B32: Результат
B33: Количество сделок | C33: R
B36: Что произошло Сегодня?
B46: Выводы
B47: Сделал хорошо:
B48: Сделал плохо:
B49: Почему (Для Обоих)?
B50: Как улучшить ситуацию?

Sheet Crude Oil
B2: День | C2: Понедельник | E2: Дата | F2: =EURUSD!F2 -> 46083
B4: Фундаментальные данные
B5: Время выхода | C5: Страна | D5: Событие | E5: Фактические данные | G5: Прогнозируемые | H5: Предыдущие
B6: =IF(ISBLANK(EURUSD!B6),"",EURUSD!B6) | C6: =IF(ISBLANK(EURUSD!C6),"",EURUSD!C6) | D6: =IF(ISBLANK(EURUSD!D6),"",EURUSD!D6) | E6: =IF(ISBLANK(EURUSD!E6),"",EURUSD!E6) | G6: =IF(ISBLANK(EURUSD!G6),"",EURUSD!G6) | H6: =IF(ISBLANK(EURUSD!H6),"",EURUSD!H6)
B7: =IF(ISBLANK(EURUSD!B7),"",EURUSD!B7) | C7: =IF(ISBLANK(EURUSD!C7),"",EURUSD!C7) | D7: =IF(ISBLANK(EURUSD!D7),"",EURUSD!D7) | E7: =IF(ISBLANK(EURUSD!E7),"",EURUSD!E7) | G7: =IF(ISBLANK(EURUSD!G7),"",EURUSD!G7) | H7: =IF(ISBLANK(EURUSD!H7),"",EURUSD!H7)
B8: =IF(ISBLANK(EURUSD!B8),"",EURUSD!B8) | C8: =IF(ISBLANK(EURUSD!C8),"",EURUSD!C8) | D8: =IF(ISBLANK(EURUSD!D8),"",EURUSD!D8) | E8: =IF(ISBLANK(EURUSD!E8),"",EURUSD!E8) | G8: =IF(ISBLANK(EURUSD!G8),"",EURUSD!G8) | H8: =IF(ISBLANK(EURUSD!H8),"",EURUSD!H8)
B9: =IF(ISBLANK(EURUSD!B9),"",EURUSD!B9) | C9: =IF(ISBLANK(EURUSD!C9),"",EURUSD!C9) | D9: =IF(ISBLANK(EURUSD!D9),"",EURUSD!D9) | E9: =IF(ISBLANK(EURUSD!E9),"",EURUSD!E9) | G9: =IF(ISBLANK(EURUSD!G9),"",EURUSD!G9) | H9: =IF(ISBLANK(EURUSD!H9),"",EURUSD!H9)
B10: =IF(ISBLANK(EURUSD!B10),"",EURUSD!B10) | C10: =IF(ISBLANK(EURUSD!C10),"",EURUSD!C10) | D10: =IF(ISBLANK(EURUSD!D10),"",EURUSD!D10) | E10: =IF(ISBLANK(EURUSD!E10),"",EURUSD!E10) | G10: =IF(ISBLANK(EURUSD!G10),"",EURUSD!G10) | H10: =IF(ISBLANK(EURUSD!H10),"",EURUSD!H10)
B11: =IF(ISBLANK(EURUSD!B11),"",EURUSD!B11) | C11: =IF(ISBLANK(EURUSD!C11),"",EURUSD!C11) | D11: =IF(ISBLANK(EURUSD!D11),"",EURUSD!D11) | E11: =IF(ISBLANK(EURUSD!E11),"",EURUSD!E11) | G11: =IF(ISBLANK(EURUSD!G11),"",EURUSD!G11) | H11: =IF(ISBLANK(EURUSD!H11),"",EURUSD!H11)
B12: =IF(ISBLANK(EURUSD!B12),"",EURUSD!B12) | C12: =IF(ISBLANK(EURUSD!C12),"",EURUSD!C12) | D12: =IF(ISBLANK(EURUSD!D12),"",EURUSD!D12) | E12: =IF(ISBLANK(EURUSD!E12),"",EURUSD!E12) | G12: =IF(ISBLANK(EURUSD!G12),"",EURUSD!G12) | H12: =IF(ISBLANK(EURUSD!H12),"",EURUSD!H12)
B13: =IF(ISBLANK(EURUSD!B13),"",EURUSD!B13) | C13: =IF(ISBLANK(EURUSD!C13),"",EURUSD!C13) | D13: =IF(ISBLANK(EURUSD!D13),"",EURUSD!D13) | E13: =IF(ISBLANK(EURUSD!E13),"",EURUSD!E13) | G13: =IF(ISBLANK(EURUSD!G13),"",EURUSD!G13) | H13: =IF(ISBLANK(EURUSD!H13),"",EURUSD!H13)
B14: =IF(ISBLANK(EURUSD!B14),"",EURUSD!B14) | C14: =IF(ISBLANK(EURUSD!C14),"",EURUSD!C14) | D14: =IF(ISBLANK(EURUSD!D14),"",EURUSD!D14) | E14: =IF(ISBLANK(EURUSD!E14),"",EURUSD!E14) | G14: =IF(ISBLANK(EURUSD!G14),"",EURUSD!G14) | H14: =IF(ISBLANK(EURUSD!H14),"",EURUSD!H14)
B15: =IF(ISBLANK(EURUSD!B15),"",EURUSD!B15) | C15: =IF(ISBLANK(EURUSD!C15),"",EURUSD!C15) | D15: =IF(ISBLANK(EURUSD!D15),"",EURUSD!D15) | E15: =IF(ISBLANK(EURUSD!E15),"",EURUSD!E15) | G15: =IF(ISBLANK(EURUSD!G15),"",EURUSD!G15) | H15: =IF(ISBLANK(EURUSD!H15),"",EURUSD!H15)
B16: =IF(ISBLANK(EURUSD!B16),"",EURUSD!B16) | C16: =IF(ISBLANK(EURUSD!C16),"",EURUSD!C16) | D16: =IF(ISBLANK(EURUSD!D16),"",EURUSD!D16) | E16: =IF(ISBLANK(EURUSD!E16),"",EURUSD!E16) | G16: =IF(ISBLANK(EURUSD!G16),"",EURUSD!G16) | H16: =IF(ISBLANK(EURUSD!H16),"",EURUSD!H16)
B17: =IF(ISBLANK(EURUSD!B17),"",EURUSD!B17) | C17: =IF(ISBLANK(EURUSD!C17),"",EURUSD!C17) | D17: =IF(ISBLANK(EURUSD!D17),"",EURUSD!D17) | E17: =IF(ISBLANK(EURUSD!E17),"",EURUSD!E17) | G17: =IF(ISBLANK(EURUSD!G17),"",EURUSD!G17) | H17: =IF(ISBLANK(EURUSD!H17),"",EURUSD!H17)
B19: Ожидания на день
B20: Недельный перевес | C20: Дневной перевес | D20: Ожидания На Этот День | F20: Ключевые уровни Buy | G20: Ключевые уровни Sell | H20: Развитие
B23: Заключенные сделки
B24: Время | C24: Сетап | D24: Buy/Sell | E24: Вход | F24: Stop | G24: Цель | H24: Выход | I24: Реакция после выхода | J24: Результат в (R)
B32: Результат
B33: Количество сделок | C33: R
B36: Что произошло Сегодня?
B46: Выводы
B47: Сделал хорошо:
B48: Сделал плохо:
B49: Почему (Для Обоих)?
B50: Как улучшить ситуацию?

Sheet Bund
B2: День | C2: Понедельник | E2: Дата | F2: =EURUSD!F2 -> 46083
B4: Фундаментальные данные
B5: Время выхода | C5: Страна | D5: Событие | E5: Фактические данные | G5: Прогнозируемые | H5: Предыдущие
B6: =IF(ISBLANK(EURUSD!B6),"",EURUSD!B6) | C6: =IF(ISBLANK(EURUSD!C6),"",EURUSD!C6) | D6: =IF(ISBLANK(EURUSD!D6),"",EURUSD!D6) | E6: =IF(ISBLANK(EURUSD!E6),"",EURUSD!E6) | G6: =IF(ISBLANK(EURUSD!G6),"",EURUSD!G6) | H6: =IF(ISBLANK(EURUSD!H6),"",EURUSD!H6)
B7: =IF(ISBLANK(EURUSD!B7),"",EURUSD!B7) | C7: =IF(ISBLANK(EURUSD!C7),"",EURUSD!C7) | D7: =IF(ISBLANK(EURUSD!D7),"",EURUSD!D7) | E7: =IF(ISBLANK(EURUSD!E7),"",EURUSD!E7) | G7: =IF(ISBLANK(EURUSD!G7),"",EURUSD!G7) | H7: =IF(ISBLANK(EURUSD!H7),"",EURUSD!H7)
B8: =IF(ISBLANK(EURUSD!B8),"",EURUSD!B8) | C8: =IF(ISBLANK(EURUSD!C8),"",EURUSD!C8) | D8: =IF(ISBLANK(EURUSD!D8),"",EURUSD!D8) | E8: =IF(ISBLANK(EURUSD!E8),"",EURUSD!E8) | G8: =IF(ISBLANK(EURUSD!G8),"",EURUSD!G8) | H8: =IF(ISBLANK(EURUSD!H8),"",EURUSD!H8)
B9: =IF(ISBLANK(EURUSD!B9),"",EURUSD!B9) | C9: =IF(ISBLANK(EURUSD!C9),"",EURUSD!C9) | D9: =IF(ISBLANK(EURUSD!D9),"",EURUSD!D9) | E9: =IF(ISBLANK(EURUSD!E9),"",EURUSD!E9) | G9: =IF(ISBLANK(EURUSD!G9),"",EURUSD!G9) | H9: =IF(ISBLANK(EURUSD!H9),"",EURUSD!H9)
B10: =IF(ISBLANK(EURUSD!B10),"",EURUSD!B10) | C10: =IF(ISBLANK(EURUSD!C10),"",EURUSD!C10) | D10: =IF(ISBLANK(EURUSD!D10),"",EURUSD!D10) | E10: =IF(ISBLANK(EURUSD!E10),"",EURUSD!E10) | G10: =IF(ISBLANK(EURUSD!G10),"",EURUSD!G10) | H10: =IF(ISBLANK(EURUSD!H10),"",EURUSD!H10)
B11: =IF(ISBLANK(EURUSD!B11),"",EURUSD!B11) | C11: =IF(ISBLANK(EURUSD!C11),"",EURUSD!C11) | D11: =IF(ISBLANK(EURUSD!D11),"",EURUSD!D11) | E11: =IF(ISBLANK(EURUSD!E11),"",EURUSD!E11) | G11: =IF(ISBLANK(EURUSD!G11),"",EURUSD!G11) | H11: =IF(ISBLANK(EURUSD!H11),"",EURUSD!H11)
B12: =IF(ISBLANK(EURUSD!B12),"",EURUSD!B12) | C12: =IF(ISBLANK(EURUSD!C12),"",EURUSD!C12) | D12: =IF(ISBLANK(EURUSD!D12),"",EURUSD!D12) | E12: =IF(ISBLANK(EURUSD!E12),"",EURUSD!E12) | G12: =IF(ISBLANK(EURUSD!G12),"",EURUSD!G12) | H12: =IF(ISBLANK(EURUSD!H12),"",EURUSD!H12)
B13: =IF(ISBLANK(EURUSD!B13),"",EURUSD!B13) | C13: =IF(ISBLANK(EURUSD!C13),"",EURUSD!C13) | D13: =IF(ISBLANK(EURUSD!D13),"",EURUSD!D13) | E13: =IF(ISBLANK(EURUSD!E13),"",EURUSD!E13) | G13: =IF(ISBLANK(EURUSD!G13),"",EURUSD!G13) | H13: =IF(ISBLANK(EURUSD!H13),"",EURUSD!H13)
B14: =IF(ISBLANK(EURUSD!B14),"",EURUSD!B14) | C14: =IF(ISBLANK(EURUSD!C14),"",EURUSD!C14) | D14: =IF(ISBLANK(EURUSD!D14),"",EURUSD!D14) | E14: =IF(ISBLANK(EURUSD!E14),"",EURUSD!E14) | G14: =IF(ISBLANK(EURUSD!G14),"",EURUSD!G14) | H14: =IF(ISBLANK(EURUSD!H14),"",EURUSD!H14)
B15: =IF(ISBLANK(EURUSD!B15),"",EURUSD!B15) | C15: =IF(ISBLANK(EURUSD!C15),"",EURUSD!C15) | D15: =IF(ISBLANK(EURUSD!D15),"",EURUSD!D15) | E15: =IF(ISBLANK(EURUSD!E15),"",EURUSD!E15) | G15: =IF(ISBLANK(EURUSD!G15),"",EURUSD!G15) | H15: =IF(ISBLANK(EURUSD!H15),"",EURUSD!H15)
B16: =IF(ISBLANK(EURUSD!B16),"",EURUSD!B16) | C16: =IF(ISBLANK(EURUSD!C16),"",EURUSD!C16) | D16: =IF(ISBLANK(EURUSD!D16),"",EURUSD!D16) | E16: =IF(ISBLANK(EURUSD!E16),"",EURUSD!E16) | G16: =IF(ISBLANK(EURUSD!G16),"",EURUSD!G16) | H16: =IF(ISBLANK(EURUSD!H16),"",EURUSD!H16)
B17: =IF(ISBLANK(EURUSD!B17),"",EURUSD!B17) | C17: =IF(ISBLANK(EURUSD!C17),"",EURUSD!C17) | D17: =IF(ISBLANK(EURUSD!D17),"",EURUSD!D17) | E17: =IF(ISBLANK(EURUSD!E17),"",EURUSD!E17) | G17: =IF(ISBLANK(EURUSD!G17),"",EURUSD!G17) | H17: =IF(ISBLANK(EURUSD!H17),"",EURUSD!H17)
B19: Ожидания на день
B20: Недельный перевес | C20: Дневной перевес | D20: Ожидания На Этот День | F20: Ключевые уровни Buy | G20: Ключевые уровни Sell | H20: Развитие
B23: Заключенные сделки
B24: Время | C24: Сетап | D24: Buy/Sell | E24: Вход | F24: Stop | G24: Цель | H24: Выход | I24: Реакция после выхода | J24: Результат в (R)
B32: Результат
B33: Количество сделок | C33: R
B36: Что произошло Сегодня?
B46: Выводы
B47: Сделал хорошо:
B48: Сделал плохо:
B49: Почему (Для Обоих)?
B50: Как улучшить ситуацию?

Sheet EURJPY
B2: День | C2: Понедельник | E2: Дата | F2: =EURUSD!F2 -> 46083
B4: Фундаментальные данные
B5: Время выхода | C5: Страна | D5: Событие | E5: Фактические данные | G5: Прогнозируемые | H5: Предыдущие
B6: =IF(ISBLANK(EURUSD!B6),"",EURUSD!B6) | C6: =IF(ISBLANK(EURUSD!C6),"",EURUSD!C6) | D6: =IF(ISBLANK(EURUSD!D6),"",EURUSD!D6) | E6: =IF(ISBLANK(EURUSD!E6),"",EURUSD!E6) | G6: =IF(ISBLANK(EURUSD!G6),"",EURUSD!G6) | H6: =IF(ISBLANK(EURUSD!H6),"",EURUSD!H6)
B7: =IF(ISBLANK(EURUSD!B7),"",EURUSD!B7) | C7: =IF(ISBLANK(EURUSD!C7),"",EURUSD!C7) | D7: =IF(ISBLANK(EURUSD!D7),"",EURUSD!D7) | E7: =IF(ISBLANK(EURUSD!E7),"",EURUSD!E7) | G7: =IF(ISBLANK(EURUSD!G7),"",EURUSD!G7) | H7: =IF(ISBLANK(EURUSD!H7),"",EURUSD!H7)
B8: =IF(ISBLANK(EURUSD!B8),"",EURUSD!B8) | C8: =IF(ISBLANK(EURUSD!C8),"",EURUSD!C8) | D8: =IF(ISBLANK(EURUSD!D8),"",EURUSD!D8) | E8: =IF(ISBLANK(EURUSD!E8),"",EURUSD!E8) | G8: =IF(ISBLANK(EURUSD!G8),"",EURUSD!G8) | H8: =IF(ISBLANK(EURUSD!H8),"",EURUSD!H8)
B9: =IF(ISBLANK(EURUSD!B9),"",EURUSD!B9) | C9: =IF(ISBLANK(EURUSD!C9),"",EURUSD!C9) | D9: =IF(ISBLANK(EURUSD!D9),"",EURUSD!D9) | E9: =IF(ISBLANK(EURUSD!E9),"",EURUSD!E9) | G9: =IF(ISBLANK(EURUSD!G9),"",EURUSD!G9) | H9: =IF(ISBLANK(EURUSD!H9),"",EURUSD!H9)
B10: =IF(ISBLANK(EURUSD!B10),"",EURUSD!B10) | C10: =IF(ISBLANK(EURUSD!C10),"",EURUSD!C10) | D10: =IF(ISBLANK(EURUSD!D10),"",EURUSD!D10) | E10: =IF(ISBLANK(EURUSD!E10),"",EURUSD!E10) | G10: =IF(ISBLANK(EURUSD!G10),"",EURUSD!G10) | H10: =IF(ISBLANK(EURUSD!H10),"",EURUSD!H10)
B11: =IF(ISBLANK(EURUSD!B11),"",EURUSD!B11) | C11: =IF(ISBLANK(EURUSD!C11),"",EURUSD!C11) | D11: =IF(ISBLANK(EURUSD!D11),"",EURUSD!D11) | E11: =IF(ISBLANK(EURUSD!E11),"",EURUSD!E11) | G11: =IF(ISBLANK(EURUSD!G11),"",EURUSD!G11) | H11: =IF(ISBLANK(EURUSD!H11),"",EURUSD!H11)
B12: =IF(ISBLANK(EURUSD!B12),"",EURUSD!B12) | C12: =IF(ISBLANK(EURUSD!C12),"",EURUSD!C12) | D12: =IF(ISBLANK(EURUSD!D12),"",EURUSD!D12) | E12: =IF(ISBLANK(EURUSD!E12),"",EURUSD!E12) | G12: =IF(ISBLANK(EURUSD!G12),"",EURUSD!G12) | H12: =IF(ISBLANK(EURUSD!H12),"",EURUSD!H12)
B13: =IF(ISBLANK(EURUSD!B13),"",EURUSD!B13) | C13: =IF(ISBLANK(EURUSD!C13),"",EURUSD!C13) | D13: =IF(ISBLANK(EURUSD!D13),"",EURUSD!D13) | E13: =IF(ISBLANK(EURUSD!E13),"",EURUSD!E13) | G13: =IF(ISBLANK(EURUSD!G13),"",EURUSD!G13) | H13: =IF(ISBLANK(EURUSD!H13),"",EURUSD!H13)
B14: =IF(ISBLANK(EURUSD!B14),"",EURUSD!B14) | C14: =IF(ISBLANK(EURUSD!C14),"",EURUSD!C14) | D14: =IF(ISBLANK(EURUSD!D14),"",EURUSD!D14) | E14: =IF(ISBLANK(EURUSD!E14),"",EURUSD!E14) | G14: =IF(ISBLANK(EURUSD!G14),"",EURUSD!G14) | H14: =IF(ISBLANK(EURUSD!H14),"",EURUSD!H14)
B15: =IF(ISBLANK(EURUSD!B15),"",EURUSD!B15) | C15: =IF(ISBLANK(EURUSD!C15),"",EURUSD!C15) | D15: =IF(ISBLANK(EURUSD!D15),"",EURUSD!D15) | E15: =IF(ISBLANK(EURUSD!E15),"",EURUSD!E15) | G15: =IF(ISBLANK(EURUSD!G15),"",EURUSD!G15) | H15: =IF(ISBLANK(EURUSD!H15),"",EURUSD!H15)
B16: =IF(ISBLANK(EURUSD!B16),"",EURUSD!B16) | C16: =IF(ISBLANK(EURUSD!C16),"",EURUSD!C16) | D16: =IF(ISBLANK(EURUSD!D16),"",EURUSD!D16) | E16: =IF(ISBLANK(EURUSD!E16),"",EURUSD!E16) | G16: =IF(ISBLANK(EURUSD!G16),"",EURUSD!G16) | H16: =IF(ISBLANK(EURUSD!H16),"",EURUSD!H16)
B17: =IF(ISBLANK(EURUSD!B17),"",EURUSD!B17) | C17: =IF(ISBLANK(EURUSD!C17),"",EURUSD!C17) | D17: =IF(ISBLANK(EURUSD!D17),"",EURUSD!D17) | E17: =IF(ISBLANK(EURUSD!E17),"",EURUSD!E17) | G17: =IF(ISBLANK(EURUSD!G17),"",EURUSD!G17) | H17: =IF(ISBLANK(EURUSD!H17),"",EURUSD!H17)
B19: Ожидания на день
B20: Недельный перевес | C20: Дневной перевес | D20: Ожидания На Этот День | F20: Ключевые уровни Buy | G20: Ключевые уровни Sell | H20: Развитие
B23: Заключенные сделки
B24: Время | C24: Сетап | D24: Buy/Sell | E24: Вход | F24: Stop | G24: Цель | H24: Выход | I24: Реакция после выхода | J24: Результат в (R)
B32: Результат
B33: Количество сделок | C33: R
B36: Что произошло Сегодня?
B46: Выводы
B47: Сделал хорошо:
B48: Сделал плохо:
B49: Почему (Для Обоих)?
B50: Как улучшить ситуацию?

Sheet GBPJPY
B2: День | C2: Понедельник | E2: Дата | F2: =EURUSD!F2 -> 46083
B4: Фундаментальные данные
B5: Время выхода | C5: Страна | D5: Событие | E5: Фактические данные | G5: Прогнозируемые | H5: Предыдущие
B6: =IF(ISBLANK(EURUSD!B6),"",EURUSD!B6) | C6: =IF(ISBLANK(EURUSD!C6),"",EURUSD!C6) | D6: =IF(ISBLANK(EURUSD!D6),"",EURUSD!D6) | E6: =IF(ISBLANK(EURUSD!E6),"",EURUSD!E6) | G6: =IF(ISBLANK(EURUSD!G6),"",EURUSD!G6) | H6: =IF(ISBLANK(EURUSD!H6),"",EURUSD!H6)
B7: =IF(ISBLANK(EURUSD!B7),"",EURUSD!B7) | C7: =IF(ISBLANK(EURUSD!C7),"",EURUSD!C7) | D7: =IF(ISBLANK(EURUSD!D7),"",EURUSD!D7) | E7: =IF(ISBLANK(EURUSD!E7),"",EURUSD!E7) | G7: =IF(ISBLANK(EURUSD!G7),"",EURUSD!G7) | H7: =IF(ISBLANK(EURUSD!H7),"",EURUSD!H7)
B8: =IF(ISBLANK(EURUSD!B8),"",EURUSD!B8) | C8: =IF(ISBLANK(EURUSD!C8),"",EURUSD!C8) | D8: =IF(ISBLANK(EURUSD!D8),"",EURUSD!D8) | E8: =IF(ISBLANK(EURUSD!E8),"",EURUSD!E8) | G8: =IF(ISBLANK(EURUSD!G8),"",EURUSD!G8) | H8: =IF(ISBLANK(EURUSD!H8),"",EURUSD!H8)
B9: =IF(ISBLANK(EURUSD!B9),"",EURUSD!B9) | C9: =IF(ISBLANK(EURUSD!C9),"",EURUSD!C9) | D9: =IF(ISBLANK(EURUSD!D9),"",EURUSD!D9) | E9: =IF(ISBLANK(EURUSD!E9),"",EURUSD!E9) | G9: =IF(ISBLANK(EURUSD!G9),"",EURUSD!G9) | H9: =IF(ISBLANK(EURUSD!H9),"",EURUSD!H9)
B10: =IF(ISBLANK(EURUSD!B10),"",EURUSD!B10) | C10: =IF(ISBLANK(EURUSD!C10),"",EURUSD!C10) | D10: =IF(ISBLANK(EURUSD!D10),"",EURUSD!D10) | E10: =IF(ISBLANK(EURUSD!E10),"",EURUSD!E10) | G10: =IF(ISBLANK(EURUSD!G10),"",EURUSD!G10) | H10: =IF(ISBLANK(EURUSD!H10),"",EURUSD!H10)
B11: =IF(ISBLANK(EURUSD!B11),"",EURUSD!B11) | C11: =IF(ISBLANK(EURUSD!C11),"",EURUSD!C11) | D11: =IF(ISBLANK(EURUSD!D11),"",EURUSD!D11) | E11: =IF(ISBLANK(EURUSD!E11),"",EURUSD!E11) | G11: =IF(ISBLANK(EURUSD!G11),"",EURUSD!G11) | H11: =IF(ISBLANK(EURUSD!H11),"",EURUSD!H11)
B12: =IF(ISBLANK(EURUSD!B12),"",EURUSD!B12) | C12: =IF(ISBLANK(EURUSD!C12),"",EURUSD!C12) | D12: =IF(ISBLANK(EURUSD!D12),"",EURUSD!D12) | E12: =IF(ISBLANK(EURUSD!E12),"",EURUSD!E12) | G12: =IF(ISBLANK(EURUSD!G12),"",EURUSD!G12) | H12: =IF(ISBLANK(EURUSD!H12),"",EURUSD!H12)
B13: =IF(ISBLANK(EURUSD!B13),"",EURUSD!B13) | C13: =IF(ISBLANK(EURUSD!C13),"",EURUSD!C13) | D13: =IF(ISBLANK(EURUSD!D13),"",EURUSD!D13) | E13: =IF(ISBLANK(EURUSD!E13),"",EURUSD!E13) | G13: =IF(ISBLANK(EURUSD!G13),"",EURUSD!G13) | H13: =IF(ISBLANK(EURUSD!H13),"",EURUSD!H13)
B14: =IF(ISBLANK(EURUSD!B14),"",EURUSD!B14) | C14: =IF(ISBLANK(EURUSD!C14),"",EURUSD!C14) | D14: =IF(ISBLANK(EURUSD!D14),"",EURUSD!D14) | E14: =IF(ISBLANK(EURUSD!E14),"",EURUSD!E14) | G14: =IF(ISBLANK(EURUSD!G14),"",EURUSD!G14) | H14: =IF(ISBLANK(EURUSD!H14),"",EURUSD!H14)
B15: =IF(ISBLANK(EURUSD!B15),"",EURUSD!B15) | C15: =IF(ISBLANK(EURUSD!C15),"",EURUSD!C15) | D15: =IF(ISBLANK(EURUSD!D15),"",EURUSD!D15) | E15: =IF(ISBLANK(EURUSD!E15),"",EURUSD!E15) | G15: =IF(ISBLANK(EURUSD!G15),"",EURUSD!G15) | H15: =IF(ISBLANK(EURUSD!H15),"",EURUSD!H15)
B16: =IF(ISBLANK(EURUSD!B16),"",EURUSD!B16) | C16: =IF(ISBLANK(EURUSD!C16),"",EURUSD!C16) | D16: =IF(ISBLANK(EURUSD!D16),"",EURUSD!D16) | E16: =IF(ISBLANK(EURUSD!E16),"",EURUSD!E16) | G16: =IF(ISBLANK(EURUSD!G16),"",EURUSD!G16) | H16: =IF(ISBLANK(EURUSD!H16),"",EURUSD!H16)
B17: =IF(ISBLANK(EURUSD!B17),"",EURUSD!B17) | C17: =IF(ISBLANK(EURUSD!C17),"",EURUSD!C17) | D17: =IF(ISBLANK(EURUSD!D17),"",EURUSD!D17) | E17: =IF(ISBLANK(EURUSD!E17),"",EURUSD!E17) | G17: =IF(ISBLANK(EURUSD!G17),"",EURUSD!G17) | H17: =IF(ISBLANK(EURUSD!H17),"",EURUSD!H17)
B19: Ожидания на день
B20: Недельный перевес | C20: Дневной перевес | D20: Ожидания На Этот День | F20: Ключевые уровни Buy | G20: Ключевые уровни Sell | H20: Развитие
B23: Заключенные сделки
B24: Время | C24: Сетап | D24: Buy/Sell | E24: Вход | F24: Stop | G24: Цель | H24: Выход | I24: Реакция после выхода | J24: Результат в (R)
B32: Результат
B33: Количество сделок | C33: R
B36: Что произошло Сегодня?
B46: Выводы
B47: Сделал хорошо:
B48: Сделал плохо:
B49: Почему (Для Обоих)?
B50: Как улучшить ситуацию?
