Workbook

Sheet Лист1
A1: nzdusd | B1: 7 | C1: -21 | D1: 7 | E1: 7
A2: =SUM(B1:K3) -> 0
A4: eurusd | B4: 7 | C4: 7
A5: =SUM(B4:K6) -> 14
A7: gbpusd | B7: 7 | C7: 7 | D7: 7 | E7: 7 | F7: 7 | G7: 7 | H7: 7 | I7: 7 | J7: 7 | K7: 7
A8: =SUM(B7:K9) -> 91 | B8: -21 | C8: 7 | D8: 7 | E8: 7 | F8: 7 | G8: 7 | H8: 7
A10: audusd | B10: 7 | C10: -21 | D10: 7 | E10: 7 | F10: 7 | G10: 7 | H10: 7
A11: =SUM(B10:K12) -> 21
A13: usdcad | B13: 7 | C13: -21 | D13: 7 | E13: 7 | F13: 7
A14: =SUM(B13:K15) -> 7
A16: =SUM(A14,A11,A2,A5,A8,) -> 133 | B16: + | C16: =COUNTIF(B1:K15,">0")/COUNT(B1:K15) -> 0.88571429 | D16: - | E16: =COUNTIF(B1:K15,"<0")/COUNT(B1:K15) -> 0.11428571
A23: =SUM(A2,A5,A8,A11,A14,) -> 133
B24: прибыль | C24: убыток | D24: всего
B25: =IF(B1>0,B1,0) -> 7
A26: usdjpy | B26: 7 | C26: -21 | D26: 7 | E26: -21 | F26: -21
A27: =SUM(B26:M28) -> -49
A28: убрал пару

Sheet Лист2
A1: =IF(Лист1!B1>0,Лист1!B1,0) -> 7 | B1: =IF(Лист1!C1>0,Лист1!C1,0) -> 0 | C1: =IF(Лист1!D1>0,Лист1!D1,0) -> 7 | D1: =IF(Лист1!E1>0,Лист1!E1,0) -> 7 | E1: =IF(Лист1!F1>0,Лист1!F1,0) -> 0 | F1: =IF(Лист1!G1>0,Лист1!G1,0) -> 0 | G1: =IF(Лист1!H1>0,Лист1!H1,0) -> 0 | H1: =IF(Лист1!I1>0,Лист1!I1,0) -> 0 | ... L1: =IF(Лист1!M1>0,Лист1!M1,0) -> 0
A2: =IF(Лист1!B2>0,Лист1!B2,0) -> 0 | B2: =IF(Лист1!C2>0,Лист1!C2,0) -> 0 | C2: =IF(Лист1!D2>0,Лист1!D2,0) -> 0 | D2: =IF(Лист1!E2>0,Лист1!E2,0) -> 0 | E2: =IF(Лист1!F2>0,Лист1!F2,0) -> 0 | F2: =IF(Лист1!G2>0,Лист1!G2,0) -> 0 | G2: =IF(Лист1!H2>0,Лист1!H2,0) -> 0 | H2: =IF(Лист1!I2>0,Лист1!I2,0) -> 0 | ... L2: =IF(Лист1!M2>0,Лист1!M2,0) -> 0
A3: =IF(Лист1!B3>0,Лист1!B3,0) -> 0 | B3: =IF(Лист1!C3>0,Лист1!C3,0) -> 0 | C3: =IF(Лист1!D3>0,Лист1!D3,0) -> 0 | D3: =IF(Лист1!E3>0,Лист1!E3,0) -> 0 | E3: =IF(Лист1!F3>0,Лист1!F3,0) -> 0 | F3: =IF(Лист1!G3>0,Лист1!G3,0) -> 0 | G3: =IF(Лист1!H3>0,Лист1!H3,0) -> 0 | H3: =IF(Лист1!I3>0,Лист1!I3,0) -> 0 | ... L3: =IF(Лист1!M3>0,Лист1!M3,0) -> 0
A4: =IF(Лист1!B4>0,Лист1!B4,0) -> 7 | B4: =IF(Лист1!C4>0,Лист1!C4,0) -> 7 | C4: =IF(Лист1!D4>0,Лист1!D4,0) -> 0 | D4: =IF(Лист1!E4>0,Лист1!E4,0) -> 0 | E4: =IF(Лист1!F4>0,Лист1!F4,0) -> 0 | F4: =IF(Лист1!G4>0,Лист1!G4,0) -> 0 | G4: =IF(Лист1!H4>0,Лист1!H4,0) -> 0 | H4: =IF(Лист1!I4>0,Лист1!I4,0) -> 0 | ... L4: =IF(Лист1!M4>0,Лист1!M4,0) -> 0
A5: =IF(Лист1!B5>0,Лист1!B5,0) -> 0 | B5: =IF(Лист1!C5>0,Лист1!C5,0) -> 0 | C5: =IF(Лист1!D5>0,Лист1!D5,0) -> 0 | D5: =IF(Лист1!E5>0,Лист1!E5,0) -> 0 | E5: =IF(Лист1!F5>0,Лист1!F5,0) -> 0 | F5: =IF(Лист1!G5>0,Лист1!G5,0) -> 0 | G5: =IF(Лист1!H5>0,Лист1!H5,0) -> 0 | H5: =IF(Лист1!I5>0,Лист1!I5,0) -> 0 | ... L5: =IF(Лист1!M5>0,Лист1!M5,0) -> 0
A6: =IF(Лист1!B6>0,Лист1!B6,0) -> 0 | B6: =IF(Лист1!C6>0,Лист1!C6,0) -> 0 | C6: =IF(Лист1!D6>0,Лист1!D6,0) -> 0 | D6: =IF(Лист1!E6>0,Лист1!E6,0) -> 0 | E6: =IF(Лист1!F6>0,Лист1!F6,0) -> 0 | F6: =IF(Лист1!G6>0,Лист1!G6,0) -> 0 | G6: =IF(Лист1!H6>0,Лист1!H6,0) -> 0 | H6: =IF(Лист1!I6>0,Лист1!I6,0) -> 0 | ... L6: =IF(Лист1!M6>0,Лист1!M6,0) -> 0
A7: =IF(Лист1!B7>0,Лист1!B7,0) -> 7 | B7: =IF(Лист1!C7>0,Лист1!C7,0) -> 7 | C7: =IF(Лист1!D7>0,Лист1!D7,0) -> 7 | D7: =IF(Лист1!E7>0,Лист1!E7,0) -> 7 | E7: =IF(Лист1!F7>0,Лист1!F7,0) -> 7 | F7: =IF(Лист1!G7>0,Лист1!G7,0) -> 7 | G7: =IF(Лист1!H7>0,Лист1!H7,0) -> 7 | H7: =IF(Лист1!I7>0,Лист1!I7,0) -> 7 | ... L7: =IF(Лист1!M7>0,Лист1!M7,0) -> 0
A8: =IF(Лист1!B8>0,Лист1!B8,0) -> 0 | B8: =IF(Лист1!C8>0,Лист1!C8,0) -> 7 | C8: =IF(Лист1!D8>0,Лист1!D8,0) -> 7 | D8: =IF(Лист1!E8>0,Лист1!E8,0) -> 7 | E8: =IF(Лист1!F8>0,Лист1!F8,0) -> 7 | F8: =IF(Лист1!G8>0,Лист1!G8,0) -> 7 | G8: =IF(Лист1!H8>0,Лист1!H8,0) -> 7 | H8: =IF(Лист1!I8>0,Лист1!I8,0) -> 0 | ... L8: =IF(Лист1!M8>0,Лист1!M8,0) -> 0
A9: =IF(Лист1!B9>0,Лист1!B9,0) -> 0 | B9: =IF(Лист1!C9>0,Лист1!C9,0) -> 0 | C9: =IF(Лист1!D9>0,Лист1!D9,0) -> 0 | D9: =IF(Лист1!E9>0,Лист1!E9,0) -> 0 | E9: =IF(Лист1!F9>0,Лист1!F9,0) -> 0 | F9: =IF(Лист1!G9>0,Лист1!G9,0) -> 0 | G9: =IF(Лист1!H9>0,Лист1!H9,0) -> 0 | H9: =IF(Лист1!I9>0,Лист1!I9,0) -> 0 | ... L9: =IF(Лист1!M9>0,Лист1!M9,0) -> 0
A10: =IF(Лист1!B10>0,Лист1!B10,0) -> 7 | B10: =IF(Лист1!C10>0,Лист1!C10,0) -> 0 | C10: =IF(Лист1!D10>0,Лист1!D10,0) -> 7 | D10: =IF(Лист1!E10>0,Лист1!E10,0) -> 7 | E10: =IF(Лист1!F10>0,Лист1!F10,0) -> 7 | F10: =IF(Лист1!G10>0,Лист1!G10,0) -> 7 | G10: =IF(Лист1!H10>0,Лист1!H10,0) -> 7 | H10: =IF(Лист1!I10>0,Лист1!I10,0) -> 0 | ... L10: =IF(Лист1!M10>0,Лист1!M10,0) -> 0
A11: =IF(Лист1!B11>0,Лист1!B11,0) -> 0 | B11: =IF(Лист1!C11>0,Лист1!C11,0) -> 0 | C11: =IF(Лист1!D11>0,Лист1!D11,0) -> 0 | D11: =IF(Лист1!E11>0,Лист1!E11,0) -> 0 | E11: =IF(Лист1!F11>0,Лист1!F11,0) -> 0 | F11: =IF(Лист1!G11>0,Лист1!G11,0) -> 0 | G11: =IF(Лист1!H11>0,Лист1!H11,0) -> 0 | H11: =IF(Лист1!I11>0,Лист1!I11,0) -> 0 | ... L11: =IF(Лист1!M11>0,Лист1!M11,0) -> 0
A12: =IF(Лист1!B12>0,Лист1!B12,0) -> 0 | B12: =IF(Лист1!C12>0,Лист1!C12,0) -> 0 | C12: =IF(Лист1!D12>0,Лист1!D12,0) -> 0 | D12: =IF(Лист1!E12>0,Лист1!E12,0) -> 0 | E12: =IF(Лист1!F12>0,Лист1!F12,0) -> 0 | F12: =IF(Лист1!G12>0,Лист1!G12,0) -> 0 | G12: =IF(Лист1!H12>0,Лист1!H12,0) -> 0 | H12: =IF(Лист1!I12>0,Лист1!I12,0) -> 0 | ... L12: =IF(Лист1!M12>0,Лист1!M12,0) -> 0
... A17: =IF(Лист1!B17>0,Лист1!B17,0) -> 0 | B17: =IF(Лист1!C17>0,Лист1!C17,0) -> 0 | C17: =IF(Лист1!D17>0,Лист1!D17,0) -> 0 | D17: =IF(Лист1!E17>0,Лист1!E17,0) -> 0 | E17: =IF(Лист1!F17>0,Лист1!F17,0) -> 0 | F17: =IF(Лист1!G17>0,Лист1!G17,0) -> 0 | G17: =IF(Лист1!H17>0,Лист1!H17,0) -> 0 | H17: =IF(Лист1!I17>0,Лист1!I17,0) -> 0 | ... L17: =IF(Лист1!M17>0,Лист1!M17,0) -> 0
A18: =IF(Лист1!B18>0,Лист1!B18,0) -> 0 | B18: =IF(Лист1!C18>0,Лист1!C18,0) -> 0 | C18: =IF(Лист1!D18>0,Лист1!D18,0) -> 0 | D18: =IF(Лист1!E18>0,Лист1!E18,0) -> 0 | E18: =IF(Лист1!F18>0,Лист1!F18,0) -> 0 | F18: =IF(Лист1!G18>0,Лист1!G18,0) -> 0 | G18: =IF(Лист1!H18>0,Лист1!H18,0) -> 0 | H18: =IF(Лист1!I18>0,Лист1!I18,0) -> 0 | ... L18: =IF(Лист1!M18>0,Лист1!M18,0) -> 0 | M18: =SUM(A1:L18) -> 218
