Workbook

Sheet Лист1
B1: 42566 | D1: 42599 | F1: 42628 | H1: 42658 | J1: 42690 | L1: 42719 | N1: 42384 | P1: 42415
B2: просадка | C2: профит | D2: просадка | E2: профит | F2: просадка | G2: профит | H2: просадка | I2: профит | J2: просадка | K2: профит | L2: просадка | M2: профит | N2: просадка | O2: профит | P2: просадка | Q2: профит | S2: макс SL | T2: мин TP | U2: оптимально
A3: AUDJPY | B3: лось | D3: 160 | E3: 9000 | F3: 250 | G3: 1500 | H3: 1300 | I3: 1300 | J3: лось | L3: 0 | M3: 1000 | N3: 1050 | O3: 6000 | P3: лось | S3: =MAX(B3,D3,F3,H3,J3,N3,L3,P3) -> 1300 | T3: =MIN(C3,E3,G3,I3,K3,O3,M3,Q3) -> 1000 | U3: =S3+100 -> 1400 | V3: =T3-100 -> 900
A4: AUDUSD | B4: лось | D4: - | F4: 150 | G4: 1300 | H4: 0 | I4: 2600 | J4: 250 | K4: 2800 | L4: 1100 | M4: 3500 | N4: 315 | O4: 3700 | P4: 370 | Q4: 1500 | S4: =MAX(B4,D4,F4,H4,J4,N4,L4,P4) -> 1100 | T4: =MIN(C4,E4,G4,I4,K4,O4,M4,Q4) -> 1300 | U4: =S4+100 -> 1200 | V4: =T4-100 -> 1200
B5: 0 | C5: 4500 | D5: 300 | E5: 1500 | F5: 2000 | G5: 1500 | H5: 200 | I5: 3500 | J5: лось | L5: лось | N5: 1500 | O5: 1300 | P5: 150 | Q5: 4500
A6: GBPUSD | B6: 160 | C6: 3600 | D6: 270 | E6: 1600 | F6: 1700 | G6: 2100 | H6: лось | J6: 127 | K6: 3000 | L6: 500 | M6: 2000 | N6: лось | P6: 1700 | Q6: 4000 | S6: =MAX(B6,D6,F6,H6,J6,N6,L6,P6) -> 1700 | T6: =MIN(C6,E6,G6,I6,K6,O6,M6,Q6) -> 1600 | U6: =S6+100 -> 1800 | V6: =T6-100 -> 1500
A7: EURAUD | B7: 860 | C7: 1200 | D7: 0 | E7: 1600 | F7: 0 | G7: 1800 | H7: лось | J7: лось | L7: 400 | M7: 1300 | N7: 1300 | O7: 6500 | P7: 700 | Q7: 1400 | S7: =MAX(B7,D7,F7,H7,J7,N7,L7,P7) -> 1300 | T7: =MIN(C7,E7,G7,I7,K7,O7,M7,Q7) -> 1200 | U7: =S7+100 -> 1400 | V7: =T7-100 -> 1100
A8: EURUSD | B8: 1400 | C8: 1700 | D8: 0 | E8: 1300 | F8: 1400 | G8: 2000 | H8: 0 | I8: 7500 | J8: 1300 | K8: 3000 | L8: 1400 | M8: 4000 | N8: 500 | O8: 1300 | P8: 0 | Q8: 3800 | S8: =MAX(B8,D8,F8,H8,J8,N8,L8,P8) -> 1400 | T8: =MIN(C8,E8,G8,I8,K8,O8,M8,Q8) -> 1300 | U8: =S8+100 -> 1500 | V8: =T8-100 -> 1200
B9: 600 | C9: 1300 | D9: 1260 | E9: 2300 | F9: 0 | G9: 2200 | H9: 420 | I9: 1200 | J9: лось | L9: 500 | M9: 4000 | N9: 100 | O9: 2200 | P9: 0 | Q9: 5000 | S9: =MAX(B9,D9,F9,H9,J9,N9,L9,P9) -> 1260 | T9: =MIN(C9,E9,G9,I9,K9,O9,M9,Q9) -> 1200 | U9: =S9+100 -> 1360 | V9: =T9-100 -> 1100
A10: EURJPY | B10: 1500 | C10: 1200 | D10: 700 | E10: 6000 | F10: 900 | G10: 1300 | H10: 0 | I10: 4700 | J10: 1900 | K10: 3100 | L10: 700 | M10: 6000 | N10: 170 | O10: 4500 | P10: лось | S10: =MAX(B10,D10,F10,H10,J10,N10,L10,P10) -> 1900 | T10: =MIN(C10,E10,G10,I10,K10,O10,M10,Q10) -> 1200 | U10: =S10+100 -> 2000 | V10: =T10-100 -> 1100
B11: лось | D11: 700 | E11: 3000 | F11: 0 | G11: 3500 | H11: - | J11: лось | L11: 1500 | M11: 1300 | N11: 130 | O11: 4500 | P11: 800 | Q11: 1500
A12: EURCAD | B12: 0 | C12: 1000 | D12: 280 | E12: 1700 | F12: 350 | G12: 2700 | H12: 500 | I12: 2600 | J12: лось | L12: лось | N12: 900 | O12: 1800 | P12: лось | S12: =MAX(B12,D12,F12,H12,J12,N12,L12,P12) -> 900 | T12: =MIN(C12,E12,G12,I12,K12,O12,M12,Q12) -> 1000 | U12: =S12+100 -> 1000 | V12: =T12-100 -> 900
B15: 3 SL | D15: 2 SL | F15: 1 SL | H15: без SL

Sheet Лист2
C1: январь | E1: февраль | G1: март | I1: апрель | K1: май | M1: июнь | O1: июль | Q1: август | S1: сентябрь | U1: октябрь | W1: ноябрь | Y1: декабрь | AA1: январь | AC1: февраль | AE1: март | AG1: апрель | AI1: май | AK1: июнь | AM1: июль | AO1: август | AQ1: сентябрь
C2: 1 | D2: 15 | E2: 1 | F2: 15 | G2: 1 | H2: 15 | I2: 1 | J2: 15 | K2: 1 | L2: 15 | M2: 1 | N2: 15 | O2: 1 | P2: 15 | Q2: 1 | R2: 15 | S2: 1 | T2: 15 | U2: 1 | V2: 15 | W2: 1 | X2: 15 | Y2: 1 | Z2: 15 | AA2: 1 | AB2: 15 | AC2: 1 | AD2: 15 | AE2: 1 | AF2: 15 | AG2: 1 | AH2: 15 | AI2: 1 | AJ2: 15 | AK2: 1 | AL2: 15 | AM2: 1 | AN2: 15 | AO2: 1 | AP2: 15 | AQ2: 1 | AR2: 15
A3: профит | B3: EURUSD | C3: лось | D3: лось | E3: 2000 | F3: лось | G3: лось | H3: 5000 | I3: 2700 | J3: лось | K3: 1200 | L3: 6000 | M3: 4600 | N3: 1600 | O3: =Лист1!C9 -> 1300 | P3: =Лист1!C8 -> 1700 | Q3: =Лист1!E9 -> 2300 | R3: =Лист1!E8 -> 1300 | S3: =Лист1!G9 -> 2200 | T3: =Лист1!G8 -> 2000 | U3: =Лист1!I9 -> 1200 | V3: =Лист1!I8 -> 7500 | W3: лось | X3: =Лист1!K8 -> 3000 | Y3: =Лист1!M9 -> 4000 | Z3: =Лист1!M8 -> 4000 | AA3: =Лист1!O9 -> 2200 | AB3: =Лист1!O8 -> 1300 | AC3: =Лист1!Q9 -> 5000 | AD3: =Лист1!Q8 -> 3800 | AE3: - | AF3: лось | AG3: 1400 | AI3: 3000 | AJ3: 2000 | AK3: 2800 | AL3: 2000 | AM3: 700 | AN3: 1650 | AO3: 1100 | AP3: 2200 | AQ3: -
A4: просадка | C4: лось | D4: лось | E4: 400 | F4: лось | G4: лось | H4: 0 | I4: 0 | J4: лось | K4: 0 | L4: 0 | M4: 0 | N4: 613 | O4: =Лист1!B9 -> 600 | P4: =Лист1!B8 -> 1400 | Q4: =Лист1!D9 -> 1260 | R4: =Лист1!D8 -> 0 | S4: =Лист1!F9 -> 0 | T4: =Лист1!F8 -> 1400 | U4: =Лист1!H9 -> 420 | V4: =Лист1!H8 -> 0 | W4: =Лист1!J9 -> лось | X4: =Лист1!J8 -> 1300 | Y4: =Лист1!L9 -> 500 | Z4: =Лист1!L8 -> 1400 | AA4: =Лист1!N9 -> 100 | AB4: =Лист1!N8 -> 500 | AC4: =Лист1!P9 -> 0 | AD4: =Лист1!P8 -> 0 | AE4: - | AF4: лось | AG4: 900 | AI4: 1600 | AJ4: 400 | AK4: 0 | AL4: 800 | AM4: 1500 | AN4: 1050 | AO4: 750 | AP4: 0 | AQ4: -
A5: профит | B5: EURJPY | C5: лось | D5: 2200 | E5: 1300 | F5: - | G5: - | H5: 4000 | I5: 2000 | J5: - | K5: 900 | L5: 2000 | M5: лось | N5: 2000 | O5: - | P5: 1500 | Q5: =Лист1!E11 -> 3000 | R5: 2800 | S5: =Лист1!G11 -> 3500 | T5: 1500 | U5: 2000 | V5: - | W5: лось | X5: - | Y5: =Лист1!M11 -> 1300 | Z5: - | AA5: =Лист1!O11 -> 4500 | AB5: 1000 | AC5: =Лист1!Q11 -> 1500 | AD5: лось | AE5: 3000 | AF5: 3200 | AG5: 5000 | AH5: 3000 | AI5: 2600 | AJ5: - | AK5: 6000 | AL5: лось | AM5: лось | AN5: 2600 | AO5: - | AP5: 3300 | AQ5: 1500
A6: просадка | C6: лось | D6: 0 | E6: 1600 | F6: - | G6: - | H6: 0 | I6: 200 | J6: - | K6: 650 | L6: 900 | M6: лось | N6: 1600 | O6: - | P6: 1200 | Q6: =Лист1!D11 -> 700 | R6: 660 | S6: =Лист1!F11 -> 0 | T6: 0 | U6: 260 | V6: - | W6: =Лист1!J11 -> лось | X6: - | Y6: =Лист1!L11 -> 1500 | Z6: - | AA6: =Лист1!N11 -> 130 | AB6: 1200 | AC6: =Лист1!P11 -> 800 | AD6: =Лист1!P10 -> лось | AE6: 0 | AF6: 1550 | AG6: 0 | AH6: 1600 | AI6: 300 | AJ6: - | AK6: 0 | AL6: лось | AM6: лось | AN6: 0 | AO6: - | AP6: 650 | AQ6: 900
A7: профит | B7: AUDUSD | C7: 1000 | D7: 600 | E7: 1000 | F7: - | G7: 500 | H7: 1500 | I7: 1200 | J7: - | K7: 550 | L7: 4000 | M7: 2000 | N7: 1000 | O7: =Лист1!C5 -> 4500 | P7: =Лист1!B4 -> лось | Q7: =Лист1!E5 -> 1500 | R7: =Лист1!D4 -> - | S7: =Лист1!G5 -> 1500 | T7: =Лист1!G4 -> 1300 | U7: =Лист1!I5 -> 3500 | V7: =Лист1!I4 -> 2600 | W7: лось | X7: =Лист1!K4 -> 2800 | Y7: лось | Z7: =Лист1!M4 -> 3500 | AA7: =Лист1!O5 -> 1300 | AB7: =Лист1!O4 -> 3700 | AC7: =Лист1!Q5 -> 4500 | AD7: =Лист1!Q4 -> 1500 | AE7: - | AF7: 970 | AG7: 1500 | AH7: 1400 | AI7: 1100 | AJ7: 1100 | AK7: 2300 | AL7: 950 | AM7: лось | AN7: 1700 | AO7: 900 | AP7: 1500 | AQ7: 1700
A8: просадка | C8: 1500 | D8: - | E8: 1400 | F8: - | G8: 500 | H8: 500 | I8: 400 | J8: - | K8: 0 | L8: 0 | M8: 0 | N8: 200 | O8: =Лист1!B5 -> 0 | P8: =Лист1!B4 -> лось | Q8: =Лист1!D5 -> 300 | R8: =Лист1!D4 -> - | S8: =Лист1!F5 -> 2000 | T8: =Лист1!F4 -> 150 | U8: =Лист1!H5 -> 200 | V8: =Лист1!H4 -> 0 | W8: =Лист1!J5 -> лось | X8: =Лист1!J4 -> 250 | Y8: =Лист1!L5 -> лось | Z8: =Лист1!L4 -> 1100 | AA8: =Лист1!N5 -> 1500 | AB8: =Лист1!N4 -> 315 | AC8: =Лист1!P5 -> 150 | AD8: =Лист1!P4 -> 370 | AE8: - | AF8: 0 | AG8: 200 | AH8: 1400 | AI8: 0 | AJ8: 0 | AK8: 370 | AL8: 700 | AM8: лось | AN8: 0 | AO8: 450 | AP8: 900 | AQ8: 0
A9: 3 | B9: GBPUSD | O9: 3000 | P9: 3600 | Q9: 2100 | R9: 1600 | S9: 2500 | T9: 2100 | U9: 3700 | V9: лось | W9: 3800 | X9: 3000 | Y9: 1500 | Z9: 2000 | AA9: лось | AB9: лось | AC9: 2000 | AD9: 4000
O10: 0 | P10: 160 | Q10: 1700 | R10: 270 | S10: 1800 | T10: 1700 | U10: 0 | V10: лось | W10: 800 | X10: 127 | Y10: 1900 | Z10: 500 | AA10: лось | AB10: лось | AC10: 1300 | AD10: 1700
A11: 4 | B11: EURCAD | O11: 900 | P11: 1000 | Q11: 1100 | R11: 1700 | S11: 4000 | T11: 2700 | U11: 3000 | V11: 2600 | W11: лось | X11: лось | Y11: 4000 | Z11: лось | AA11: 2100 | AB11: 1800 | AC11: - | AD11: лось
O12: 700 | P12: 0 | Q12: 500 | R12: 280 | S12: 0 | T12: 350 | U12: 1000 | V12: 500 | W12: лось | X12: лось | Y12: 800 | Z12: лось | AA12: 700 | AB12: 900 | AC12: - | AD12: лось
A13: 6 | B13: AUDJPY | O13: - | P13: лось | Q13: 2000 | R13: 9000 | S13: 1700 | T13: 1500 | U13: лось | V13: 1300 | W13: лось | X13: лось | Y13: 1600 | Z13: 1000 | AA13: лось | AB13: 6000 | AC13: лось | AD13: лось
O14: - | P14: лось | Q14: 500 | R14: 160 | S14: 1650 | T14: 250 | U14: лось | V14: 1300 | W14: лось | X14: лось | Y14: 0 | Z14: 0 | AA14: лось | AB14: 1050 | AC14: лось | AD14: лось
A15: 6 | B15: EURAUD | O15: - | P15: 1200 | Q15: 3000 | R15: 1600 | S15: 3500 | T15: 1800 | U15: лось | V15: лось | W15: лось | X15: лось | Y15: 4000 | Z15: 1300 | AA15: лось | AB15: 6500 | AC15: лось | AD15: 1400
O16: - | P16: 860 | Q16: 500 | R16: 0 | S16: 0 | T16: 0 | U16: лось | V16: лось | W16: лось | X16: лось | Y16: 1700 | Z16: 400 | AA16: лось | AB16: 1300 | AC16: лось | AD16: 700
A19: прошло пунктов за месяц | C19: январь | E19: февраль | G19: март | I19: апрель | K19: май | M19: июнь | O19: июль | Q19: август | S19: сентябрь | U19: октябрь | W19: ноябрь | Y19: декабрь | AA19: январь | AC19: февраль | AE19: март | AG19: апрель | AI19: май | AK19: июнь | AM19: июль | AO19: август | AQ19: сентябрь
B20: =B3 -> EURUSD | C20: 3188 | D20: 6800 | E20: 8800 | F20: 4000 | G20: 1200 | H20: 9000 | I20: 4600 | J20: 1500 | K20: 1800 | L20: 7000 | M20: 2400 | N20: 1500 | O20: 1658 | P20: 3200 | Q20: 1631 | R20: 1714 | S20: 2384 | T20: 1688 | U20: 348 | V20: 1083 | W20: 1719 | X20: 7000 | Y20: 4709 | Z20: 2557 | AA20: 2972 | AB20: 380 | AC20: 416 | AD20: 2580 | AE20: 399 | AF20: 1300 | AG20: 5059 | AH20: 1627 | AI20: 680 | AJ20: 440 | AK20: 3230 | AL20: 990 | AM20: - | AN20: 800 | AO20: 660 | AP20: 360 | AQ20: - | AR20: 515
B21: =B5 -> EURJPY | C21: 2000 | D21: 11000 | E21: 11000 | F21: 109 | G21: 150 | H21: 7700 | I21: 5000 | J21: 90 | K21: 5000 | L21: 8700 | M21: 2200 | N21: 3300 | O21: 302 | P21: 3700 | Q21: 315 | R21: 3300 | S21: 76 | T21: 2500 | U21: 1915 | V21: 400 | W21: 1269 | X21: 3200 | Y21: 2806 | Z21: 1600 | AA21: 513 | AB21: 4800 | AC21: 563 | AD21: 0 | AE21: 8917 | AF21: 1200 | AG21: 5575 | AH21: 3076 | AI21: 6193 | AJ21: 302 | AK21: 1340 | AL21: 4000 | AM21: 8700 | AN21: 3000 | AO21: 700 | AP21: 2800 | AQ21: 1100 | AR21: 2680
B22: =B7 -> AUDUSD | C22: 3165 | D22: 5300 | E22: 4200 | F22: 120 | G22: 400 | H22: 1300 | I22: 200 | J22: 0 | K22: 2500 | L22: 4800 | M22: 2500 | N22: 3200 | O22: =697 -> 697 | P22: 3140 | Q22: 4042 | R22: 822 | S22: 2065 | T22: 2260 | U22: 945 | V22: 1635 | W22: 1181 | X22: 1817 | Y22: 1128 | Z22: 969 | AA22: 630 | AB22: 3270 | AC22: 2026 | AD22: 2762 | AE22: 583 | AF22: 4000 | AG22: 5161 | AH22: 1300 | AI22: 541 | AJ22: 4200 | AK22: 3600 | AL22: 1245 | AM22: 2200 | AN22: 2200 | AO22: 1500 | AP22: 130 | AQ22: 850 | AR22: 2000
B23: =B9 -> GBPUSD | O23: 4185 | P23: 900 | Q23: 846 | R23: 0 | S23: 2940 | T23: 2136 | U23: 2165 | V23: 449 | W23: 2994 | X23: 2747 | Y23: 3983 | Z23: 1026 | AA23: 3239 | AB23: 7277 | AC23: 4946 | AD23: 2500 | AE23: 3351
B24: =B11 -> EURCAD | O24: 2654 | P24: 2476 | Q24: 4517 | R24: 4183 | S24: 3685 | T24: 4660 | U24: 1473 | V24: 1720 | W24: 4837 | X24: 5470 | Y24: 3139 | Z24: 7717 | AA24: 9035 | AB24: 5086 | AC24: 1141 | AD24: 2850 | AE24: 4138
B25: =B13 -> AUDJPY | O25: 356 | P25: 3575 | Q25: 3941 | R25: 357 | S25: 4472 | T25: 5716 | U25: 2102 | V25: 975 | W25: 1951 | X25: 285 | Y25: 3324 | Z25: 600 | AA25: 1332 | AB25: 5050 | AC25: 1767 | AD25: 1880 | AE25: 5474
B26: =B15 -> EURAUD | O26: 766 | P26: 3063 | Q26: 5807 | R26: 3843 | S26: 7731 | T26: 6400 | U26: 1645 | V26: 425 | W26: 5056 | X26: 6310 | Y26: 8918 | Z26: 964 | AA26: 2813 | AB26: 3738 | AC26: 3671 | AD26: 2492 | AE26: 662
C27: =MAX(C20:C22) -> 3188 | D27: =MAX(D20:D22) -> 11000 | E27: =MAX(E20:E22) -> 11000 | F27: =MAX(F20:F22) -> 4000 | G27: =MAX(G20:G22) -> 1200 | H27: =MAX(H20:H22) -> 9000 | I27: =MAX(I20:I22) -> 5000 | J27: =MAX(J20:J22) -> 1500 | ... AR27: =MAX(AR20:AR22) -> 2680
A30: =MIN(D30:AQ30) -> 900 | B30: профит | C30: лось | D30: 2200 | E30: 1300 | F30: лось | G30: лось | H30: 5000 | I30: 2000 | J30: лось | K30: 900 | L30: 2000 | M30: 2000 | N30: 2000 | O30: 1300 | P30: 1500 | Q30: 1500 | R30: 2800 | S30: 2200 | T30: 1500 | U30: 2000 | V30: 2600 | W30: лось | X30: 3000 | Y30: 4000 | Z30: 4000 | AA30: 2200 | AB30: 1000 | AC30: 4500 | AD30: 1500 | AE30: 3000 | AF30: 970 | AG30: 5000 | AH30: 3000 | AI30: 2600 | AJ30: 1100 | AK30: 2300 | AL30: лось | AM30: лось | AN30: 2600 | AO30: 900 | AP30: 3300 | AQ30: 1500
A31: =MAX(D31:AQ31) -> 1600 | B31: лось | C31: лось | D31: 0 | E31: 1600 | F31: лось | G31: лось | H31: 0 | I31: 200 | J31: лось | K31: 650 | L31: 900 | M31: 0 | N31: 1600 | O31: 600 | P31: 1200 | Q31: 300 | R31: 660 | S31: 0 | T31: 0 | U31: 260 | V31: 0 | W31: лось | X31: 1300 | Y31: 500 | Z31: 1400 | AA31: 100 | AB31: 1200 | AC31: 150 | AD31: 370 | AE31: 0 | AF31: 0 | AG31: 0 | AH31: 1600 | AI31: 300 | AJ31: 0 | AK31: 370 | AL31: лось | AM31: лось | AN31: 0 | AO31: 450 | AP31: 650 | AQ31: 900
