Workbook

Sheet Данные
B1: № | C1: Дата | D1: Время открытия | E1: Дата закрытия | F1: Время закрытия | G1: Инструмент | H1: Направление сделки | I1: Цена открытия | J1: Цена закрытия | K1: кол-во | L1: Комиссия | M1: Результат | N1: Способ входа в позицию | O1: Способ выхода из позиции | P1: Оценка трейда | Q1: Стратегия | R1: Комментарий | S1: Изменение депозита | T1: Депозит | U1: Комиссия всего | V1: P\L Gross | W1: P\L Net | X1: Начальная сумма (Gross) | Y1: Начальная сумма (Net) | Z1: Конечная сумма (Gross) | AA1: Конечная сумма (Net) | AB1: День недели | AC1: Часы | AD1: Четверть | AE1: Время в сделке (сек) | AF1: Интрадей | AG1: Среднесрок | AH1: Net плюс | AI1: Net минус | AJ1: Год | AK1: Месяц | AL1: Неделя | AM1: Депозит по дням | AN1: Пополнение депозита | AO1: Общая доходность | AP1: Доходность в сделке | AQ1: Открытие дня | AR1: Закрытие дня | AS1: Диапазон цены | AT1: МаксМинДней
B2: 1 | C2: 42187 | D2: 0.073611111 | E2: 42188 | F2: 0.54930556 | G2: GBPAUD | H2: buy | I2: 2.0445 | J2: 2.07604 | K2: 0.01 | M2: 2.45 | N2: пинбар | O2: закрытие в ручную | P2: 3 | Q2: PA | R2: не вышел бы заработал бы больше | S2: 8 | T2: =S2+W2 -> 10.45 | U2: =L2 -> 0 | V2: =M2 -> 2.45 | W2: =V2+L2 -> 2.45 | X2: 8 | Y2: 0 | Z2: =X2+V2 -> 10.45 | AA2: =Y2+W2 -> 2.45 | AB2: =IF(G2<>"",VLOOKUP(WEEKDAY(C2,2),Служебный!G$4:H$10,2),"") -> чт | AC2: =IF(G2 <> "",TEXT((HOUR(D2)),0)&"-"&TEXT(HOUR(D2)+1,0),"") -> 1-2 | AD2: =IF(G2<>"",FLOOR((IF(TEXT(D2,"mm") = "mm",TEXT(D2,"мм"),TEXT(D2,"mm"))),15)/15+1,"") -> 4 | AE2: =ROUND(((E2+F2)-(C2+D2))*86400,0) -> 127500 | AF2: =IF(FLOOR((AE2/60),15)>400,"Среднесрок",FLOOR((AE2/60),15)) -> Среднесрок | AG2: =IFERROR(IF(FLOOR((AE2/86400),1)=0,"интрадей",(FLOOR((AE2/86400),1))-(FLOOR((AE2/86400),1))-NETWORKDAYS(E2,C2)),IF(FLOOR((AE2/86400),1)=0,"интрадей",(FLOOR((AE2/86400),1)))) -> 2 | AH2: =IF(W2>0,W2,0) -> 2.45 | AI2: =IF(W2<0,W2,0) -> 0 | AJ2: =IF(G2<>"",YEAR(C2),"") -> 2015 | AK2: =IF(G2<>"",(IF(TEXT(C2,"MMMM") = "MMMM",TEXT(C2,"ММММ"),TEXT(C2,"MMMM"))),"") -> Июль | AL2: =IF(G2<>"",CEILING((C2-DATE(YEAR(C2),1,1)+WEEKDAY(DATE(YEAR(C2),1,1),2))/7,1),"") -> 27 | AM2: =IF(AR2<>0,T2,0) -> 10.45 | AN2: =S2 -> 8 | AO2: =IFERROR(100*(T2-AN2)/AN2,"Заполните депозит") -> 30.625 | AP2: =IFERROR(100*(T2-S2)/S2,"Заполните депозит") -> 30.625 | AQ2: =IF(C2<>C1,Y2,0) -> 0 | AR2: =IF(C2<>C3,AA2,0) -> 2.45 | AS2: =CEILING(I2,5) -> #VALUE! | AT2: 0
B3: 2 | C3: 42192 | D3: 0.040277778 | E3: 42192 | F3: 0.79861111 | G3: GBPNZD | H3: buy | I3: 2.33972 | J3: 2.31445 | K3: 0.01 | M3: -1.68 | N3: пинбар | O3: закрытие по стопу | P3: 3 | Q3: PA | R3: слишком близкий стоп | T3: =T2+S3+W3 -> 8.77 | U3: =L3 -> 0 | V3: =M3 -> -1.68 | W3: =V3+L3 -> -1.68 | X3: =X2+V2 -> 10.45 | Y3: =Y2+W2 -> 2.45 | Z3: =X3+V3 -> 8.77 | AA3: =Y3+W3 -> 0.77 | AB3: =IF(G3<>"",VLOOKUP(WEEKDAY(C3,2),Служебный!G$4:H$10,2),"") -> вт | AC3: =IF(G2 <> "",TEXT((HOUR(D3)),0)&"-"&TEXT(HOUR(D3)+1,0),"") -> 0-1 | AD3: =IF(G3<>"",FLOOR((IF(TEXT(D3,"mm") = "mm",TEXT(D3,"мм"),TEXT(D3,"mm"))),15)/15+1,"") -> 4 | AE3: =ROUND(((E3+F3)-(C3+D3))*86400,0) -> 65520 | AF3: =IF(FLOOR((AE3/60),15)>400,"Среднесрок",FLOOR((AE3/60),15)) -> Среднесрок | AG3: =IFERROR(IF(FLOOR((AE3/86400),1)=0,"интрадей",(FLOOR((AE3/86400),1))-(FLOOR((AE3/86400),1))-NETWORKDAYS(E3,C3)),IF(FLOOR((AE3/86400),1)=0,"интрадей",(FLOOR((AE3/86400),1)))) -> интрадей | AH3: =IF(W3>0,W3,0) -> 0 | AI3: =IF(W3<0,W3,0) -> -1.68 | AJ3: =IF(G3<>"",YEAR(C3),"") -> 2015 | AK3: =IF(G3<>"",(IF(TEXT(C3,"MMMM") = "MMMM",TEXT(C3,"ММММ"),TEXT(C3,"MMMM"))),"") -> Июль | AL3: =IF(G3<>"",CEILING((C3-DATE(YEAR(C3),1,1)+WEEKDAY(DATE(YEAR(C3),1,1),2))/7,1),"") -> 28 | AM3: =IF(AR3<>0,T3,0) -> 8.77 | AN3: =S3+AN2 -> 8 | AO3: =IFERROR(100*(T3-AN3)/AN3,"Заполните депозит") -> 9.625 | AP3: =IFERROR(100*(T3-T2-S3)/(T2+S3),"Заполните депозит") -> -16.076555 | AQ3: =IF(C3<>C2,Y3,0) -> 2.45 | AR3: =IF(C3<>C4,AA3,0) -> 0.77 | AS3: =CEILING(I3,5) -> #VALUE! | AT3: =IF(AR3=0,AT2,IF(W3<0,IF(AT2<0,AT2-1,-1),IF(AT2>0,AT2+1,1))) -> -1
B4: 3 | C4: 42191 | D4: 0.0027777778 | E4: 42191 | F4: 0.19444444 | G4: GPBJPY | H4: buy | I4: 189.72300 | J4: 190.80800 | K4: 0.01 | M4: 0.89 | N4: ГЭП | O4: закрытие по стопу | P4: 2 | Q4: PA | R4: Гэп | T4: =T3+S4+W4 -> 9.66 | U4: =L4 -> 0 | V4: =M4 -> 0.89 | W4: =V4+L4 -> 0.89 | X4: =X3+V3 -> 8.77 | Y4: =Y3+W3 -> 0.77 | Z4: =X4+V4 -> 9.66 | AA4: =Y4+W4 -> 1.66 | AB4: =IF(G4<>"",VLOOKUP(WEEKDAY(C4,2),Служебный!G$4:H$10,2),"") -> пн | AC4: =IF(G3 <> "",TEXT((HOUR(D4)),0)&"-"&TEXT(HOUR(D4)+1,0),"") -> 0-1 | AD4: =IF(G4<>"",FLOOR((IF(TEXT(D4,"mm") = "mm",TEXT(D4,"мм"),TEXT(D4,"mm"))),15)/15+1,"") -> 1 | AE4: =ROUND(((E4+F4)-(C4+D4))*86400,0) -> 16560 | AF4: =IF(FLOOR((AE4/60),15)>400,"Среднесрок",FLOOR((AE4/60),15)) -> 270 | AG4: =IFERROR(IF(FLOOR((AE4/86400),1)=0,"интрадей",(FLOOR((AE4/86400),1))-(FLOOR((AE4/86400),1))-NETWORKDAYS(E4,C4)),IF(FLOOR((AE4/86400),1)=0,"интрадей",(FLOOR((AE4/86400),1)))) -> интрадей | AH4: =IF(W4>0,W4,0) -> 0.89 | AI4: =IF(W4<0,W4,0) -> 0 | AJ4: =IF(G4<>"",YEAR(C4),"") -> 2015 | AK4: =IF(G4<>"",(IF(TEXT(C4,"MMMM") = "MMMM",TEXT(C4,"ММММ"),TEXT(C4,"MMMM"))),"") -> Июль | AL4: =IF(G4<>"",CEILING((C4-DATE(YEAR(C4),1,1)+WEEKDAY(DATE(YEAR(C4),1,1),2))/7,1),"") -> 28 | AM4: =IF(AR4<>0,T4,0) -> 9.66 | AN4: =S4+AN3 -> 8 | AO4: =IFERROR(100*(T4-AN4)/AN4,"Заполните депозит") -> 20.75 | AP4: =IFERROR(100*(T4-T3-S4)/(T3+S4),"Заполните депозит") -> 10.148233 | AQ4: =IF(C4<>C3,Y4,0) -> 0.77 | AR4: =IF(C4<>C5,AA4,0) -> 1.66 | AS4: =CEILING(I4,5) -> #VALUE! | AT4: =IF(AR4=0,AT3,IF(W4<0,IF(AT3<0,AT3-1,-1),IF(AT3>0,AT3+1,1))) -> 1
B5: 4 | C5: 42195 | D5: 0.0027777778 | E5: 42195 | F5: 0.19652778 | G5: USDJPY | H5: sell | I5: 121.33100 | J5: 121.94500 | K5: 0.01 | M5: -0.22 | N5: внутренний бар | O5: закрытие по стопу | P5: 2 | Q5: PA | R5: нелепый вход | T5: =T4+S5+W5 -> 9.44 | U5: =L5 -> 0 | V5: =M5 -> -0.22 | W5: =V5+L5 -> -0.22 | X5: =X4+V4 -> 9.66 | Y5: =Y4+W4 -> 1.66 | Z5: =X5+V5 -> 9.44 | AA5: =Y5+W5 -> 1.44 | AB5: =IF(G5<>"",VLOOKUP(WEEKDAY(C5,2),Служебный!G$4:H$10,2),"") -> пт | AC5: =IF(G4 <> "",TEXT((HOUR(D5)),0)&"-"&TEXT(HOUR(D5)+1,0),"") -> 0-1 | AD5: =IF(G5<>"",FLOOR((IF(TEXT(D5,"mm") = "mm",TEXT(D5,"мм"),TEXT(D5,"mm"))),15)/15+1,"") -> 1 | AE5: =ROUND(((E5+F5)-(C5+D5))*86400,0) -> 16740 | AF5: =IF(FLOOR((AE5/60),15)>400,"Среднесрок",FLOOR((AE5/60),15)) -> 270 | AG5: =IFERROR(IF(FLOOR((AE5/86400),1)=0,"интрадей",(FLOOR((AE5/86400),1))-(FLOOR((AE5/86400),1))-NETWORKDAYS(E5,C5)),IF(FLOOR((AE5/86400),1)=0,"интрадей",(FLOOR((AE5/86400),1)))) -> интрадей | AH5: =IF(W5>0,W5,0) -> 0 | AI5: =IF(W5<0,W5,0) -> -0.22 | AJ5: =IF(G5<>"",YEAR(C5),"") -> 2015 | AK5: =IF(G5<>"",(IF(TEXT(C5,"MMMM") = "MMMM",TEXT(C5,"ММММ"),TEXT(C5,"MMMM"))),"") -> Июль | AL5: =IF(G5<>"",CEILING((C5-DATE(YEAR(C5),1,1)+WEEKDAY(DATE(YEAR(C5),1,1),2))/7,1),"") -> 28 | AM5: =IF(AR5<>0,T5,0) -> 9.44 | AN5: =S5+AN4 -> 8 | AO5: =IFERROR(100*(T5-AN5)/AN5,"Заполните депозит") -> 18 | AP5: =IFERROR(100*(T5-T4-S5)/(T4+S5),"Заполните депозит") -> -2.2774327 | AQ5: =IF(C5<>C4,Y5,0) -> 1.66 | AR5: =IF(C5<>C6,AA5,0) -> 1.44 | AS5: =CEILING(I5,5) -> #VALUE! | AT5: =IF(AR5=0,AT4,IF(W5<0,IF(AT4<0,AT4-1,-1),IF(AT4>0,AT4+1,1))) -> -1
B6: 5 | C6: 42199 | D6: 0.37777778 | E6: 42199 | F6: 0.53819444 | G6: GBPUSD | H6: sell | I6: 1.54656 | J6: 1.55948 | K6: 0.01 | M6: -1.29 | N6: пинбар | O6: закрытие по стопу | P6: 1 | Q6: PA | R6: Глупо , пин образовался между 8,21 и 100,150 ema | T6: =T5+S6+W6 -> 8.15 | U6: =L6 -> 0 | V6: =M6 -> -1.29 | W6: =V6+L6 -> -1.29 | X6: =X5+V5 -> 9.44 | Y6: =Y5+W5 -> 1.44 | Z6: =X6+V6 -> 8.15 | AA6: =Y6+W6 -> 0.15 | AB6: =IF(G6<>"",VLOOKUP(WEEKDAY(C6,2),Служебный!G$4:H$10,2),"") -> вт | AC6: =IF(G5 <> "",TEXT((HOUR(D6)),0)&"-"&TEXT(HOUR(D6)+1,0),"") -> 9-10 | AD6: =IF(G6<>"",FLOOR((IF(TEXT(D6,"mm") = "mm",TEXT(D6,"мм"),TEXT(D6,"mm"))),15)/15+1,"") -> 1 | AE6: =ROUND(((E6+F6)-(C6+D6))*86400,0) -> 13860 | AF6: =IF(FLOOR((AE6/60),15)>400,"Среднесрок",FLOOR((AE6/60),15)) -> 225 | AG6: =IFERROR(IF(FLOOR((AE6/86400),1)=0,"интрадей",(FLOOR((AE6/86400),1))-(FLOOR((AE6/86400),1))-NETWORKDAYS(E6,C6)),IF(FLOOR((AE6/86400),1)=0,"интрадей",(FLOOR((AE6/86400),1)))) -> интрадей | AH6: =IF(W6>0,W6,0) -> 0 | AI6: =IF(W6<0,W6,0) -> -1.29 | AJ6: =IF(G6<>"",YEAR(C6),"") -> 2015 | AK6: =IF(G6<>"",(IF(TEXT(C6,"MMMM") = "MMMM",TEXT(C6,"ММММ"),TEXT(C6,"MMMM"))),"") -> Июль | AL6: =IF(G6<>"",CEILING((C6-DATE(YEAR(C6),1,1)+WEEKDAY(DATE(YEAR(C6),1,1),2))/7,1),"") -> 29 | AM6: =IF(AR6<>0,T6,0) -> 8.15 | AN6: =S6+AN5 -> 8 | AO6: =IFERROR(100*(T6-AN6)/AN6,"Заполните депозит") -> 1.875 | AP6: =IFERROR(100*(T6-T5-S6)/(T5+S6),"Заполните депозит") -> -13.665254 | AQ6: =IF(C6<>C5,Y6,0) -> 1.44 | AR6: =IF(C6<>C7,AA6,0) -> 0.15 | AS6: =CEILING(I6,5) -> #VALUE! | AT6: =IF(AR6=0,AT5,IF(W6<0,IF(AT5<0,AT5-1,-1),IF(AT5>0,AT5+1,1))) -> -2
B7: 6 | C7: 42198 | D7: 0.011111111 | E7: 42201 | F7: 0.19236111 | G7: AUDJPY | H7: buy | I7: 90.92600 | J7: 91.02600 | K7: 0.01 | M7: 0.09 | N7: пинбар | O7: БУ | P7: 3 | Q7: PA | R7: недельный пин, ни пути был дин-уровень ema, безубыток | T7: =T6+S7+W7 -> 8.24 | U7: =L7 -> 0 | V7: =M7 -> 0.09 | W7: =V7+L7 -> 0.09 | X7: =X6+V6 -> 8.15 | Y7: =Y6+W6 -> 0.15 | Z7: =X7+V7 -> 8.24 | AA7: =Y7+W7 -> 0.24 | AB7: =IF(G7<>"",VLOOKUP(WEEKDAY(C7,2),Служебный!G$4:H$10,2),"") -> пн | AC7: =IF(G6 <> "",TEXT((HOUR(D7)),0)&"-"&TEXT(HOUR(D7)+1,0),"") -> 0-1 | AD7: =IF(G7<>"",FLOOR((IF(TEXT(D7,"mm") = "mm",TEXT(D7,"мм"),TEXT(D7,"mm"))),15)/15+1,"") -> 2 | AE7: =ROUND(((E7+F7)-(C7+D7))*86400,0) -> 274860 | AF7: =IF(FLOOR((AE7/60),15)>400,"Среднесрок",FLOOR((AE7/60),15)) -> Среднесрок | AG7: =IFERROR(IF(FLOOR((AE7/86400),1)=0,"интрадей",(FLOOR((AE7/86400),1))-(FLOOR((AE7/86400),1))-NETWORKDAYS(E7,C7)),IF(FLOOR((AE7/86400),1)=0,"интрадей",(FLOOR((AE7/86400),1)))) -> 4 | AH7: =IF(W7>0,W7,0) -> 0.09 | AI7: =IF(W7<0,W7,0) -> 0 | AJ7: =IF(G7<>"",YEAR(C7),"") -> 2015 | AK7: =IF(G7<>"",(IF(TEXT(C7,"MMMM") = "MMMM",TEXT(C7,"ММММ"),TEXT(C7,"MMMM"))),"") -> Июль | AL7: =IF(G7<>"",CEILING((C7-DATE(YEAR(C7),1,1)+WEEKDAY(DATE(YEAR(C7),1,1),2))/7,1),"") -> 29 | AM7: =IF(AR7<>0,T7,0) -> 8.24 | AN7: =S7+AN6 -> 8 | AO7: =IFERROR(100*(T7-AN7)/AN7,"Заполните депозит") -> 3 | AP7: =IFERROR(100*(T7-T6-S7)/(T6+S7),"Заполните депозит") -> 1.1042945 | AQ7: =IF(C7<>C6,Y7,0) -> 0.15 | AR7: =IF(C7<>C8,AA7,0) -> 0.24 | AS7: =CEILING(I7,5) -> #VALUE! | AT7: =IF(AR7=0,AT6,IF(W7<0,IF(AT6<0,AT6-1,-1),IF(AT6>0,AT6+1,1))) -> 1
B8: 7 | C8: 42199 | D8: 0.011111111 | E8: 42201 | F8: 0.23333333 | G8: EURJPY | H8: sell | I8: 135.50500 | J8: 135.40500 | K8: 0.01 | M8: 0.08 | N8: пинбар | O8: БУ | P8: 3 | Q8: PA | R8: пин от машек, но ни пути недельная ema, запас хода маленький | T8: =T7+S8+W8 -> 8.32 | U8: =L8 -> 0 | V8: =M8 -> 0.08 | W8: =V8+L8 -> 0.08 | X8: =X7+V7 -> 8.24 | Y8: =Y7+W7 -> 0.24 | Z8: =X8+V8 -> 8.32 | AA8: =Y8+W8 -> 0.32 | AB8: =IF(G8<>"",VLOOKUP(WEEKDAY(C8,2),Служебный!G$4:H$10,2),"") -> вт | AC8: =IF(G7 <> "",TEXT((HOUR(D8)),0)&"-"&TEXT(HOUR(D8)+1,0),"") -> 0-1 | AD8: =IF(G8<>"",FLOOR((IF(TEXT(D8,"mm") = "mm",TEXT(D8,"мм"),TEXT(D8,"mm"))),15)/15+1,"") -> 2 | AE8: =ROUND(((E8+F8)-(C8+D8))*86400,0) -> 192000 | AF8: =IF(FLOOR((AE8/60),15)>400,"Среднесрок",FLOOR((AE8/60),15)) -> Среднесрок | AG8: =IFERROR(IF(FLOOR((AE8/86400),1)=0,"интрадей",(FLOOR((AE8/86400),1))-(FLOOR((AE8/86400),1))-NETWORKDAYS(E8,C8)),IF(FLOOR((AE8/86400),1)=0,"интрадей",(FLOOR((AE8/86400),1)))) -> 3 | AH8: =IF(W8>0,W8,0) -> 0.08 | AI8: =IF(W8<0,W8,0) -> 0 | AJ8: =IF(G8<>"",YEAR(C8),"") -> 2015 | AK8: =IF(G8<>"",(IF(TEXT(C8,"MMMM") = "MMMM",TEXT(C8,"ММММ"),TEXT(C8,"MMMM"))),"") -> Июль | AL8: =IF(G8<>"",CEILING((C8-DATE(YEAR(C8),1,1)+WEEKDAY(DATE(YEAR(C8),1,1),2))/7,1),"") -> 29 | AM8: =IF(AR8<>0,T8,0) -> 8.32 | AN8: =S8+AN7 -> 8 | AO8: =IFERROR(100*(T8-AN8)/AN8,"Заполните депозит") -> 4 | AP8: =IFERROR(100*(T8-T7-S8)/(T7+S8),"Заполните депозит") -> 0.97087379 | AQ8: =IF(C8<>C7,Y8,0) -> 0.24 | AR8: =IF(C8<>C9,AA8,0) -> 0.32 | AS8: =CEILING(I8,5) -> #VALUE! | AT8: =IF(AR8=0,AT7,IF(W8<0,IF(AT7<0,AT7-1,-1),IF(AT7>0,AT7+1,1))) -> 2
B9: 8 | C9: 42195 | D9: 0.0048611111 | E9: 42205 | F9: 0.29930556 | G9: AUDNZD | H9: buy | I9: 1.10556 | J9: 1.12445 | K9: 0.01 | M9: 1.22 | N9: пинбар | O9: закрытие по стопу | P9: 4 | Q9: PA | R9: в принципе неплохо, | T9: =T8+S9+W9 -> 9.54 | U9: =L9 -> 0 | V9: =M9 -> 1.22 | W9: =V9+L9 -> 1.22 | X9: =X8+V8 -> 8.32 | Y9: =Y8+W8 -> 0.32 | Z9: =X9+V9 -> 9.54 | AA9: =Y9+W9 -> 1.54 | AB9: =IF(G9<>"",VLOOKUP(WEEKDAY(C9,2),Служебный!G$4:H$10,2),"") -> пт | AC9: =IF(G8 <> "",TEXT((HOUR(D9)),0)&"-"&TEXT(HOUR(D9)+1,0),"") -> 0-1 | AD9: =IF(G9<>"",FLOOR((IF(TEXT(D9,"mm") = "mm",TEXT(D9,"мм"),TEXT(D9,"mm"))),15)/15+1,"") -> 1 | AE9: =ROUND(((E9+F9)-(C9+D9))*86400,0) -> 889440 | AF9: =IF(FLOOR((AE9/60),15)>400,"Среднесрок",FLOOR((AE9/60),15)) -> Среднесрок | AG9: =IFERROR(IF(FLOOR((AE9/86400),1)=0,"интрадей",(FLOOR((AE9/86400),1))-(FLOOR((AE9/86400),1))-NETWORKDAYS(E9,C9)),IF(FLOOR((AE9/86400),1)=0,"интрадей",(FLOOR((AE9/86400),1)))) -> 7 | AH9: =IF(W9>0,W9,0) -> 1.22 | AI9: =IF(W9<0,W9,0) -> 0 | AJ9: =IF(G9<>"",YEAR(C9),"") -> 2015 | AK9: =IF(G9<>"",(IF(TEXT(C9,"MMMM") = "MMMM",TEXT(C9,"ММММ"),TEXT(C9,"MMMM"))),"") -> Июль | AL9: =IF(G9<>"",CEILING((C9-DATE(YEAR(C9),1,1)+WEEKDAY(DATE(YEAR(C9),1,1),2))/7,1),"") -> 28 | AM9: =IF(AR9<>0,T9,0) -> 0 | AN9: =S9+AN8 -> 8 | AO9: =IFERROR(100*(T9-AN9)/AN9,"Заполните депозит") -> 19.25 | AP9: =IFERROR(100*(T9-T8-S9)/(T8+S9),"Заполните депозит") -> 14.663462 | AQ9: =IF(C9<>C8,Y9,0) -> 0.32 | AR9: =IF(C9<>C10,AA9,0) -> 0 | AS9: =CEILING(I9,5) -> #VALUE! | AT9: =IF(AR9=0,AT8,IF(W9<0,IF(AT8<0,AT8-1,-1),IF(AT8>0,AT8+1,1))) -> 2
B10: 9 | C10: 42195 | D10: 0.54861111 | E10: 42206 | F10: 0.17916667 | G10: GBPNZD | H10: buy | I10: 2.29568 | J10: 2.36051 | K10: 0.01 | M10: 4.17 | N10: пинбар | O10: закрытие по стопу | P10: 3 | Q10: PA | R10: возможно рано перевел в бу | T10: =T9+S10+W10 -> 13.71 | U10: =L10 -> 0 | V10: =M10 -> 4.17 | W10: =V10+L10 -> 4.17 | X10: =X9+V9 -> 9.54 | Y10: =Y9+W9 -> 1.54 | Z10: =X10+V10 -> 13.71 | AA10: =Y10+W10 -> 5.71 | AB10: =IF(G10<>"",VLOOKUP(WEEKDAY(C10,2),Служебный!G$4:H$10,2),"") -> пт | AC10: =IF(G9 <> "",TEXT((HOUR(D10)),0)&"-"&TEXT(HOUR(D10)+1,0),"") -> 13-14 | AD10: =IF(G10<>"",FLOOR((IF(TEXT(D10,"mm") = "mm",TEXT(D10,"мм"),TEXT(D10,"mm"))),15)/15+1,"") -> 1 | AE10: =ROUND(((E10+F10)-(C10+D10))*86400,0) -> 918480 | AF10: =IF(FLOOR((AE10/60),15)>400,"Среднесрок",FLOOR((AE10/60),15)) -> Среднесрок | AG10: =IFERROR(IF(FLOOR((AE10/86400),1)=0,"интрадей",(FLOOR((AE10/86400),1))-(FLOOR((AE10/86400),1))-NETWORKDAYS(E10,C10)),IF(FLOOR((AE10/86400),1)=0,"интрадей",(FLOOR((AE10/86400),1)))) -> 8 | AH10: =IF(W10>0,W10,0) -> 4.17 | AI10: =IF(W10<0,W10,0) -> 0 | AJ10: =IF(G10<>"",YEAR(C10),"") -> 2015 | AK10: =IF(G10<>"",(IF(TEXT(C10,"MMMM") = "MMMM",TEXT(C10,"ММММ"),TEXT(C10,"MMMM"))),"") -> Июль | AL10: =IF(G10<>"",CEILING((C10-DATE(YEAR(C10),1,1)+WEEKDAY(DATE(YEAR(C10),1,1),2))/7,1),"") -> 28 | AM10: =IF(AR10<>0,T10,0) -> 13.71 | AN10: =S10+AN9 -> 8 | AO10: =IFERROR(100*(T10-AN10)/AN10,"Заполните депозит") -> 71.375 | AP10: =IFERROR(100*(T10-T9-S10)/(T9+S10),"Заполните депозит") -> 43.710692 | AQ10: =IF(C10<>C9,Y10,0) -> 0 | AR10: =IF(C10<>C11,AA10,0) -> 5.71 | AS10: =CEILING(I10,5) -> #VALUE! | AT10: =IF(AR10=0,AT9,IF(W10<0,IF(AT9<0,AT9-1,-1),IF(AT9>0,AT9+1,1))) -> 3
B11: 10 | C11: 42199 | D11: 0.15208333 | E11: 42206 | F11: 0.21319444 | G11: NZDUSD | H11: sell | I11: 0.66714 | J11: 0.66034 | K11: 0.01 | M11: 0.61 | N11: пинбар | O11: закрытие по стопу | P11: 5 | Q11: PA | R11: возможно рано перевел в бу | T11: =T10+S11+W11 -> 14.32 | U11: =L11 -> 0 | V11: =M11 -> 0.61 | W11: =V11+L11 -> 0.61 | X11: =X10+V10 -> 13.71 | Y11: =Y10+W10 -> 5.71 | Z11: =X11+V11 -> 14.32 | AA11: =Y11+W11 -> 6.32 | AB11: =IF(G11<>"",VLOOKUP(WEEKDAY(C11,2),Служебный!G$4:H$10,2),"") -> вт | AC11: =IF(G10 <> "",TEXT((HOUR(D11)),0)&"-"&TEXT(HOUR(D11)+1,0),"") -> 3-4 | AD11: =IF(G11<>"",FLOOR((IF(TEXT(D11,"mm") = "mm",TEXT(D11,"мм"),TEXT(D11,"mm"))),15)/15+1,"") -> 3 | AE11: =ROUND(((E11+F11)-(C11+D11))*86400,0) -> 610080 | AF11: =IF(FLOOR((AE11/60),15)>400,"Среднесрок",FLOOR((AE11/60),15)) -> Среднесрок | AG11: =IFERROR(IF(FLOOR((AE11/86400),1)=0,"интрадей",(FLOOR((AE11/86400),1))-(FLOOR((AE11/86400),1))-NETWORKDAYS(E11,C11)),IF(FLOOR((AE11/86400),1)=0,"интрадей",(FLOOR((AE11/86400),1)))) -> 6 | AH11: =IF(W11>0,W11,0) -> 0.61 | AI11: =IF(W11<0,W11,0) -> 0 | AJ11: =IF(G11<>"",YEAR(C11),"") -> 2015 | AK11: =IF(G11<>"",(IF(TEXT(C11,"MMMM") = "MMMM",TEXT(C11,"ММММ"),TEXT(C11,"MMMM"))),"") -> Июль | AL11: =IF(G11<>"",CEILING((C11-DATE(YEAR(C11),1,1)+WEEKDAY(DATE(YEAR(C11),1,1),2))/7,1),"") -> 29 | AM11: =IF(AR11<>0,T11,0) -> 14.32 | AN11: =S11+AN10 -> 8 | AO11: =IFERROR(100*(T11-AN11)/AN11,"Заполните депозит") -> 79 | AP11: =IFERROR(100*(T11-T10-S11)/(T10+S11),"Заполните депозит") -> 4.4493071 | AQ11: =IF(C11<>C10,Y11,0) -> 5.71 | AR11: =IF(C11<>C12,AA11,0) -> 6.32 | AS11: =CEILING(I11,5) -> #VALUE! | AT11: =IF(AR11=0,AT10,IF(W11<0,IF(AT10<0,AT10-1,-1),IF(AT10>0,AT10+1,1))) -> 4
B12: 11 | C12: 42198 | D12: 0.0048611111 | E12: 42206 | F12: 0.72847222 | G12: GBPJPY | H12: buy | I12: 189.78600 | J12: 192.95200 | K12: 0.01 | M12: 2.55 | N12: пинбар | O12: закрытие по стопу | P12: 4 | Q12: PA | R12: недельный пин,уровень | T12: =T11+S12+W12 -> 16.87 | U12: =L12 -> 0 | V12: =M12 -> 2.55 | W12: =V12+L12 -> 2.55 | X12: =X11+V11 -> 14.32 | Y12: =Y11+W11 -> 6.32 | Z12: =X12+V12 -> 16.87 | AA12: =Y12+W12 -> 8.87 | AB12: =IF(G12<>"",VLOOKUP(WEEKDAY(C12,2),Служебный!G$4:H$10,2),"") -> пн | AC12: =IF(G11 <> "",TEXT((HOUR(D12)),0)&"-"&TEXT(HOUR(D12)+1,0),"") -> 0-1 | AD12: =IF(G12<>"",FLOOR((IF(TEXT(D12,"mm") = "mm",TEXT(D12,"мм"),TEXT(D12,"mm"))),15)/15+1,"") -> 1 | AE12: =ROUND(((E12+F12)-(C12+D12))*86400,0) -> 753720 | AF12: =IF(FLOOR((AE12/60),15)>400,"Среднесрок",FLOOR((AE12/60),15)) -> Среднесрок | AG12: =IFERROR(IF(FLOOR((AE12/86400),1)=0,"интрадей",(FLOOR((AE12/86400),1))-(FLOOR((AE12/86400),1))-NETWORKDAYS(E12,C12)),IF(FLOOR((AE12/86400),1)=0,"интрадей",(FLOOR((AE12/86400),1)))) -> 7 | AH12: =IF(W12>0,W12,0) -> 2.55 | AI12: =IF(W12<0,W12,0) -> 0 | AJ12: =IF(G12<>"",YEAR(C12),"") -> 2015 | AK12: =IF(G12<>"",(IF(TEXT(C12,"MMMM") = "MMMM",TEXT(C12,"ММММ"),TEXT(C12,"MMMM"))),"") -> Июль | AL12: =IF(G12<>"",CEILING((C12-DATE(YEAR(C12),1,1)+WEEKDAY(DATE(YEAR(C12),1,1),2))/7,1),"") -> 29 | AM12: =IF(AR12<>0,T12,0) -> 16.87 | AN12: =S12+AN11 -> 8 | AO12: =IFERROR(100*(T12-AN12)/AN12,"Заполните депозит") -> 110.875 | AP12: =IFERROR(100*(T12-T11-S12)/(T11+S12),"Заполните депозит") -> 17.807263 | AQ12: =IF(C12<>C11,Y12,0) -> 6.32 | AR12: =IF(C12<>C13,AA12,0) -> 8.87 | AS12: =CEILING(I12,5) -> #VALUE! | AT12: =IF(AR12=0,AT11,IF(W12<0,IF(AT11<0,AT11-1,-1),IF(AT11>0,AT11+1,1))) -> 5
B13: 12 | C13: 42199 | D13: 0.36041667 | E13: 42201 | F13: 0.84166667 | G13: CHFJPY | H13: sell | I13: 129.58500 | J13: 129.53700 | K13: 0.01 | M13: 0.73 | N13: пинбар | O13: закрытие в ручную | P13: 3 | Q13: PA | R13: пин но на пути уровень | T13: =T12+S13+W13 -> 17.6 | U13: =L13 -> 0 | V13: =M13 -> 0.73 | W13: =V13+L13 -> 0.73 | X13: =X12+V12 -> 16.87 | Y13: =Y12+W12 -> 8.87 | Z13: =X13+V13 -> 17.6 | AA13: =Y13+W13 -> 9.6 | AB13: =IF(G13<>"",VLOOKUP(WEEKDAY(C13,2),Служебный!G$4:H$10,2),"") -> вт | AC13: =IF(G12 <> "",TEXT((HOUR(D13)),0)&"-"&TEXT(HOUR(D13)+1,0),"") -> 8-9 | AD13: =IF(G13<>"",FLOOR((IF(TEXT(D13,"mm") = "mm",TEXT(D13,"мм"),TEXT(D13,"mm"))),15)/15+1,"") -> 3 | AE13: =ROUND(((E13+F13)-(C13+D13))*86400,0) -> 214380 | AF13: =IF(FLOOR((AE13/60),15)>400,"Среднесрок",FLOOR((AE13/60),15)) -> Среднесрок | AG13: =IFERROR(IF(FLOOR((AE13/86400),1)=0,"интрадей",(FLOOR((AE13/86400),1))-(FLOOR((AE13/86400),1))-NETWORKDAYS(E13,C13)),IF(FLOOR((AE13/86400),1)=0,"интрадей",(FLOOR((AE13/86400),1)))) -> 3 | AH13: =IF(W13>0,W13,0) -> 0.73 | AI13: =IF(W13<0,W13,0) -> 0 | AJ13: =IF(G13<>"",YEAR(C13),"") -> 2015 | AK13: =IF(G13<>"",(IF(TEXT(C13,"MMMM") = "MMMM",TEXT(C13,"ММММ"),TEXT(C13,"MMMM"))),"") -> Июль | AL13: =IF(G13<>"",CEILING((C13-DATE(YEAR(C13),1,1)+WEEKDAY(DATE(YEAR(C13),1,1),2))/7,1),"") -> 29 | AM13: =IF(AR13<>0,T13,0) -> 17.6 | AN13: =S13+AN12 -> 8 | AO13: =IFERROR(100*(T13-AN13)/AN13,"Заполните депозит") -> 120 | AP13: =IFERROR(100*(T13-T12-S13)/(T12+S13),"Заполните депозит") -> 4.3272081 | AQ13: =IF(C13<>C12,Y13,0) -> 8.87 | AR13: =IF(C13<>C14,AA13,0) -> 9.6 | AS13: =CEILING(I13,5) -> #VALUE! | AT13: =IF(AR13=0,AT12,IF(W13<0,IF(AT12<0,AT12-1,-1),IF(AT12>0,AT12+1,1))) -> 6
B14: 13 | C14: 42201 | D14: 0.072916667 | E14: 42208 | F14: 0.47569444 | G14: NZDJPY | H14: sell | I14: 81.35900 | J14: 82.85900 | K14: 0.01 | M14: -1.27 | N14: бар поглощения | O14: закрытие по стопу | P14: 3 | Q14: PA | R14: сильный откат, с возможным образованием пинбара | T14: =T13+S14+W14 -> 16.33 | U14: =L14 -> 0 | V14: =M14 -> -1.27 | W14: =V14+L14 -> -1.27 | X14: =X13+V13 -> 17.6 | Y14: =Y13+W13 -> 9.6 | Z14: =X14+V14 -> 16.33 | AA14: =Y14+W14 -> 8.33 | AB14: =IF(G14<>"",VLOOKUP(WEEKDAY(C14,2),Служебный!G$4:H$10,2),"") -> чт | AC14: =IF(G13 <> "",TEXT((HOUR(D14)),0)&"-"&TEXT(HOUR(D14)+1,0),"") -> 1-2 | AD14: =IF(G14<>"",FLOOR((IF(TEXT(D14,"mm") = "mm",TEXT(D14,"мм"),TEXT(D14,"mm"))),15)/15+1,"") -> 4 | AE14: =ROUND(((E14+F14)-(C14+D14))*86400,0) -> 639600 | AF14: =IF(FLOOR((AE14/60),15)>400,"Среднесрок",FLOOR((AE14/60),15)) -> Среднесрок | AG14: =IFERROR(IF(FLOOR((AE14/86400),1)=0,"интрадей",(FLOOR((AE14/86400),1))-(FLOOR((AE14/86400),1))-NETWORKDAYS(E14,C14)),IF(FLOOR((AE14/86400),1)=0,"интрадей",(FLOOR((AE14/86400),1)))) -> 6 | AH14: =IF(W14>0,W14,0) -> 0 | AI14: =IF(W14<0,W14,0) -> -1.27 | AJ14: =IF(G14<>"",YEAR(C14),"") -> 2015 | AK14: =IF(G14<>"",(IF(TEXT(C14,"MMMM") = "MMMM",TEXT(C14,"ММММ"),TEXT(C14,"MMMM"))),"") -> Июль | AL14: =IF(G14<>"",CEILING((C14-DATE(YEAR(C14),1,1)+WEEKDAY(DATE(YEAR(C14),1,1),2))/7,1),"") -> 29 | AM14: =IF(AR14<>0,T14,0) -> 16.33 | AN14: =S14+AN13 -> 8 | AO14: =IFERROR(100*(T14-AN14)/AN14,"Заполните депозит") -> 104.125 | AP14: =IFERROR(100*(T14-T13-S14)/(T13+S14),"Заполните депозит") -> -7.2159091 | AQ14: =IF(C14<>C13,Y14,0) -> 9.6 | AR14: =IF(C14<>C15,AA14,0) -> 8.33 | AS14: =CEILING(I14,5) -> #VALUE! | AT14: =IF(AR14=0,AT13,IF(W14<0,IF(AT13<0,AT13-1,-1),IF(AT13>0,AT13+1,1))) -> -1
... B31: 30 | C31: 42215 | D31: 0.039583333 | E31: 42227 | F31: 0.54236111 | G31: NZDCAD | H31: sell | I31: 0.85967 | J31: 0.85596 | K31: 0.01 | M31: 0.19 | N31: пинбар | O31: закрытие в ручную | P31: 3 | Q31: PA | R31: флет | T31: =T30+S31+W31 -> 12.64 | U31: =L31 -> 0 | V31: =M31 -> 0.19 | W31: =V31+L31 -> 0.19 | X31: =X30+V30 -> 12.45 | Y31: =Y30+W30 -> 4.45 | Z31: =X31+V31 -> 12.64 | AA31: =Y31+W31 -> 4.64 | AB31: =IF(G31<>"",VLOOKUP(WEEKDAY(C31,2),Служебный!G$4:H$10,2),"") -> чт | AC31: =IF(G30 <> "",TEXT((HOUR(D31)),0)&"-"&TEXT(HOUR(D31)+1,0),"") -> 0-1 | AD31: =IF(G31<>"",FLOOR((IF(TEXT(D31,"mm") = "mm",TEXT(D31,"мм"),TEXT(D31,"mm"))),15)/15+1,"") -> 4 | AE31: =ROUND(((E31+F31)-(C31+D31))*86400,0) -> 1080240 | AF31: =IF(FLOOR((AE31/60),15)>400,"Среднесрок",FLOOR((AE31/60),15)) -> Среднесрок | AG31: =IFERROR(IF(FLOOR((AE31/86400),1)=0,"интрадей",(FLOOR((AE31/86400),1))-(FLOOR((AE31/86400),1))-NETWORKDAYS(E31,C31)),IF(FLOOR((AE31/86400),1)=0,"интрадей",(FLOOR((AE31/86400),1)))) -> 9 | AH31: =IF(W31>0,W31,0) -> 0.19 | AI31: =IF(W31<0,W31,0) -> 0 | AJ31: =IF(G31<>"",YEAR(C31),"") -> 2015 | AK31: =IF(G31<>"",(IF(TEXT(C31,"MMMM") = "MMMM",TEXT(C31,"ММММ"),TEXT(C31,"MMMM"))),"") -> Июль | AL31: =IF(G31<>"",CEILING((C31-DATE(YEAR(C31),1,1)+WEEKDAY(DATE(YEAR(C31),1,1),2))/7,1),"") -> 31 | AM31: =IF(AR31<>0,T31,0) -> 12.64 | AN31: =S31+AN30 -> 8 | AO31: =IFERROR(100*(T31-AN31)/AN31,"Заполните депозит") -> 58 | AP31: =IFERROR(100*(T31-T30-S31)/(T30+S31),"Заполните депозит") -> 1.5261044 | AQ31: =IF(C31<>C30,Y31,0) -> 4.45 | AR31: =IF(C31<>C32,AA31,0) -> 4.64 | AS31: =CEILING(I31,5) -> #VALUE! | AT31: =IF(AR31=0,AT30,IF(W31<0,IF(AT30<0,AT30-1,-1),IF(AT30>0,AT30+1,1))) -> 2
B32: 31 | C32: 42226 | D32: 0.00069444444 | E32: 42228 | F32: 0.18819444 | G32: NZDUSD | H32: buy | I32: 0.66171 | J32: 0.64671 | K32: 0.02 | M32: -2.98 | N32: по правителю | O32: закрытие по стопу | P32: 2 | Q32: Правитель | T32: =T31+S32+W32 -> 9.66 | U32: =L32 -> 0 | V32: =M32 -> -2.98 | W32: =V32+L32 -> -2.98 | X32: =X31+V31 -> 12.64 | Y32: =Y31+W31 -> 4.64 | Z32: =X32+V32 -> 9.66 | AA32: =Y32+W32 -> 1.66 | AB32: =IF(G32<>"",VLOOKUP(WEEKDAY(C32,2),Служебный!G$4:H$10,2),"") -> пн | AC32: =IF(G31 <> "",TEXT((HOUR(D32)),0)&"-"&TEXT(HOUR(D32)+1,0),"") -> 0-1 | AD32: =IF(G32<>"",FLOOR((IF(TEXT(D32,"mm") = "mm",TEXT(D32,"мм"),TEXT(D32,"mm"))),15)/15+1,"") -> 1 | AE32: =ROUND(((E32+F32)-(C32+D32))*86400,0) -> 189000 | AF32: =IF(FLOOR((AE32/60),15)>400,"Среднесрок",FLOOR((AE32/60),15)) -> Среднесрок | AG32: =IFERROR(IF(FLOOR((AE32/86400),1)=0,"интрадей",(FLOOR((AE32/86400),1))-(FLOOR((AE32/86400),1))-NETWORKDAYS(E32,C32)),IF(FLOOR((AE32/86400),1)=0,"интрадей",(FLOOR((AE32/86400),1)))) -> 3 | AH32: =IF(W32>0,W32,0) -> 0 | AI32: =IF(W32<0,W32,0) -> -2.98 | AJ32: =IF(G32<>"",YEAR(C32),"") -> 2015 | AK32: =IF(G32<>"",(IF(TEXT(C32,"MMMM") = "MMMM",TEXT(C32,"ММММ"),TEXT(C32,"MMMM"))),"") -> Август | AL32: =IF(G32<>"",CEILING((C32-DATE(YEAR(C32),1,1)+WEEKDAY(DATE(YEAR(C32),1,1),2))/7,1),"") -> 33 | AM32: =IF(AR32<>0,T32,0) -> 9.66 | AN32: =S32+AN31 -> 8 | AO32: =IFERROR(100*(T32-AN32)/AN32,"Заполните депозит") -> 20.75 | AP32: =IFERROR(100*(T32-T31-S32)/(T31+S32),"Заполните депозит") -> -23.575949 | AQ32: =IF(C32<>C31,Y32,0) -> 4.64 | AR32: =IF(C32<>C33,AA32,0) -> 1.66 | AS32: =CEILING(I32,5) -> #VALUE! | AT32: =IF(AR32=0,AT31,IF(W32<0,IF(AT31<0,AT31-1,-1),IF(AT31>0,AT31+1,1))) -> -1
B33: 32 | C33: 42228 | D33: 0.17222222 | E33: 42228 | F33: 0.18819444 | G33: AUDUSD | H33: buy | I33: 0.73244 | J33: 0.72307 | K33: 0.02 | M33: -1.88 | N33: по правителю | O33: закрытие по стопу | P33: 2 | Q33: Правитель | T33: =T32+S33+W33 -> 7.78 | U33: =L33 -> 0 | V33: =M33 -> -1.88 | W33: =V33+L33 -> -1.88 | X33: =X32+V32 -> 9.66 | Y33: =Y32+W32 -> 1.66 | Z33: =X33+V33 -> 7.78 | AA33: =Y33+W33 -> -0.22 | AB33: =IF(G33<>"",VLOOKUP(WEEKDAY(C33,2),Служебный!G$4:H$10,2),"") -> ср | AC33: =IF(G32 <> "",TEXT((HOUR(D33)),0)&"-"&TEXT(HOUR(D33)+1,0),"") -> 4-5 | AD33: =IF(G33<>"",FLOOR((IF(TEXT(D33,"mm") = "mm",TEXT(D33,"мм"),TEXT(D33,"mm"))),15)/15+1,"") -> 1 | AE33: =ROUND(((E33+F33)-(C33+D33))*86400,0) -> 1380 | AF33: =IF(FLOOR((AE33/60),15)>400,"Среднесрок",FLOOR((AE33/60),15)) -> 15 | AG33: =IFERROR(IF(FLOOR((AE33/86400),1)=0,"интрадей",(FLOOR((AE33/86400),1))-(FLOOR((AE33/86400),1))-NETWORKDAYS(E33,C33)),IF(FLOOR((AE33/86400),1)=0,"интрадей",(FLOOR((AE33/86400),1)))) -> интрадей | AH33: =IF(W33>0,W33,0) -> 0 | AI33: =IF(W33<0,W33,0) -> -1.88 | AJ33: =IF(G33<>"",YEAR(C33),"") -> 2015 | AK33: =IF(G33<>"",(IF(TEXT(C33,"MMMM") = "MMMM",TEXT(C33,"ММММ"),TEXT(C33,"MMMM"))),"") -> Август | AL33: =IF(G33<>"",CEILING((C33-DATE(YEAR(C33),1,1)+WEEKDAY(DATE(YEAR(C33),1,1),2))/7,1),"") -> 33 | AM33: =IF(AR33<>0,T33,0) -> 7.78 | AN33: =S33+AN32 -> 8 | AO33: =IFERROR(100*(T33-AN33)/AN33,"Заполните депозит") -> -2.75 | AP33: =IFERROR(100*(T33-T32-S33)/(T32+S33),"Заполните депозит") -> -19.461698 | AQ33: =IF(C33<>C32,Y33,0) -> 1.66 | AR33: =IF(C33<>C34,AA33,0) -> -0.22 | AS33: =CEILING(I33,5) -> #VALUE! | AT33: =IF(AR33=0,AT32,IF(W33<0,IF(AT32<0,AT32-1,-1),IF(AT32>0,AT32+1,1))) -> -2
B34: 33 | C34: 42227 | D34: 0.0013888889 | E34: 42228 | F34: 0.61944444 | G34: UISDCAD | H34: sell | I34: 1.30013 | J34: 1.30001 | K34: 0.02 | M34: 0.02 | N34: по правителю | O34: закрытие в ручную | P34: 2 | Q34: Правитель | T34: =T33+S34+W34 -> 7.8 | U34: =L34 -> 0 | V34: =M34 -> 0.02 | W34: =V34+L34 -> 0.02 | X34: =X33+V33 -> 7.78 | Y34: =Y33+W33 -> -0.22 | Z34: =X34+V34 -> 7.8 | AA34: =Y34+W34 -> -0.2 | AB34: =IF(G34<>"",VLOOKUP(WEEKDAY(C34,2),Служебный!G$4:H$10,2),"") -> вт | AC34: =IF(G33 <> "",TEXT((HOUR(D34)),0)&"-"&TEXT(HOUR(D34)+1,0),"") -> 0-1 | AD34: =IF(G34<>"",FLOOR((IF(TEXT(D34,"mm") = "mm",TEXT(D34,"мм"),TEXT(D34,"mm"))),15)/15+1,"") -> 1 | AE34: =ROUND(((E34+F34)-(C34+D34))*86400,0) -> 139800 | AF34: =IF(FLOOR((AE34/60),15)>400,"Среднесрок",FLOOR((AE34/60),15)) -> Среднесрок | AG34: =IFERROR(IF(FLOOR((AE34/86400),1)=0,"интрадей",(FLOOR((AE34/86400),1))-(FLOOR((AE34/86400),1))-NETWORKDAYS(E34,C34)),IF(FLOOR((AE34/86400),1)=0,"интрадей",(FLOOR((AE34/86400),1)))) -> 2 | AH34: =IF(W34>0,W34,0) -> 0.02 | AI34: =IF(W34<0,W34,0) -> 0 | AJ34: =IF(G34<>"",YEAR(C34),"") -> 2015 | AK34: =IF(G34<>"",(IF(TEXT(C34,"MMMM") = "MMMM",TEXT(C34,"ММММ"),TEXT(C34,"MMMM"))),"") -> Август | AL34: =IF(G34<>"",CEILING((C34-DATE(YEAR(C34),1,1)+WEEKDAY(DATE(YEAR(C34),1,1),2))/7,1),"") -> 33 | AM34: =IF(AR34<>0,T34,0) -> 7.8 | AN34: =S34+AN33 -> 8 | AO34: =IFERROR(100*(T34-AN34)/AN34,"Заполните депозит") -> -2.5 | AP34: =IFERROR(100*(T34-T33-S34)/(T33+S34),"Заполните депозит") -> 0.25706941 | AQ34: =IF(C34<>C33,Y34,0) -> -0.22 | AR34: =IF(C34<>C35,AA34,0) -> -0.2 | AS34: =CEILING(I34,5) -> #VALUE! | AT34: =IF(AR34=0,AT33,IF(W34<0,IF(AT33<0,AT33-1,-1),IF(AT33>0,AT33+1,1))) -> 1
B35: 34 | C35: 42221 | D35: 0.42847222 | E35: 42228 | F35: 0.70347222 | G35: GBPCHF | H35: buy | I35: 1.52481 | J35: 1.51582 | K35: 0.01 | M35: -0.93 | N35: по правителю | O35: закрытие по стопу | P35: 2 | Q35: Правитель | T35: =T34+S35+W35 -> 6.87 | U35: =L35 -> 0 | V35: =M35 -> -0.93 | W35: =V35+L35 -> -0.93 | X35: =X34+V34 -> 7.8 | Y35: =Y34+W34 -> -0.2 | Z35: =X35+V35 -> 6.87 | AA35: =Y35+W35 -> -1.13 | AB35: =IF(G35<>"",VLOOKUP(WEEKDAY(C35,2),Служебный!G$4:H$10,2),"") -> ср | AC35: =IF(G34 <> "",TEXT((HOUR(D35)),0)&"-"&TEXT(HOUR(D35)+1,0),"") -> 10-11 | AD35: =IF(G35<>"",FLOOR((IF(TEXT(D35,"mm") = "mm",TEXT(D35,"мм"),TEXT(D35,"mm"))),15)/15+1,"") -> 2 | AE35: =ROUND(((E35+F35)-(C35+D35))*86400,0) -> 628560 | AF35: =IF(FLOOR((AE35/60),15)>400,"Среднесрок",FLOOR((AE35/60),15)) -> Среднесрок | AG35: =IFERROR(IF(FLOOR((AE35/86400),1)=0,"интрадей",(FLOOR((AE35/86400),1))-(FLOOR((AE35/86400),1))-NETWORKDAYS(E35,C35)),IF(FLOOR((AE35/86400),1)=0,"интрадей",(FLOOR((AE35/86400),1)))) -> 6 | AH35: =IF(W35>0,W35,0) -> 0 | AI35: =IF(W35<0,W35,0) -> -0.93 | AJ35: =IF(G35<>"",YEAR(C35),"") -> 2015 | AK35: =IF(G35<>"",(IF(TEXT(C35,"MMMM") = "MMMM",TEXT(C35,"ММММ"),TEXT(C35,"MMMM"))),"") -> Август | AL35: =IF(G35<>"",CEILING((C35-DATE(YEAR(C35),1,1)+WEEKDAY(DATE(YEAR(C35),1,1),2))/7,1),"") -> 32 | AM35: =IF(AR35<>0,T35,0) -> 6.87 | AN35: =S35+AN34 -> 8 | AO35: =IFERROR(100*(T35-AN35)/AN35,"Заполните депозит") -> -14.125 | AP35: =IFERROR(100*(T35-T34-S35)/(T34+S35),"Заполните депозит") -> -11.923077 | AQ35: =IF(C35<>C34,Y35,0) -> -0.2 | AR35: =IF(C35<>C36,AA35,0) -> -1.13 | AS35: =CEILING(I35,5) -> #VALUE! | AT35: =IF(AR35=0,AT34,IF(W35<0,IF(AT34<0,AT34-1,-1),IF(AT34>0,AT34+1,1))) -> -1
B36: 35 | C36: 42228 | D36: 0.72013889 | E36: 42228 | F36: 0.85486111 | G36: GBPCHF | H36: buy | I36: 1.51836 | J36: 1.51922 | K36: 0.02 | M36: 0.17 | N36: бычья свеча 08:00 | O36: закрытие в ручную | P36: 2 | Q36: без системы | T36: =T35+S36+W36 -> 7.04 | U36: =L36 -> 0 | V36: =M36 -> 0.17 | W36: =V36+L36 -> 0.17 | X36: =X35+V35 -> 6.87 | Y36: =Y35+W35 -> -1.13 | Z36: =X36+V36 -> 7.04 | AA36: =Y36+W36 -> -0.96 | AB36: =IF(G36<>"",VLOOKUP(WEEKDAY(C36,2),Служебный!G$4:H$10,2),"") -> ср | AC36: =IF(G35 <> "",TEXT((HOUR(D36)),0)&"-"&TEXT(HOUR(D36)+1,0),"") -> 17-18 | AD36: =IF(G36<>"",FLOOR((IF(TEXT(D36,"mm") = "mm",TEXT(D36,"мм"),TEXT(D36,"mm"))),15)/15+1,"") -> 2 | AE36: =ROUND(((E36+F36)-(C36+D36))*86400,0) -> 11640 | AF36: =IF(FLOOR((AE36/60),15)>400,"Среднесрок",FLOOR((AE36/60),15)) -> 180 | AG36: =IFERROR(IF(FLOOR((AE36/86400),1)=0,"интрадей",(FLOOR((AE36/86400),1))-(FLOOR((AE36/86400),1))-NETWORKDAYS(E36,C36)),IF(FLOOR((AE36/86400),1)=0,"интрадей",(FLOOR((AE36/86400),1)))) -> интрадей | AH36: =IF(W36>0,W36,0) -> 0.17 | AI36: =IF(W36<0,W36,0) -> 0 | AJ36: =IF(G36<>"",YEAR(C36),"") -> 2015 | AK36: =IF(G36<>"",(IF(TEXT(C36,"MMMM") = "MMMM",TEXT(C36,"ММММ"),TEXT(C36,"MMMM"))),"") -> Август | AL36: =IF(G36<>"",CEILING((C36-DATE(YEAR(C36),1,1)+WEEKDAY(DATE(YEAR(C36),1,1),2))/7,1),"") -> 33 | AM36: =IF(AR36<>0,T36,0) -> 7.04 | AN36: =S36+AN35 -> 8 | AO36: =IFERROR(100*(T36-AN36)/AN36,"Заполните депозит") -> -12 | AP36: =IFERROR(100*(T36-T35-S36)/(T35+S36),"Заполните депозит") -> 2.4745269 | AQ36: =IF(C36<>C35,Y36,0) -> -1.13 | AR36: =IF(C36<>C37,AA36,0) -> -0.96 | AS36: =CEILING(I36,5) -> #VALUE! | AT36: =IF(AR36=0,AT35,IF(W36<0,IF(AT35<0,AT35-1,-1),IF(AT35>0,AT35+1,1))) -> 1
B37: 36 | C37: 42229 | D37: 0.5375 | E37: 42229 | F37: 0.4125 | G37: NZDJPY | H37: buy | I37: 81.81600 | J37: 82.13800 | K37: 0.02 | M37: 0.57 | N37: по правителю | O37: закрытие по стопу | P37: 2 | Q37: Правитель | T37: =T36+S37+W37 -> 7.61 | U37: =L37 -> 0 | V37: =M37 -> 0.57 | W37: =V37+L37 -> 0.57 | X37: =X36+V36 -> 7.04 | Y37: =Y36+W36 -> -0.96 | Z37: =X37+V37 -> 7.61 | AA37: =Y37+W37 -> -0.39 | AB37: =IF(G37<>"",VLOOKUP(WEEKDAY(C37,2),Служебный!G$4:H$10,2),"") -> чт | AC37: =IF(G36 <> "",TEXT((HOUR(D37)),0)&"-"&TEXT(HOUR(D37)+1,0),"") -> 12-13 | AD37: =IF(G37<>"",FLOOR((IF(TEXT(D37,"mm") = "mm",TEXT(D37,"мм"),TEXT(D37,"mm"))),15)/15+1,"") -> 4 | AE37: =ROUND(((E37+F37)-(C37+D37))*86400,0) -> -10800 | AF37: =IF(FLOOR((AE37/60),15)>400,"Среднесрок",FLOOR((AE37/60),15)) -> -180 | AG37: =IFERROR(IF(FLOOR((AE37/86400),1)=0,"интрадей",(FLOOR((AE37/86400),1))-(FLOOR((AE37/86400),1))-NETWORKDAYS(E37,C37)),IF(FLOOR((AE37/86400),1)=0,"интрадей",(FLOOR((AE37/86400),1)))) -> -1 | AH37: =IF(W37>0,W37,0) -> 0.57 | AI37: =IF(W37<0,W37,0) -> 0 | AJ37: =IF(G37<>"",YEAR(C37),"") -> 2015 | AK37: =IF(G37<>"",(IF(TEXT(C37,"MMMM") = "MMMM",TEXT(C37,"ММММ"),TEXT(C37,"MMMM"))),"") -> Август | AL37: =IF(G37<>"",CEILING((C37-DATE(YEAR(C37),1,1)+WEEKDAY(DATE(YEAR(C37),1,1),2))/7,1),"") -> 33 | AM37: =IF(AR37<>0,T37,0) -> 0 | AN37: =S37+AN36 -> 8 | AO37: =IFERROR(100*(T37-AN37)/AN37,"Заполните депозит") -> -4.875 | AP37: =IFERROR(100*(T37-T36-S37)/(T36+S37),"Заполните депозит") -> 8.0965909 | AQ37: =IF(C37<>C36,Y37,0) -> -0.96 | AR37: =IF(C37<>C38,AA37,0) -> 0 | AS37: =CEILING(I37,5) -> #VALUE! | AT37: =IF(AR37=0,AT36,IF(W37<0,IF(AT36<0,AT36-1,-1),IF(AT36>0,AT36+1,1))) -> 1
B38: 37 | C38: 42229 | D38: 0.20972222 | E38: 42229 | F38: 0.69236111 | G38: EURAUD | H38: sell | I38: 1.50802 | J38: 1.51624 | K38: 0.02 | M38: -1.2 | N38: пинбар | O38: закрытие по стопу | P38: 3 | Q38: PA | R38: почему то закрылось гораздо раньше стопа | T38: =T37+S38+W38 -> 6.41 | U38: =L38 -> 0 | V38: =M38 -> -1.2 | W38: =V38+L38 -> -1.2 | X38: =X37+V37 -> 7.61 | Y38: =Y37+W37 -> -0.39 | Z38: =X38+V38 -> 6.41 | AA38: =Y38+W38 -> -1.59 | AB38: =IF(G38<>"",VLOOKUP(WEEKDAY(C38,2),Служебный!G$4:H$10,2),"") -> чт | AC38: =IF(G37 <> "",TEXT((HOUR(D38)),0)&"-"&TEXT(HOUR(D38)+1,0),"") -> 5-6 | AD38: =IF(G38<>"",FLOOR((IF(TEXT(D38,"mm") = "mm",TEXT(D38,"мм"),TEXT(D38,"mm"))),15)/15+1,"") -> 1 | AE38: =ROUND(((E38+F38)-(C38+D38))*86400,0) -> 41700 | AF38: =IF(FLOOR((AE38/60),15)>400,"Среднесрок",FLOOR((AE38/60),15)) -> Среднесрок | AG38: =IFERROR(IF(FLOOR((AE38/86400),1)=0,"интрадей",(FLOOR((AE38/86400),1))-(FLOOR((AE38/86400),1))-NETWORKDAYS(E38,C38)),IF(FLOOR((AE38/86400),1)=0,"интрадей",(FLOOR((AE38/86400),1)))) -> интрадей | AH38: =IF(W38>0,W38,0) -> 0 | AI38: =IF(W38<0,W38,0) -> -1.2 | AJ38: =IF(G38<>"",YEAR(C38),"") -> 2015 | AK38: =IF(G38<>"",(IF(TEXT(C38,"MMMM") = "MMMM",TEXT(C38,"ММММ"),TEXT(C38,"MMMM"))),"") -> Август | AL38: =IF(G38<>"",CEILING((C38-DATE(YEAR(C38),1,1)+WEEKDAY(DATE(YEAR(C38),1,1),2))/7,1),"") -> 33 | AM38: =IF(AR38<>0,T38,0) -> 6.41 | AN38: =S38+AN37 -> 8 | AO38: =IFERROR(100*(T38-AN38)/AN38,"Заполните депозит") -> -19.875 | AP38: =IFERROR(100*(T38-T37-S38)/(T37+S38),"Заполните депозит") -> -15.768725 | AQ38: =IF(C38<>C37,Y38,0) -> 0 | AR38: =IF(C38<>C39,AA38,0) -> -1.59 | AS38: =CEILING(I38,5) -> #VALUE! | AT38: =IF(AR38=0,AT37,IF(W38<0,IF(AT37<0,AT37-1,-1),IF(AT37>0,AT37+1,1))) -> -1
B39: 38 | H39: buy | T39: =T38+S39+W39 -> 6.41 | U39: =L39 -> 0 | V39: =M39 -> 0 | W39: =V39+L39 -> 0 | X39: =X38+V38 -> 6.41 | Y39: =Y38+W38 -> -1.59 | Z39: =X39+V39 -> 6.41 | AA39: =Y39+W39 -> -1.59 | AB39: =IF(G39<>"",VLOOKUP(WEEKDAY(C39,2),Служебный!G$4:H$10,2),"") | AC39: =IF(G38 <> "",TEXT((HOUR(D39)),0)&"-"&TEXT(HOUR(D39)+1,0),"") -> 0-1 | AD39: =IF(G39<>"",FLOOR((IF(TEXT(D39,"mm") = "mm",TEXT(D39,"мм"),TEXT(D39,"mm"))),15)/15+1,"") | AE39: =ROUND(((E39+F39)-(C39+D39))*86400,0) -> 0 | AF39: =IF(FLOOR((AE39/60),15)>400,"Среднесрок",FLOOR((AE39/60),15)) -> 0 | AG39: =IFERROR(IF(FLOOR((AE39/86400),1)=0,"интрадей",(FLOOR((AE39/86400),1))-(FLOOR((AE39/86400),1))-NETWORKDAYS(E39,C39)),IF(FLOOR((AE39/86400),1)=0,"интрадей",(FLOOR((AE39/86400),1)))) -> интрадей | AH39: =IF(W39>0,W39,0) -> 0 | AI39: =IF(W39<0,W39,0) -> 0 | AJ39: =IF(G39<>"",YEAR(C39),"") | AK39: =IF(G39<>"",(IF(TEXT(C39,"MMMM") = "MMMM",TEXT(C39,"ММММ"),TEXT(C39,"MMMM"))),"") | AL39: =IF(G39<>"",CEILING((C39-DATE(YEAR(C39),1,1)+WEEKDAY(DATE(YEAR(C39),1,1),2))/7,1),"") | AM39: =IF(AR39<>0,T39,0) -> 0 | AN39: =S39+AN38 -> 8 | AO39: =IFERROR(100*(T39-AN39)/AN39,"Заполните депозит") -> -19.875 | AP39: =IFERROR(100*(T39-T38-S39)/(T38+S39),"Заполните депозит") -> 0 | AQ39: =IF(C39<>C38,Y39,0) -> -1.59 | AR39: =IF(C39<>C40,AA39,0) -> 0 | AS39: =CEILING(I39,5) -> 0 | AT39: =IF(AR39=0,AT38,IF(W39<0,IF(AT38<0,AT38-1,-1),IF(AT38>0,AT38+1,1))) -> -1
B40: 39 | H40: buy | T40: =T39+S40+W40 -> 6.41 | U40: =L40 -> 0 | V40: =M40 -> 0 | W40: =V40+L40 -> 0 | X40: =X39+V39 -> 6.41 | Y40: =Y39+W39 -> -1.59 | Z40: =X40+V40 -> 6.41 | AA40: =Y40+W40 -> -1.59 | AB40: =IF(G40<>"",VLOOKUP(WEEKDAY(C40,2),Служебный!G$4:H$10,2),"") | AC40: =IF(G39 <> "",TEXT((HOUR(D40)),0)&"-"&TEXT(HOUR(D40)+1,0),"") | AD40: =IF(G40<>"",FLOOR((IF(TEXT(D40,"mm") = "mm",TEXT(D40,"мм"),TEXT(D40,"mm"))),15)/15+1,"") | AE40: =ROUND(((E40+F40)-(C40+D40))*86400,0) -> 0 | AF40: =IF(FLOOR((AE40/60),15)>400,"Среднесрок",FLOOR((AE40/60),15)) -> 0 | AG40: =IFERROR(IF(FLOOR((AE40/86400),1)=0,"интрадей",(FLOOR((AE40/86400),1))-(FLOOR((AE40/86400),1))-NETWORKDAYS(E40,C40)),IF(FLOOR((AE40/86400),1)=0,"интрадей",(FLOOR((AE40/86400),1)))) -> интрадей | AH40: =IF(W40>0,W40,0) -> 0 | AI40: =IF(W40<0,W40,0) -> 0 | AJ40: =IF(G40<>"",YEAR(C40),"") | AK40: =IF(G40<>"",(IF(TEXT(C40,"MMMM") = "MMMM",TEXT(C40,"ММММ"),TEXT(C40,"MMMM"))),"") | AL40: =IF(G40<>"",CEILING((C40-DATE(YEAR(C40),1,1)+WEEKDAY(DATE(YEAR(C40),1,1),2))/7,1),"") | AM40: =IF(AR40<>0,T40,0) -> 0 | AN40: =S40+AN39 -> 8 | AO40: =IFERROR(100*(T40-AN40)/AN40,"Заполните депозит") -> -19.875 | AP40: =IFERROR(100*(T40-T39-S40)/(T39+S40),"Заполните депозит") -> 0 | AQ40: =IF(C40<>C39,Y40,0) -> 0 | AR40: =IF(C40<>C41,AA40,0) -> 0 | AS40: =CEILING(I40,5) -> 0 | AT40: =IF(AR40=0,AT39,IF(W40<0,IF(AT39<0,AT39-1,-1),IF(AT39>0,AT39+1,1))) -> -1
B41: 40 | H41: buy | T41: =T40+S41+W41 -> 6.41 | U41: =L41 -> 0 | V41: =M41 -> 0 | W41: =V41+L41 -> 0 | X41: =X40+V40 -> 6.41 | Y41: =Y40+W40 -> -1.59 | Z41: =X41+V41 -> 6.41 | AA41: =Y41+W41 -> -1.59 | AB41: =IF(G41<>"",VLOOKUP(WEEKDAY(C41,2),Служебный!G$4:H$10,2),"") | AC41: =IF(G40 <> "",TEXT((HOUR(D41)),0)&"-"&TEXT(HOUR(D41)+1,0),"") | AD41: =IF(G41<>"",FLOOR((IF(TEXT(D41,"mm") = "mm",TEXT(D41,"мм"),TEXT(D41,"mm"))),15)/15+1,"") | AE41: =ROUND(((E41+F41)-(C41+D41))*86400,0) -> 0 | AF41: =IF(FLOOR((AE41/60),15)>400,"Среднесрок",FLOOR((AE41/60),15)) -> 0 | AG41: =IFERROR(IF(FLOOR((AE41/86400),1)=0,"интрадей",(FLOOR((AE41/86400),1))-(FLOOR((AE41/86400),1))-NETWORKDAYS(E41,C41)),IF(FLOOR((AE41/86400),1)=0,"интрадей",(FLOOR((AE41/86400),1)))) -> интрадей | AH41: =IF(W41>0,W41,0) -> 0 | AI41: =IF(W41<0,W41,0) -> 0 | AJ41: =IF(G41<>"",YEAR(C41),"") | AK41: =IF(G41<>"",(IF(TEXT(C41,"MMMM") = "MMMM",TEXT(C41,"ММММ"),TEXT(C41,"MMMM"))),"") | AL41: =IF(G41<>"",CEILING((C41-DATE(YEAR(C41),1,1)+WEEKDAY(DATE(YEAR(C41),1,1),2))/7,1),"") | AM41: =IF(AR41<>0,T41,0) -> 0 | AN41: =S41+AN40 -> 8 | AO41: =IFERROR(100*(T41-AN41)/AN41,"Заполните депозит") -> -19.875 | AP41: =IFERROR(100*(T41-T40-S41)/(T40+S41),"Заполните депозит") -> 0 | AQ41: =IF(C41<>C40,Y41,0) -> 0 | AR41: =IF(C41<>C42,AA41,0) -> 0 | AS41: =CEILING(I41,5) -> 0 | AT41: =IF(AR41=0,AT40,IF(W41<0,IF(AT40<0,AT40-1,-1),IF(AT40>0,AT40+1,1))) -> -1
B42: 41 | H42: buy | T42: =T41+S42+W42 -> 6.41 | U42: =L42 -> 0 | V42: =M42 -> 0 | W42: =V42+L42 -> 0 | X42: =X41+V41 -> 6.41 | Y42: =Y41+W41 -> -1.59 | Z42: =X42+V42 -> 6.41 | AA42: =Y42+W42 -> -1.59 | AB42: =IF(I42<>"",VLOOKUP(WEEKDAY(C42,2),Служебный!G$4:H$10,2),"") | AC42: =IF(G41 <> "",TEXT((HOUR(D42)),0)&"-"&TEXT(HOUR(D42)+1,0),"") | AD42: =IF(I42<>"",FLOOR((IF(TEXT(D42,"mm") = "mm",TEXT(D42,"мм"),TEXT(D42,"mm"))),15)/15+1,"") | AE42: =ROUND(((E42+F42)-(C42+D42))*86400,0) -> 0 | AF42: =IF(FLOOR((AE42/60),15)>400,"Среднесрок",FLOOR((AE42/60),15)) -> 0 | AG42: =IFERROR(IF(FLOOR((AE42/86400),1)=0,"интрадей",(FLOOR((AE42/86400),1))-(FLOOR((AE42/86400),1))-NETWORKDAYS(E42,C42)),IF(FLOOR((AE42/86400),1)=0,"интрадей",(FLOOR((AE42/86400),1)))) -> интрадей | AH42: =IF(W42>0,W42,0) -> 0 | AI42: =IF(W42<0,W42,0) -> 0 | AJ42: =IF(I42<>"",YEAR(C42),"") | AK42: =IF(I42<>"",(IF(TEXT(C42,"MMMM") = "MMMM",TEXT(C42,"ММММ"),TEXT(C42,"MMMM"))),"") | AL42: =IF(I42<>"",CEILING((C42-DATE(YEAR(C42),1,1)+WEEKDAY(DATE(YEAR(C42),1,1),2))/7,1),"") | AM42: =IF(AR42<>0,T42,0) -> 0 | AN42: =S42+AN41 -> 8 | AO42: =IFERROR(100*(T42-AN42)/AN42,"Заполните депозит") -> -19.875 | AP42: =IFERROR(100*(T42-T41-S42)/(T41+S42),"Заполните депозит") -> 0 | AQ42: =IF(C42<>C41,Y42,0) -> 0 | AR42: =IF(C42<>C43,AA42,0) -> 0 | AS42: =CEILING(#REF!,5) -> #REF! | AT42: =IF(AR42=0,AT41,IF(W42<0,IF(AT41<0,AT41-1,-1),IF(AT41>0,AT41+1,1))) -> -1
B43: 42 | H43: buy | T43: =T42+S43+W43 -> 6.41 | U43: =L43 -> 0 | V43: =M43 -> 0 | W43: =V43+L43 -> 0 | X43: =X42+V42 -> 6.41 | Y43: =Y42+W42 -> -1.59 | Z43: =X43+V43 -> 6.41 | AA43: =Y43+W43 -> -1.59 | AB43: =IF(G43<>"",VLOOKUP(WEEKDAY(C43,2),Служебный!G$4:H$10,2),"") | AC43: =IF(I42 <> "",TEXT((HOUR(D43)),0)&"-"&TEXT(HOUR(D43)+1,0),"") | AD43: =IF(G43<>"",FLOOR((IF(TEXT(D43,"mm") = "mm",TEXT(D43,"мм"),TEXT(D43,"mm"))),15)/15+1,"") | AE43: =ROUND(((E43+F43)-(C43+D43))*86400,0) -> 0 | AF43: =IF(FLOOR((AE43/60),15)>400,"Среднесрок",FLOOR((AE43/60),15)) -> 0 | AG43: =IFERROR(IF(FLOOR((AE43/86400),1)=0,"интрадей",(FLOOR((AE43/86400),1))-(FLOOR((AE43/86400),1))-NETWORKDAYS(E43,C43)),IF(FLOOR((AE43/86400),1)=0,"интрадей",(FLOOR((AE43/86400),1)))) -> интрадей | AH43: =IF(W43>0,W43,0) -> 0 | AI43: =IF(W43<0,W43,0) -> 0 | AJ43: =IF(G43<>"",YEAR(C43),"") | AK43: =IF(G43<>"",(IF(TEXT(C43,"MMMM") = "MMMM",TEXT(C43,"ММММ"),TEXT(C43,"MMMM"))),"") | AL43: =IF(G43<>"",CEILING((C43-DATE(YEAR(C43),1,1)+WEEKDAY(DATE(YEAR(C43),1,1),2))/7,1),"") | AM43: =IF(AR43<>0,T43,0) -> 0 | AN43: =S43+AN42 -> 8 | AO43: =IFERROR(100*(T43-AN43)/AN43,"Заполните депозит") -> -19.875 | AP43: =IFERROR(100*(T43-T42-S43)/(T42+S43),"Заполните депозит") -> 0 | AQ43: =IF(C43<>C42,Y43,0) -> 0 | AR43: =IF(C43<>C44,AA43,0) -> 0 | AS43: =CEILING(I43,5) -> 0 | AT43: =IF(AR43=0,AT42,IF(W43<0,IF(AT42<0,AT42-1,-1),IF(AT42>0,AT42+1,1))) -> -1
B44: 43 | H44: buy | T44: =T43+S44+W44 -> 6.41 | U44: =L44 -> 0 | V44: =M44 -> 0 | W44: =V44+L44 -> 0 | X44: =X43+V43 -> 6.41 | Y44: =Y43+W43 -> -1.59 | Z44: =X44+V44 -> 6.41 | AA44: =Y44+W44 -> -1.59 | AB44: =IF(G44<>"",VLOOKUP(WEEKDAY(C44,2),Служебный!G$4:H$10,2),"") | AC44: =IF(G43 <> "",TEXT((HOUR(D44)),0)&"-"&TEXT(HOUR(D44)+1,0),"") | AD44: =IF(G44<>"",FLOOR((IF(TEXT(D44,"mm") = "mm",TEXT(D44,"мм"),TEXT(D44,"mm"))),15)/15+1,"") | AE44: =ROUND(((E44+F44)-(C44+D44))*86400,0) -> 0 | AF44: =IF(FLOOR((AE44/60),15)>400,"Среднесрок",FLOOR((AE44/60),15)) -> 0 | AG44: =IFERROR(IF(FLOOR((AE44/86400),1)=0,"интрадей",(FLOOR((AE44/86400),1))-(FLOOR((AE44/86400),1))-NETWORKDAYS(E44,C44)),IF(FLOOR((AE44/86400),1)=0,"интрадей",(FLOOR((AE44/86400),1)))) -> интрадей | AH44: =IF(W44>0,W44,0) -> 0 | AI44: =IF(W44<0,W44,0) -> 0 | AJ44: =IF(G44<>"",YEAR(C44),"") | AK44: =IF(G44<>"",(IF(TEXT(C44,"MMMM") = "MMMM",TEXT(C44,"ММММ"),TEXT(C44,"MMMM"))),"") | AL44: =IF(G44<>"",CEILING((C44-DATE(YEAR(C44),1,1)+WEEKDAY(DATE(YEAR(C44),1,1),2))/7,1),"") | AM44: =IF(AR44<>0,T44,0) -> 0 | AN44: =S44+AN43 -> 8 | AO44: =IFERROR(100*(T44-AN44)/AN44,"Заполните депозит") -> -19.875 | AP44: =IFERROR(100*(T44-T43-S44)/(T43+S44),"Заполните депозит") -> 0 | AQ44: =IF(C44<>C43,Y44,0) -> 0 | AR44: =IF(C44<>C45,AA44,0) -> 0 | AS44: =CEILING(I44,5) -> 0 | AT44: =IF(AR44=0,AT43,IF(W44<0,IF(AT43<0,AT43-1,-1),IF(AT43>0,AT43+1,1))) -> -1
B45: 44 | H45: buy | T45: =T44+S45+W45 -> 6.41 | U45: =L45 -> 0 | V45: =M45 -> 0 | W45: =V45+L45 -> 0 | X45: =X44+V44 -> 6.41 | Y45: =Y44+W44 -> -1.59 | Z45: =X45+V45 -> 6.41 | AA45: =Y45+W45 -> -1.59 | AB45: =IF(G45<>"",VLOOKUP(WEEKDAY(C45,2),Служебный!G$4:H$10,2),"") | AC45: =IF(G44 <> "",TEXT((HOUR(D45)),0)&"-"&TEXT(HOUR(D45)+1,0),"") | AD45: =IF(G45<>"",FLOOR((IF(TEXT(D45,"mm") = "mm",TEXT(D45,"мм"),TEXT(D45,"mm"))),15)/15+1,"") | AE45: =ROUND(((E45+F45)-(C45+D45))*86400,0) -> 0 | AF45: =IF(FLOOR((AE45/60),15)>400,"Среднесрок",FLOOR((AE45/60),15)) -> 0 | AG45: =IFERROR(IF(FLOOR((AE45/86400),1)=0,"интрадей",(FLOOR((AE45/86400),1))-(FLOOR((AE45/86400),1))-NETWORKDAYS(E45,C45)),IF(FLOOR((AE45/86400),1)=0,"интрадей",(FLOOR((AE45/86400),1)))) -> интрадей | AH45: =IF(W45>0,W45,0) -> 0 | AI45: =IF(W45<0,W45,0) -> 0 | AJ45: =IF(G45<>"",YEAR(C45),"") | AK45: =IF(G45<>"",(IF(TEXT(C45,"MMMM") = "MMMM",TEXT(C45,"ММММ"),TEXT(C45,"MMMM"))),"") | AL45: =IF(G45<>"",CEILING((C45-DATE(YEAR(C45),1,1)+WEEKDAY(DATE(YEAR(C45),1,1),2))/7,1),"") | AM45: =IF(AR45<>0,T45,0) -> 0 | AN45: =S45+AN44 -> 8 | AO45: =IFERROR(100*(T45-AN45)/AN45,"Заполните депозит") -> -19.875 | AP45: =IFERROR(100*(T45-T44-S45)/(T44+S45),"Заполните депозит") -> 0 | AQ45: =IF(C45<>C44,Y45,0) -> 0 | AR45: =IF(C45<>C46,AA45,0) -> 0 | AS45: =CEILING(I45,5) -> 0 | AT45: =IF(AR45=0,AT44,IF(W45<0,IF(AT44<0,AT44-1,-1),IF(AT44>0,AT44+1,1))) -> -1
B46: 45 | H46: buy | T46: =T45+S46+W46 -> 6.41 | U46: =L46 -> 0 | V46: =M46 -> 0 | W46: =V46+L46 -> 0 | X46: =X45+V45 -> 6.41 | Y46: =Y45+W45 -> -1.59 | Z46: =X46+V46 -> 6.41 | AA46: =Y46+W46 -> -1.59 | AB46: =IF(G46<>"",VLOOKUP(WEEKDAY(C46,2),Служебный!G$4:H$10,2),"") | AC46: =IF(G45 <> "",TEXT((HOUR(D46)),0)&"-"&TEXT(HOUR(D46)+1,0),"") | AD46: =IF(G46<>"",FLOOR((IF(TEXT(D46,"mm") = "mm",TEXT(D46,"мм"),TEXT(D46,"mm"))),15)/15+1,"") | AE46: =ROUND(((E46+F46)-(C46+D46))*86400,0) -> 0 | AF46: =IF(FLOOR((AE46/60),15)>400,"Среднесрок",FLOOR((AE46/60),15)) -> 0 | AG46: =IFERROR(IF(FLOOR((AE46/86400),1)=0,"интрадей",(FLOOR((AE46/86400),1))-(FLOOR((AE46/86400),1))-NETWORKDAYS(E46,C46)),IF(FLOOR((AE46/86400),1)=0,"интрадей",(FLOOR((AE46/86400),1)))) -> интрадей | AH46: =IF(W46>0,W46,0) -> 0 | AI46: =IF(W46<0,W46,0) -> 0 | AJ46: =IF(G46<>"",YEAR(C46),"") | AK46: =IF(G46<>"",(IF(TEXT(C46,"MMMM") = "MMMM",TEXT(C46,"ММММ"),TEXT(C46,"MMMM"))),"") | AL46: =IF(G46<>"",CEILING((C46-DATE(YEAR(C46),1,1)+WEEKDAY(DATE(YEAR(C46),1,1),2))/7,1),"") | AM46: =IF(AR46<>0,T46,0) -> 0 | AN46: =S46+AN45 -> 8 | AO46: =IFERROR(100*(T46-AN46)/AN46,"Заполните депозит") -> -19.875 | AP46: =IFERROR(100*(T46-T45-S46)/(T45+S46),"Заполните депозит") -> 0 | AQ46: =IF(C46<>C45,Y46,0) -> 0 | AR46: =IF(C46<>C47,AA46,0) -> 0 | AS46: =CEILING(I46,5) -> 0 | AT46: =IF(AR46=0,AT45,IF(W46<0,IF(AT45<0,AT45-1,-1),IF(AT45>0,AT45+1,1))) -> -1
B47: 46 | H47: buy | T47: =T46+S47+W47 -> 6.41 | U47: =L47 -> 0 | V47: =M47 -> 0 | W47: =V47+L47 -> 0 | X47: =X46+V46 -> 6.41 | Y47: =Y46+W46 -> -1.59 | Z47: =X47+V47 -> 6.41 | AA47: =Y47+W47 -> -1.59 | AB47: =IF(G47<>"",VLOOKUP(WEEKDAY(C47,2),Служебный!G$4:H$10,2),"") | AC47: =IF(G46 <> "",TEXT((HOUR(D47)),0)&"-"&TEXT(HOUR(D47)+1,0),"") | AD47: =IF(G47<>"",FLOOR((IF(TEXT(D47,"mm") = "mm",TEXT(D47,"мм"),TEXT(D47,"mm"))),15)/15+1,"") | AE47: =ROUND(((E47+F47)-(C47+D47))*86400,0) -> 0 | AF47: =IF(FLOOR((AE47/60),15)>400,"Среднесрок",FLOOR((AE47/60),15)) -> 0 | AG47: =IFERROR(IF(FLOOR((AE47/86400),1)=0,"интрадей",(FLOOR((AE47/86400),1))-(FLOOR((AE47/86400),1))-NETWORKDAYS(E47,C47)),IF(FLOOR((AE47/86400),1)=0,"интрадей",(FLOOR((AE47/86400),1)))) -> интрадей | AH47: =IF(W47>0,W47,0) -> 0 | AI47: =IF(W47<0,W47,0) -> 0 | AJ47: =IF(G47<>"",YEAR(C47),"") | AK47: =IF(G47<>"",(IF(TEXT(C47,"MMMM") = "MMMM",TEXT(C47,"ММММ"),TEXT(C47,"MMMM"))),"") | AL47: =IF(G47<>"",CEILING((C47-DATE(YEAR(C47),1,1)+WEEKDAY(DATE(YEAR(C47),1,1),2))/7,1),"") | AM47: =IF(AR47<>0,T47,0) -> 0 | AN47: =S47+AN46 -> 8 | AO47: =IFERROR(100*(T47-AN47)/AN47,"Заполните депозит") -> -19.875 | AP47: =IFERROR(100*(T47-T46-S47)/(T46+S47),"Заполните депозит") -> 0 | AQ47: =IF(C47<>C46,Y47,0) -> 0 | AR47: =IF(C47<>C48,AA47,0) -> 0 | AS47: =CEILING(I47,5) -> 0 | AT47: =IF(AR47=0,AT46,IF(W47<0,IF(AT46<0,AT46-1,-1),IF(AT46>0,AT46+1,1))) -> -1
B48: 47 | H48: buy | T48: =T47+S48+W48 -> 6.41 | U48: =L48 -> 0 | V48: =M48 -> 0 | W48: =V48+L48 -> 0 | X48: =X47+V47 -> 6.41 | Y48: =Y47+W47 -> -1.59 | Z48: =X48+V48 -> 6.41 | AA48: =Y48+W48 -> -1.59 | AB48: =IF(G48<>"",VLOOKUP(WEEKDAY(C48,2),Служебный!G$4:H$10,2),"") | AC48: =IF(G47 <> "",TEXT((HOUR(D48)),0)&"-"&TEXT(HOUR(D48)+1,0),"") | AD48: =IF(G48<>"",FLOOR((IF(TEXT(D48,"mm") = "mm",TEXT(D48,"мм"),TEXT(D48,"mm"))),15)/15+1,"") | AE48: =ROUND(((E48+F48)-(C48+D48))*86400,0) -> 0 | AF48: =IF(FLOOR((AE48/60),15)>400,"Среднесрок",FLOOR((AE48/60),15)) -> 0 | AG48: =IFERROR(IF(FLOOR((AE48/86400),1)=0,"интрадей",(FLOOR((AE48/86400),1))-(FLOOR((AE48/86400),1))-NETWORKDAYS(E48,C48)),IF(FLOOR((AE48/86400),1)=0,"интрадей",(FLOOR((AE48/86400),1)))) -> интрадей | AH48: =IF(W48>0,W48,0) -> 0 | AI48: =IF(W48<0,W48,0) -> 0 | AJ48: =IF(G48<>"",YEAR(C48),"") | AK48: =IF(G48<>"",(IF(TEXT(C48,"MMMM") = "MMMM",TEXT(C48,"ММММ"),TEXT(C48,"MMMM"))),"") | AL48: =IF(G48<>"",CEILING((C48-DATE(YEAR(C48),1,1)+WEEKDAY(DATE(YEAR(C48),1,1),2))/7,1),"") | AM48: =IF(AR48<>0,T48,0) -> 0 | AN48: =S48+AN47 -> 8 | AO48: =IFERROR(100*(T48-AN48)/AN48,"Заполните депозит") -> -19.875 | AP48: =IFERROR(100*(T48-T47-S48)/(T47+S48),"Заполните депозит") -> 0 | AQ48: =IF(C48<>C47,Y48,0) -> 0 | AR48: =IF(C48<>C49,AA48,0) -> 0 | AS48: =CEILING(I48,5) -> 0 | AT48: =IF(AR48=0,AT47,IF(W48<0,IF(AT47<0,AT47-1,-1),IF(AT47>0,AT47+1,1))) -> -1
B49: 48 | H49: buy | T49: =T48+S49+W49 -> 6.41 | U49: =L49 -> 0 | V49: =M49 -> 0 | W49: =V49+L49 -> 0 | X49: =X48+V48 -> 6.41 | Y49: =Y48+W48 -> -1.59 | Z49: =X49+V49 -> 6.41 | AA49: =Y49+W49 -> -1.59 | AB49: =IF(G49<>"",VLOOKUP(WEEKDAY(C49,2),Служебный!G$4:H$10,2),"") | AC49: =IF(G48 <> "",TEXT((HOUR(D49)),0)&"-"&TEXT(HOUR(D49)+1,0),"") | AD49: =IF(G49<>"",FLOOR((IF(TEXT(D49,"mm") = "mm",TEXT(D49,"мм"),TEXT(D49,"mm"))),15)/15+1,"") | AE49: =ROUND(((E49+F49)-(C49+D49))*86400,0) -> 0 | AF49: =IF(FLOOR((AE49/60),15)>400,"Среднесрок",FLOOR((AE49/60),15)) -> 0 | AG49: =IFERROR(IF(FLOOR((AE49/86400),1)=0,"интрадей",(FLOOR((AE49/86400),1))-(FLOOR((AE49/86400),1))-NETWORKDAYS(E49,C49)),IF(FLOOR((AE49/86400),1)=0,"интрадей",(FLOOR((AE49/86400),1)))) -> интрадей | AH49: =IF(W49>0,W49,0) -> 0 | AI49: =IF(W49<0,W49,0) -> 0 | AJ49: =IF(G49<>"",YEAR(C49),"") | AK49: =IF(G49<>"",(IF(TEXT(C49,"MMMM") = "MMMM",TEXT(C49,"ММММ"),TEXT(C49,"MMMM"))),"") | AL49: =IF(G49<>"",CEILING((C49-DATE(YEAR(C49),1,1)+WEEKDAY(DATE(YEAR(C49),1,1),2))/7,1),"") | AM49: =IF(AR49<>0,T49,0) -> 0 | AN49: =S49+AN48 -> 8 | AO49: =IFERROR(100*(T49-AN49)/AN49,"Заполните депозит") -> -19.875 | AP49: =IFERROR(100*(T49-T48-S49)/(T48+S49),"Заполните депозит") -> 0 | AQ49: =IF(C49<>C48,Y49,0) -> 0 | AR49: =IF(C49<>C50,AA49,0) -> 0 | AS49: =CEILING(I49,5) -> 0 | AT49: =IF(AR49=0,AT48,IF(W49<0,IF(AT48<0,AT48-1,-1),IF(AT48>0,AT48+1,1))) -> -1
B50: 49 | H50: buy | T50: =T49+S50+W50 -> 6.41 | U50: =L50 -> 0 | V50: =M50 -> 0 | W50: =V50+L50 -> 0 | X50: =X49+V49 -> 6.41 | Y50: =Y49+W49 -> -1.59 | Z50: =X50+V50 -> 6.41 | AA50: =Y50+W50 -> -1.59 | AB50: =IF(G50<>"",VLOOKUP(WEEKDAY(C50,2),Служебный!G$4:H$10,2),"") | AC50: =IF(G49 <> "",TEXT((HOUR(D50)),0)&"-"&TEXT(HOUR(D50)+1,0),"") | AD50: =IF(G50<>"",FLOOR((IF(TEXT(D50,"mm") = "mm",TEXT(D50,"мм"),TEXT(D50,"mm"))),15)/15+1,"") | AE50: =ROUND(((E50+F50)-(C50+D50))*86400,0) -> 0 | AF50: =IF(FLOOR((AE50/60),15)>400,"Среднесрок",FLOOR((AE50/60),15)) -> 0 | AG50: =IFERROR(IF(FLOOR((AE50/86400),1)=0,"интрадей",(FLOOR((AE50/86400),1))-(FLOOR((AE50/86400),1))-NETWORKDAYS(E50,C50)),IF(FLOOR((AE50/86400),1)=0,"интрадей",(FLOOR((AE50/86400),1)))) -> интрадей | AH50: =IF(W50>0,W50,0) -> 0 | AI50: =IF(W50<0,W50,0) -> 0 | AJ50: =IF(G50<>"",YEAR(C50),"") | AK50: =IF(G50<>"",(IF(TEXT(C50,"MMMM") = "MMMM",TEXT(C50,"ММММ"),TEXT(C50,"MMMM"))),"") | AL50: =IF(G50<>"",CEILING((C50-DATE(YEAR(C50),1,1)+WEEKDAY(DATE(YEAR(C50),1,1),2))/7,1),"") | AM50: =IF(AR50<>0,T50,0) -> 0 | AN50: =S50+AN49 -> 8 | AO50: =IFERROR(100*(T50-AN50)/AN50,"Заполните депозит") -> -19.875 | AP50: =IFERROR(100*(T50-T49-S50)/(T49+S50),"Заполните депозит") -> 0 | AQ50: =IF(C50<>C49,Y50,0) -> 0 | AR50: =IF(C50<>C51,AA50,0) -> 0 | AS50: =CEILING(I50,5) -> 0 | AT50: =IF(AR50=0,AT49,IF(W50<0,IF(AT49<0,AT49-1,-1),IF(AT49>0,AT49+1,1))) -> -1
B51: 50 | H51: buy | T51: =T50+S51+W51 -> 6.41 | U51: =L51 -> 0 | V51: =M51 -> 0 | W51: =V51+L51 -> 0 | X51: =X50+V50 -> 6.41 | Y51: =Y50+W50 -> -1.59 | Z51: =X51+V51 -> 6.41 | AA51: =Y51+W51 -> -1.59 | AB51: =IF(G51<>"",VLOOKUP(WEEKDAY(C51,2),Служебный!G$4:H$10,2),"") | AC51: =IF(G50 <> "",TEXT((HOUR(D51)),0)&"-"&TEXT(HOUR(D51)+1,0),"") | AD51: =IF(G51<>"",FLOOR((IF(TEXT(D51,"mm") = "mm",TEXT(D51,"мм"),TEXT(D51,"mm"))),15)/15+1,"") | AE51: =ROUND(((E51+F51)-(C51+D51))*86400,0) -> 0 | AF51: =IF(FLOOR((AE51/60),15)>400,"Среднесрок",FLOOR((AE51/60),15)) -> 0 | AG51: =IFERROR(IF(FLOOR((AE51/86400),1)=0,"интрадей",(FLOOR((AE51/86400),1))-(FLOOR((AE51/86400),1))-NETWORKDAYS(E51,C51)),IF(FLOOR((AE51/86400),1)=0,"интрадей",(FLOOR((AE51/86400),1)))) -> интрадей | AH51: =IF(W51>0,W51,0) -> 0 | AI51: =IF(W51<0,W51,0) -> 0 | AJ51: =IF(G51<>"",YEAR(C51),"") | AK51: =IF(G51<>"",(IF(TEXT(C51,"MMMM") = "MMMM",TEXT(C51,"ММММ"),TEXT(C51,"MMMM"))),"") | AL51: =IF(G51<>"",CEILING((C51-DATE(YEAR(C51),1,1)+WEEKDAY(DATE(YEAR(C51),1,1),2))/7,1),"") | AM51: =IF(AR51<>0,T51,0) -> 0 | AN51: =S51+AN50 -> 8 | AO51: =IFERROR(100*(T51-AN51)/AN51,"Заполните депозит") -> -19.875 | AP51: =IFERROR(100*(T51-T50-S51)/(T50+S51),"Заполните депозит") -> 0 | AQ51: =IF(C51<>C50,Y51,0) -> 0 | AR51: =IF(C51<>C52,AA51,0) -> 0 | AS51: =CEILING(I51,5) -> 0 | AT51: =IF(AR51=0,AT50,IF(W51<0,IF(AT50<0,AT50-1,-1),IF(AT50>0,AT50+1,1))) -> -1
B52: 51 | H52: buy | T52: =T51+S52+W52 -> 6.41 | U52: =L52 -> 0 | V52: =M52 -> 0 | W52: =V52+L52 -> 0 | X52: =X51+V51 -> 6.41 | Y52: =Y51+W51 -> -1.59 | Z52: =X52+V52 -> 6.41 | AA52: =Y52+W52 -> -1.59 | AB52: =IF(G52<>"",VLOOKUP(WEEKDAY(C52,2),Служебный!G$4:H$10,2),"") | AC52: =IF(G51 <> "",TEXT((HOUR(D52)),0)&"-"&TEXT(HOUR(D52)+1,0),"") | AD52: =IF(G52<>"",FLOOR((IF(TEXT(D52,"mm") = "mm",TEXT(D52,"мм"),TEXT(D52,"mm"))),15)/15+1,"") | AE52: =ROUND(((E52+F52)-(C52+D52))*86400,0) -> 0 | AF52: =IF(FLOOR((AE52/60),15)>400,"Среднесрок",FLOOR((AE52/60),15)) -> 0 | AG52: =IFERROR(IF(FLOOR((AE52/86400),1)=0,"интрадей",(FLOOR((AE52/86400),1))-(FLOOR((AE52/86400),1))-NETWORKDAYS(E52,C52)),IF(FLOOR((AE52/86400),1)=0,"интрадей",(FLOOR((AE52/86400),1)))) -> интрадей | AH52: =IF(W52>0,W52,0) -> 0 | AI52: =IF(W52<0,W52,0) -> 0 | AJ52: =IF(G52<>"",YEAR(C52),"") | AK52: =IF(G52<>"",(IF(TEXT(C52,"MMMM") = "MMMM",TEXT(C52,"ММММ"),TEXT(C52,"MMMM"))),"") | AL52: =IF(G52<>"",CEILING((C52-DATE(YEAR(C52),1,1)+WEEKDAY(DATE(YEAR(C52),1,1),2))/7,1),"") | AM52: =IF(AR52<>0,T52,0) -> 0 | AN52: =S52+AN51 -> 8 | AO52: =IFERROR(100*(T52-AN52)/AN52,"Заполните депозит") -> -19.875 | AP52: =IFERROR(100*(T52-T51-S52)/(T51+S52),"Заполните депозит") -> 0 | AQ52: =IF(C52<>C51,Y52,0) -> 0 | AR52: =IF(C52<>C53,AA52,0) -> 0 | AS52: =CEILING(I52,5) -> 0 | AT52: =IF(AR52=0,AT51,IF(W52<0,IF(AT51<0,AT51-1,-1),IF(AT51>0,AT51+1,1))) -> -1
B53: 52 | H53: buy | T53: =T52+S53+W53 -> 6.41 | U53: =L53 -> 0 | V53: =M53 -> 0 | W53: =V53+L53 -> 0 | X53: =X52+V52 -> 6.41 | Y53: =Y52+W52 -> -1.59 | Z53: =X53+V53 -> 6.41 | AA53: =Y53+W53 -> -1.59 | AB53: =IF(G53<>"",VLOOKUP(WEEKDAY(C53,2),Служебный!G$4:H$10,2),"") | AC53: =IF(G52 <> "",TEXT((HOUR(D53)),0)&"-"&TEXT(HOUR(D53)+1,0),"") | AD53: =IF(G53<>"",FLOOR((IF(TEXT(D53,"mm") = "mm",TEXT(D53,"мм"),TEXT(D53,"mm"))),15)/15+1,"") | AE53: =ROUND(((E53+F53)-(C53+D53))*86400,0) -> 0 | AF53: =IF(FLOOR((AE53/60),15)>400,"Среднесрок",FLOOR((AE53/60),15)) -> 0 | AG53: =IFERROR(IF(FLOOR((AE53/86400),1)=0,"интрадей",(FLOOR((AE53/86400),1))-(FLOOR((AE53/86400),1))-NETWORKDAYS(E53,C53)),IF(FLOOR((AE53/86400),1)=0,"интрадей",(FLOOR((AE53/86400),1)))) -> интрадей | AH53: =IF(W53>0,W53,0) -> 0 | AI53: =IF(W53<0,W53,0) -> 0 | AJ53: =IF(G53<>"",YEAR(C53),"") | AK53: =IF(G53<>"",(IF(TEXT(C53,"MMMM") = "MMMM",TEXT(C53,"ММММ"),TEXT(C53,"MMMM"))),"") | AL53: =IF(G53<>"",CEILING((C53-DATE(YEAR(C53),1,1)+WEEKDAY(DATE(YEAR(C53),1,1),2))/7,1),"") | AM53: =IF(AR53<>0,T53,0) -> 0 | AN53: =S53+AN52 -> 8 | AO53: =IFERROR(100*(T53-AN53)/AN53,"Заполните депозит") -> -19.875 | AP53: =IFERROR(100*(T53-T52-S53)/(T52+S53),"Заполните депозит") -> 0 | AQ53: =IF(C53<>C52,Y53,0) -> 0 | AR53: =IF(C53<>C54,AA53,0) -> 0 | AS53: =CEILING(I53,5) -> 0 | AT53: =IF(AR53=0,AT52,IF(W53<0,IF(AT52<0,AT52-1,-1),IF(AT52>0,AT52+1,1))) -> -1
B54: 53 | H54: sell | T54: =T53+S54+W54 -> 6.41 | U54: =L54 -> 0 | V54: =M54 -> 0 | W54: =V54+L54 -> 0 | X54: =X53+V53 -> 6.41 | Y54: =Y53+W53 -> -1.59 | Z54: =X54+V54 -> 6.41 | AA54: =Y54+W54 -> -1.59 | AB54: =IF(G54<>"",VLOOKUP(WEEKDAY(C54,2),Служебный!G$4:H$10,2),"") | AC54: =IF(G53 <> "",TEXT((HOUR(D54)),0)&"-"&TEXT(HOUR(D54)+1,0),"") | AD54: =IF(G54<>"",FLOOR((IF(TEXT(D54,"mm") = "mm",TEXT(D54,"мм"),TEXT(D54,"mm"))),15)/15+1,"") | AE54: =ROUND(((E54+F54)-(C54+D54))*86400,0) -> 0 | AF54: =IF(FLOOR((AE54/60),15)>400,"Среднесрок",FLOOR((AE54/60),15)) -> 0 | AG54: =IFERROR(IF(FLOOR((AE54/86400),1)=0,"интрадей",(FLOOR((AE54/86400),1))-(FLOOR((AE54/86400),1))-NETWORKDAYS(E54,C54)),IF(FLOOR((AE54/86400),1)=0,"интрадей",(FLOOR((AE54/86400),1)))) -> интрадей | AH54: =IF(W54>0,W54,0) -> 0 | AI54: =IF(W54<0,W54,0) -> 0 | AJ54: =IF(G54<>"",YEAR(C54),"") | AK54: =IF(G54<>"",(IF(TEXT(C54,"MMMM") = "MMMM",TEXT(C54,"ММММ"),TEXT(C54,"MMMM"))),"") | AL54: =IF(G54<>"",CEILING((C54-DATE(YEAR(C54),1,1)+WEEKDAY(DATE(YEAR(C54),1,1),2))/7,1),"") | AM54: =IF(AR54<>0,T54,0) -> 0 | AN54: =S54+AN53 -> 8 | AO54: =IFERROR(100*(T54-AN54)/AN54,"Заполните депозит") -> -19.875 | AP54: =IFERROR(100*(T54-T53-S54)/(T53+S54),"Заполните депозит") -> 0 | AQ54: =IF(C54<>C53,Y54,0) -> 0 | AR54: =IF(C54<>C55,AA54,0) -> 0 | AS54: =CEILING(I54,5) -> 0 | AT54: =IF(AR54=0,AT53,IF(W54<0,IF(AT53<0,AT53-1,-1),IF(AT53>0,AT53+1,1))) -> -1
B55: 54 | H55: sell | T55: =T54+S55+W55 -> 6.41 | U55: =L55 -> 0 | V55: =M55 -> 0 | W55: =V55+L55 -> 0 | X55: =X54+V54 -> 6.41 | Y55: =Y54+W54 -> -1.59 | Z55: =X55+V55 -> 6.41 | AA55: =Y55+W55 -> -1.59 | AB55: =IF(G55<>"",VLOOKUP(WEEKDAY(C55,2),Служебный!G$4:H$10,2),"") | AC55: =IF(G54 <> "",TEXT((HOUR(D55)),0)&"-"&TEXT(HOUR(D55)+1,0),"") | AD55: =IF(G55<>"",FLOOR((IF(TEXT(D55,"mm") = "mm",TEXT(D55,"мм"),TEXT(D55,"mm"))),15)/15+1,"") | AE55: =ROUND(((E55+F55)-(C55+D55))*86400,0) -> 0 | AF55: =IF(FLOOR((AE55/60),15)>400,"Среднесрок",FLOOR((AE55/60),15)) -> 0 | AG55: =IFERROR(IF(FLOOR((AE55/86400),1)=0,"интрадей",(FLOOR((AE55/86400),1))-(FLOOR((AE55/86400),1))-NETWORKDAYS(E55,C55)),IF(FLOOR((AE55/86400),1)=0,"интрадей",(FLOOR((AE55/86400),1)))) -> интрадей | AH55: =IF(W55>0,W55,0) -> 0 | AI55: =IF(W55<0,W55,0) -> 0 | AJ55: =IF(G55<>"",YEAR(C55),"") | AK55: =IF(G55<>"",(IF(TEXT(C55,"MMMM") = "MMMM",TEXT(C55,"ММММ"),TEXT(C55,"MMMM"))),"") | AL55: =IF(G55<>"",CEILING((C55-DATE(YEAR(C55),1,1)+WEEKDAY(DATE(YEAR(C55),1,1),2))/7,1),"") | AM55: =IF(AR55<>0,T55,0) -> 0 | AN55: =S55+AN54 -> 8 | AO55: =IFERROR(100*(T55-AN55)/AN55,"Заполните депозит") -> -19.875 | AP55: =IFERROR(100*(T55-T54-S55)/(T54+S55),"Заполните депозит") -> 0 | AQ55: =IF(C55<>C54,Y55,0) -> 0 | AR55: =IF(C55<>C56,AA55,0) -> 0 | AS55: =CEILING(I55,5) -> 0 | AT55: =IF(AR55=0,AT54,IF(W55<0,IF(AT54<0,AT54-1,-1),IF(AT54>0,AT54+1,1))) -> -1
