Workbook
Name безубыток: 'Сводная таблица'!$R$17:INDEX('Сводная таблица'!$R$17:$R$116,MATCH(0,'Сводная таблица'!$AB$17:$AB$116,-1))
Name маржа: 'Сводная таблица'!$AB$17:INDEX('Сводная таблица'!$AB$17:$AB$116,MATCH(0,'Сводная таблица'!$AB$17:$AB$116,-1))
Name прибыль: 'Сводная таблица'!$M$17:INDEX('Сводная таблица'!$M$17:$M$116,MATCH(0,'Сводная таблица'!$AB$17:$AB$116,-1))
Name сетка: 'Сводная таблица'!$G$17:INDEX('Сводная таблица'!$G$17:$G$116,MATCH(0,'Сводная таблица'!$AB$17:$AB$116,-1))
Name ТР: 'Сводная таблица'!$T$17:INDEX('Сводная таблица'!$T$17:$T$116,MATCH(0,'Сводная таблица'!$AB$17:$AB$116,-1))

Sheet Сводная таблица
A1: Параметры сетки | M1: Характеристики пары | Q1: Шаблоны | W1: Характеристика сетки
I2: CalcLotType | J2: =IF(K$2=0,"LastOrder",IF(K$2=1,"MinOrder","ОШИБКА")) -> LastOrder | K2: 0 | M2: Пара | P2: EUR/USD | W2: Длина, пипсов | Z2: =INDEX($G$17:$G$116,MATCH(0,$AB$17:$AB$116,-1)) -> 886 | AB2: =Z2/P5 -> 11.039123 | AC2: Количество, колен | AE2: =MATCH(0,$AB$17:$AB$116,-1) -> 18
A3: TakeProffit | C3: 30 | E3: GridStep | G3: 14 | I3: MinLot | J3: =IF(K$3<0,"д.б. >0","") | K3: 0.03 | M3: Значность | P3: 4 | W3: Прибыль, $ / % | Z3: =SUMPRODUCT($A$17:INDEX($A$17:$A$116,MATCH(0,$AB$17:$AB$116,-1)),$M$17:INDEX($M$17:$M$116,MATCH(0,$AB$17:$AB$116,-1)))/SUM($A$17:INDEX($A$17:$A$116,MATCH(0,$AB$17:$AB$116,-1))) -> 2395.9544 | AB3: =$Z$3/$P$10 -> 0.079865146 | AC3: Шаг, писпсов | AE3: =SUMPRODUCT($A$17:INDEX($A$17:$A$116,MATCH(0,$AB$17:$AB$116,-1)),$F$17:INDEX($F$17:$F$116,MATCH(0,$AB$17:$AB$116,-1)))/SUM($A$17:INDEX($A$17:$A$116,MATCH(0,$AB$17:$AB$116,-1))) -> 68.654971
I4: Mult | J4: =IF(K$4<0,"д.б. >0","") | K4: 1 | M4: Цена пипса, $ | P4: =IF(P3=4,VLOOKUP($P$2,Таблица3[[Валютная пара]:[Цена пункта, $]],3,),(VLOOKUP($P$2,Таблица3[[Валютная пара]:[Цена пункта, $]],3,))/10) -> 10 | W4: Просадка, $ / $ | Z4: =SUMPRODUCT($A$17:INDEX($A$17:$A$116,MATCH(0,$AB$17:$AB$116,-1)),$X$17:INDEX($X$17:$X$116,MATCH(0,$AB$17:$AB$116,-1)))/SUM($A$17:INDEX($A$17:$A$116,MATCH(0,$AB$17:$AB$116,-1))) -> 6240.3314 | AB4: =$Z$4/$P$10 -> 0.20801105 | AC4: Мульт | AE4: =SUMPRODUCT($A$17:INDEX($A$17:$A$116,MATCH(0,$AB$17:$AB$116,-1)),$I$17:INDEX($I$17:$I$116,MATCH(0,$AB$17:$AB$116,-1)))/SUM($A$17:INDEX($A$17:$A$116,MATCH(0,$AB$17:$AB$116,-1))) -> 1.4581871
I5: MultStart | J5: =IF(K$5<2,"д.б. >1","") | K5: 3 | M5: =HYPERLINK("http://ru.investing.com/tools/forex-volatility-calculator","Волатильность") -> Волатильность | P5: =IFERROR(IF(P3=4,IFERROR(VLOOKUP($P$2,Table_0[[Валюта]:[Пипсы]],2,),VLOOKUP($P$2,Table_1[[Валюта]:[Пипсы]],2,)),(IFERROR(VLOOKUP($P$2,Table_0[[Валюта]:[Пипсы]],2,),VLOOKUP($P$2,Table_1[[Валюта]:[Пипсы]],2,)))*10),"Ошибка") -> 80,26 | W5: КПД (прибыль/просадка), % | AB5: =$Z$3/$Z$4 -> 0.38394666 | AC5: Ордер | AE5: =SUMPRODUCT($A$17:INDEX($A$17:$A$116,MATCH(0,$AB$17:$AB$116,-1)),$J$17:INDEX($J$17:$J$116,MATCH(0,$AB$17:$AB$116,-1)))/SUM($A$17:INDEX($A$17:$A$116,MATCH(0,$AB$17:$AB$116,-1))) -> 1.1188421
M6: Комиссия, $ | P6: 0 | W6: БУ, пипсов / % | Z6: =SUMPRODUCT($A$17:INDEX($A$17:$A$116,MATCH(0,$AB$17:$AB$116,-1)),$R$17:INDEX($R$17:$R$116,MATCH(0,$AB$17:$AB$116,-1)))/SUM($A$17:INDEX($A$17:$A$116,MATCH(0,$AB$17:$AB$116,-1))) -> 118.69006 | AB6: =SUMPRODUCT($A$17:INDEX($A$17:$A$116,MATCH(0,$AB$17:$AB$116,-1)),$S$17:INDEX($S$17:$S$116,MATCH(0,$AB$17:$AB$116,-1)))/SUM($A$17:INDEX($A$17:$A$116,MATCH(0,$AB$17:$AB$116,-1))) -> 0.34432749 | AC6: Сумма лотов | AE6: =INDEX($K$17:$K$116,MATCH(0,$AB$17:$AB$116,-1)) -> 11.94
A7: TakeProffit_Level1 | C7: 3 | E7: GridLevel | G7: 8 | I7: MultLevel2 | J7: =IF(K$7<0,"д.б. >=0","") | K7: 4 | M7: Спред | O7: в разработке | W7: ТР, пипсов / % | Z7: =SUMPRODUCT($A$17:INDEX($A$17:$A$116,MATCH(0,$AB$17:$AB$116,-1)),$T$17:INDEX($T$17:$T$116,MATCH(0,$AB$17:$AB$116,-1)))/SUM($A$17:INDEX($A$17:$A$116,MATCH(0,$AB$17:$AB$116,-1))) -> 179.7076 | AB7: =SUMPRODUCT($A$17:INDEX($A$17:$A$116,MATCH(0,$AB$17:$AB$116,-1)),$U$17:INDEX($U$17:$U$116,MATCH(0,$AB$17:$AB$116,-1)))/SUM($A$17:INDEX($A$17:$A$116,MATCH(0,$AB$17:$AB$116,-1))) -> 0.6194152 | AC7: Запас пр-ти, пипсов | AE7: =INDEX($AD$17:$AD$116,MATCH(0,$AB$17:$AB$116,-1)) -> 60.595067 | AH7: 1
A8: TakeProffit_Level1Corr | C8: 3 | E8: GridStep_AddPips | G8: 12 | I8: MultCorr | J8: =IF(AND(K$7=0,K$8<>0),"д.б. =0","") | K8: 0.025 | M8: Залог 1 лот, $ | P8: =VLOOKUP($P$2,Таблица3[[Валютная пара]:[Цена пункта, $]],2,) -> 215.2 | W8: Прибыль последнего колена, $ / % | Z8: =INDEX($M$17:$M$116,MATCH(0,$AB$17:$AB$116,-1)) -> 9313.2 | AB8: =$Z$8/$P$10 -> 0.31044 | AC8: БУ пос-го колена | AE8: =INDEX($S$17:$S$116,MATCH(0,$AB$17:$AB$116,-1)) -> 0.21
J9: =IF(OR(K$7=1,K$7<0,K$10=1,K$10<0,AND(K$7>0,K$5>=K$7),AND(K$10>0,K$5>=K$10),AND(K$7>1,K$10>1,K$7>=K$10),K$13<0,AND(K$13>0,K$5>K$13),AND(K$7>1,K$13>0,K$7>K$13),AND(K$10>1,K$13>0,K$10>K$13)),"ОШИБКА № колен","") | M9: StopOut, % | P9: 0.1 | W9: Прибыль первого колена, $ / % | Z9: =INDEX($M$17:$M$116,1) -> 9 | AC9: ТР пос-го колена | AE9: =INDEX($U$17:$U$116,MATCH(0,$AB$17:$AB$116,-1)) -> 0.3
A10: TakeProffit_Level1_5 | C10: 0 | E10: GridStep_Level2 | G10: 11 | I10: MultLevel3 | J10: =IF(K$10<0,"д.б. >=0","") | K10: 8 | M10: Депо, $ | P10: 30000
A11: TakeProffit_Level1_5Corr | C11: 0 | E11: GridStep_Level2_AddPips | G11: 8 | I11: MultСorrLevel3 | J11: =IF(AND(K$10=0,K$11<>0),"д.б. =0","") | K11: 0.225
A13: TakeProffit_Level2 | C13: 0 | E13: GridStop | G13: 28 | I13: MultStop | J13: =IF(K$13<0,"д.б. >=0","") | K13: 9
A14: TakeProffit_Level2FixPips | C14: 0 | I14: MaxLotCoef | J14: =IF(K$14<0,"д.б. >=0","") | K14: 0
A15: №№ колен | B15: Кор-рект | C15: TP | E15: Коррект | F15: Шаг, пипсов | G15: Сетка пипсов от 1-го ордера | I15: Мульт | J15: Ордер | K15: Лотов сумма | M15: Прибыль, $ / % | O15: $/пипс | P15: Просадка, $ / % | R15: Безубыток, пипсов / % | T15: ТР, пипсов / % | W15: Залог, $ | X15: Просадка + залог, $ (включая комиссию) | Y15: Залог к просадке (включая комиссию) | Z15: Залог к депо, % | AB15: Св.Маржа = Депо - просадка-залог, $ | AC15: Просадка + залог = %%депо | AD15: Max просадка до StopOut в пипсах от: | AF15: №№ ко-лен | AH15: 2
F16: =COUNTIF($F$17:INDEX('Сводная таблица'!$F$17:$F$116,MATCH(0,'Сводная таблица'!$AB$17:$AB$116,-1)),"<0") -> 0 | G16: =COUNTIF($G$17:INDEX('Сводная таблица'!$G$17:$G$116,MATCH(0,'Сводная таблица'!$AB$17:$AB$116,-1)),"<0") -> 0 | I16: =COUNTIF($I$17:INDEX('Сводная таблица'!$I$17:$I$116,MATCH(0,'Сводная таблица'!$AB$17:$AB$116,-1)),"<0") -> 0 | J16: =COUNTIF($J$17:INDEX('Сводная таблица'!$J$17:$J$116,MATCH(0,'Сводная таблица'!$AB$17:$AB$116,-1)),"<0,005") -> 0 | K16: =COUNTIF($K$17:INDEX('Сводная таблица'!$K$17:$K$116,MATCH(0,'Сводная таблица'!$AB$17:$AB$116,-1)),"<0") -> 0 | M16: =COUNTIF($M$17:INDEX('Сводная таблица'!$M$17:$M$116,MATCH(0,'Сводная таблица'!$AB$17:$AB$116,-1)),"<0") -> 0 | O16: =COUNTIF($O$17:INDEX('Сводная таблица'!$O$17:$O$116,MATCH(0,'Сводная таблица'!$AB$17:$AB$116,-1)),"<0") -> 0 | P16: $ | Q16: % депо | R16: Пипсов | S16: %% | T16: Пипсов | U16: %% | W16: =COUNTIF($W$17:INDEX('Сводная таблица'!$W$17:$W$116,MATCH(0,'Сводная таблица'!$AB$17:$AB$116,-1)),"<0") -> 0 | X16: =COUNTIF($X$17:INDEX('Сводная таблица'!$X$17:$X$116,MATCH(0,'Сводная таблица'!$AB$17:$AB$116,-1)),"<0") -> 0 | AD16: Колена N | AE16: 1го ордера
A17: 1 | B17: 0 | C17: =C$3 -> 30 | E17: =IF(OR($A17<2,AND(G$13>0,$A17>G$13)),0,IF(AND($A17>=G$10,G$10>0),G$11,IF(AND($A17>=G$7,G$7>0),G$8,0))) -> 0 | F17: 0 | G17: =F17 -> 0 | I17: =IF(($A17<K$5),1,IF(AND($A17>K$13,K$13>0),I16,IF(AND($A17>=K$10,K$10>0),ROUND(I16+K$11,4),IF(AND($A17>=K$7,K$7>0),ROUND(I16+K$8,4),K$4)))) -> 1 | J17: =IF($A17<K$5, K$3, IF(K$2=0,IF(K$14>0,IF(K$3*K$14<ROUND(J16*I17, 3),K$3*K$14,ROUND(J16*I17, 3)),ROUND(J16*I17, 3)),IF(K$14>0,IF(K$3*K$14<ROUND(K$3*I17, 3),K$3*K$14,ROUND(K$3*I17, 3)),ROUND(K$3*I17, 3)))) -> 0.03 | K17: =J17 -> 0.03 | M17: =ROUND(C17*O17-K17*$P$6,2) -> 9 | N17: =IF($P$10>0,M17/$P$10,0) -> 0.0003 | O17: =ROUND(ROUND(K17,2)*$P$4,2) -> 0.3 | P17: =ROUND(J17*$P$6,2) -> 0 | Q17: =P17/$P$10 -> 0 | R17: =ROUND(P17/O17,0) -> 0 | S17: 0 | T17: =R17+C17 -> 30 | U17: 0 | W17: =ROUND(K17*$P$8,2) -> 6.46 | X17: =ROUND(P17+W17,2) -> 6.46 | Y17: =IF(P17>0,ROUND(W17/P17,2),0) -> 0 | Z17: =IF($P$10>0,ROUND(W17/$P$10,2),0) -> 0 | AB17: =IF($P$10>0,ROUND($P$10-X17,2),0) -> 29993.54 | AC17: =IF($P$10>0,ROUND(X17/$P$10,2),0) -> 0 | AD17: =IF(AND(AB17>0,$P$4>0),($P$10-P17-W17*$P$9)/O17,0) -> 99997.847 | AE17: =IF(AD17>0,AD17+G17,0) -> 99997.847 | AF17: 1
A18: 2 | B18: =IF(AND($A18>=C$13,C$13>0),0,IF(AND($A18>=C$10,C$10>0),C$11,IF(AND($A18>=C$7,C$7>0),C$8,0))) -> 0 | C18: =IF(AND($A18>=C$13,C$13>0),C$14,C17+B18) -> 30 | E18: =IF(OR($A18<2,AND(G$13>0,$A18>G$13)),0,IF(AND($A18>=G$10,G$10>0),G$11,IF(AND($A18>=G$7,G$7>0),G$8,0))) -> 0 | F18: =G$3+E18 -> 14 | G18: =G17+F18 -> 14 | I18: =IF(($A18<K$5),1,IF(AND($A18>K$13,K$13>0),I17,IF(AND($A18>=K$10,K$10>0),ROUND(I17+K$11,4),IF(AND($A18>=K$7,K$7>0),ROUND(I17+K$8,4),K$4)))) -> 1 | J18: =IF($A18<K$5, K$3, IF(K$2=0,IF(K$14>0,IF(K$3*K$14<ROUND(J17*I18, 3),K$3*K$14,ROUND(J17*I18, 3)),ROUND(J17*I18, 3)),IF(K$14>0,IF(K$3*K$14<ROUND(K$3*I18, 3),K$3*K$14,ROUND(K$3*I18, 3)),ROUND(K$3*I18, 3)))) -> 0.03 | K18: =K17+ROUND(J18,2) -> 0.06 | M18: =ROUND(C18*O18-K18*$P$6,2) -> 18 | N18: =IF($P$10>0,M18/$P$10,0) -> 0.0006 | O18: =ROUND(ROUND(K18,2)*$P$4,2) -> 0.6 | P18: =ROUND((ROUND(K17,2)*(G18-G17)*$P$4+P17+J18*$P$6),2) -> 4.2 | Q18: =P18/$P$10 -> 0.00014 | R18: =ROUND(P18/O18,0) -> 7 | S18: =ROUND(R18/G18,2) -> 0.5 | T18: =R18+C18 -> 37 | U18: =ROUND(T18/G18,2) -> 2.64 | W18: =ROUND(K18*$P$8,2) -> 12.91 | X18: =ROUND(P18+W18,2) -> 17.11 | Y18: =IF(P18>0,ROUND(W18/P18,2),0) -> 3.07 | Z18: =IF($P$10>0,ROUND(W18/$P$10,2),0) -> 0 | AB18: =IF($P$10>0,ROUND($P$10-X18,2),0) -> 29982.89 | AC18: =IF($P$10>0,ROUND(X18/$P$10,2),0) -> 0 | AD18: =IF(AND(AB18>0,$P$4>0),($P$10-P18-W18*$P$9)/O18,0) -> 49990.848 | AE18: =IF(AD18>0,AD18+G18,0) -> 50004.848 | AF18: 2
A19: 3 | B19: =IF(AND($A19>=C$13,C$13>0),0,IF(AND($A19>=C$10,C$10>0),C$11,IF(AND($A19>=C$7,C$7>0),C$8,0))) -> 3 | C19: =IF(AND($A19>=C$13,C$13>0),C$14,C18+B19) -> 33 | E19: =IF(OR($A19<2,AND(G$13>0,$A19>G$13)),0,IF(AND($A19>=G$10,G$10>0),G$11,IF(AND($A19>=G$7,G$7>0),G$8,0))) -> 0 | F19: =F18+E19 -> 14 | G19: =G18+F19 -> 28 | I19: =IF(($A19<K$5),1,IF(AND($A19>K$13,K$13>0),I18,IF(AND($A19>=K$10,K$10>0),ROUND(I18+K$11,4),IF(AND($A19>=K$7,K$7>0),ROUND(I18+K$8,4),K$4)))) -> 1 | J19: =IF($A19<K$5, K$3, IF(K$2=0,IF(K$14>0,IF(K$3*K$14<ROUND(J18*I19, 3),K$3*K$14,ROUND(J18*I19, 3)),ROUND(J18*I19, 3)),IF(K$14>0,IF(K$3*K$14<ROUND(K$3*I19, 3),K$3*K$14,ROUND(K$3*I19, 3)),ROUND(K$3*I19, 3)))) -> 0.03 | K19: =K18+ROUND(J19,2) -> 0.09 | M19: =ROUND(C19*O19-K19*$P$6,2) -> 29.7 | N19: =IF($P$10>0,M19/$P$10,0) -> 0.00099 | O19: =ROUND(ROUND(K19,2)*$P$4,2) -> 0.9 | P19: =ROUND((ROUND(K18,2)*(G19-G18)*$P$4+P18+J19*$P$6),2) -> 12.6 | Q19: =P19/$P$10 -> 0.00042 | R19: =ROUND(P19/O19,0) -> 14 | S19: =ROUND(R19/G19,2) -> 0.5 | T19: =R19+C19 -> 47 | U19: =ROUND(T19/G19,2) -> 1.68 | W19: =ROUND(K19*$P$8,2) -> 19.37 | X19: =ROUND(P19+W19,2) -> 31.97 | Y19: =IF(P19>0,ROUND(W19/P19,2),0) -> 1.54 | Z19: =IF($P$10>0,ROUND(W19/$P$10,2),0) -> 0 | AB19: =IF($P$10>0,ROUND($P$10-X19,2),0) -> 29968.03 | AC19: =IF($P$10>0,ROUND(X19/$P$10,2),0) -> 0 | AD19: =IF(AND(AB19>0,$P$4>0),($P$10-P19-W19*$P$9)/O19,0) -> 33317.181 | AE19: =IF(AD19>0,AD19+G19,0) -> 33345.181 | AF19: 3
A20: 4 | B20: =IF(AND($A20>=C$13,C$13>0),0,IF(AND($A20>=C$10,C$10>0),C$11,IF(AND($A20>=C$7,C$7>0),C$8,0))) -> 3 | C20: =IF(AND($A20>=C$13,C$13>0),C$14,C19+B20) -> 36 | E20: =IF(OR($A20<2,AND(G$13>0,$A20>G$13)),0,IF(AND($A20>=G$10,G$10>0),G$11,IF(AND($A20>=G$7,G$7>0),G$8,0))) -> 0 | F20: =F19+E20 -> 14 | G20: =G19+F20 -> 42 | I20: =IF(($A20<K$5),1,IF(AND($A20>K$13,K$13>0),I19,IF(AND($A20>=K$10,K$10>0),ROUND(I19+K$11,4),IF(AND($A20>=K$7,K$7>0),ROUND(I19+K$8,4),K$4)))) -> 1.025 | J20: =IF($A20<K$5, K$3, IF(K$2=0,IF(K$14>0,IF(K$3*K$14<ROUND(J19*I20, 3),K$3*K$14,ROUND(J19*I20, 3)),ROUND(J19*I20, 3)),IF(K$14>0,IF(K$3*K$14<ROUND(K$3*I20, 3),K$3*K$14,ROUND(K$3*I20, 3)),ROUND(K$3*I20, 3)))) -> 0.031 | K20: =K19+ROUND(J20,2) -> 0.12 | M20: =ROUND(C20*O20-K20*$P$6,2) -> 43.2 | N20: =IF($P$10>0,M20/$P$10,0) -> 0.00144 | O20: =ROUND(ROUND(K20,2)*$P$4,2) -> 1.2 | P20: =ROUND((ROUND(K19,2)*(G20-G19)*$P$4+P19+J20*$P$6),2) -> 25.2 | Q20: =P20/$P$10 -> 0.00084 | R20: =ROUND(P20/O20,0) -> 21 | S20: =ROUND(R20/G20,2) -> 0.5 | T20: =R20+C20 -> 57 | U20: =ROUND(T20/G20,2) -> 1.36 | W20: =ROUND(K20*$P$8,2) -> 25.82 | X20: =ROUND(P20+W20,2) -> 51.02 | Y20: =IF(P20>0,ROUND(W20/P20,2),0) -> 1.02 | Z20: =IF($P$10>0,ROUND(W20/$P$10,2),0) -> 0 | AB20: =IF($P$10>0,ROUND($P$10-X20,2),0) -> 29948.98 | AC20: =IF($P$10>0,ROUND(X20/$P$10,2),0) -> 0 | AD20: =IF(AND(AB20>0,$P$4>0),($P$10-P20-W20*$P$9)/O20,0) -> 24976.848 | AE20: =IF(AD20>0,AD20+G20,0) -> 25018.848 | AF20: 4
A21: 5 | B21: =IF(AND($A21>=C$13,C$13>0),0,IF(AND($A21>=C$10,C$10>0),C$11,IF(AND($A21>=C$7,C$7>0),C$8,0))) -> 3 | C21: =IF(AND($A21>=C$13,C$13>0),C$14,C20+B21) -> 39 | E21: =IF(OR($A21<2,AND(G$13>0,$A21>G$13)),0,IF(AND($A21>=G$10,G$10>0),G$11,IF(AND($A21>=G$7,G$7>0),G$8,0))) -> 0 | F21: =F20+E21 -> 14 | G21: =G20+F21 -> 56 | I21: =IF(($A21<K$5),1,IF(AND($A21>K$13,K$13>0),I20,IF(AND($A21>=K$10,K$10>0),ROUND(I20+K$11,4),IF(AND($A21>=K$7,K$7>0),ROUND(I20+K$8,4),K$4)))) -> 1.05 | J21: =IF($A21<K$5, K$3, IF(K$2=0,IF(K$14>0,IF(K$3*K$14<ROUND(J20*I21, 3),K$3*K$14,ROUND(J20*I21, 3)),ROUND(J20*I21, 3)),IF(K$14>0,IF(K$3*K$14<ROUND(K$3*I21, 3),K$3*K$14,ROUND(K$3*I21, 3)),ROUND(K$3*I21, 3)))) -> 0.033 | K21: =K20+ROUND(J21,2) -> 0.15 | M21: =ROUND(C21*O21-K21*$P$6,2) -> 58.5 | N21: =IF($P$10>0,M21/$P$10,0) -> 0.00195 | O21: =ROUND(ROUND(K21,2)*$P$4,2) -> 1.5 | P21: =ROUND((ROUND(K20,2)*(G21-G20)*$P$4+P20+J21*$P$6),2) -> 42 | Q21: =P21/$P$10 -> 0.0014 | R21: =ROUND(P21/O21,0) -> 28 | S21: =ROUND(R21/G21,2) -> 0.5 | T21: =R21+C21 -> 67 | U21: =ROUND(T21/G21,2) -> 1.2 | W21: =ROUND(K21*$P$8,2) -> 32.28 | X21: =ROUND(P21+W21,2) -> 74.28 | Y21: =IF(P21>0,ROUND(W21/P21,2),0) -> 0.77 | Z21: =IF($P$10>0,ROUND(W21/$P$10,2),0) -> 0 | AB21: =IF($P$10>0,ROUND($P$10-X21,2),0) -> 29925.72 | AC21: =IF($P$10>0,ROUND(X21/$P$10,2),0) -> 0 | AD21: =IF(AND(AB21>0,$P$4>0),($P$10-P21-W21*$P$9)/O21,0) -> 19969.848 | AE21: =IF(AD21>0,AD21+G21,0) -> 20025.848 | AF21: 5
A22: 6 | B22: =IF(AND($A22>=C$13,C$13>0),0,IF(AND($A22>=C$10,C$10>0),C$11,IF(AND($A22>=C$7,C$7>0),C$8,0))) -> 3 | C22: =IF(AND($A22>=C$13,C$13>0),C$14,C21+B22) -> 42 | E22: =IF(OR($A22<2,AND(G$13>0,$A22>G$13)),0,IF(AND($A22>=G$10,G$10>0),G$11,IF(AND($A22>=G$7,G$7>0),G$8,0))) -> 0 | F22: =F21+E22 -> 14 | G22: =G21+F22 -> 70 | I22: =IF(($A22<K$5),1,IF(AND($A22>K$13,K$13>0),I21,IF(AND($A22>=K$10,K$10>0),ROUND(I21+K$11,4),IF(AND($A22>=K$7,K$7>0),ROUND(I21+K$8,4),K$4)))) -> 1.075 | J22: =IF($A22<K$5, K$3, IF(K$2=0,IF(K$14>0,IF(K$3*K$14<ROUND(J21*I22, 3),K$3*K$14,ROUND(J21*I22, 3)),ROUND(J21*I22, 3)),IF(K$14>0,IF(K$3*K$14<ROUND(K$3*I22, 3),K$3*K$14,ROUND(K$3*I22, 3)),ROUND(K$3*I22, 3)))) -> 0.035 | K22: =K21+ROUND(J22,2) -> 0.19 | M22: =ROUND(C22*O22-K22*$P$6,2) -> 79.8 | N22: =IF($P$10>0,M22/$P$10,0) -> 0.00266 | O22: =ROUND(ROUND(K22,2)*$P$4,2) -> 1.9 | P22: =ROUND((ROUND(K21,2)*(G22-G21)*$P$4+P21+J22*$P$6),2) -> 63 | Q22: =P22/$P$10 -> 0.0021 | R22: =ROUND(P22/O22,0) -> 33 | S22: =ROUND(R22/G22,2) -> 0.47 | T22: =R22+C22 -> 75 | U22: =ROUND(T22/G22,2) -> 1.07 | W22: =ROUND(K22*$P$8,2) -> 40.89 | X22: =ROUND(P22+W22,2) -> 103.89 | Y22: =IF(P22>0,ROUND(W22/P22,2),0) -> 0.65 | Z22: =IF($P$10>0,ROUND(W22/$P$10,2),0) -> 0 | AB22: =IF($P$10>0,ROUND($P$10-X22,2),0) -> 29896.11 | AC22: =IF($P$10>0,ROUND(X22/$P$10,2),0) -> 0 | AD22: =IF(AND(AB22>0,$P$4>0),($P$10-P22-W22*$P$9)/O22,0) -> 15754.164 | AE22: =IF(AD22>0,AD22+G22,0) -> 15824.164 | AF22: 6
A23: 7 | B23: =IF(AND($A23>=C$13,C$13>0),0,IF(AND($A23>=C$10,C$10>0),C$11,IF(AND($A23>=C$7,C$7>0),C$8,0))) -> 3 | C23: =IF(AND($A23>=C$13,C$13>0),C$14,C22+B23) -> 45 | E23: =IF(OR($A23<2,AND(G$13>0,$A23>G$13)),0,IF(AND($A23>=G$10,G$10>0),G$11,IF(AND($A23>=G$7,G$7>0),G$8,0))) -> 0 | F23: =F22+E23 -> 14 | G23: =G22+F23 -> 84 | I23: =IF(($A23<K$5),1,IF(AND($A23>K$13,K$13>0),I22,IF(AND($A23>=K$10,K$10>0),ROUND(I22+K$11,4),IF(AND($A23>=K$7,K$7>0),ROUND(I22+K$8,4),K$4)))) -> 1.1 | J23: =IF($A23<K$5, K$3, IF(K$2=0,IF(K$14>0,IF(K$3*K$14<ROUND(J22*I23, 3),K$3*K$14,ROUND(J22*I23, 3)),ROUND(J22*I23, 3)),IF(K$14>0,IF(K$3*K$14<ROUND(K$3*I23, 3),K$3*K$14,ROUND(K$3*I23, 3)),ROUND(K$3*I23, 3)))) -> 0.039 | K23: =K22+ROUND(J23,2) -> 0.23 | M23: =ROUND(C23*O23-K23*$P$6,2) -> 103.5 | N23: =IF($P$10>0,M23/$P$10,0) -> 0.00345 | O23: =ROUND(ROUND(K23,2)*$P$4,2) -> 2.3 | P23: =ROUND((ROUND(K22,2)*(G23-G22)*$P$4+P22+J23*$P$6),2) -> 89.6 | Q23: =P23/$P$10 -> 0.0029866667 | R23: =ROUND(P23/O23,0) -> 39 | S23: =ROUND(R23/G23,2) -> 0.46 | T23: =R23+C23 -> 84 | U23: =ROUND(T23/G23,2) -> 1 | W23: =ROUND(K23*$P$8,2) -> 49.5 | X23: =ROUND(P23+W23,2) -> 139.1 | Y23: =IF(P23>0,ROUND(W23/P23,2),0) -> 0.55 | Z23: =IF($P$10>0,ROUND(W23/$P$10,2),0) -> 0 | AB23: =IF($P$10>0,ROUND($P$10-X23,2),0) -> 29860.9 | AC23: =IF($P$10>0,ROUND(X23/$P$10,2),0) -> 0 | AD23: =IF(AND(AB23>0,$P$4>0),($P$10-P23-W23*$P$9)/O23,0) -> 13002.37 | AE23: =IF(AD23>0,AD23+G23,0) -> 13086.37 | AF23: 7
A24: 8 | B24: =IF(AND($A24>=C$13,C$13>0),0,IF(AND($A24>=C$10,C$10>0),C$11,IF(AND($A24>=C$7,C$7>0),C$8,0))) -> 3 | C24: =IF(AND($A24>=C$13,C$13>0),C$14,C23+B24) -> 48 | E24: =IF(OR($A24<2,AND(G$13>0,$A24>G$13)),0,IF(AND($A24>=G$10,G$10>0),G$11,IF(AND($A24>=G$7,G$7>0),G$8,0))) -> 12 | F24: =F23+E24 -> 26 | G24: =G23+F24 -> 110 | I24: =IF(($A24<K$5),1,IF(AND($A24>K$13,K$13>0),I23,IF(AND($A24>=K$10,K$10>0),ROUND(I23+K$11,4),IF(AND($A24>=K$7,K$7>0),ROUND(I23+K$8,4),K$4)))) -> 1.325 | J24: =IF($A24<K$5, K$3, IF(K$2=0,IF(K$14>0,IF(K$3*K$14<ROUND(J23*I24, 3),K$3*K$14,ROUND(J23*I24, 3)),ROUND(J23*I24, 3)),IF(K$14>0,IF(K$3*K$14<ROUND(K$3*I24, 3),K$3*K$14,ROUND(K$3*I24, 3)),ROUND(K$3*I24, 3)))) -> 0.052 | K24: =K23+ROUND(J24,2) -> 0.28 | M24: =ROUND(C24*O24-K24*$P$6,2) -> 134.4 | N24: =IF($P$10>0,M24/$P$10,0) -> 0.00448 | O24: =ROUND(ROUND(K24,2)*$P$4,2) -> 2.8 | P24: =ROUND((ROUND(K23,2)*(G24-G23)*$P$4+P23+J24*$P$6),2) -> 149.4 | Q24: =P24/$P$10 -> 0.00498 | R24: =ROUND(P24/O24,0) -> 53 | S24: =ROUND(R24/G24,2) -> 0.48 | T24: =R24+C24 -> 101 | U24: =ROUND(T24/G24,2) -> 0.92 | W24: =ROUND(K24*$P$8,2) -> 60.26 | X24: =ROUND(P24+W24,2) -> 209.66 | Y24: =IF(P24>0,ROUND(W24/P24,2),0) -> 0.4 | Z24: =IF($P$10>0,ROUND(W24/$P$10,2),0) -> 0 | AB24: =IF($P$10>0,ROUND($P$10-X24,2),0) -> 29790.34 | AC24: =IF($P$10>0,ROUND(X24/$P$10,2),0) -> 0.01 | AD24: =IF(AND(AB24>0,$P$4>0),($P$10-P24-W24*$P$9)/O24,0) -> 10658.776 | AE24: =IF(AD24>0,AD24+G24,0) -> 10768.776 | AF24: 8
A25: 9 | B25: =IF(AND($A25>=C$13,C$13>0),0,IF(AND($A25>=C$10,C$10>0),C$11,IF(AND($A25>=C$7,C$7>0),C$8,0))) -> 3 | C25: =IF(AND($A25>=C$13,C$13>0),C$14,C24+B25) -> 51 | E25: =IF(OR($A25<2,AND(G$13>0,$A25>G$13)),0,IF(AND($A25>=G$10,G$10>0),G$11,IF(AND($A25>=G$7,G$7>0),G$8,0))) -> 12 | F25: =F24+E25 -> 38 | G25: =G24+F25 -> 148 | I25: =IF(($A25<K$5),1,IF(AND($A25>K$13,K$13>0),I24,IF(AND($A25>=K$10,K$10>0),ROUND(I24+K$11,4),IF(AND($A25>=K$7,K$7>0),ROUND(I24+K$8,4),K$4)))) -> 1.55 | J25: =IF($A25<K$5, K$3, IF(K$2=0,IF(K$14>0,IF(K$3*K$14<ROUND(J24*I25, 3),K$3*K$14,ROUND(J24*I25, 3)),ROUND(J24*I25, 3)),IF(K$14>0,IF(K$3*K$14<ROUND(K$3*I25, 3),K$3*K$14,ROUND(K$3*I25, 3)),ROUND(K$3*I25, 3)))) -> 0.081 | K25: =K24+ROUND(J25,2) -> 0.36 | M25: =ROUND(C25*O25-K25*$P$6,2) -> 183.6 | N25: =IF($P$10>0,M25/$P$10,0) -> 0.00612 | O25: =ROUND(ROUND(K25,2)*$P$4,2) -> 3.6 | P25: =ROUND((ROUND(K24,2)*(G25-G24)*$P$4+P24+J25*$P$6),2) -> 255.8 | Q25: =P25/$P$10 -> 0.0085266667 | R25: =ROUND(P25/O25,0) -> 71 | S25: =ROUND(R25/G25,2) -> 0.48 | T25: =R25+C25 -> 122 | U25: =ROUND(T25/G25,2) -> 0.82 | W25: =ROUND(K25*$P$8,2) -> 77.47 | X25: =ROUND(P25+W25,2) -> 333.27 | Y25: =IF(P25>0,ROUND(W25/P25,2),0) -> 0.3 | Z25: =IF($P$10>0,ROUND(W25/$P$10,2),0) -> 0 | AB25: =IF($P$10>0,ROUND($P$10-X25,2),0) -> 29666.73 | AC25: =IF($P$10>0,ROUND(X25/$P$10,2),0) -> 0.01 | AD25: =IF(AND(AB25>0,$P$4>0),($P$10-P25-W25*$P$9)/O25,0) -> 8260.1258 | AE25: =IF(AD25>0,AD25+G25,0) -> 8408.1258 | AF25: 9
A26: 10 | B26: =IF(AND($A26>=C$13,C$13>0),0,IF(AND($A26>=C$10,C$10>0),C$11,IF(AND($A26>=C$7,C$7>0),C$8,0))) -> 3 | C26: =IF(AND($A26>=C$13,C$13>0),C$14,C25+B26) -> 54 | E26: =IF(OR($A26<2,AND(G$13>0,$A26>G$13)),0,IF(AND($A26>=G$10,G$10>0),G$11,IF(AND($A26>=G$7,G$7>0),G$8,0))) -> 12 | F26: =F25+E26 -> 50 | G26: =G25+F26 -> 198 | I26: =IF(($A26<K$5),1,IF(AND($A26>K$13,K$13>0),I25,IF(AND($A26>=K$10,K$10>0),ROUND(I25+K$11,4),IF(AND($A26>=K$7,K$7>0),ROUND(I25+K$8,4),K$4)))) -> 1.55 | J26: =IF($A26<K$5, K$3, IF(K$2=0,IF(K$14>0,IF(K$3*K$14<ROUND(J25*I26, 3),K$3*K$14,ROUND(J25*I26, 3)),ROUND(J25*I26, 3)),IF(K$14>0,IF(K$3*K$14<ROUND(K$3*I26, 3),K$3*K$14,ROUND(K$3*I26, 3)),ROUND(K$3*I26, 3)))) -> 0.126 | K26: =K25+ROUND(J26,2) -> 0.49 | M26: =ROUND(C26*O26-K26*$P$6,2) -> 264.6 | N26: =IF($P$10>0,M26/$P$10,0) -> 0.00882 | O26: =ROUND(ROUND(K26,2)*$P$4,2) -> 4.9 | P26: =ROUND((ROUND(K25,2)*(G26-G25)*$P$4+P25+J26*$P$6),2) -> 435.8 | Q26: =P26/$P$10 -> 0.014526667 | R26: =ROUND(P26/O26,0) -> 89 | S26: =ROUND(R26/G26,2) -> 0.45 | T26: =R26+C26 -> 143 | U26: =ROUND(T26/G26,2) -> 0.72 | W26: =ROUND(K26*$P$8,2) -> 105.45 | X26: =ROUND(P26+W26,2) -> 541.25 | Y26: =IF(P26>0,ROUND(W26/P26,2),0) -> 0.24 | Z26: =IF($P$10>0,ROUND(W26/$P$10,2),0) -> 0 | AB26: =IF($P$10>0,ROUND($P$10-X26,2),0) -> 29458.75 | AC26: =IF($P$10>0,ROUND(X26/$P$10,2),0) -> 0.02 | AD26: =IF(AND(AB26>0,$P$4>0),($P$10-P26-W26*$P$9)/O26,0) -> 6031.3582 | AE26: =IF(AD26>0,AD26+G26,0) -> 6229.3582 | AF26: 10
A27: 11 | B27: =IF(AND($A27>=C$13,C$13>0),0,IF(AND($A27>=C$10,C$10>0),C$11,IF(AND($A27>=C$7,C$7>0),C$8,0))) -> 3 | C27: =IF(AND($A27>=C$13,C$13>0),C$14,C26+B27) -> 57 | E27: =IF(OR($A27<2,AND(G$13>0,$A27>G$13)),0,IF(AND($A27>=G$10,G$10>0),G$11,IF(AND($A27>=G$7,G$7>0),G$8,0))) -> 8 | F27: =F26+E27 -> 58 | G27: =G26+F27 -> 256 | I27: =IF(($A27<K$5),1,IF(AND($A27>K$13,K$13>0),I26,IF(AND($A27>=K$10,K$10>0),ROUND(I26+K$11,4),IF(AND($A27>=K$7,K$7>0),ROUND(I26+K$8,4),K$4)))) -> 1.55 | J27: =IF($A27<K$5, K$3, IF(K$2=0,IF(K$14>0,IF(K$3*K$14<ROUND(J26*I27, 3),K$3*K$14,ROUND(J26*I27, 3)),ROUND(J26*I27, 3)),IF(K$14>0,IF(K$3*K$14<ROUND(K$3*I27, 3),K$3*K$14,ROUND(K$3*I27, 3)),ROUND(K$3*I27, 3)))) -> 0.195 | K27: =K26+ROUND(J27,2) -> 0.69 | M27: =ROUND(C27*O27-K27*$P$6,2) -> 393.3 | N27: =IF($P$10>0,M27/$P$10,0) -> 0.01311 | O27: =ROUND(ROUND(K27,2)*$P$4,2) -> 6.9 | P27: =ROUND((ROUND(K26,2)*(G27-G26)*$P$4+P26+J27*$P$6),2) -> 720 | Q27: =P27/$P$10 -> 0.024 | R27: =ROUND(P27/O27,0) -> 104 | S27: =ROUND(R27/G27,2) -> 0.41 | T27: =R27+C27 -> 161 | U27: =ROUND(T27/G27,2) -> 0.63 | W27: =ROUND(K27*$P$8,2) -> 148.49 | X27: =ROUND(P27+W27,2) -> 868.49 | Y27: =IF(P27>0,ROUND(W27/P27,2),0) -> 0.21 | Z27: =IF($P$10>0,ROUND(W27/$P$10,2),0) -> 0 | AB27: =IF($P$10>0,ROUND($P$10-X27,2),0) -> 29131.51 | AC27: =IF($P$10>0,ROUND(X27/$P$10,2),0) -> 0.03 | AD27: =IF(AND(AB27>0,$P$4>0),($P$10-P27-W27*$P$9)/O27,0) -> 4241.3262 | AE27: =IF(AD27>0,AD27+G27,0) -> 4497.3262 | AF27: 11
A28: 12 | B28: =IF(AND($A28>=C$13,C$13>0),0,IF(AND($A28>=C$10,C$10>0),C$11,IF(AND($A28>=C$7,C$7>0),C$8,0))) -> 3 | C28: =IF(AND($A28>=C$13,C$13>0),C$14,C27+B28) -> 60 | E28: =IF(OR($A28<2,AND(G$13>0,$A28>G$13)),0,IF(AND($A28>=G$10,G$10>0),G$11,IF(AND($A28>=G$7,G$7>0),G$8,0))) -> 8 | F28: =F27+E28 -> 66 | G28: =G27+F28 -> 322 | I28: =IF(($A28<K$5),1,IF(AND($A28>K$13,K$13>0),I27,IF(AND($A28>=K$10,K$10>0),ROUND(I27+K$11,4),IF(AND($A28>=K$7,K$7>0),ROUND(I27+K$8,4),K$4)))) -> 1.55 | J28: =IF($A28<K$5, K$3, IF(K$2=0,IF(K$14>0,IF(K$3*K$14<ROUND(J27*I28, 3),K$3*K$14,ROUND(J27*I28, 3)),ROUND(J27*I28, 3)),IF(K$14>0,IF(K$3*K$14<ROUND(K$3*I28, 3),K$3*K$14,ROUND(K$3*I28, 3)),ROUND(K$3*I28, 3)))) -> 0.302 | K28: =K27+ROUND(J28,2) -> 0.99 | M28: =ROUND(C28*O28-K28*$P$6,2) -> 594 | N28: =IF($P$10>0,M28/$P$10,0) -> 0.0198 | O28: =ROUND(ROUND(K28,2)*$P$4,2) -> 9.9 | P28: =ROUND((ROUND(K27,2)*(G28-G27)*$P$4+P27+J28*$P$6),2) -> 1175.4 | Q28: =P28/$P$10 -> 0.03918 | R28: =ROUND(P28/O28,0) -> 119 | S28: =ROUND(R28/G28,2) -> 0.37 | T28: =R28+C28 -> 179 | U28: =ROUND(T28/G28,2) -> 0.56 | W28: =ROUND(K28*$P$8,2) -> 213.05 | X28: =ROUND(P28+W28,2) -> 1388.45 | Y28: =IF(P28>0,ROUND(W28/P28,2),0) -> 0.18 | Z28: =IF($P$10>0,ROUND(W28/$P$10,2),0) -> 0.01 | AB28: =IF($P$10>0,ROUND($P$10-X28,2),0) -> 28611.55 | AC28: =IF($P$10>0,ROUND(X28/$P$10,2),0) -> 0.05 | AD28: =IF(AND(AB28>0,$P$4>0),($P$10-P28-W28*$P$9)/O28,0) -> 2909.4237 | AE28: =IF(AD28>0,AD28+G28,0) -> 3231.4237 | AF28: 12
A29: 13 | B29: =IF(AND($A29>=C$13,C$13>0),0,IF(AND($A29>=C$10,C$10>0),C$11,IF(AND($A29>=C$7,C$7>0),C$8,0))) -> 3 | C29: =IF(AND($A29>=C$13,C$13>0),C$14,C28+B29) -> 63 | E29: =IF(OR($A29<2,AND(G$13>0,$A29>G$13)),0,IF(AND($A29>=G$10,G$10>0),G$11,IF(AND($A29>=G$7,G$7>0),G$8,0))) -> 8 | F29: =F28+E29 -> 74 | G29: =G28+F29 -> 396 | I29: =IF(($A29<K$5),1,IF(AND($A29>K$13,K$13>0),I28,IF(AND($A29>=K$10,K$10>0),ROUND(I28+K$11,4),IF(AND($A29>=K$7,K$7>0),ROUND(I28+K$8,4),K$4)))) -> 1.55 | J29: =IF($A29<K$5, K$3, IF(K$2=0,IF(K$14>0,IF(K$3*K$14<ROUND(J28*I29, 3),K$3*K$14,ROUND(J28*I29, 3)),ROUND(J28*I29, 3)),IF(K$14>0,IF(K$3*K$14<ROUND(K$3*I29, 3),K$3*K$14,ROUND(K$3*I29, 3)),ROUND(K$3*I29, 3)))) -> 0.468 | K29: =K28+ROUND(J29,2) -> 1.46 | M29: =ROUND(C29*O29-K29*$P$6,2) -> 919.8 | N29: =IF($P$10>0,M29/$P$10,0) -> 0.03066 | O29: =ROUND(ROUND(K29,2)*$P$4,2) -> 14.6 | P29: =ROUND((ROUND(K28,2)*(G29-G28)*$P$4+P28+J29*$P$6),2) -> 1908 | Q29: =P29/$P$10 -> 0.0636 | R29: =ROUND(P29/O29,0) -> 131 | S29: =ROUND(R29/G29,2) -> 0.33 | T29: =R29+C29 -> 194 | U29: =ROUND(T29/G29,2) -> 0.49 | W29: =ROUND(K29*$P$8,2) -> 314.19 | X29: =ROUND(P29+W29,2) -> 2222.19 | Y29: =IF(P29>0,ROUND(W29/P29,2),0) -> 0.16 | Z29: =IF($P$10>0,ROUND(W29/$P$10,2),0) -> 0.01 | AB29: =IF($P$10>0,ROUND($P$10-X29,2),0) -> 27777.81 | AC29: =IF($P$10>0,ROUND(X29/$P$10,2),0) -> 0.07 | AD29: =IF(AND(AB29>0,$P$4>0),($P$10-P29-W29*$P$9)/O29,0) -> 1921.9576 | AE29: =IF(AD29>0,AD29+G29,0) -> 2317.9576 | AF29: 13
A30: 14 | B30: =IF(AND($A30>=C$13,C$13>0),0,IF(AND($A30>=C$10,C$10>0),C$11,IF(AND($A30>=C$7,C$7>0),C$8,0))) -> 3 | C30: =IF(AND($A30>=C$13,C$13>0),C$14,C29+B30) -> 66 | E30: =IF(OR($A30<2,AND(G$13>0,$A30>G$13)),0,IF(AND($A30>=G$10,G$10>0),G$11,IF(AND($A30>=G$7,G$7>0),G$8,0))) -> 8 | F30: =F29+E30 -> 82 | G30: =G29+F30 -> 478 | I30: =IF(($A30<K$5),1,IF(AND($A30>K$13,K$13>0),I29,IF(AND($A30>=K$10,K$10>0),ROUND(I29+K$11,4),IF(AND($A30>=K$7,K$7>0),ROUND(I29+K$8,4),K$4)))) -> 1.55 | J30: =IF($A30<K$5, K$3, IF(K$2=0,IF(K$14>0,IF(K$3*K$14<ROUND(J29*I30, 3),K$3*K$14,ROUND(J29*I30, 3)),ROUND(J29*I30, 3)),IF(K$14>0,IF(K$3*K$14<ROUND(K$3*I30, 3),K$3*K$14,ROUND(K$3*I30, 3)),ROUND(K$3*I30, 3)))) -> 0.725 | K30: =K29+ROUND(J30,2) -> 2.19 | M30: =ROUND(C30*O30-K30*$P$6,2) -> 1445.4 | N30: =IF($P$10>0,M30/$P$10,0) -> 0.04818 | O30: =ROUND(ROUND(K30,2)*$P$4,2) -> 21.9 | P30: =ROUND((ROUND(K29,2)*(G30-G29)*$P$4+P29+J30*$P$6),2) -> 3105.2 | Q30: =P30/$P$10 -> 0.10350667 | R30: =ROUND(P30/O30,0) -> 142 | S30: =ROUND(R30/G30,2) -> 0.3 | T30: =R30+C30 -> 208 | U30: =ROUND(T30/G30,2) -> 0.44 | W30: =ROUND(K30*$P$8,2) -> 471.29 | X30: =ROUND(P30+W30,2) -> 3576.49 | Y30: =IF(P30>0,ROUND(W30/P30,2),0) -> 0.15 | Z30: =IF($P$10>0,ROUND(W30/$P$10,2),0) -> 0.02 | AB30: =IF($P$10>0,ROUND($P$10-X30,2),0) -> 26423.51 | AC30: =IF($P$10>0,ROUND(X30/$P$10,2),0) -> 0.12 | AD30: =IF(AND(AB30>0,$P$4>0),($P$10-P30-W30*$P$9)/O30,0) -> 1225.9211 | AE30: =IF(AD30>0,AD30+G30,0) -> 1703.9211 | AF30: 14
... A116: 100 | B116: =IF(AND($A116>=C$13,C$13>0),0,IF(AND($A116>=C$10,C$10>0),C$11,IF(AND($A116>=C$7,C$7>0),C$8,0))) -> 3 | C116: =IF(AND($A116>=C$13,C$13>0),C$14,C115+B116) -> 324 | E116: =IF(OR($A116<2,AND(G$13>0,$A116>G$13)),0,IF(AND($A116>=G$10,G$10>0),G$11,IF(AND($A116>=G$7,G$7>0),G$8,0))) -> 0 | F116: =F115+E116 -> 194 | G116: =G115+F116 -> 16434 | I116: =IF(($A116<K$5),1,IF(AND($A116>K$13,K$13>0),I115,IF(AND($A116>=K$10,K$10>0),ROUND(I115+K$11,4),IF(AND($A116>=K$7,K$7>0),ROUND(I115+K$8,4),K$4)))) -> 1.55 | J116: =IF($A116<K$5, K$3, IF(K$2=0,IF(K$14>0,IF(K$3*K$14<ROUND(J115*I116, 3),K$3*K$14,ROUND(J115*I116, 3)),ROUND(J115*I116, 3)),IF(K$14>0,IF(K$3*K$14<ROUND(K$3*I116, 3),K$3*K$14,ROUND(K$3*I116, 3)),ROUND(K$3*I116, 3)))) -> 1.693991e+16 | K116: =K115+ROUND(J116,2) -> 4.7739745e+16 | M116: =ROUND(C116*O116-K116*$P$6,2) -> 1.5467677e+20 | N116: =IF($P$10>0,M116/$P$10,0) -> 5.1558925e+15 | O116: =ROUND(ROUND(K116,2)*$P$4,2) -> 4.7739745e+17 | P116: =ROUND((ROUND(K115,2)*(G116-G115)*$P$4+P115+J116*$P$6),2) -> 1.683911e+20 | Q116: =P116/$P$10 -> 5.6130367e+15 | R116: =ROUND(P116/O116,0) -> 353 | S116: =ROUND(R116/G116,2) -> 0.02 | T116: =R116+C116 -> 677 | U116: =ROUND(T116/G116,2) -> 0.04 | W116: =ROUND(K116*$P$8,2) -> 1.0273593e+19 | X116: =ROUND(P116+W116,2) -> 1.7866469e+20 | Y116: =IF(P116>0,ROUND(W116/P116,2),0) -> 0.06 | Z116: =IF($P$10>0,ROUND(W116/$P$10,2),0) -> 342453104661020 | AB116: =IF($P$10>0,ROUND($P$10-X116,2),0) -> -1.7866469e+20 | AC116: =IF($P$10>0,ROUND(X116/$P$10,2),0) -> 5.9554898e+15 | AD116: =IF(AND(AB116>0,$P$4>0),($P$10-P116-W116*$P$9)/O116,0) -> 0 | AE116: =IF(AD116>0,AD116+G116,0) -> 0 | AF116: 100
B120: 1 | F120: 2 | J120: 3 | Q120: 4 | X120: 5 | AD120: 6

Sheet График

Sheet Залоги и Цена пункта
A1: Заполняется вручную, согласно типу счета и торгуемым условиям вашего брокера
B7: 42689 | D7: 1:500 | E7: 4-хзнак
A9: №№ пп | B9: Валютная пара | C9: Залог, $ | D9: Цена пункта, $ | E9: Спред
A10: 1 | B10: AUD/CAD | C10: 151.14 | D10: 7.39 | E10: 8
A11: =A10+1 -> 2 | B11: AUD/CHF | C11: 151.14 | D11: 10 | E11: 8
A12: =A11+1 -> 3 | B12: AUD/JPY | C12: 151.14 | D12: 9.24 | E12: 6
A13: =A12+1 -> 4 | B13: AUD/NZD | C13: 151.14 | D13: 7.11 | E13: 10
A14: =A13+1 -> 5 | B14: AUD/USD | C14: 151.18 | D14: 10 | E14: 4
A15: =A14+1 -> 6 | B15: CAD/CHF | C15: 147.87 | D15: 10 | E15: 8
A16: =A15+1 -> 7 | B16: CAD/JPY | C16: 147.87 | D16: 9.24 | E16: 6
A17: =A16+1 -> 8 | B17: CHF/JPY | C17: 200.16 | D17: 9.24 | E17: 8
A18: =A17+1 -> 9 | B18: EUR/AUD | C18: 215.18 | D18: 7.56 | E18: 10
A19: =A18+1 -> 10 | B19: EUR/CAD | C19: 215.18 | D19: 7.39 | E19: 8
A20: =A19+1 -> 11 | B20: EUR/CHF | C20: 215.18 | D20: 10 | E20: 6
A21: =A20+1 -> 12 | B21: EUR/JPY | C21: 215.18 | D21: 9.24 | E21: 4
A22: =A21+1 -> 13 | B22: EUR/GBP | C22: 215.18 | D22: 12.43 | E22: 3
... A37: =A36+1 -> 28 | B37: USD/JPY | C37: 200 | D37: 9.24 | E37: 3

Sheet Волатильность
A1: Column1 | B1: Валюта | C1: Пипсы | D1: % | E1: Column1 | F1: Валюта | G1: Пипсы | H1: % | J1: Таблица обновляется автоматически при откртыии модели с сайта: | Q1: =HYPERLINK("http://ru.investing.com/tools/forex-volatility-calculator","investing.com") -> investing.com
B2: AUD/CAD | C2: 81,36 | D2: 0,83 | F2: GBP/NZD | G2: 199,48 | H2: 1,18 | J2: Ручное обновление: вкладка Данные > Обновить все
B3: AUD/CHF | C3: 70,10 | D3: 0,93 | F3: GBP/USD | G3: 117,16 | H3: 0,97
B4: AUD/JPY | C4: 91,10 | D4: 1,07 | F4: NZD/JPY | G4: 81,14 | H4: 1,00
B5: AUD/NZD | C5: 86,96 | D5: 0,83 | F5: NZD/USD | G5: 74,06 | H5: 1,04
B6: AUD/USD | C6: 68,96 | D6: 0,92 | F6: USD/BRL | G6: 360,32 | H6: 1,11
B7: BTC/EUR | C7: 4,979,75 | D7: 6,33 | F7: USD/CAD | G7: 93,70 | H7: 0,71
B8: BTC/USD | C8: 5,467,50 | D8: 6,55 | F8: USD/CHF | G8: 74,86 | H8: 0,74
B9: CAD/CHF | C9: 58,56 | D9: 0,76 | F9: USD/CNY | G9: 191,24 | H9: 0,28
B10: CAD/JPY | C10: 81,58 | D10: 0,94 | F10: USD/DKK | G10: 505,94 | H10: 0,72
B11: CHF/JPY | C11: 96,60 | D11: 0,86 | F11: USD/HKD | G11: 31,24 | H11: 0,04
B12: EUR/AUD | C12: 124,12 | D12: 0,88 | F12: USD/ILS | G12: 277,06 | H12: 0,72
B13: EUR/CAD | C13: 109,24 | D13: 0,78 | F13: USD/INR | G13: 242,34 | H13: 0,36
B14: EUR/CHF | C14: 53,66 | D14: 0,50 | F14: USD/JPY | G14: 112,04 | H14: 0,98
... B22: GBP/JPY | C22: 159,64 | D22: 1,16 | F22: XAU/USD | G22: 1,299,52 | H22: 1,08
