Workbook

Sheet Лист1
K1: ПАРАМЕТРЫ СЕТКИ (в модели) | AL1: main_settings | AX1: Filters_Part1 | BE1: TradeControl_ByDrawdown | BQ1: sell_step_settings | CA1: sell_lot_settings | CO1: sell_tp_settings | CX1: buy_step_settings | DH1: buy_lot_settings | DV1: buy_tp_settings | EE1: without_indicator_settings | EL1: gap_settings | EX1: vol_filter_settings | FB1: sheduler_settings | FC1: sheduler_trade_week_settings | FJ1: sheduler_new_position_pause_settings | GE1: sheduler_trade_day_settings | HT1: sheduler_trade_pause_settings | IO1: sheduler_trade_stop_settings | KD1: sheduler_close_all_order_settings | KG1: other_settings
A2: Автор | B2: версия советника | C2: символ | D2: период тестирования | E2: метод тестирования | F2: Прибыль | G2: Просадка | H2: Прибыльность | I2: КОЛЕН | J2: ДЕПОЗИТ | K2: TakeProffit | L2: TakeProffit_Level1 | M2: TakeProffit_Level1Corr | N2: TakeProffit_Level1_5 | O2: TakeProffit_Level1_5Corr | P2: TakeProffit_Level2 | Q2: TakeProffit_Level2FixPips | R2: GridStep | S2: GridLevel | T2: GridStep_AddPips | U2: GridStep_Level2 | V2: GridStep_Level2_AddPips | W2: Grid3 | X2: Grid3Add | Y2: GridStop | Z2: CalcLotType | AA2: MinLot | AB2: Mult | AC2: MultStart | AD2: MultLevel2 | AE2: MultCorr | AF2: MultLevel3 | AG2: MultСorrLevel3 | AH2: Mult3 | AI2: Mult3Add | AJ2: MultStop | AK2: MaxLotCoef | AL2: main_settings | AM2: TradeSell | AN2: TradeBuy | AO2: S_OpenFirstOrder | AP2: B_OpenFirstOrder | AQ2: S_CloseAllOrders | AR2: B_CloseAllOrders | AS2: S_PauseOnClose | AT2: B_PauseOnClose | AU2: MagicNumber | AV2: AddComment | AW2: ReflectSellSettingsToBuy | AX2: Filters_Part1 | AY2: MaxSpread | AZ2: MaxSpreadStopTradingTimining | BA2: MinLeverage | BB2: MinTimeStep | BC2: MaxTradePairs | BD2: CurrencyBlock | BE2: TradeControl_ByDrawdown | BF2: No1Order_ByDrawdownPercent | BG2: No1Order_ByDrawdownPercent_Off | BH2: StopTrade_ByDrawdownPercent | BI2: StopTrade_ByDrawdownPercent_Off | BJ2: StopTrade_ByDrawdownMoney | BK2: StopTrade_ByDrawdownMoney_Off | BL2: CloseAllOrders_ByProfitPercent | BM2: CloseAllOrders_ByProfitMoney | BN2: CloseAllOrders_ByDrawdownPercent | BO2: CloseAllOrders_ByDrawdownMoney | BP2: CloseAllOrders_ByDrawdown_StopTrade | BQ2: sell_step_settings | BR2: S_MaxOpenOrders | BS2: S_GridStep | BT2: S_GridLevel | BU2: S_GridStep_AddPips | BV2: S_GridStep_Level2 | BW2: S_GridStep_Level2_AddPips | BX2: S_Grid3 | BY2: S_Grid3Add | BZ2: S_GridStop | CA2: sell_lot_settings | CB2: S_CalcLotType | CC2: S_CurrencyForMinlot | CD2: S_MinLot | CE2: S_Mult | CF2: S_MultStart | CG2: S_MultLevel2 | CH2: S_MultCorr | CI2: S_MultLevel3 | CJ2: S_MultСorrLevel3 | CK2: S_Mult3 | CL2: S_Mult3Add | CM2: S_MultStop | CN2: S_MaxLotCoef | CO2: sell_tp_settings | CP2: S_TakeProffitType | CQ2: S_TakeProffit | CR2: S_TakeProffit_Level1 | CS2: S_TakeProffit_Level1Corr | CT2: S_TakeProffit_Level1_5 | CU2: S_TakeProffit_Level1_5Corr | CV2: S_TakeProffit_Level2 | CW2: S_TakeProffit_Level2FixPips | CX2: buy_step_settings | CY2: B_MaxOpenOrders | CZ2: B_GridStep | DA2: B_GridLevel | DB2: B_GridStep_AddPips | DC2: B_GridStep_Level2 | DD2: B_GridStep_Level2_AddPips | DE2: B_Grid3 | DF2: B_Grid3Add | DG2: B_GridStop | DH2: buy_lot_settings | DI2: B_CalcLotType | DJ2: B_CurrencyForMinlot | DK2: B_MinLot | DL2: B_Mult | DM2: B_MultStart | DN2: B_MultLevel2 | DO2: B_MultCorr | DP2: B_MultLevel3 | DQ2: B_MultСorrLevel3 | DR2: B_Mult3 | DS2: B_Mult3Add | DT2: B_MultStop | DU2: B_MaxLotCoef | DV2: buy_tp_settings | DW2: B_TakeProffitType | DX2: B_TakeProffit | DY2: B_TakeProffit_Level1 | DZ2: B_TakeProffit_Level1Corr | EA2: B_TakeProffit_Level1_5 | EB2: B_TakeProffit_Level1_5Corr | EC2: B_TakeProffit_Level2 | ED2: B_TakeProffit_Level2FixPips | EE2: without_indicator_settings | EF2: OpenFirstOrderTF | EG2: CandlesToOpen1Order | EH2: CandlesToOpen1Order_OpenClose | EI2: CandlesToOpen1Order_MinPips | EJ2: CandlesToOpen1Order_MaxPips | EK2: ReversSignalToOpen1Order | EL2: gap_settings | EM2: GapControl | EN2: GapMaxStopOrders | EO2: GapMinDistanceFromMarket | EP2: S_GapMinPips | EQ2: S_GapMinPercent | ER2: S_GapLotKoef | ES2: S_GapLastOrderKoef | ET2: B_GapMinPips | EU2: B_GapMinPercent | EV2: B_GapLotKoef | EW2: B_GapLastOrderKoef | EX2: vol_filter_settings | EY2: VolCandleTF | EZ2: VolCandleMaxSize | FA2: VolStopTradeTimining | FB2: sheduler_settings | FC2: sheduler_trade_week_settings | FD2: TradeStartDay | FE2: TradeStartHour | FF2: TradeStartMinute | FG2: TradeEndDay | FH2: TradeEndHour | FI2: TradeEndMinute | FJ2: sheduler_new_position_pause_settings | FK2: NewPositionPause1Start | FL2: NewPositionPause1End | FM2: NewPositionPause2Start | FN2: NewPositionPause2End | FO2: NewPositionPause3Start | FP2: NewPositionPause3End | FQ2: NewPositionPause4Start | FR2: NewPositionPause4End | FS2: NewPositionPause5Start | FT2: NewPositionPause5End | FU2: NewPositionPause6Start | FV2: NewPositionPause6End | FW2: NewPositionPause7Start | FX2: NewPositionPause7End | FY2: NewPositionPause8Start | FZ2: NewPositionPause8End | GA2: NewPositionPause9Start | GB2: NewPositionPause9End | GC2: NewPositionPause10Start | GD2: NewPositionPause10End | GE2: sheduler_trade_day_settings | GF2: IntraDay1StartHour | GG2: IntraDay1StartMinute | GH2: IntraDay1EndHour | GI2: IntraDay1EndMinute | GJ2: IntraDay2StartHour | GK2: IntraDay2StartMinute | GL2: IntraDay2EndHour | GM2: IntraDay2EndMinute | GN2: IntraDay3StartHour | GO2: IntraDay3StartMinute | GP2: IntraDay3EndHour | GQ2: IntraDay3EndMinute | GR2: IntraDay4StartHour | GS2: IntraDay4StartMinute | GT2: IntraDay4EndHour | GU2: IntraDay4EndMinute | GV2: IntraDay5StartHour | GW2: IntraDay5StartMinute | GX2: IntraDay5EndHour | GY2: IntraDay5EndMinute | GZ2: IntraDay6StartHour | HA2: IntraDay6StartMinute | HB2: IntraDay6EndHour | HC2: IntraDay6EndMinute | HD2: IntraDay7StartHour | HE2: IntraDay7StartMinute | HF2: IntraDay7EndHour | HG2: IntraDay7EndMinute | HH2: IntraDay8StartHour | HI2: IntraDay8StartMinute | HJ2: IntraDay8EndHour | HK2: IntraDay8EndMinute | HL2: IntraDay9StartHour | HM2: IntraDay9StartMinute | HN2: IntraDay9EndHour | HO2: IntraDay9EndMinute | HP2: IntraDay10StartHour | HQ2: IntraDay10StartMinute | HR2: IntraDay10EndHour | HS2: IntraDay10EndMinute | HT2: sheduler_trade_pause_settings | HU2: TradePause1Start | HV2: TradePause1End | HW2: TradePause2Start | HX2: TradePause2End | HY2: TradePause3Start | HZ2: TradePause3End | IA2: TradePause4Start | IB2: TradePause4End | IC2: TradePause5Start | ID2: TradePause5End | IE2: TradePause6Start | IF2: TradePause6End | IG2: TradePause7Start | IH2: TradePause7End | II2: TradePause8Start | IJ2: TradePause8End | IK2: TradePause9Start | IL2: TradePause9End | IM2: TradePause10Start | IN2: TradePause10End | IO2: sheduler_trade_stop_settings | IP2: IntraDayStopTrade1StartHour | IQ2: IntraDayStopTrade1StartMinute | IR2: IntraDayStopTrade1EndHour | IS2: IntraDayStopTrade1EndMinute | IT2: IntraDayStopTrade2StartHour | IU2: IntraDayStopTrade2StartMinute | IV2: IntraDayStopTrade2EndHour | IW2: IntraDayStopTrade2EndMinute | IX2: IntraDayStopTrade3StartHour | IY2: IntraDayStopTrade3StartMinute | IZ2: IntraDayStopTrade3EndHour | JA2: IntraDayStopTrade3EndMinute | JB2: IntraDayStopTrade4StartHour | JC2: IntraDayStopTrade4StartMinute | JD2: IntraDayStopTrade4EndHour | JE2: IntraDayStopTrade4EndMinute | JF2: IntraDayStopTrade5StartHour | JG2: IntraDayStopTrade5StartMinute | JH2: IntraDayStopTrade5EndHour | JI2: IntraDayStopTrade5EndMinute | JJ2: IntraDayStopTrade6StartHour | JK2: IntraDayStopTrade6StartMinute | JL2: IntraDayStopTrade6EndHour | JM2: IntraDayStopTrade6EndMinute | JN2: IntraDayStopTrade7StartHour | JO2: IntraDayStopTrade7StartMinute | JP2: IntraDayStopTrade7EndHour | JQ2: IntraDayStopTrade7EndMinute | JR2: IntraDayStopTrade8StartHour | JS2: IntraDayStopTrade8StartMinute | JT2: IntraDayStopTrade8EndHour | JU2: IntraDayStopTrade8EndMinute | JV2: IntraDayStopTrade9StartHour | JW2: IntraDayStopTrade9StartMinute | JX2: IntraDayStopTrade9EndHour | JY2: IntraDayStopTrade9EndMinute | JZ2: IntraDayStopTrade10StartHour | KA2: IntraDayStopTrade10StartMinute | KB2: IntraDayStopTrade10EndHour | KC2: IntraDayStopTrade10EndMinute | KD2: sheduler_close_all_order_settings | KE2: CloseAllOrders_EveryDay_Hour | KF2: CloseAllOrders_EveryDay_Minute | KG2: other_settings | KH2: TAKEPROFFITControlTiming | KI2: TAKEPROFFITControlNoLossFixPips | KJ2: FinalGridDate | KK2: GlobalParamsUpdateTiming | KL2: LogVerbose
AL3: Общие настройки и управление торгами | AM3: ( true | false ) ( 1 | 0 ) - разрешить | запретить открывать Sell ордера и выставлять SellStop отложки. Применяется немедленно и действует неограниченно долго, пока вы не прикажете/зададите противоположное. Запрет открывать/выставлять ордера может вводиться/отменяться в любой момент времени и вне зависимости от того, есть или нет ордера на графике. | AN3: ( true | false ) ( 1 | 0 ) - разрешить | запретить открывать Buy ордера и выставлять BuyStop отложки. | AO3: ( true | false ) ( 1 | 0 ) - разрешить | запретить боту самому открывать первый ордер Sell сетки. Запрет боту открывать первый ордер новой сетки используется: - при полуавтоматической торговле (тогда первый ордер выставляет трейдер или другой бот) или - для планового вывода бота из торгов после закрытия сетки по ТР. Запрет боту открывать первый ордер сетки может вводиться/отменяться в любой момент времени и вне зависимости от того, есть или нет ордера на графике. | AP3: ( true | false ) ( 1 | 0 ) - разрешить | запретить боту самому открывать первый ордер Buy сетки | AQ3: ( false | true ) ( 0 | 1 ) - когда вы зададите S_CloseAllOrders = true, то по близкой к текущей цене будут сколь возможно быстро закрыты все Sell ордера и удалены все SellStop отложки. !!!После применения опции и закрытия всех ордеров Sell сетки, вы должны самостоятельно, руками задать S_CloseAllOrders = false - иначе все открываемые ботом Sell ордера будут немедленно закрываться! | AR3: ( false | true ) ( 0 | 1 ) - когда вы зададите В_CloseAllOrders = true, то по близкой к текущей цене будут сколь возможно быстро закрыты все Buy ордера и удалены все BuyStop отложки. !!!После применения опции и закрытия всех ордеров сетки, вы должны самостоятельно, руками задать B_CloseAllOrders = false - иначе все открываемые ботом Вuy ордера будут немедленно закрываться! | AS3: Количество минут запрета открытия первого рыночного ордера Sell сетки после закрытия Sell сетки по ТР. Это временное включение опции S_OpenFirstOrder = false | AT3: Количество минут запрета открытия первого рыночного ордера Buy сетки после закрытия Buy сетки по ТР. Это временное включение опции B_OpenFirstOrder = false | AU3: Магик номер - одинаковый № (идентификатор) всех ордеров Buy и Sell сеток данной копии бота. Любое целое число. Чаще не обязательно, но весьма рекомендуется в каждой копии бота задавать свой магик. !!!При торгах на одной валютной паре на одном счете 2-х и более копий бота разные магики у всех копий бота на данной валютной паре строго обязательны - а в мультиторгах лишь рекомендуются. | AV3: Ваш текстовый комментарий к ордерам (например, цифры магика или текст). Размещается слева от комментария к ордерам бота. Дефолтно пуст. Удобен при торгах 2+ копиями бота, в т.ч. на одном графике. В разных ДЦ и на разных счетах может отличаться допустимый размер вашего комментария и применяемые в нем символы. Где-то коммент разрешат более длинный, а где-то есть не разрешенные символы. В одном из ДЦ, например, допустимо в AddComment задавать не более 11 знаков. Допускаются пробелы (можно даже несколько один за другим), а также /.,;:\|<>"'-_. Но не все символы в ДЦ разрешены. !!!Если в AddComment вы зададите не разрешенные в конкретном ДЦ символы, кириллицу, более длинный коммент - тогда в терминале не будет виден не только ваш коммент, но и комментарий самого бота | AW3: Применять или нет настройки Sell сеток в Buy сетках - будут симметричные или нет настройки в обеих сетках бота. Если задать = true, то настройки будут симметричными и Вам достаточно задавать настройки только для Sell сетки - а в Buy сетке будут использоваться копии настроек для Sell сетки. Если задать = false, то настройки Sell и Buy сеток будут разными и Вам их надо задавать раздельно для Sell и Buy сеток. | AX3: Фильтры спрэда, плеча, частоты открытия ордеров и одновременно торгуемых пар и валют | AY3: ( =0 - контроль отключен) Предельный размер спрэда в пипсах, до превышения которого боту разрешено открывать рыночные ордера и выставлять отложки в обеих сетках торгуемой ботом валютной пары. Спрэд проверяется только тогда, когда есть условия для открытия ордера. Если текущий спрэд превысит MaxSpread, открытие/выставление ордеров блокируется на MaxSpreadStopTradingTimining секунд. !!!Применение опции в тестере ограничено или нельзя. На счетах с фиксированным спрэдом применение опции может быть крайне редким и блокировать работу бота от десятков минут до нескольких суток! | AZ3: Количество секунд паузы в торгах (запрета открывать рыночные ордера и выставлять отложки в обеих сетках торгуемой пары), если текущий спрэд стал больше величины, заданной в параметре MaxSpread. | BA3: минимальное плечо, при котором разрешено открывать 1-е ордера сеток (новые сетки) на торгуемой данной копией бота паре. Если плечо стало меньше указанного - запрет открывать 1-е ордера сеток, действующий до увеличения плеча до указанного в параметре. Уже имеющиеся сетки Бот будет пытаться достраивать и при плече меньше указанного вами. При MinLeverage=0 контроль плеча отключен. | BB3: MinTimeStep -- минимальная пауза между открытием ордеров в секундах. Дефолтно MinTimeStep=0 отключено. Пауза между открытием ордеров в sell и buy сетках контролируется раздельно/автономно, отсчет времени паузы ведется от момента открытия очередного рыночного ордера sell и buy сетки или активировавшейся отложки. Выставленные, но не активировавшиеся отложки не учитываются. При всей простоте, опция "хитрая" и многофункциональная. Во-первых, она позволяет "не частить" с открытием ордеров при сильном или трендовом движении цены, "растягивая" сетку и/или провоцируя выставление отложек вместо открытия рыночных ордеров. Во-вторых, опция онлайн и в тестере приемлемо заменяет режим открытия ордеров на новом баре. Например, при MinTimeStep=900 ордера будут открываться не чаще, чем раз в 15 минут вне зависимости от движения цены за это время. !!!злоупотреблять опцией не рекомендуется. На флэтовом рынке (или при больших значениях) применение опции может привести к потере прибыли - или даже не выставлению старших ордеров сетки, часто критично важных для скорейшего закрытия сетки по ТР на достаточных коррекции/откате. | BC3: ( =0 - отключено ) Опция влияет на количество одновременно (сейчас) торгуемых валютных пар на всем счете при мультивалютных торгах. Учитываются все ордера - как открытые вручную, так и ботами… Задается максимальное количество одновременно торгуемых пар на всем счете, до достижения которого (включая данную пару) данной копии бота разрешено открывать 1-е ордера сеток (новые сетки). Если опция включена и на счете торгуется (есть ордера) пар более чем MaxTradePairs (включая валютную пару данного бота) - открытие первого ордера сетки (новой сетки) в данной копии бота блокируется. То есть это опция самоограничения только данной копии бота на одной паре по факту и только в данный момент: если на счете уже есть ордера MaxTradePairs пар - данный бот новую сетку не откроет. Т.к. для каждой валютной пары параметр задается раздельно, вы можете одним парам разрешать торговать целой толпой, а другим парам ограничивать вход в рынок от единиц торгующих одновременно пар. !!Опция не учитывает магики, поэтому несколько копий бота, торгующих на одной паре и раздельно строящих каждый свои сетки, опцией MaxTradePairs будут ошибочно считаться как одна пара (1 бот на паре) | BD3: Опция ограничивает одновременную торговую активность нескольких копий бота на одном счете на разных валютных парах - контролируя сколько раз каждая валюта (из пары) на счете продана и куплена, включая валютную пару с графика, к которой прикреплена данная копия бота. Учитываются все ордера на счете с любыми магиками и без - как открытые вручную/скриптом, так и другими ботами… Опция контролирует (по всему счету) не количество ордеров с каждой из валют торгуемой данным ботом валютной пары, а лишь факт покупок и продаж каждой из валют пары во всех парах на счете. При этом покупка/продажа валют в валютных парах по всему счету интерпретируется ботом стандартно. Для пары ВАЛ1/ВАЛ2: sell продажа ВАЛ1 и покупка ВАЛ2 - buy покупка ВАЛ1 и продажа ВАЛ2. Т.е. если, например, в моменте есть 8 sell ордеров eurusd, то опция учитывает это "по факту" - как 1 (одну) продажу eur и 1 (одну) покупку usd. Т.е. только как "направление" операций с каждой валютой парыЕсли же, в этот же момент, на счете открыты еще 7 Sell ордеров gbpusd, то обе копии бота (с графиков eurusd и gbpusd) одновременно "видят" на счете 1 продажу eur, 1 продажу gbp и 2 (две) покупки usd. CurrencyBlock=0 - в денной копии бота отключен контроль количества покупок/продаж на счете каждой из валют пары бота. CurrencyBlock=Х - каждая из 2-х валют (ВАЛ1/ВАЛ2) валютной пары этой копии бота одновременно может продаваться и покупаться не более чем Х раз в любом количестве валютных пар на всём счете. И если, с учетом запрошенного в боте к открытию первого ордера sell или buy сетки, количество покупок или продаж любой из 2-х валют пары превысит Х раз, открытие первого ордера сетки только в этой копии бота блокируется - до следующей проверки (этой копией бота, но на всём счете) возможности открытия первого ордера одной из сеток. То есть это опция самоограничения только данной копии бота на одной паре по факту и только в данный момент: если на счете в моменте уже есть Х покупок или Х продаж одной из валют пары графика копии бота и открытие запрошенного первого ордера sell или buy сетки приведет к превышению ограничения Х покупок или продаж одной из валют пары бота - данная копия бота новую сетку не откроет. !!!Так как для каждой копии бота параметр задается раздельно, вы можете задавать ботам разные значения CurrencyBlock и этим проектировать очень гибкие и сложные варианты мультивалютных торгов. !!!Опция не учитывает магики, поэтому несколько копий бота, торгующих на одной паре и раздельно строящих каждый свои сетки, опцией CurrencyBlock будут ошибочно считаться как ордера лишь 1 (одного) бота на паре - и каждый бот на счете будет ошибочно засчитывать/интерпретировать ордера всех копий бота на этой одной паре как лишь 1 покупку и 1 продажу каждой из 2-х валют этой валютной пары. | BE3: Управление торгами в зависимости от просадки | BF3: ( =0 - отключено) Запрет открывать первые ордера Buy и Sell сеток, если общая просадка (всех бота и чужих рыночных ордеров, что есть на счете) превышает указанный вами % баланса счета. (например, =65) Касается только новых сеток - уже открытые сетки растут и сопровождаются без ограничений. Значение параметра в каждой копии бота задается индивидуально и действует только на "своей" валютной паре. На одних парах открытие новых сеток вы можете запрещать при меньшей просадке на счете - а на других парах запрещать открытие первых ордеров сеток позже, давая этим парам больше свободы торгов. | BG3: ( =0 - отключено) позволяет задать, начиная с какого уровня общей (суммарной) просадки всех пар на счете (в % от баланса), этой копии бота снова разрешается открывать первые ордера сеток | BH3: ( =0 - отключено) Запрет открытия/выставления ордеров (в той сетке торгуемой копией бота пары, которая в большей просадке) после достижении указываемой вами просадки в % от депо (например, =65). Просадка считается только от ордеров торгуемой валютной пары с одним магиком, открытых данной копией бота. | BI3: ( =0 - отключено) Обратный параметр позволяет задать, начиная с какого уровня просадки в % от депо, снова разрешается открывать/выставлять ордера в просевшей бай или сэлл сетке (например, =62). Просадка считается только от ордеров торгуемой валютной пары с одним магиком, открытых данной копией бота. | BJ3: ( =0 - отключено) Запрет открытия/выставления ордеров (в той сетке торгуемой копией бота пары, которая в большей просадке) после достижения просадки, равной указанной вами сумме в валюте счета (например, =3000). Просадка считается только от ордеров торгуемой валютной пары с одним магиком, открытых данной копией бота. | BK3: ( =0 - отключено) Обратный параметр позволяет задать, начиная с какого уровня просадки в валюте счета снова разрешается открывать/выставлять ордера в просевшей бай или сэлл сетке (например, =2700) Просадка считается только от ордеров торгуемой валютной пары с одним магиком, открытых данной копией бота. | BL3: ( =0 - отключено) Закрытие по текущей цене всех Buy и Sell ордеров (с одним магиком) одной валютной пары - по достижении этими ордерами прибыли, равной указанному % от депо. Учитывается прибыль+просадка buy+sell ордеров, открытых только данной копией бота с одним магиком на данной/одной валютной паре - и закрываются все buy+sell ордера только с этим одним магиком. Если на счете будет торговать несколько копий бота (не лишне с разными магиками), то в каждой копии бота можно будет задать свои/разные значения параметра CloseAllOrders_ByProfitPercent. | BM3: ( =0 - отключено) Закрытие по текущей цене всех Buy и Sell ордеров (с одним магиком) одной валютной пары - по достижении этими ордерами прибыли, равной указанной сумме в валюте счета ($). Учитывается прибыль+просадка buy+sell ордеров, открытых только данной копией бота с одним магиком на данной/одной валютной паре - и закрываются все buy+sell ордера только с этим одним магиком. Если на счете будет торговать несколько копий бота (не лишне с разными магиками), то в каждой копии бота можно будет задать свои/разные значения параметра CloseAllOrders_ByProfitMoney. | BN3: ( =0 - отключено) Закрытие по текущей цене всех Buy и Sell ордеров по достижении просадки в % от депо. Учитывается просадка только от ордеров, открытых данной копией бота на данной валютной паре. | BO3: ( =0 - отключено) Закрытие по текущей цене всех Buy и Sell ордеров по достижении просадки, равной указанной сумме в валюте счета. Просадка считается только от ордеров, открытых данной копией бота. !!!Опция очень важна для тестирования ботов, так как позволяет выполнять долгосрочное тестирование с фиксированным лотом с имитацией вывода всей прибыли сверх депо (так, как будто счет реальный). Также опция даёт редкую в мартинах возможность адекватного тестирования всевозможных разгонных торгов со сколь угодно малыми депо-камикадзе, корректно используя ордера с фиксированным лотом. | BP3: ( false | true ) ( 0 | 1 ) - блокировать работу бота после закрытия всех ордеров обеих сеток вследствие достижения (на данной торгуемой копией бота паре) просадки, большей максимально разрешенной вами. Это дополнительный параметр, работающий только в связке с одной из опций CloseAllOrders_ByDrawdownPercent или CloseAllOrders_ByDrawdownMoney (если хоть одна из них включена) и только в этой одной копии бота. | BQ3: SELL сетки - настройки шагов, количества колен и длины сетки | BR3: Максимальное количество SELL ордеров (колен), которое вы разрешаете боту открыть в SELL сетке | BS3: Начальный шаг SELL сетки в пипсах | BT3: № п/п ордера (колена) SELL сетки, начиная с которого (включительно) текущий шаг SELL сетки будет корректироваться (на каждом колене) на S_GridStep_AddPips пипсов. Если S_GridLevel>0 (1-я опция коррекции шага сетки включена) и S_GridStop>0, то должна соблюдаться пропорция S_GridStop>= S_GridLevel. | BU3: Количество пипсов, на которое будет корректироваться текущий шаг SELL сетки на каждом колене, начиная с колена S_GridLevel. Может быть =0, >0 и даже <0 | BV3: № п/п ордера (колена) SELL сетки, начиная с которого (включительно) текущий шаг SELL сетки будет корректироваться (на каждом колене) на S_GridStep_Level2_AddPips пипсов. Если S_GridStep_Level2>0 (2-я опция коррекции шага сетки включена) и S_GridStop>0, то должны соблюдаться пропорции S_GridStop>= S_GridStep_Level2 и S_GridStep_Level2> S_GridLevel. | BW3: Количество пипсов, на которое будет корректироваться текущий шаг SELL сетки на каждом колене, начиная с колена S_GridStep_Level2. Может быть =0, >0 и даже <0 | BX3: № п/п ордера (колена) SELL сетки, начиная с которого (включительно) текущий шаг SELL сетки будет корректироваться (на каждом колене) на S_Grid3Add пипсов. Если S_Grid3>0 (3-я опция коррекции шага сетки включена) и S_GridStop>0, то должны соблюдаться пропорции S_GridStop>= S_Grid3 и S_Grid3> S_GridStep_Level2> S_GridLevel. | BY3: Количество пипсов, на которое будет корректироваться текущий шаг SELL сетки на каждом колене, начиная с колена S_Grid3. Может быть =0, >0 и даже <0 | BZ3: Если =0 - отключен. Если S_GridStop>0, то это № колена, на котором коррекции/поправки шага сетки (S_GridStep_AddPips, S_GridStep_Level2_AddPips или S_Grid3Add) срабатывают/применяются последний раз. До конца сетки (после S_GridStop колена) шаг становится фиксированным и равным шагу сетки на S_GridStop колене. | CA3: SELL сетки - min ордер и множители лота всех колен | CB3: S_CalcLotType = LastOrder|MinOrder - переключатель сомножителя мульта очередного N-го колена SELL сетки. При CalcLotType = LastOrder на мульт текущего N-го колена сетки умножается лот ордера предшествующего N-1 колена SELL сетки (умножается предыдущий ордер). При CalcLotType = MinOrder на мульт текущего N-го колена сетки всегда умножается лот 1-го (первого) минимального ордера сетки. Лот 1-го ордера сетки может быть динамическим (S_CurrencyForMinlot>0). При CalcLotType = LastOrder и CalcLotType = MinOrder все иные/остальные параметры управления мультом и лотом ордера применимы и функционируют одинаково. | CC3: Вычисления лота первого ордера SELL сетки в зависимости от баланса счета (мини ММ). Если S_CurrencyForMinlot=0, то ММ отключен - лот первого ордера SELL сетки фиксированный и всегда равен S_MinLot. К примеру, если вы задали S_CurrencyForMinlot = 3000 и S_MinLot = 0.01, то при балансе счета менее 6000 первый ордер будет =0.01 лота - а при балансе счета от 6000 до 8999 первый ордер будет =0.02 лота. | CD3: Лот 1 -го (первого) минимального ордера сетки | CE3: Начальный множитель лота для ордеров SELL сетки. Чаще всего лот очередного открываемого ордера сетки = лоту последнего ордера SELL сетки * S_Mult (с или без коррекции) | CF3: № п/п ордера (колена) SELL сетки, начиная с которого начинает применяться S_Mult. До округления лот ордера S_MultStart колена = S_MinLot * S_Mult | CG3: № п/п ордера (колена) SELL сетки, начиная с которого (включительно) текущее/расчетное значение множителя лота SELL сетки (начиная с S_Mult) корректируется на величину S_MultCorr (на каждом колене). Если S_MultLevel2>0 (1-я опция коррекции мульта сетки включена), то должны соблюдаться пропорции S_MultLevel2> S_MultStart (а если и S_ MultStop >0, то и S_MultStop>= S_MultLevel2) | CH3: Величина коррекции (на каждом колене) текущего/расчетного значения множителя лота SELL сетки, начиная с колена S_MultLevel2 включительно | CI3: № п/п ордера (колена) SELL сетки, начиная с которого (включительно) текущее/расчетное значение множителя лота SELL сетки корректируется на величину MultCorrLevel3 (на каждом колене). Если S_MultLevel3>0 (2-я опция коррекции мульта сетки включена), то должны соблюдаться пропорции S_MultLevel3> S_MultStart и S_MultLevel3> S_MultLevel2 (а если и S_ MultStop >0, то и S_MultStop>= S_MultLevel3). | CJ3: Величина коррекции (на каждом колене) текущего/расчетного значения множителя лота SELL сетки, начиная с колена S_MultLevel3 включительно | CK3: № п/п ордера (колена) SELL сетки, начиная с которого (включительно) текущее/расчетное значение множителя лота SELL сетки корректируется на величину Mult3Add (на каждом колене). Если S_Mult3>0 (3-я опция коррекции мульта сетки включена), то должны соблюдаться пропорции S_Mult3>S_MultStart и S_Mult3>S_MultLevel3> S_MultLevel2 (а если и S_ MultStop >0, то и S_MultStop>= S_Mult3). | CL3: Величина коррекции (на каждом колене) текущего/расчетного значения множителя лота SELL сетки, начиная с колена S_Mult3 включительно | CM3: Если = 0 - отключена. S_MultStop это №колена, на котором последний раз применяются корректирующие мульт параметры S_MultCorr, S_MultCorrLevel3 или S_Mult3Add (если пользователь их задействовал). S_MultStop это номер колена, после которого до конца sell сетки множитель лота (мульт) фиксируется и будет одинаковым вплоть до последнего колена сетки (включительно). | CN3: S_MaxLotCoef это задаваемый пользователем коэффициент максимального лота ордера любого колена Sell сетки. S_MaxLotCoef позволяет вычислить максимальный лот, с которым боту разрешено открывать рыночные (выставлять отложенные) ордера. Ордера с лотом большим, чем разрешенным|заданным S_MaxLotCoef, бот открывать не будет. Если S_MaxLotCoef=0 - контроль/ограничение максимального лота ордера отключено. Традиционно в ботах максимально разрешенный лот ордера в сетке задается константой в лотах. У нас максимально допустимый лот ордера в сетке вычисляется от лота первого ордера сетки - что делает максимального лот ордера динамическим и пропорциональным размеру депо (если S_CurrencyForMinlot>0 и лот первого ордера сетки не фиксированный, а вычисляемый в зависимости от размера депо). S_MaxLotCoef указывает максимальный ордер в сетке как максимально разрешенное количество первых ордеров сетки - с лотом фиксированным или вычисленным в зависимости от размера депо. Если расчетный лот очередного ордера сетки превысит MaxLotCoef * лот первого ордера сетки, то откроется ордер с лотом равным MaxLotCoef * лот первого ордера сетки. Например, S_MaxLotCoef=150, при первом ордере sell сетки 0.02 лота, разрешают максимальный ордер для sell сеток =3 лота. Данная опция позволяет применять усреднение на последних ордерах сеток. | CO3: SELL сетки: настройки TP (пипсов чистой прибыли) --> [уровень_БУ] - ТР | CP3: Вы выбираете алгоритм/способ расчета ТР сетки: tp_avg - по среднему взвешенному или tp_level_without_loss - относительно уровня безубытка. Оба алгоритма расчета уровня ТР сетки дают близкие цифры. Но при tp_level_without_loss учитываются комиссия и своп и, если сетка живет долго и своп ощутимый, то почти ежедневно после полуночи ТР сетки пересчитывается и корректируется на 1-2 пипса. | CQ3: Начальное количество пипсов ТР - прибыли от сетки. Прибавляется (с минусом) к уровню без убытка или среднеарифметическому взвешенному SELL сетки. | CR3: № п/п ордера (колена) SELL сетки, начиная с которого текущее/расчетное значение ТР сетки будет корректироваться на S_TakeProffit_Level1Corr пипсов (на каждом колене). 1-я опция коррекции ТР сетки. | CS3: Количество пипсов, на которое корректируется текущее/расчетное значение ТР сетки в пипсах, начиная с S_ TakeProffit_Level1 колена. Может быть >0 или <0. | CT3: № п/п ордера (колена) SELL сетки, начиная с которого текущий/расчетный TР сетки (в пипсах) будет корректироваться на S_TakeProffit_Level1_5Corr пипсов (на каждом колене). 2-я опция коррекции ТР сетки. | CU3: Количество пипсов, на которое корректируется текущее/расчетное значение ТР сетки в пипсах, начиная с S_ TakeProffit_Level1_5 колена. Может быть >0 или <0. | CV3: № п/п ордера (колена) SELL сетки, начиная с которого уровень ТР сетки в пипсах фиксируется и жестко выставляется на уровень без убытка минус S_TakeProffit_Level2FixPips. 3-я опция управлением ТР сетки. Если S_TakeProffit_Level2>0, то должны выполняться пропорции S_TakeProffit_Level2 > S_TakeProffit_Level1_5 > S_TakeProffit_Level1. | CW3: Количество пипсов отступа в плюс (прибыли) от уровня безубытка SELL сетки, фиксировано выставляемого начиная с S_ TakeProffit_Level2 колена сетки. | CX3: BUY сетки - настройки шагов, количества колен и длины сетки | CY3: Аналогичны настройкам для Sell ордеров | CZ3: Аналогичны настройкам для Sell ордеров | DA3: Аналогичны настройкам для Sell ордеров | DB3: Аналогичны настройкам для Sell ордеров | DC3: Аналогичны настройкам для Sell ордеров | DD3: Аналогичны настройкам для Sell ордеров | DE3: Аналогичны настройкам для Sell ордеров | DF3: Аналогичны настройкам для Sell ордеров | DG3: Аналогичны настройкам для Sell ордеров | DH3: BUY сетки - min ордер и множители лота всех колен | DI3: Аналогичны настройкам для Sell ордеров | DJ3: Аналогичны настройкам для Sell ордеров | DK3: Аналогичны настройкам для Sell ордеров | DL3: Аналогичны настройкам для Sell ордеров | DM3: Аналогичны настройкам для Sell ордеров | DN3: Аналогичны настройкам для Sell ордеров | DO3: Аналогичны настройкам для Sell ордеров | DP3: Аналогичны настройкам для Sell ордеров | DQ3: Аналогичны настройкам для Sell ордеров | DR3: Аналогичны настройкам для Sell ордеров | DS3: Аналогичны настройкам для Sell ордеров | DT3: Аналогичны настройкам для Sell ордеров | DU3: Аналогичны настройкам для Sell ордеров | DV3: BUY сетки: настройки TP (пипсов чистой прибыли) --> [уровень_БУ]+ТР | DW3: Аналогичны настройкам для Sell ордеров (кроме направления и использования TP в формулах: в Buy сетках TP прибавляют к уровню Б\У, а в Sell сетках TP вычитают из уровня Б\У.) | DX3: Аналогичны настройкам для Sell ордеров (кроме направления и использования TP в формулах: в Buy сетках TP прибавляют к уровню Б\У, а в Sell сетках TP вычитают из уровня Б\У.) | DY3: Аналогичны настройкам для Sell ордеров (кроме направления и использования TP в формулах: в Buy сетках TP прибавляют к уровню Б\У, а в Sell сетках TP вычитают из уровня Б\У.) | DZ3: Аналогичны настройкам для Sell ордеров (кроме направления и использования TP в формулах: в Buy сетках TP прибавляют к уровню Б\У, а в Sell сетках TP вычитают из уровня Б\У.) | EA3: Аналогичны настройкам для Sell ордеров (кроме направления и использования TP в формулах: в Buy сетках TP прибавляют к уровню Б\У, а в Sell сетках TP вычитают из уровня Б\У.) | EB3: Аналогичны настройкам для Sell ордеров (кроме направления и использования TP в формулах: в Buy сетках TP прибавляют к уровню Б\У, а в Sell сетках TP вычитают из уровня Б\У.) | EC3: Аналогичны настройкам для Sell ордеров (кроме направления и использования TP в формулах: в Buy сетках TP прибавляют к уровню Б\У, а в Sell сетках TP вычитают из уровня Б\У.) | ED3: Аналогичны настройкам для Sell ордеров (кроме направления и использования TP в формулах: в Buy сетках TP прибавляют к уровню Б\У, а в Sell сетках TP вычитают из уровня Б\У.) | EE3: Блок безиндикаторного входа - настройки параметров и фильтров. Используется только для открытия первого ордера сетки. Анализируются закрытые свечи. | EF3: Таймфрэйм свечей, которые анализируются блоком безиндикаторного входа бота при принятии решения об открытии/неоткрытии первого ордера Buy или Sell сетки. | EG3: Сколько должно быть свечей в одном направление подряд для открытия первого ордера Buy или Sell сетки. Допустимо любое количество от 0 (нуля), рекомендуется не менее двух. !!! При CandlesToOpen1Order=0 блок/фильтры безиндикаторного входа полностью отключены. Бот откроет первый ордер сетки по текущей цене немедленно после закрытия предшествующей сетки по ТР (или, в случае отсутствия сетки, на "новом" графике), полностью игнорируя все остальные настройки и фильтры блока безиндикаторного входа. | EH3: ( false|true). Параметр указывает как (по телам или теням) измерять размер (в пипсах) группы CandlesToOpen1Order свечей ТФ OpenFirstOrderTF. Если =true, то суммируется и учитывается размер тел (OpenClose) группы CandlesToOpen1Order свечей. Если =false, то учитывается зазор между противоположными тенями, локальными экстремумами (HighLow) группы CandlesToOpen1Order закрытых свечей. | EI3: минимальный (не менее) размер в пипсах группы CandlesToOpen1Order свечей ТФ OpenFirstOrderTF, необходимый для открытия первого ордера новой сетки ордеров. Если вы задали >0 и размер в пипсах группы CandlesToOpen1Order свечей менее CandlesToOpen1Order_MinPips, то это ботом расценивается как "глухой флэт" и первый ордер сетки не открывается. Если CandlesToOpen1Order_MinPips=0, то контроль минимального суммарного размера в пипсах группы CandlesToOpen1Order свечей отключен. | EJ3: максимальный (не более) размер в пипсах группы CandlesToOpen1Order свечей ТФ OpenFirstOrderTF, допустимый для открытия первого ордера новой сетки ордеров. Если размер в пипсах группы CandlesToOpen1Order свечей более CandlesToOpen1Order_MaxPips, это расценивается как "импульс", первый ордер сетки не открывается и бот ждет еще свечу. Если CandlesToOpen1Order_MaxPips=0, то контроль максимального суммарного размера в пипсах группы CandlesToOpen1Order свечей отключен. | EK3: Реверс сигнала на вход (по свечам): открывать 1 -вый ордер (новой сетки ордеров) по направлению (= false) или против направления (= true) последних CandlesToOpen1Order свечей ТФ OpenFirstOrderTF. | EL3: Блок гэп-контроля: настройки блока выявления и обработки мартин-гэпов | EM3: Режим обработки мартин-гэпов. Мартин-гэпом называем участки на графике (далее/более чем шаг сетки), на которых должен был бы быть открыт минимум 1 очередной ордер сетки - но открыт не был. Мартин-гэп или непроторгованный участок графика может возникнуть по множеству причин - понедельничный гэп, новостной импульс, подвис сервер ДЦ, забыли оплатить инет, пролили пиво на комп… Но как только бот увидит, что на графике пары нет хотя бы одного ордера (где должен быть) - бот интерпретирует это как мартин-гэп и выполняет его обработку одним из нижеперечисленных способов. =0 no_gap ' Мартин-гэп не компенсируется. После мартин-гэпа по текущей цене открывается рыночный ордер следующего колена сетки того же лота, какой был бы у данного ордера и без мартин-гэпа. =1 inc_lot ' Искажение сетки из-за мартин-гэп частично компенсируется открытием по текущей цене 1 рыночного ордера, увеличенного по формуле с учетом настроек GapLotKoef и GapLastOrderKoef. =2 op_stop ' В мартин-гэп встраивается не более GapMaxStopOrders отложек вместо всех или части пропущенных рыночных ордеров. Лоты выставляемых отложек будут такими же, какие были бы лоты рыночных ордеров очередных колен сетки, если бы не мартин-гэп - | EN3: Максимальное количество выставляемых отложенных ордеров подряд при обработке одного или более мартин-гэпов подряд. Открытие рыночного ордера разрывает цепочку мартин-гэпов (если их было 2 или более подряд) или "закрывает" один мартин-гэп - и отсчет подлежащих обработке мартин-гэпов и отложек начинается с 0. Если в одной сетке гэпов было несколько, но с открытием между ними хотя бы одного рыночного ордера, то отложек в одной сетке ордеров (как следствие нескольких мартин-гэпов) может быть 3-6 и более. Рекомендуется значение GapMaxStopOrders= количеству старших/наибольших ордеров сеток, закрывающихся в плюс при закрытии сетки по ТР. Обычно таких ордеров 2-3, а в густых сетках бывает и более. Применяется только при режиме обработки мартин гэпа GapControl=2 (=op_stop). | EO3: Дополнительный (сверх StopLevel) отступ наибольшей выставляемой отложки от текущей цены. Рекомендуется 4-2 пипса. Для того, чтобы снизить риск случайной активации отложки дребезжащей ценой. Применяется только при режиме обработки мартин гэпа GapControl= 2 (=op_stop). | EP3: Минимум пипсов (для выявления и "объявления" мартин-гэпа и срабатывания блока гэп- контроля), на сколько цена должна "заступить" дальше расчетного уровня открытия очередного ордера SELL сетки, который не был открыт где был должен (по любой причине). S_GapMinPips всегда должен быть min на 2+ пипса меньше любого очередного шага сетки - между двумя любыми смежными ордерами SELL сетки. | EQ3: То же, что и S_GapMinPips, только "заступ цены" дальше расчетного уровня открытия очередного ордера, необходимый для опознания и обработки мартин-гэпа, задается в %% от очередного шага SELL сетки. Например, S_GapMinPercent=50 | ER3: Эмпирический понижающий коэффициент, применяемый при расчете лота первого после мартин-гэпа (постгэпового) рыночного увеличенного ордера SELL сетки. Применяется только при режиме обработки гэпа GapControl=Inc_lot. Увеличенный лот первого пост гэпового ордера вычисляться по формуле =лот_последнего_ордера * (текущий_множитель_лота + текущий_множитель_лота * S_GapLotKoef ) (Справочно - будет уточнено) | ES3: Открываемый рыночный постгэповый SELL ордер должен быть не более чем в S_GapLastOrderKoef раз больше последнего до мартин-гэпа (перед мартин-гэпом) рыночного ордера SELL сетки. Применяется только при режиме обработки гэпа GapControl=Inc_lot. | ET3: Минимум пипсов (для выявления и "объявления" мартин-гэпа и срабатывания блока гэп- контроля), на сколько цена должна "заступить" дальше расчетного уровня открытия очередного ордера BUY сетки, который не был открыт где был должен (по любой причине). В_GapMinPips всегда должен быть min на 2+ пипса меньше любого очередного шага сетки - между двумя любыми смежными ордерами BUYсетки. | EU3: То же, что и В_GapMinPips, только "заступ цены" дальше расчетного уровня открытия очередного ордера, необходимый для фиксации и обработки мартин-гэпа, задается в %% от очередного шага Buy сетки. Например, В_GapMinPercent=50 | EV3: Эмпирический понижающий коэффициент, применяемый при расчете лота первого после мартин-гэпа (постгэпового) рыночного увеличенного ордера BUY сетки. Применяется только при режиме обработки гэпа GapControl=Inc_lot. Увеличенный лот первого пост гэпового ордера вычислятся по формуле =лот_последнего_ордера * (текущий_множитель_лота + текущий_множитель_лота * B _GapLotKoef ) (Справочно - будет уточнено) | EW3: Открываемый рыночный постгэповый BUY ордер должен быть не более чем в B_GapLastOrderKoef раз больше последнего до мартин-гэпа (перед мартин-гэпом) рыночного ордера BUY сетки. Применяется только при режиме обработки гэпа GapControl=Inc_lot. | EX3: Фильтр волатильности - Запрет открывать ордера, если импульс | EY3: Таймфрэйм текущей свечи, по которой замеряется волатильность цены в моменте. Рекомендуется и дефолтно =м1. | EZ3: Максимально допустимый размер текущей свечи в пипсах, high - low. Если текущая свеча превышает VolCandleMaxSize пипсов, на VolStopTradeTimining секунд включается полный запрет открывать/выставлять ордера во всех сетках. Если задать большое значение VolCandleMaxSize (например, 500 пипсов), фильтр волатильности де-факто будет отключен. | FA3: Время/интервал (в секундах) действия запрета открытия/выставления ордеров после того, как фильтр волатильности выявит импульс цены. !!! фильтр волатильности будет блокировать открытие/выставление ордеров, пока не закроется текущая свеча VolCandleTF. Просто если свеча уже стала больше VolCandleMaxSize, то она будет продолжать "сигналить" и активировать фильтр волатильности пока не закроется. Поэтому VolStopTradeTimining рекомендуется/можно задавать равным от 60*TimeFrame секунд (+ добавить еще 10-20 секунд на "дать цене на новой свече определиться бежим дальше или хватит пока"). | FB3: Настройки планировщиков торговли - планировщиков 6 разных | FC3: №1 Еженедельно: можно/разрешено открывать 1-е ордера сеток (S_OpenFirstOrder=true и B_OpenFirstOrder=true) со Start_дня|время по End_день|время | FD3: День недели начала торговли | FE3: Час начала торговли | FF3: Минута начала торговли (В этот момент начнет действовать S_OpenFirstOrder=true и B_OpenFirstOrder=true, если эти режимы 3-м и/или 4-м параметрами не будут явно запрещены вами вручную) | FG3: День недели конца торговли | FH3: Час конца торговли | FI3: Минута конца торговли (В этот момент включится S_OpenFirstOrder=false и B_OpenFirstOrder=false. Имеющиеся в этом момент ордера/сетки могут расти и будут сопровождаться ботом до их закрытия по ТР) | FJ3: №2 Однократно: от и до - запрещено открывать первые ордера сеток. Задавать в формате ГГГГ.ММ.ДД ЧЧ:ММ Паузы могут задаваться заранее и любой длительности, хоть и на год | FK3: Дата и время начала паузы №1, в течение которой запрещено открывать новые позиции (первые ордера сеток). Например, NewPositionPause1Start=2015.05.12 20:45. !!!Задается только в окне настроек бота!!! С момента NewPositionPause1Start применяются параметры S_OpenFirstOrder=false и B_OpenFirstOrder=false. Имеющиеся в этот момент ордера/сетки могут расти и будут сопровождаться ботом сколь надо долго до их закрытия по ТР. | FL3: Дата и время конца паузы №1, в течение которой было запрещено открывать новые позиции (первые ордера сеток). Например, NewPositionPause1 End =2015.05.12 22:15 - это пример запрета 1.5 часа открывать первые ордера sell и buy сеток (например, в период объявления ставки ФРС/FOMC). С момента NewPositionPause1End применяются параметры S_OpenFirstOrder=true и B_OpenFirstOrder=true, если эти режимы 3-м и/или 4-м параметрами не будут явно запрещены вами вручную. | FM3: Дата и время начала паузы №2 планировщика №2 | FN3: Дата и время конца паузы №2 планировщика №2 | FO3: Дата и время начала паузы №3 планировщика №2 | FP3: Дата и время конца паузы №3 планировщика №2 | FQ3: Дата и время начала паузы №4 планировщика №2 | FR3: Дата и время конца паузы №4 планировщика №2 | FS3: Дата и время начала паузы №5 планировщика №2 | FT3: Дата и время конца паузы №5 планировщика №2 | FU3: Дата и время начала паузы №6 планировщика №2 | FV3: Дата и время конца паузы №6 планировщика №2 | FW3: Дата и время начала паузы №7 планировщика №2 | FX3: Дата и время конца паузы №7 планировщика №2 | FY3: Дата и время начала паузы №8 планировщика №2 | FZ3: Дата и время конца паузы №8 планировщика №2 | GA3: Дата и время начала паузы №9 планировщика №2 | GB3: Дата и время конца паузы №9 планировщика №2 | GC3: Дата и время начала паузы №10 планировщика №2 | GD3: Дата и время конца паузы №10 планировщика №2 | GE3: №3 Ежедневно: интервалы времени, когда можно открывать 1-е ордера сеток - до 10 интервалов в течение суток. Если заданы, действуют во все дни недели. | GF3: Час начала внутридневного/ежедневного интервала №1, когда разрешено открывать первые ордера сеток | GG3: Минута начала внутридневного/ежедневного интервала №1, когда разрешено открывать первые ордера сеток С этого момента применяются параметры S_OpenFirstOrder=true и B_OpenFirstOrder=true, если эти режимы 3-м и/или 4-м параметрами/настройками бота не будут явно запрещены вами вручную. | GH3: Час завершения внутридневного/ежедневного интервала №1 | GI3: Минута завершения внутридневного/ежедневного интервала №1 С этого момента начинают применяться параметры S_OpenFirstOrder=false и B_OpenFirstOrder=false. Имеющиеся в этот момент ордера/сетки могут расти и будут сопровождаться ботом сколь надо долго до их закрытия по ТР. | GJ3: Настройки внутридневного/ежедневного интервала №2 планировщика №3 | GK3: Настройки внутридневного/ежедневного интервала №2 планировщика №3 | GL3: Настройки внутридневного/ежедневного интервала №2 планировщика №3 | GM3: Настройки внутридневного/ежедневного интервала №2 планировщика №3 | GN3: Настройки внутридневного/ежедневного интервала №3 планировщика №3 | GO3: Настройки внутридневного/ежедневного интервала №3 планировщика №3 | GP3: Настройки внутридневного/ежедневного интервала №3 планировщика №3 | GQ3: Настройки внутридневного/ежедневного интервала №3 планировщика №3 | GR3: Настройки внутридневного/ежедневного интервала №4 планировщика №3 | GS3: Настройки внутридневного/ежедневного интервала №4 планировщика №3 | GT3: Настройки внутридневного/ежедневного интервала №4 планировщика №3 | GU3: Настройки внутридневного/ежедневного интервала №4 планировщика №3 | GV3: Настройки внутридневного/ежедневного интервала №5 планировщика №3 | GW3: Настройки внутридневного/ежедневного интервала №5 планировщика №3 | GX3: Настройки внутридневного/ежедневного интервала №5 планировщика №3 | GY3: Настройки внутридневного/ежедневного интервала №5 планировщика №3 | GZ3: Настройки внутридневного/ежедневного интервала №6 планировщика №3 | HA3: Настройки внутридневного/ежедневного интервала №6 планировщика №3 | HB3: Настройки внутридневного/ежедневного интервала №6 планировщика №3 | HC3: Настройки внутридневного/ежедневного интервала №6 планировщика №3 | HD3: Настройки внутридневного/ежедневного интервала №7 планировщика №3 | HE3: Настройки внутридневного/ежедневного интервала №7 планировщика №3 | HF3: Настройки внутридневного/ежедневного интервала №7 планировщика №3 | HG3: Настройки внутридневного/ежедневного интервала №7 планировщика №3 | HH3: Настройки внутридневного/ежедневного интервала №8 планировщика №3 | HI3: Настройки внутридневного/ежедневного интервала №8 планировщика №3 | HJ3: Настройки внутридневного/ежедневного интервала №8 планировщика №3 | HK3: Настройки внутридневного/ежедневного интервала №8 планировщика №3 | HL3: Настройки внутридневного/ежедневного интервала №9 планировщика №3 | HM3: Настройки внутридневного/ежедневного интервала №9 планировщика №3 | HN3: Настройки внутридневного/ежедневного интервала №9 планировщика №3 | HO3: Настройки внутридневного/ежедневного интервала №9 планировщика №3 | HP3: Настройки внутридневного/ежедневного интервала №10 планировщика №3 | HQ3: Настройки внутридневного/ежедневного интервала №10 планировщика №3 | HR3: Настройки внутридневного/ежедневного интервала №10 планировщика №3 | HS3: Настройки внутридневного/ежедневного интервала №10 планировщика №3 | HT3: №4 Однократно: от и до - запрещено открывать/выставлять ордера. Задавать в формате ГГГГ.ММ.ДД ЧЧ:ММ Паузы могут задаваться заранее на любой день и время хоть на годы вперед. | HU3: Дата и время начала паузы №1, в течение которой запрещено открывать рыночные и выставлять отложенные ордера. Например, TradePause1Start=2015.05.12 20:45. !!!Задается в окне настроек бота!!! | HV3: Дата и время конца паузы №1, в течение которой запрещено открывать рыночные и выставлять отложенные ордера. Например, TradePause1 End =2015.05.12 22:15 - это запрет 1.5 часа открывать ордера. | HW3: Дата и время начала паузы №2 планировщика №4 | HX3: Дата и время конца паузы №2 планировщика №4 | HY3: Дата и время начала паузы №3 планировщика №4 | HZ3: Дата и время конца паузы №3 планировщика №4 | IA3: Дата и время начала паузы №4 планировщика №4 | IB3: Дата и время конца паузы №4 планировщика №4 | IC3: Дата и время начала паузы №5 планировщика №4 | ID3: Дата и время конца паузы №5 планировщика №4 | IE3: Дата и время начала паузы №6 планировщика №4 | IF3: Дата и время конца паузы №6 планировщика №4 | IG3: Дата и время начала паузы №7 планировщика №4 | IH3: Дата и время конца паузы №7 планировщика №4 | II3: Дата и время начала паузы №8 планировщика №4 | IJ3: Дата и время конца паузы №8 планировщика №4 | IK3: Дата и время начала паузы №9 планировщика №4 | IL3: Дата и время конца паузы №9 планировщика №4 | IM3: Дата и время начала паузы №10 планировщика №4 | IN3: Дата и время конца паузы №10 планировщика №4 | IO3: №5 Ежедневно - до 10 интервалов запрета открывать рыночные и выставлять отложенные ордера. Если заданы, действуют во все дни недели. | IP3: Час начала внутридневного/ежедневного интервала №1, когда запрещено открывать рыночные и выставлять отложенные ордера | IQ3: Минута начала внутридневного/ежедневного интервала №1, когда запрещено открывать рыночные и выставлять отложенные ордера | IR3: Час завершения внутридневного/ежедневного интервала №1 | IS3: Минута завершения внутридневного/ежедневного интервала №1 | IT3: Настройки внутридневного/ежедневного интервала №2 планировщика №5 | IU3: Настройки внутридневного/ежедневного интервала №2 планировщика №5 | IV3: Настройки внутридневного/ежедневного интервала №2 планировщика №5 | IW3: Настройки внутридневного/ежедневного интервала №2 планировщика №5 | IX3: Настройки внутридневного/ежедневного интервала №3 планировщика №5 | IY3: Настройки внутридневного/ежедневного интервала №3 планировщика №5 | IZ3: Настройки внутридневного/ежедневного интервала №3 планировщика №5 | JA3: Настройки внутридневного/ежедневного интервала №3 планировщика №5 | JB3: Настройки внутридневного/ежедневного интервала №4 планировщика №5 | JC3: Настройки внутридневного/ежедневного интервала №4 планировщика №5 | JD3: Настройки внутридневного/ежедневного интервала №4 планировщика №5 | JE3: Настройки внутридневного/ежедневного интервала №4 планировщика №5 | JF3: Настройки внутридневного/ежедневного интервала №5 планировщика №5 | JG3: Настройки внутридневного/ежедневного интервала №5 планировщика №5 | JH3: Настройки внутридневного/ежедневного интервала №5 планировщика №5 | JI3: Настройки внутридневного/ежедневного интервала №5 планировщика №5 | JJ3: Настройки внутридневного/ежедневного интервала №6 планировщика №5 | JK3: Настройки внутридневного/ежедневного интервала №6 планировщика №5 | JL3: Настройки внутридневного/ежедневного интервала №6 планировщика №5 | JM3: Настройки внутридневного/ежедневного интервала №6 планировщика №5 | JN3: Настройки внутридневного/ежедневного интервала №7 планировщика №5 | JO3: Настройки внутридневного/ежедневного интервала №7 планировщика №5 | JP3: Настройки внутридневного/ежедневного интервала №7 планировщика №5 | JQ3: Настройки внутридневного/ежедневного интервала №7 планировщика №5 | JR3: Настройки внутридневного/ежедневного интервала №8 планировщика №5 | JS3: Настройки внутридневного/ежедневного интервала №8 планировщика №5 | JT3: Настройки внутридневного/ежедневного интервала №8 планировщика №5 | JU3: Настройки внутридневного/ежедневного интервала №8 планировщика №5 | JV3: Настройки внутридневного/ежедневного интервала №9 планировщика №5 | JW3: Настройки внутридневного/ежедневного интервала №9 планировщика №5 | JX3: Настройки внутридневного/ежедневного интервала №9 планировщика №5 | JY3: Настройки внутридневного/ежедневного интервала №9 планировщика №5 | JZ3: Настройки внутридневного/ежедневного интервала №10 планировщика №5 | KA3: Настройки внутридневного/ежедневного интервала №10 планировщика №5 | KB3: Настройки внутридневного/ежедневного интервала №10 планировщика №5 | KC3: Настройки внутридневного/ежедневного интервала №10 планировщика №5 | KD3: №6 Ежедневно - закрытие обеих сеток в одно время. Если заданы, действуют во все дни недели. | KE3: Час (время ХХ часов), начиная с которого будут предприниматься попытки закрытия всех рыночных ордеров и удаления всех отложенных ордеров (часы 24 часового времени сервера, например =10) | KF3: Длительность (минут) периода попыток закрытия и удаления всех ордеров на графике (на случай, есть в начале часа в ХХ:00 не будет связи с сервером) | KG3: Прочие общие настройки | KH3: ( =0 - выключено, >0 - включено) Количество секунд, через которые перепроверяется и, если надо, корректируется уровень ТР во всех ордерах sell и/или buy сеток. | KI3: Кол-во пипсов для опции TAKEPROFFITNoLossControlTiming. Если, из-за настроек, ТР сетки оказывается в минусе, ТР всех ордеров сетки будет установлен на уровень Б/У + TAKEPROFFITControlNoLossFixPips | KJ3: Параметр задает дату и время, после которых запрещено открывать первые ордера sell и buy сеток. Например, FinalGridDate=2015.05.12 20:45 !!!Задается только в окне настроек бота!!! Если опцию применять в тестах, задавая дату за несколько дней до конца тестируемого периода, то в конце теста не будет зависших сеток и сопоставимость результатов тестов/оптимизации резко возрастет. | KK3: Время в секундах для обновления глобальных переменных (служебная опция). | KL3: ( 0 = выключено, 1 = только ошибки, 2 = мелкая информация, 3 = более детальная информация, 4 = полная отладочная информация) Отображение в логе - степень детализации информации о работе бота.
A5: дефолтный | B5: 1.43. | I5: =BR5 -> 15 | K5: =CQ5 -> 14 | L5: =CR5 -> 4 | M5: =CS5 -> 1 | N5: =CT5 -> 12 | O5: =CU5 -> -1 | P5: =CV5 -> 0 | Q5: =CW5 -> 0 | R5: =BS5 -> 14 | S5: =BT5 -> 3 | T5: =BU5 -> 1 | U5: =BV5 -> 10 | V5: =BW5 -> 7 | W5: =BX5 -> 0 | X5: =BY5 -> 0 | Y5: =BZ5 -> 0 | Z5: =CB5 -> 0 | AA5: =CD5 -> 0.01 | AB5: =CE5 -> 1.4 | AC5: =CF5 -> 3 | AD5: =CG5 -> 5 | AE5: =CH5 -> 0.01 | AF5: =CI5 -> 8 | AG5: =CJ5 -> 0.02 | AH5: =CK5 -> 11 | ... AK5: =CN5 -> 0.0 | AM5: true | AN5: true | AO5: true | AP5: true | AQ5: false | AR5: false | AS5: 0 | AT5: 0 | AU5: 1110 | AV5: 0 | AW5: true | AX5: Фильтры спрэда и одновременно торгуемых пар и валют | AY5: 5 | AZ5: 30 | BA5: 0 | BB5: 0 | BC5: 0 | BD5: 0 | BE5: Управление торгами в зависимости от просадки | BF5: 0 | BG5: 0 | BH5: 0 | BI5: 0 | BJ5: 0 | BK5: 0 | BL5: 0.0 | BM5: 0.0 | BN5: 0.0 | BO5: 0.0 | BP5: false | BQ5: SELL сетки - настройки шагов, количества колен и длины | BR5: 15 | BS5: 14 | BT5: 3 | BU5: 1 | BV5: 10 | BW5: 7 | BX5: 0 | BY5: 0 | BZ5: 0 | CA5: SELL сетки - min ордер и множители лота всех колен | CB5: 0 | CC5: 0 | CD5: 0.01 | CE5: 1.4 | CF5: 3 | CG5: 5 | CH5: 0.01 | CI5: 8 | CJ5: 0.02 | CK5: 11 | CL5: 0.03 | CM5: 0 | CN5: 0.0 | CO5: SELL сетки: настройки TP (чистая прибыль) --> [уровень_БУ]+ТР | CP5: 1 | CQ5: 14 | CR5: 4 | CS5: 1 | CT5: 12 | CU5: -1 | CV5: 0 | CW5: 0 | CX5: BUY сетки - настройки шагов, количества колен и длины | CY5: 15 | CZ5: 14 | DA5: 3 | DB5: 1 | DC5: 10 | DD5: 7 | DE5: 0 | DF5: 0 | DG5: 0 | DH5: BUY сетки - min ордер и множители лота всех колен | DI5: 0 | DJ5: 0 | DK5: 0.01 | DL5: 42826 | DM5: 3 | DN5: 5 | DO5: 0.01 | DP5: 8 | DQ5: 0.02 | DR5: 11 | DS5: 0.03 | DT5: 0 | DU5: 0.0 | DV5: BUY сетки: настройки TP (прибыль) --> [уровень_БУ]+ТР | DW5: 1 | DX5: 14 | DY5: 4 | DZ5: 1 | EA5: 12 | EB5: -1 | EC5: 0 | ED5: 0 | EE5: Настройки параметров и фильтров безиндикаторного входа | EF5: 1 | EG5: 3 | EH5: true | EI5: 4 | EJ5: 18 | EK5: true | EL5: Настройки блока выявления и обработки гэпов | EM5: 2 | EN5: 3 | EO5: 4 | EP5: 10 | EQ5: 0 | ER5: 0.5 | ES5: 2.0 | ET5: 10 | EU5: 0 | EV5: 0.5 | EW5: 2.0 | EX5: Фильтр - Запрет открывать ордера, если импульс | EY5: 1 | EZ5: 15 | FA5: 60 | FB5: Настройки планировщиков торговли - их 5 разных | FC5: №1 Еженедельно: можно открывать 1-е ордера со Start_дня|время по End_день|время | FD5: 0 | FE5: 0 | FF5: 0 | FG5: 6 | FH5: 12 | FI5: 0 | FJ5: №2 Однократно: от и до - запрещено открывать любые новые позиции | FK5: 0 | FL5: 0 | FM5: 0 | FN5: 0 | FO5: 0 | FP5: 0 | FQ5: 0 | FR5: 0 | FS5: 0 | FT5: 0 | FU5: 0 | FV5: 0 | FW5: 0 | FX5: 0 | FY5: 0 | FZ5: 0 | GA5: 0 | GB5: 0 | GC5: 0 | GD5: 0 | GE5: №3 Ежедневно: можно открывать 1-е ордера сеток - 10 интервалов | GF5: 0 | GG5: 0 | GH5: 0 | GI5: 0 | GJ5: 0 | GK5: 0 | GL5: 0 | GM5: 0 | GN5: 0 | GO5: 0 | GP5: 0 | GQ5: 0 | GR5: 0 | GS5: 0 | GT5: 0 | GU5: 0 | GV5: 0 | GW5: 0 | GX5: 0 | GY5: 0 | GZ5: 0 | HA5: 0 | HB5: 0 | HC5: 0 | HD5: 0 | HE5: 0 | HF5: 0 | HG5: 0 | HH5: 0 | HI5: 0 | HJ5: 0 | HK5: 0 | HL5: 0 | HM5: 0 | HN5: 0 | HO5: 0 | HP5: 0 | HQ5: 0 | HR5: 0 | HS5: 0 | HT5: №4 Однократно: от и до - запрещено открывать любые ордера | HU5: 0 | HV5: 0 | HW5: 0 | HX5: 0 | HY5: 0 | HZ5: 0 | IA5: 0 | IB5: 0 | IC5: 0 | ID5: 0 | IE5: 0 | IF5: 0 | IG5: 0 | IH5: 0 | II5: 0 | IJ5: 0 | IK5: 0 | IL5: 0 | IM5: 0 | IN5: 0 | IO5: №5 Ежедневно - до 10 интервалов запрета открывать любые ордера | IP5: 0 | IQ5: 0 | IR5: 0 | IS5: 0 | IT5: 0 | IU5: 0 | IV5: 0 | IW5: 0 | IX5: 0 | IY5: 0 | IZ5: 0 | JA5: 0 | JB5: 0 | JC5: 0 | JD5: 0 | JE5: 0 | JF5: 0 | JG5: 0 | JH5: 0 | JI5: 0 | JJ5: 0 | JK5: 0 | JL5: 0 | JM5: 0 | JN5: 0 | JO5: 0 | JP5: 0 | JQ5: 0 | JR5: 0 | JS5: 0 | JT5: 0 | JU5: 0 | JV5: 0 | JW5: 0 | JX5: 0 | JY5: 0 | JZ5: 0 | KA5: 0 | KB5: 0 | KC5: 0 | KE5: 0 | KF5: 0 | KH5: 90 | KI5: 3 | KJ5: 1609286400 | KK5: 60 | KL5: 2
