Workbook
Name безубыток: 'Сводная таблица'!$R$17:INDEX('Сводная таблица'!$R$17:$R$116,MATCH(0,'Сводная таблица'!$AB$17:$AB$116,-1))
Name маржа: 'Сводная таблица'!$AB$17:INDEX('Сводная таблица'!$AB$17:$AB$116,MATCH(0,'Сводная таблица'!$AB$17:$AB$116,-1))
Name прибыль: 'Сводная таблица'!$M$17:INDEX('Сводная таблица'!$M$17:$M$116,MATCH(0,'Сводная таблица'!$AB$17:$AB$116,-1))
Name сетка: 'Сводная таблица'!$G$17:INDEX('Сводная таблица'!$G$17:$G$116,MATCH(0,'Сводная таблица'!$AB$17:$AB$116,-1))
Name ТР: 'Сводная таблица'!$T$17:INDEX('Сводная таблица'!$T$17:$T$116,MATCH(0,'Сводная таблица'!$AB$17:$AB$116,-1))

Sheet Сводная таблица
A1: Параметры сетки | M1: Характеристики пары | Q1: Шаблоны | W1: Характеристика сетки
I2: CalcLotType | J2: =IF(K$2=0,"LastOrder",IF(K$2=1,"MinOrder","ОШИБКА")) -> LastOrder | K2: 0 | M2: Пара | P2: EUR/USD | W2: Длина, пипсов | Z2: =INDEX($G$17:$G$116,MATCH(0,$AB$17:$AB$116,-1)) -> 247 | AB2: =Z2/P5 -> 3.5906382 | AC2: Количество, колен | AE2: =MATCH(0,$AB$17:$AB$116,-1) -> 13
A3: TakeProffit | C3: 10 | E3: GridStep | G3: 16 | I3: MinLot | J3: =IF(K$3<0,"д.б. >0","") | K3: 0.02 | M3: Значность | P3: 4 | W3: Прибыль, $ / % | Z3: =SUMPRODUCT($A$17:INDEX($A$17:$A$116,MATCH(0,$AB$17:$AB$116,-1)),$M$17:INDEX($M$17:$M$116,MATCH(0,$AB$17:$AB$116,-1)))/SUM($A$17:INDEX($A$17:$A$116,MATCH(0,$AB$17:$AB$116,-1))) -> 427.47143 | AB3: =$Z$3/$P$10 -> 0.061067347 | AC3: Шаг, писпсов | AE3: =SUMPRODUCT($A$17:INDEX($A$17:$A$116,MATCH(0,$AB$17:$AB$116,-1)),$F$17:INDEX($F$17:$F$116,MATCH(0,$AB$17:$AB$116,-1)))/SUM($A$17:INDEX($A$17:$A$116,MATCH(0,$AB$17:$AB$116,-1))) -> 21.868132
I4: Mult | J4: =IF(K$4<0,"д.б. >0","") | K4: 1.6 | M4: Цена пипса, $ | P4: =IF(P3=4,VLOOKUP($P$2,Таблица3[[Валютная пара]:[Цена пункта, $]],3,),(VLOOKUP($P$2,Таблица3[[Валютная пара]:[Цена пункта, $]],3,))/10) -> 10 | W4: Просадка, $ / $ | Z4: =SUMPRODUCT($A$17:INDEX($A$17:$A$116,MATCH(0,$AB$17:$AB$116,-1)),$X$17:INDEX($X$17:$X$116,MATCH(0,$AB$17:$AB$116,-1)))/SUM($A$17:INDEX($A$17:$A$116,MATCH(0,$AB$17:$AB$116,-1))) -> 1845.2973 | AB4: =$Z$4/$P$10 -> 0.26361389 | AC4: Мульт | AE4: =SUMPRODUCT($A$17:INDEX($A$17:$A$116,MATCH(0,$AB$17:$AB$116,-1)),$I$17:INDEX($I$17:$I$116,MATCH(0,$AB$17:$AB$116,-1)))/SUM($A$17:INDEX($A$17:$A$116,MATCH(0,$AB$17:$AB$116,-1))) -> 1.6824176
I5: MultStart | J5: =IF(K$5<2,"д.б. >1","") | K5: 3 | M5: =HYPERLINK("http://ru.investing.com/tools/forex-volatility-calculator","Волатильность") -> Волатильность | P5: =IFERROR(IF(P3=4,IFERROR(VLOOKUP($P$2,Table_0[[Валюта]:[Пипсы]],2,),VLOOKUP($P$2,Table_1[[Валюта]:[Пипсы]],2,)),(IFERROR(VLOOKUP($P$2,Table_0[[Валюта]:[Пипсы]],2,),VLOOKUP($P$2,Table_1[[Валюта]:[Пипсы]],2,)))*10),"Ошибка") -> 68.79 | W5: КПД (прибыль/просадка), % | AB5: =$Z$3/$Z$4 -> 0.23165451 | AC5: Ордер | AE5: =SUMPRODUCT($A$17:INDEX($A$17:$A$116,MATCH(0,$AB$17:$AB$116,-1)),$J$17:INDEX($J$17:$J$116,MATCH(0,$AB$17:$AB$116,-1)))/SUM($A$17:INDEX($A$17:$A$116,MATCH(0,$AB$17:$AB$116,-1))) -> 1.8016703
M6: Комиссия, $ | P6: 0 | W6: БУ, пипсов / % | Z6: =SUMPRODUCT($A$17:INDEX($A$17:$A$116,MATCH(0,$AB$17:$AB$116,-1)),$R$17:INDEX($R$17:$R$116,MATCH(0,$AB$17:$AB$116,-1)))/SUM($A$17:INDEX($A$17:$A$116,MATCH(0,$AB$17:$AB$116,-1))) -> 28.131868 | AB6: =SUMPRODUCT($A$17:INDEX($A$17:$A$116,MATCH(0,$AB$17:$AB$116,-1)),$S$17:INDEX($S$17:$S$116,MATCH(0,$AB$17:$AB$116,-1)))/SUM($A$17:INDEX($A$17:$A$116,MATCH(0,$AB$17:$AB$116,-1))) -> 0.2156044 | AC6: Сумма лотов | AE6: =INDEX($K$17:$K$116,MATCH(0,$AB$17:$AB$116,-1)) -> 14.1
A7: TakeProffit_Level1 | C7: 5 | E7: GridLevel | G7: 4 | I7: MultLevel2 | J7: =IF(K$7<0,"д.б. >=0","") | K7: 5 | M7: Спред | O7: в разработке | W7: ТР, пипсов / % | Z7: =SUMPRODUCT($A$17:INDEX($A$17:$A$116,MATCH(0,$AB$17:$AB$116,-1)),$T$17:INDEX($T$17:$T$116,MATCH(0,$AB$17:$AB$116,-1)))/SUM($A$17:INDEX($A$17:$A$116,MATCH(0,$AB$17:$AB$116,-1))) -> 39.395604 | AB7: =SUMPRODUCT($A$17:INDEX($A$17:$A$116,MATCH(0,$AB$17:$AB$116,-1)),$U$17:INDEX($U$17:$U$116,MATCH(0,$AB$17:$AB$116,-1)))/SUM($A$17:INDEX($A$17:$A$116,MATCH(0,$AB$17:$AB$116,-1))) -> 0.31879121 | AC7: Запас пр-ти, пипсов | AE7: =INDEX($AD$17:$AD$116,MATCH(0,$AB$17:$AB$116,-1)) -> 14.921362 | AH7: 1
A8: TakeProffit_Level1Corr | C8: 1 | E8: GridStep_AddPips | G8: 1 | I8: MultCorr | J8: =IF(AND(K$7=0,K$8<>0),"д.б. =0","") | K8: 0.02 | M8: Залог 1 лот, $ | P8: =VLOOKUP($P$2,Таблица3[[Валютная пара]:[Цена пункта, $]],2,) -> 106.02 | W8: Прибыль последнего колена, $ / % | Z8: =INDEX($M$17:$M$116,MATCH(0,$AB$17:$AB$116,-1)) -> 1269 | AB8: =$Z$8/$P$10 -> 0.18128571 | AC8: БУ пос-го колена | AE8: =INDEX($S$17:$S$116,MATCH(0,$AB$17:$AB$116,-1)) -> 0.14
J9: =IF(OR(K$7=1,K$7<0,K$10=1,K$10<0,AND(K$7>0,K$5>=K$7),AND(K$10>0,K$5>=K$10),AND(K$7>1,K$10>1,K$7>=K$10),K$13<0,AND(K$13>0,K$5>K$13),AND(K$7>1,K$13>0,K$7>K$13),AND(K$10>1,K$13>0,K$10>K$13)),"ОШИБКА № колен","") | M9: StopOut, % | P9: 0.1 | W9: Прибыль первого колена, $ / % | Z9: =INDEX($M$17:$M$116,1) -> 2 | AC9: ТР пос-го колена | AE9: =INDEX($U$17:$U$116,MATCH(0,$AB$17:$AB$116,-1)) -> 0.17
A10: TakeProffit_Level1_5 | C10: 9 | E10: GridStep_Level2 | G10: 0 | I10: MultLevel3 | J10: =IF(K$10<0,"д.б. >=0","") | K10: 0 | M10: Депо, $ | P10: 7000
A11: TakeProffit_Level1_5Corr | C11: -1 | E11: GridStep_Level2_AddPips | G11: 0 | I11: MultСorrLevel3 | J11: =IF(AND(K$10=0,K$11<>0),"д.б. =0","") | K11: 0
A13: TakeProffit_Level2 | C13: 0 | E13: GridStop | I13: MultStop | J13: =IF(K$13<0,"д.б. >=0","") | K13: 0
A14: TakeProffit_Level2FixPips | C14: 0 | I14: MaxLotCoef | J14: =IF(K$14<0,"д.б. >=0","") | K14: 0
A15: №№ колен | B15: Кор-рект | C15: TP | E15: Коррект | F15: Шаг, пипсов | G15: Сетка пипсов от 1-го ордера | I15: Мульт | J15: Ордер | K15: Лотов сумма | M15: Прибыль, $ / % | O15: $/пипс | P15: Просадка, $ / % | R15: Безубыток, пипсов / % | T15: ТР, пипсов / % | W15: Залог, $ | X15: Просадка + залог, $ (включая комиссию) | Y15: Залог к просадке (включая комиссию) | Z15: Залог к депо, % | AB15: Св.Маржа = Депо - просадка-залог, $ | AC15: Просадка + залог = %%депо | AD15: Max просадка до StopOut в пипсах от: | AF15: №№ ко-лен | AH15: 2
F16: =COUNTIF($F$17:INDEX('Сводная таблица'!$F$17:$F$116,MATCH(0,'Сводная таблица'!$AB$17:$AB$116,-1)),"<0") -> 0 | G16: =COUNTIF($G$17:INDEX('Сводная таблица'!$G$17:$G$116,MATCH(0,'Сводная таблица'!$AB$17:$AB$116,-1)),"<0") -> 0 | I16: =COUNTIF($I$17:INDEX('Сводная таблица'!$I$17:$I$116,MATCH(0,'Сводная таблица'!$AB$17:$AB$116,-1)),"<0") -> 0 | J16: =COUNTIF($J$17:INDEX('Сводная таблица'!$J$17:$J$116,MATCH(0,'Сводная таблица'!$AB$17:$AB$116,-1)),"<0,005") -> 0 | K16: =COUNTIF($K$17:INDEX('Сводная таблица'!$K$17:$K$116,MATCH(0,'Сводная таблица'!$AB$17:$AB$116,-1)),"<0") -> 0 | M16: =COUNTIF($M$17:INDEX('Сводная таблица'!$M$17:$M$116,MATCH(0,'Сводная таблица'!$AB$17:$AB$116,-1)),"<0") -> 0 | O16: =COUNTIF($O$17:INDEX('Сводная таблица'!$O$17:$O$116,MATCH(0,'Сводная таблица'!$AB$17:$AB$116,-1)),"<0") -> 0 | P16: $ | Q16: % депо | R16: Пипсов | S16: %% | T16: Пипсов | U16: %% | W16: =COUNTIF($W$17:INDEX('Сводная таблица'!$W$17:$W$116,MATCH(0,'Сводная таблица'!$AB$17:$AB$116,-1)),"<0") -> 0 | X16: =COUNTIF($X$17:INDEX('Сводная таблица'!$X$17:$X$116,MATCH(0,'Сводная таблица'!$AB$17:$AB$116,-1)),"<0") -> 0 | AD16: Колена N | AE16: 1го ордера
A17: 1 | B17: 0 | C17: =C$3 -> 10 | E17: =IF(OR($A17<2,AND(G$13>0,$A17>G$13)),0,IF(AND($A17>=G$10,G$10>0),G$11,IF(AND($A17>=G$7,G$7>0),G$8,0))) -> 0 | F17: 0 | G17: =F17 -> 0 | I17: =IF(($A17<K$5),1,IF(AND($A17>K$13,K$13>0),I16,IF(AND($A17>=K$10,K$10>0),ROUND(I16+K$11,4),IF(AND($A17>=K$7,K$7>0),ROUND(I16+K$8,4),K$4)))) -> 1 | J17: =IF($A17<K$5, K$3, IF(K$2=0,IF(K$14>0,IF(K$3*K$14<ROUND(J16*I17, 3),K$3*K$14,ROUND(J16*I17, 3)),ROUND(J16*I17, 3)),IF(K$14>0,IF(K$3*K$14<ROUND(K$3*I17, 3),K$3*K$14,ROUND(K$3*I17, 3)),ROUND(K$3*I17, 3)))) -> 0.02 | K17: =J17 -> 0.02 | M17: =ROUND(C17*O17-K17*$P$6,2) -> 2 | N17: =IF($P$10>0,M17/$P$10,0) -> 0.00028571429 | O17: =ROUND(ROUND(K17,2)*$P$4,2) -> 0.2 | P17: =ROUND(J17*$P$6,2) -> 0 | Q17: =P17/$P$10 -> 0 | R17: =ROUND(P17/O17,0) -> 0 | S17: 0 | T17: =R17+C17 -> 10 | U17: 0 | W17: =ROUND(K17*$P$8,2) -> 2.12 | X17: =ROUND(P17+W17,2) -> 2.12 | Y17: =IF(P17>0,ROUND(W17/P17,2),0) -> 0 | Z17: =IF($P$10>0,ROUND(W17/$P$10,2),0) -> 0 | AB17: =IF($P$10>0,ROUND($P$10-X17,2),0) -> 6997.88 | AC17: =IF($P$10>0,ROUND(X17/$P$10,2),0) -> 0 | AD17: =IF(AND(AB17>0,$P$4>0),($P$10-P17-W17*$P$9)/O17,0) -> 34998.94 | AE17: =IF(AD17>0,AD17+G17,0) -> 34998.94 | AF17: 1
A18: 2 | B18: =IF(AND($A18>=C$13,C$13>0),0,IF(AND($A18>=C$10,C$10>0),C$11,IF(AND($A18>=C$7,C$7>0),C$8,0))) -> 0 | C18: =IF(AND($A18>=C$13,C$13>0),C$14,C17+B18) -> 10 | E18: =IF(OR($A18<2,AND(G$13>0,$A18>G$13)),0,IF(AND($A18>=G$10,G$10>0),G$11,IF(AND($A18>=G$7,G$7>0),G$8,0))) -> 0 | F18: =G$3+E18 -> 16 | G18: =G17+F18 -> 16 | I18: =IF(($A18<K$5),1,IF(AND($A18>K$13,K$13>0),I17,IF(AND($A18>=K$10,K$10>0),ROUND(I17+K$11,4),IF(AND($A18>=K$7,K$7>0),ROUND(I17+K$8,4),K$4)))) -> 1 | J18: =IF($A18<K$5, K$3, IF(K$2=0,IF(K$14>0,IF(K$3*K$14<ROUND(J17*I18, 3),K$3*K$14,ROUND(J17*I18, 3)),ROUND(J17*I18, 3)),IF(K$14>0,IF(K$3*K$14<ROUND(K$3*I18, 3),K$3*K$14,ROUND(K$3*I18, 3)),ROUND(K$3*I18, 3)))) -> 0.02 | K18: =K17+ROUND(J18,2) -> 0.04 | M18: =ROUND(C18*O18-K18*$P$6,2) -> 4 | N18: =IF($P$10>0,M18/$P$10,0) -> 0.00057142857 | O18: =ROUND(ROUND(K18,2)*$P$4,2) -> 0.4 | P18: =ROUND((ROUND(K17,2)*(G18-G17)*$P$4+P17+J18*$P$6),2) -> 3.2 | Q18: =P18/$P$10 -> 0.00045714286 | R18: =ROUND(P18/O18,0) -> 8 | S18: =ROUND(R18/G18,2) -> 0.5 | T18: =R18+C18 -> 18 | U18: =ROUND(T18/G18,2) -> 1.13 | W18: =ROUND(K18*$P$8,2) -> 4.24 | X18: =ROUND(P18+W18,2) -> 7.44 | Y18: =IF(P18>0,ROUND(W18/P18,2),0) -> 1.33 | Z18: =IF($P$10>0,ROUND(W18/$P$10,2),0) -> 0 | AB18: =IF($P$10>0,ROUND($P$10-X18,2),0) -> 6992.56 | AC18: =IF($P$10>0,ROUND(X18/$P$10,2),0) -> 0 | AD18: =IF(AND(AB18>0,$P$4>0),($P$10-P18-W18*$P$9)/O18,0) -> 17490.94 | AE18: =IF(AD18>0,AD18+G18,0) -> 17506.94 | AF18: 2
A19: 3 | B19: =IF(AND($A19>=C$13,C$13>0),0,IF(AND($A19>=C$10,C$10>0),C$11,IF(AND($A19>=C$7,C$7>0),C$8,0))) -> 0 | C19: =IF(AND($A19>=C$13,C$13>0),C$14,C18+B19) -> 10 | E19: =IF(OR($A19<2,AND(G$13>0,$A19>G$13)),0,IF(AND($A19>=G$10,G$10>0),G$11,IF(AND($A19>=G$7,G$7>0),G$8,0))) -> 0 | F19: =F18+E19 -> 16 | G19: =G18+F19 -> 32 | I19: =IF(($A19<K$5),1,IF(AND($A19>K$13,K$13>0),I18,IF(AND($A19>=K$10,K$10>0),ROUND(I18+K$11,4),IF(AND($A19>=K$7,K$7>0),ROUND(I18+K$8,4),K$4)))) -> 1.6 | J19: =IF($A19<K$5, K$3, IF(K$2=0,IF(K$14>0,IF(K$3*K$14<ROUND(J18*I19, 3),K$3*K$14,ROUND(J18*I19, 3)),ROUND(J18*I19, 3)),IF(K$14>0,IF(K$3*K$14<ROUND(K$3*I19, 3),K$3*K$14,ROUND(K$3*I19, 3)),ROUND(K$3*I19, 3)))) -> 0.032 | K19: =K18+ROUND(J19,2) -> 0.07 | M19: =ROUND(C19*O19-K19*$P$6,2) -> 7 | N19: =IF($P$10>0,M19/$P$10,0) -> 0.001 | O19: =ROUND(ROUND(K19,2)*$P$4,2) -> 0.7 | P19: =ROUND((ROUND(K18,2)*(G19-G18)*$P$4+P18+J19*$P$6),2) -> 9.6 | Q19: =P19/$P$10 -> 0.0013714286 | R19: =ROUND(P19/O19,0) -> 14 | S19: =ROUND(R19/G19,2) -> 0.44 | T19: =R19+C19 -> 24 | U19: =ROUND(T19/G19,2) -> 0.75 | W19: =ROUND(K19*$P$8,2) -> 7.42 | X19: =ROUND(P19+W19,2) -> 17.02 | Y19: =IF(P19>0,ROUND(W19/P19,2),0) -> 0.77 | Z19: =IF($P$10>0,ROUND(W19/$P$10,2),0) -> 0 | AB19: =IF($P$10>0,ROUND($P$10-X19,2),0) -> 6982.98 | AC19: =IF($P$10>0,ROUND(X19/$P$10,2),0) -> 0 | AD19: =IF(AND(AB19>0,$P$4>0),($P$10-P19-W19*$P$9)/O19,0) -> 9985.2257 | AE19: =IF(AD19>0,AD19+G19,0) -> 10017.226 | AF19: 3
A20: 4 | B20: =IF(AND($A20>=C$13,C$13>0),0,IF(AND($A20>=C$10,C$10>0),C$11,IF(AND($A20>=C$7,C$7>0),C$8,0))) -> 0 | C20: =IF(AND($A20>=C$13,C$13>0),C$14,C19+B20) -> 10 | E20: =IF(OR($A20<2,AND(G$13>0,$A20>G$13)),0,IF(AND($A20>=G$10,G$10>0),G$11,IF(AND($A20>=G$7,G$7>0),G$8,0))) -> 1 | F20: =F19+E20 -> 17 | G20: =G19+F20 -> 49 | I20: =IF(($A20<K$5),1,IF(AND($A20>K$13,K$13>0),I19,IF(AND($A20>=K$10,K$10>0),ROUND(I19+K$11,4),IF(AND($A20>=K$7,K$7>0),ROUND(I19+K$8,4),K$4)))) -> 1.6 | J20: =IF($A20<K$5, K$3, IF(K$2=0,IF(K$14>0,IF(K$3*K$14<ROUND(J19*I20, 3),K$3*K$14,ROUND(J19*I20, 3)),ROUND(J19*I20, 3)),IF(K$14>0,IF(K$3*K$14<ROUND(K$3*I20, 3),K$3*K$14,ROUND(K$3*I20, 3)),ROUND(K$3*I20, 3)))) -> 0.051 | K20: =K19+ROUND(J20,2) -> 0.12 | M20: =ROUND(C20*O20-K20*$P$6,2) -> 12 | N20: =IF($P$10>0,M20/$P$10,0) -> 0.0017142857 | O20: =ROUND(ROUND(K20,2)*$P$4,2) -> 1.2 | P20: =ROUND((ROUND(K19,2)*(G20-G19)*$P$4+P19+J20*$P$6),2) -> 21.5 | Q20: =P20/$P$10 -> 0.0030714286 | R20: =ROUND(P20/O20,0) -> 18 | S20: =ROUND(R20/G20,2) -> 0.37 | T20: =R20+C20 -> 28 | U20: =ROUND(T20/G20,2) -> 0.57 | W20: =ROUND(K20*$P$8,2) -> 12.72 | X20: =ROUND(P20+W20,2) -> 34.22 | Y20: =IF(P20>0,ROUND(W20/P20,2),0) -> 0.59 | Z20: =IF($P$10>0,ROUND(W20/$P$10,2),0) -> 0 | AB20: =IF($P$10>0,ROUND($P$10-X20,2),0) -> 6965.78 | AC20: =IF($P$10>0,ROUND(X20/$P$10,2),0) -> 0 | AD20: =IF(AND(AB20>0,$P$4>0),($P$10-P20-W20*$P$9)/O20,0) -> 5814.3567 | AE20: =IF(AD20>0,AD20+G20,0) -> 5863.3567 | AF20: 4
A21: 5 | B21: =IF(AND($A21>=C$13,C$13>0),0,IF(AND($A21>=C$10,C$10>0),C$11,IF(AND($A21>=C$7,C$7>0),C$8,0))) -> 1 | C21: =IF(AND($A21>=C$13,C$13>0),C$14,C20+B21) -> 11 | E21: =IF(OR($A21<2,AND(G$13>0,$A21>G$13)),0,IF(AND($A21>=G$10,G$10>0),G$11,IF(AND($A21>=G$7,G$7>0),G$8,0))) -> 1 | F21: =F20+E21 -> 18 | G21: =G20+F21 -> 67 | I21: =IF(($A21<K$5),1,IF(AND($A21>K$13,K$13>0),I20,IF(AND($A21>=K$10,K$10>0),ROUND(I20+K$11,4),IF(AND($A21>=K$7,K$7>0),ROUND(I20+K$8,4),K$4)))) -> 1.62 | J21: =IF($A21<K$5, K$3, IF(K$2=0,IF(K$14>0,IF(K$3*K$14<ROUND(J20*I21, 3),K$3*K$14,ROUND(J20*I21, 3)),ROUND(J20*I21, 3)),IF(K$14>0,IF(K$3*K$14<ROUND(K$3*I21, 3),K$3*K$14,ROUND(K$3*I21, 3)),ROUND(K$3*I21, 3)))) -> 0.083 | K21: =K20+ROUND(J21,2) -> 0.2 | M21: =ROUND(C21*O21-K21*$P$6,2) -> 22 | N21: =IF($P$10>0,M21/$P$10,0) -> 0.0031428571 | O21: =ROUND(ROUND(K21,2)*$P$4,2) -> 2 | P21: =ROUND((ROUND(K20,2)*(G21-G20)*$P$4+P20+J21*$P$6),2) -> 43.1 | Q21: =P21/$P$10 -> 0.0061571429 | R21: =ROUND(P21/O21,0) -> 22 | S21: =ROUND(R21/G21,2) -> 0.33 | T21: =R21+C21 -> 33 | U21: =ROUND(T21/G21,2) -> 0.49 | W21: =ROUND(K21*$P$8,2) -> 21.2 | X21: =ROUND(P21+W21,2) -> 64.3 | Y21: =IF(P21>0,ROUND(W21/P21,2),0) -> 0.49 | Z21: =IF($P$10>0,ROUND(W21/$P$10,2),0) -> 0 | AB21: =IF($P$10>0,ROUND($P$10-X21,2),0) -> 6935.7 | AC21: =IF($P$10>0,ROUND(X21/$P$10,2),0) -> 0.01 | AD21: =IF(AND(AB21>0,$P$4>0),($P$10-P21-W21*$P$9)/O21,0) -> 3477.39 | AE21: =IF(AD21>0,AD21+G21,0) -> 3544.39 | AF21: 5
A22: 6 | B22: =IF(AND($A22>=C$13,C$13>0),0,IF(AND($A22>=C$10,C$10>0),C$11,IF(AND($A22>=C$7,C$7>0),C$8,0))) -> 1 | C22: =IF(AND($A22>=C$13,C$13>0),C$14,C21+B22) -> 12 | E22: =IF(OR($A22<2,AND(G$13>0,$A22>G$13)),0,IF(AND($A22>=G$10,G$10>0),G$11,IF(AND($A22>=G$7,G$7>0),G$8,0))) -> 1 | F22: =F21+E22 -> 19 | G22: =G21+F22 -> 86 | I22: =IF(($A22<K$5),1,IF(AND($A22>K$13,K$13>0),I21,IF(AND($A22>=K$10,K$10>0),ROUND(I21+K$11,4),IF(AND($A22>=K$7,K$7>0),ROUND(I21+K$8,4),K$4)))) -> 1.64 | J22: =IF($A22<K$5, K$3, IF(K$2=0,IF(K$14>0,IF(K$3*K$14<ROUND(J21*I22, 3),K$3*K$14,ROUND(J21*I22, 3)),ROUND(J21*I22, 3)),IF(K$14>0,IF(K$3*K$14<ROUND(K$3*I22, 3),K$3*K$14,ROUND(K$3*I22, 3)),ROUND(K$3*I22, 3)))) -> 0.136 | K22: =K21+ROUND(J22,2) -> 0.34 | M22: =ROUND(C22*O22-K22*$P$6,2) -> 40.8 | N22: =IF($P$10>0,M22/$P$10,0) -> 0.0058285714 | O22: =ROUND(ROUND(K22,2)*$P$4,2) -> 3.4 | P22: =ROUND((ROUND(K21,2)*(G22-G21)*$P$4+P21+J22*$P$6),2) -> 81.1 | Q22: =P22/$P$10 -> 0.011585714 | R22: =ROUND(P22/O22,0) -> 24 | S22: =ROUND(R22/G22,2) -> 0.28 | T22: =R22+C22 -> 36 | U22: =ROUND(T22/G22,2) -> 0.42 | W22: =ROUND(K22*$P$8,2) -> 36.05 | X22: =ROUND(P22+W22,2) -> 117.15 | Y22: =IF(P22>0,ROUND(W22/P22,2),0) -> 0.44 | Z22: =IF($P$10>0,ROUND(W22/$P$10,2),0) -> 0.01 | AB22: =IF($P$10>0,ROUND($P$10-X22,2),0) -> 6882.85 | AC22: =IF($P$10>0,ROUND(X22/$P$10,2),0) -> 0.02 | AD22: =IF(AND(AB22>0,$P$4>0),($P$10-P22-W22*$P$9)/O22,0) -> 2033.9103 | AE22: =IF(AD22>0,AD22+G22,0) -> 2119.9103 | AF22: 6
A23: 7 | B23: =IF(AND($A23>=C$13,C$13>0),0,IF(AND($A23>=C$10,C$10>0),C$11,IF(AND($A23>=C$7,C$7>0),C$8,0))) -> 1 | C23: =IF(AND($A23>=C$13,C$13>0),C$14,C22+B23) -> 13 | E23: =IF(OR($A23<2,AND(G$13>0,$A23>G$13)),0,IF(AND($A23>=G$10,G$10>0),G$11,IF(AND($A23>=G$7,G$7>0),G$8,0))) -> 1 | F23: =F22+E23 -> 20 | G23: =G22+F23 -> 106 | I23: =IF(($A23<K$5),1,IF(AND($A23>K$13,K$13>0),I22,IF(AND($A23>=K$10,K$10>0),ROUND(I22+K$11,4),IF(AND($A23>=K$7,K$7>0),ROUND(I22+K$8,4),K$4)))) -> 1.66 | J23: =IF($A23<K$5, K$3, IF(K$2=0,IF(K$14>0,IF(K$3*K$14<ROUND(J22*I23, 3),K$3*K$14,ROUND(J22*I23, 3)),ROUND(J22*I23, 3)),IF(K$14>0,IF(K$3*K$14<ROUND(K$3*I23, 3),K$3*K$14,ROUND(K$3*I23, 3)),ROUND(K$3*I23, 3)))) -> 0.226 | K23: =K22+ROUND(J23,2) -> 0.57 | M23: =ROUND(C23*O23-K23*$P$6,2) -> 74.1 | N23: =IF($P$10>0,M23/$P$10,0) -> 0.010585714 | O23: =ROUND(ROUND(K23,2)*$P$4,2) -> 5.7 | P23: =ROUND((ROUND(K22,2)*(G23-G22)*$P$4+P22+J23*$P$6),2) -> 149.1 | Q23: =P23/$P$10 -> 0.0213 | R23: =ROUND(P23/O23,0) -> 26 | S23: =ROUND(R23/G23,2) -> 0.25 | T23: =R23+C23 -> 39 | U23: =ROUND(T23/G23,2) -> 0.37 | W23: =ROUND(K23*$P$8,2) -> 60.43 | X23: =ROUND(P23+W23,2) -> 209.53 | Y23: =IF(P23>0,ROUND(W23/P23,2),0) -> 0.41 | Z23: =IF($P$10>0,ROUND(W23/$P$10,2),0) -> 0.01 | AB23: =IF($P$10>0,ROUND($P$10-X23,2),0) -> 6790.47 | AC23: =IF($P$10>0,ROUND(X23/$P$10,2),0) -> 0.03 | AD23: =IF(AND(AB23>0,$P$4>0),($P$10-P23-W23*$P$9)/O23,0) -> 1200.8521 | AE23: =IF(AD23>0,AD23+G23,0) -> 1306.8521 | AF23: 7
A24: 8 | B24: =IF(AND($A24>=C$13,C$13>0),0,IF(AND($A24>=C$10,C$10>0),C$11,IF(AND($A24>=C$7,C$7>0),C$8,0))) -> 1 | C24: =IF(AND($A24>=C$13,C$13>0),C$14,C23+B24) -> 14 | E24: =IF(OR($A24<2,AND(G$13>0,$A24>G$13)),0,IF(AND($A24>=G$10,G$10>0),G$11,IF(AND($A24>=G$7,G$7>0),G$8,0))) -> 1 | F24: =F23+E24 -> 21 | G24: =G23+F24 -> 127 | I24: =IF(($A24<K$5),1,IF(AND($A24>K$13,K$13>0),I23,IF(AND($A24>=K$10,K$10>0),ROUND(I23+K$11,4),IF(AND($A24>=K$7,K$7>0),ROUND(I23+K$8,4),K$4)))) -> 1.68 | J24: =IF($A24<K$5, K$3, IF(K$2=0,IF(K$14>0,IF(K$3*K$14<ROUND(J23*I24, 3),K$3*K$14,ROUND(J23*I24, 3)),ROUND(J23*I24, 3)),IF(K$14>0,IF(K$3*K$14<ROUND(K$3*I24, 3),K$3*K$14,ROUND(K$3*I24, 3)),ROUND(K$3*I24, 3)))) -> 0.38 | K24: =K23+ROUND(J24,2) -> 0.95 | M24: =ROUND(C24*O24-K24*$P$6,2) -> 133 | N24: =IF($P$10>0,M24/$P$10,0) -> 0.019 | O24: =ROUND(ROUND(K24,2)*$P$4,2) -> 9.5 | P24: =ROUND((ROUND(K23,2)*(G24-G23)*$P$4+P23+J24*$P$6),2) -> 268.8 | Q24: =P24/$P$10 -> 0.0384 | R24: =ROUND(P24/O24,0) -> 28 | S24: =ROUND(R24/G24,2) -> 0.22 | T24: =R24+C24 -> 42 | U24: =ROUND(T24/G24,2) -> 0.33 | W24: =ROUND(K24*$P$8,2) -> 100.72 | X24: =ROUND(P24+W24,2) -> 369.52 | Y24: =IF(P24>0,ROUND(W24/P24,2),0) -> 0.37 | Z24: =IF($P$10>0,ROUND(W24/$P$10,2),0) -> 0.01 | AB24: =IF($P$10>0,ROUND($P$10-X24,2),0) -> 6630.48 | AC24: =IF($P$10>0,ROUND(X24/$P$10,2),0) -> 0.05 | AD24: =IF(AND(AB24>0,$P$4>0),($P$10-P24-W24*$P$9)/O24,0) -> 707.48716 | AE24: =IF(AD24>0,AD24+G24,0) -> 834.48716 | AF24: 8
A25: 9 | B25: =IF(AND($A25>=C$13,C$13>0),0,IF(AND($A25>=C$10,C$10>0),C$11,IF(AND($A25>=C$7,C$7>0),C$8,0))) -> -1 | C25: =IF(AND($A25>=C$13,C$13>0),C$14,C24+B25) -> 13 | E25: =IF(OR($A25<2,AND(G$13>0,$A25>G$13)),0,IF(AND($A25>=G$10,G$10>0),G$11,IF(AND($A25>=G$7,G$7>0),G$8,0))) -> 1 | F25: =F24+E25 -> 22 | G25: =G24+F25 -> 149 | I25: =IF(($A25<K$5),1,IF(AND($A25>K$13,K$13>0),I24,IF(AND($A25>=K$10,K$10>0),ROUND(I24+K$11,4),IF(AND($A25>=K$7,K$7>0),ROUND(I24+K$8,4),K$4)))) -> 1.7 | J25: =IF($A25<K$5, K$3, IF(K$2=0,IF(K$14>0,IF(K$3*K$14<ROUND(J24*I25, 3),K$3*K$14,ROUND(J24*I25, 3)),ROUND(J24*I25, 3)),IF(K$14>0,IF(K$3*K$14<ROUND(K$3*I25, 3),K$3*K$14,ROUND(K$3*I25, 3)),ROUND(K$3*I25, 3)))) -> 0.646 | K25: =K24+ROUND(J25,2) -> 1.6 | M25: =ROUND(C25*O25-K25*$P$6,2) -> 208 | N25: =IF($P$10>0,M25/$P$10,0) -> 0.029714286 | O25: =ROUND(ROUND(K25,2)*$P$4,2) -> 16 | P25: =ROUND((ROUND(K24,2)*(G25-G24)*$P$4+P24+J25*$P$6),2) -> 477.8 | Q25: =P25/$P$10 -> 0.068257143 | R25: =ROUND(P25/O25,0) -> 30 | S25: =ROUND(R25/G25,2) -> 0.2 | T25: =R25+C25 -> 43 | U25: =ROUND(T25/G25,2) -> 0.29 | W25: =ROUND(K25*$P$8,2) -> 169.63 | X25: =ROUND(P25+W25,2) -> 647.43 | Y25: =IF(P25>0,ROUND(W25/P25,2),0) -> 0.36 | Z25: =IF($P$10>0,ROUND(W25/$P$10,2),0) -> 0.02 | AB25: =IF($P$10>0,ROUND($P$10-X25,2),0) -> 6352.57 | AC25: =IF($P$10>0,ROUND(X25/$P$10,2),0) -> 0.09 | AD25: =IF(AND(AB25>0,$P$4>0),($P$10-P25-W25*$P$9)/O25,0) -> 406.57731 | AE25: =IF(AD25>0,AD25+G25,0) -> 555.57731 | AF25: 9
A26: 10 | B26: =IF(AND($A26>=C$13,C$13>0),0,IF(AND($A26>=C$10,C$10>0),C$11,IF(AND($A26>=C$7,C$7>0),C$8,0))) -> -1 | C26: =IF(AND($A26>=C$13,C$13>0),C$14,C25+B26) -> 12 | E26: =IF(OR($A26<2,AND(G$13>0,$A26>G$13)),0,IF(AND($A26>=G$10,G$10>0),G$11,IF(AND($A26>=G$7,G$7>0),G$8,0))) -> 1 | F26: =F25+E26 -> 23 | G26: =G25+F26 -> 172 | I26: =IF(($A26<K$5),1,IF(AND($A26>K$13,K$13>0),I25,IF(AND($A26>=K$10,K$10>0),ROUND(I25+K$11,4),IF(AND($A26>=K$7,K$7>0),ROUND(I25+K$8,4),K$4)))) -> 1.72 | J26: =IF($A26<K$5, K$3, IF(K$2=0,IF(K$14>0,IF(K$3*K$14<ROUND(J25*I26, 3),K$3*K$14,ROUND(J25*I26, 3)),ROUND(J25*I26, 3)),IF(K$14>0,IF(K$3*K$14<ROUND(K$3*I26, 3),K$3*K$14,ROUND(K$3*I26, 3)),ROUND(K$3*I26, 3)))) -> 1.111 | K26: =K25+ROUND(J26,2) -> 2.71 | M26: =ROUND(C26*O26-K26*$P$6,2) -> 325.2 | N26: =IF($P$10>0,M26/$P$10,0) -> 0.046457143 | O26: =ROUND(ROUND(K26,2)*$P$4,2) -> 27.1 | P26: =ROUND((ROUND(K25,2)*(G26-G25)*$P$4+P25+J26*$P$6),2) -> 845.8 | Q26: =P26/$P$10 -> 0.12082857 | R26: =ROUND(P26/O26,0) -> 31 | S26: =ROUND(R26/G26,2) -> 0.18 | T26: =R26+C26 -> 43 | U26: =ROUND(T26/G26,2) -> 0.25 | W26: =ROUND(K26*$P$8,2) -> 287.31 | X26: =ROUND(P26+W26,2) -> 1133.11 | Y26: =IF(P26>0,ROUND(W26/P26,2),0) -> 0.34 | Z26: =IF($P$10>0,ROUND(W26/$P$10,2),0) -> 0.04 | AB26: =IF($P$10>0,ROUND($P$10-X26,2),0) -> 5866.89 | AC26: =IF($P$10>0,ROUND(X26/$P$10,2),0) -> 0.16 | AD26: =IF(AND(AB26>0,$P$4>0),($P$10-P26-W26*$P$9)/O26,0) -> 226.03207 | AE26: =IF(AD26>0,AD26+G26,0) -> 398.03207 | AF26: 10
A27: 11 | B27: =IF(AND($A27>=C$13,C$13>0),0,IF(AND($A27>=C$10,C$10>0),C$11,IF(AND($A27>=C$7,C$7>0),C$8,0))) -> -1 | C27: =IF(AND($A27>=C$13,C$13>0),C$14,C26+B27) -> 11 | E27: =IF(OR($A27<2,AND(G$13>0,$A27>G$13)),0,IF(AND($A27>=G$10,G$10>0),G$11,IF(AND($A27>=G$7,G$7>0),G$8,0))) -> 1 | F27: =F26+E27 -> 24 | G27: =G26+F27 -> 196 | I27: =IF(($A27<K$5),1,IF(AND($A27>K$13,K$13>0),I26,IF(AND($A27>=K$10,K$10>0),ROUND(I26+K$11,4),IF(AND($A27>=K$7,K$7>0),ROUND(I26+K$8,4),K$4)))) -> 1.74 | J27: =IF($A27<K$5, K$3, IF(K$2=0,IF(K$14>0,IF(K$3*K$14<ROUND(J26*I27, 3),K$3*K$14,ROUND(J26*I27, 3)),ROUND(J26*I27, 3)),IF(K$14>0,IF(K$3*K$14<ROUND(K$3*I27, 3),K$3*K$14,ROUND(K$3*I27, 3)),ROUND(K$3*I27, 3)))) -> 1.933 | K27: =K26+ROUND(J27,2) -> 4.64 | M27: =ROUND(C27*O27-K27*$P$6,2) -> 510.4 | N27: =IF($P$10>0,M27/$P$10,0) -> 0.072914286 | O27: =ROUND(ROUND(K27,2)*$P$4,2) -> 46.4 | P27: =ROUND((ROUND(K26,2)*(G27-G26)*$P$4+P26+J27*$P$6),2) -> 1496.2 | Q27: =P27/$P$10 -> 0.21374286 | R27: =ROUND(P27/O27,0) -> 32 | S27: =ROUND(R27/G27,2) -> 0.16 | T27: =R27+C27 -> 43 | U27: =ROUND(T27/G27,2) -> 0.22 | W27: =ROUND(K27*$P$8,2) -> 491.93 | X27: =ROUND(P27+W27,2) -> 1988.13 | Y27: =IF(P27>0,ROUND(W27/P27,2),0) -> 0.33 | Z27: =IF($P$10>0,ROUND(W27/$P$10,2),0) -> 0.07 | AB27: =IF($P$10>0,ROUND($P$10-X27,2),0) -> 5011.87 | AC27: =IF($P$10>0,ROUND(X27/$P$10,2),0) -> 0.28 | AD27: =IF(AND(AB27>0,$P$4>0),($P$10-P27-W27*$P$9)/O27,0) -> 117.55619 | AE27: =IF(AD27>0,AD27+G27,0) -> 313.55619 | AF27: 11
A28: 12 | B28: =IF(AND($A28>=C$13,C$13>0),0,IF(AND($A28>=C$10,C$10>0),C$11,IF(AND($A28>=C$7,C$7>0),C$8,0))) -> -1 | C28: =IF(AND($A28>=C$13,C$13>0),C$14,C27+B28) -> 10 | E28: =IF(OR($A28<2,AND(G$13>0,$A28>G$13)),0,IF(AND($A28>=G$10,G$10>0),G$11,IF(AND($A28>=G$7,G$7>0),G$8,0))) -> 1 | F28: =F27+E28 -> 25 | G28: =G27+F28 -> 221 | I28: =IF(($A28<K$5),1,IF(AND($A28>K$13,K$13>0),I27,IF(AND($A28>=K$10,K$10>0),ROUND(I27+K$11,4),IF(AND($A28>=K$7,K$7>0),ROUND(I27+K$8,4),K$4)))) -> 1.76 | J28: =IF($A28<K$5, K$3, IF(K$2=0,IF(K$14>0,IF(K$3*K$14<ROUND(J27*I28, 3),K$3*K$14,ROUND(J27*I28, 3)),ROUND(J27*I28, 3)),IF(K$14>0,IF(K$3*K$14<ROUND(K$3*I28, 3),K$3*K$14,ROUND(K$3*I28, 3)),ROUND(K$3*I28, 3)))) -> 3.402 | K28: =K27+ROUND(J28,2) -> 8.04 | M28: =ROUND(C28*O28-K28*$P$6,2) -> 804 | N28: =IF($P$10>0,M28/$P$10,0) -> 0.11485714 | O28: =ROUND(ROUND(K28,2)*$P$4,2) -> 80.4 | P28: =ROUND((ROUND(K27,2)*(G28-G27)*$P$4+P27+J28*$P$6),2) -> 2656.2 | Q28: =P28/$P$10 -> 0.37945714 | R28: =ROUND(P28/O28,0) -> 33 | S28: =ROUND(R28/G28,2) -> 0.15 | T28: =R28+C28 -> 43 | U28: =ROUND(T28/G28,2) -> 0.19 | W28: =ROUND(K28*$P$8,2) -> 852.4 | X28: =ROUND(P28+W28,2) -> 3508.6 | Y28: =IF(P28>0,ROUND(W28/P28,2),0) -> 0.32 | Z28: =IF($P$10>0,ROUND(W28/$P$10,2),0) -> 0.12 | AB28: =IF($P$10>0,ROUND($P$10-X28,2),0) -> 3491.4 | AC28: =IF($P$10>0,ROUND(X28/$P$10,2),0) -> 0.5 | AD28: =IF(AND(AB28>0,$P$4>0),($P$10-P28-W28*$P$9)/O28,0) -> 52.967164 | AE28: =IF(AD28>0,AD28+G28,0) -> 273.96716 | AF28: 12
A29: 13 | B29: =IF(AND($A29>=C$13,C$13>0),0,IF(AND($A29>=C$10,C$10>0),C$11,IF(AND($A29>=C$7,C$7>0),C$8,0))) -> -1 | C29: =IF(AND($A29>=C$13,C$13>0),C$14,C28+B29) -> 9 | E29: =IF(OR($A29<2,AND(G$13>0,$A29>G$13)),0,IF(AND($A29>=G$10,G$10>0),G$11,IF(AND($A29>=G$7,G$7>0),G$8,0))) -> 1 | F29: =F28+E29 -> 26 | G29: =G28+F29 -> 247 | I29: =IF(($A29<K$5),1,IF(AND($A29>K$13,K$13>0),I28,IF(AND($A29>=K$10,K$10>0),ROUND(I28+K$11,4),IF(AND($A29>=K$7,K$7>0),ROUND(I28+K$8,4),K$4)))) -> 1.78 | J29: =IF($A29<K$5, K$3, IF(K$2=0,IF(K$14>0,IF(K$3*K$14<ROUND(J28*I29, 3),K$3*K$14,ROUND(J28*I29, 3)),ROUND(J28*I29, 3)),IF(K$14>0,IF(K$3*K$14<ROUND(K$3*I29, 3),K$3*K$14,ROUND(K$3*I29, 3)),ROUND(K$3*I29, 3)))) -> 6.056 | K29: =K28+ROUND(J29,2) -> 14.1 | M29: =ROUND(C29*O29-K29*$P$6,2) -> 1269 | N29: =IF($P$10>0,M29/$P$10,0) -> 0.18128571 | O29: =ROUND(ROUND(K29,2)*$P$4,2) -> 141 | P29: =ROUND((ROUND(K28,2)*(G29-G28)*$P$4+P28+J29*$P$6),2) -> 4746.6 | Q29: =P29/$P$10 -> 0.67808571 | R29: =ROUND(P29/O29,0) -> 34 | S29: =ROUND(R29/G29,2) -> 0.14 | T29: =R29+C29 -> 43 | U29: =ROUND(T29/G29,2) -> 0.17 | W29: =ROUND(K29*$P$8,2) -> 1494.88 | X29: =ROUND(P29+W29,2) -> 6241.48 | Y29: =IF(P29>0,ROUND(W29/P29,2),0) -> 0.31 | Z29: =IF($P$10>0,ROUND(W29/$P$10,2),0) -> 0.21 | AB29: =IF($P$10>0,ROUND($P$10-X29,2),0) -> 758.52 | AC29: =IF($P$10>0,ROUND(X29/$P$10,2),0) -> 0.89 | AD29: =IF(AND(AB29>0,$P$4>0),($P$10-P29-W29*$P$9)/O29,0) -> 14.921362 | AE29: =IF(AD29>0,AD29+G29,0) -> 261.92136 | AF29: 13
A30: 14 | B30: =IF(AND($A30>=C$13,C$13>0),0,IF(AND($A30>=C$10,C$10>0),C$11,IF(AND($A30>=C$7,C$7>0),C$8,0))) -> -1 | C30: =IF(AND($A30>=C$13,C$13>0),C$14,C29+B30) -> 8 | E30: =IF(OR($A30<2,AND(G$13>0,$A30>G$13)),0,IF(AND($A30>=G$10,G$10>0),G$11,IF(AND($A30>=G$7,G$7>0),G$8,0))) -> 1 | F30: =F29+E30 -> 27 | G30: =G29+F30 -> 274 | I30: =IF(($A30<K$5),1,IF(AND($A30>K$13,K$13>0),I29,IF(AND($A30>=K$10,K$10>0),ROUND(I29+K$11,4),IF(AND($A30>=K$7,K$7>0),ROUND(I29+K$8,4),K$4)))) -> 1.8 | J30: =IF($A30<K$5, K$3, IF(K$2=0,IF(K$14>0,IF(K$3*K$14<ROUND(J29*I30, 3),K$3*K$14,ROUND(J29*I30, 3)),ROUND(J29*I30, 3)),IF(K$14>0,IF(K$3*K$14<ROUND(K$3*I30, 3),K$3*K$14,ROUND(K$3*I30, 3)),ROUND(K$3*I30, 3)))) -> 10.901 | K30: =K29+ROUND(J30,2) -> 25 | M30: =ROUND(C30*O30-K30*$P$6,2) -> 2000 | N30: =IF($P$10>0,M30/$P$10,0) -> 0.28571429 | O30: =ROUND(ROUND(K30,2)*$P$4,2) -> 250 | P30: =ROUND((ROUND(K29,2)*(G30-G29)*$P$4+P29+J30*$P$6),2) -> 8553.6 | Q30: =P30/$P$10 -> 1.2219429 | R30: =ROUND(P30/O30,0) -> 34 | S30: =ROUND(R30/G30,2) -> 0.12 | T30: =R30+C30 -> 42 | U30: =ROUND(T30/G30,2) -> 0.15 | W30: =ROUND(K30*$P$8,2) -> 2650.5 | X30: =ROUND(P30+W30,2) -> 11204.1 | Y30: =IF(P30>0,ROUND(W30/P30,2),0) -> 0.31 | Z30: =IF($P$10>0,ROUND(W30/$P$10,2),0) -> 0.38 | AB30: =IF($P$10>0,ROUND($P$10-X30,2),0) -> -4204.1 | AC30: =IF($P$10>0,ROUND(X30/$P$10,2),0) -> 1.6 | AD30: =IF(AND(AB30>0,$P$4>0),($P$10-P30-W30*$P$9)/O30,0) -> 0 | AE30: =IF(AD30>0,AD30+G30,0) -> 0 | AF30: 14
... A116: 100 | B116: =IF(AND($A116>=C$13,C$13>0),0,IF(AND($A116>=C$10,C$10>0),C$11,IF(AND($A116>=C$7,C$7>0),C$8,0))) -> -1 | C116: =IF(AND($A116>=C$13,C$13>0),C$14,C115+B116) -> -78 | E116: =IF(OR($A116<2,AND(G$13>0,$A116>G$13)),0,IF(AND($A116>=G$10,G$10>0),G$11,IF(AND($A116>=G$7,G$7>0),G$8,0))) -> 1 | F116: =F115+E116 -> 113 | G116: =G115+F116 -> 6337 | I116: =IF(($A116<K$5),1,IF(AND($A116>K$13,K$13>0),I115,IF(AND($A116>=K$10,K$10>0),ROUND(I115+K$11,4),IF(AND($A116>=K$7,K$7>0),ROUND(I115+K$8,4),K$4)))) -> 3.52 | J116: =IF($A116<K$5, K$3, IF(K$2=0,IF(K$14>0,IF(K$3*K$14<ROUND(J115*I116, 3),K$3*K$14,ROUND(J115*I116, 3)),ROUND(J115*I116, 3)),IF(K$14>0,IF(K$3*K$14<ROUND(K$3*I116, 3),K$3*K$14,ROUND(K$3*I116, 3)),ROUND(K$3*I116, 3)))) -> 1.1234973e+37 | K116: =K115+ROUND(J116,2) -> 1.5707587e+37 | M116: =ROUND(C116*O116-K116*$P$6,2) -> -1.2251918e+40 | N116: =IF($P$10>0,M116/$P$10,0) -> -1.750274e+36 | O116: =ROUND(ROUND(K116,2)*$P$4,2) -> 1.5707587e+38 | P116: =ROUND((ROUND(K115,2)*(G116-G115)*$P$4+P115+J116*$P$6),2) -> 7.0635943e+39 | Q116: =P116/$P$10 -> 1.0090849e+36 | R116: =ROUND(P116/O116,0) -> 45 | S116: =ROUND(R116/G116,2) -> 0.01 | T116: =R116+C116 -> -33 | U116: =ROUND(T116/G116,2) -> -0.01 | W116: =ROUND(K116*$P$8,2) -> 1.6653184e+39 | X116: =ROUND(P116+W116,2) -> 8.7289127e+39 | Y116: =IF(P116>0,ROUND(W116/P116,2),0) -> 0.24 | Z116: =IF($P$10>0,ROUND(W116/$P$10,2),0) -> 2.3790263e+35 | AB116: =IF($P$10>0,ROUND($P$10-X116,2),0) -> -8.7289127e+39 | AC116: =IF($P$10>0,ROUND(X116/$P$10,2),0) -> 1.2469875e+36 | AD116: =IF(AND(AB116>0,$P$4>0),($P$10-P116-W116*$P$9)/O116,0) -> 0 | AE116: =IF(AD116>0,AD116+G116,0) -> 0 | AF116: 100
B120: 1 | F120: 2 | J120: 3 | Q120: 4 | X120: 5 | AD120: 6

Sheet График

Sheet Залоги и Цена пункта
A1: Заполняется вручную, согласно типу счета и торгуемым условиям вашего брокера
B7: 42836 | C7: (F4You) | D7: 1:1000 | E7: 5-хзнак
A9: №№ пп | B9: Валютная пара | C9: Залог, $ | D9: Цена пункта, $ | E9: Спред
A10: 1 | B10: AUD/CAD | C10: 75.1 | D10: 7.4 | E10: 16
A11: =A10+1 -> 2 | B11: AUD/CHF | C11: 151.14 | D11: 10 | E11: 8
A12: =A11+1 -> 3 | B12: AUD/JPY | C12: 151.14 | D12: 9.24 | E12: 6
A13: =A12+1 -> 4 | B13: AUD/NZD | C13: 151.14 | D13: 7.11 | E13: 10
A14: =A13+1 -> 5 | B14: AUD/USD | C14: 75.09 | D14: 10 | E14: 3
A15: =A14+1 -> 6 | B15: CAD/CHF | C15: 147.87 | D15: 10 | E15: 8
A16: =A15+1 -> 7 | B16: CAD/JPY | C16: 147.87 | D16: 9.24 | E16: 6
A17: =A16+1 -> 8 | B17: CHF/JPY | C17: 200.16 | D17: 9.24 | E17: 8
A18: =A17+1 -> 9 | B18: EUR/AUD | C18: 215.18 | D18: 7.56 | E18: 10
A19: =A18+1 -> 10 | B19: EUR/CAD | C19: 215.18 | D19: 7.39 | E19: 8
A20: =A19+1 -> 11 | B20: EUR/CHF | C20: 215.18 | D20: 10 | E20: 6
A21: =A20+1 -> 12 | B21: EUR/JPY | C21: 215.18 | D21: 9.24 | E21: 4
A22: =A21+1 -> 13 | B22: EUR/GBP | C22: 107.25 | D22: 12.81 | E22: 6
... A38: =A37+1 -> 29 | B38: USD/SEK | C38: 100 | D38: 1.12 | E38: 100

Sheet Волатильность
A1: Column1 | B1: Валюта | C1: Пипсы | D1: % | E1: Column1 | F1: Валюта | G1: Пипсы | H1: % | J1: Таблица обновляется автоматически при откртыии модели с сайта: | Q1: =HYPERLINK("http://ru.investing.com/tools/forex-volatility-calculator","investing.com") -> investing.com
B2: AUD/CAD | C2: 71.5 | D2: 0.7 | F2: GBP/NZD | G2: 238,42 | H2: 1,37 | J2: Ручное обновление: вкладка Данные > Обновить все
B3: AUD/CHF | C3: 97,64 | D3: 1,32 | F3: GBP/USD | G3: 97.74 | H3: 0.79
B4: AUD/JPY | C4: 114,62 | D4: 1,47 | F4: NZD/JPY | G4: 101,64 | H4: 1,38 | J4: Информация на 11.04.2017 (F4You)
B5: AUD/NZD | C5: 104,64 | D5: 0,99 | F5: NZD/USD | G5: 82,20 | H5: 1,15
B6: AUD/USD | C6: 57.02 | D6: 0.76 | F6: USD/BRL | G6: 562,24 | H6: 1,75
B7: BTC/EUR | C7: 1,585,10 | D7: 2,84 | F7: USD/CAD | G7: 78.06 | H7: 0.59
B8: BTC/USD | C8: 1,478,18 | D8: 2,40 | F8: USD/CHF | G8: 60.78 | H8: 0.6
B9: CAD/CHF | C9: 80,56 | D9: 1,10 | F9: USD/CNY | G9: 163,06 | H9: 0,24
B10: CAD/JPY | C10: 109,20 | D10: 1,41 | F10: USD/DKK | G10: 647,06 | H10: 0,97
B11: CHF/JPY | C11: 114,98 | D11: 1,09 | F11: USD/HKD | G11: 31,48 | H11: 0,04
B12: EUR/AUD | C12: 178,88 | D12: 1,21 | F12: USD/ILS | G12: 308,90 | H12: 0,81
B13: EUR/CAD | C13: 157,06 | D13: 1,06 | F13: USD/INR | G13: 309,54 | H13: 0,46
B14: EUR/CHF | C14: 69,34 | D14: 0,63 | F14: USD/JPY | G14: 93.67 | H14: 0.01
B15: EUR/GBP | C15: 63.8 | D15: 0.76 | F15: USD/MXN | G15: 3,574,14 | H15: 1,88
B16: EUR/JPY | C16: 124,24 | D16: 1,08 | F16: USD/RUB | G16: 7,445,61 | H16: 1,20
B17: EUR/NZD | C17: 174,56 | D17: 1,12 | F17: USD/SEK | G17: 788.47 | H17: 0.88
B18: EUR/USD | C18: 68.79 | D18: 0.65 | F18: USD/SGD | G18: 85,94 | H18: 0,63
B19: GBP/AUD | C19: 232,62 | D19: 1,42 | F19: USD/TRY | G19: 524,10 | H19: 1,72
B20: GBP/CAD | C20: 207,82 | D20: 1,26 | F20: USD/ZAR | G20: 3,153,86 | H20: 2,28
B21: GBP/CHF | C21: 146,30 | D21: 1,20 | F21: XAG/USD | G21: 44,96 | H21: 2,56
B22: GBP/JPY | C22: 198,10 | D22: 1,55 | F22: XAU/USD | G22: 1,710,10 | H22: 1,36

Sheet Доп. настр.
C1: EURUSD | D1: GBPUSD | E1: USDCHF | F1: USDJPY | G1: USDCAD | H1: AUDUSD
B2: Фильтры спреда
B3: MaxSpread | C3: 5 | D3: 5 | F3: 6 | G3: 6 | H3: 5
B4: MaxSpreadStopTradingTimining | C4: 30 | D4: 30 | F4: 45 | G4: 45 | H4: 30
B5: Блок безиндикаторного входа
B6: OpenFirstOrderTF | C6: 1 мин. | D6: 1 мин. | E6: 1 мин. | F6: 1 мин. | G6: 1 мин. | H6: 1 мин.
B7: CandlesToOpen1Order | C7: 3 | D7: 3 | F7: 3 | G7: 3 | H7: 3
B8: CandlesToOpen1Order_OpenClose | C8: true | D8: true | E8: true | F8: true | G8: true | H8: true
B9: CandlesToOpen1Order_MinPips | C9: 4 | D9: 0 | F9: 4 | G9: 4 | H9: 4
B10: CandlesToOpen1Order_MaxPips | C10: 25 | D10: 20 | F10: 15 | G10: 15 | H10: 20
B11: ReversSignalToOpen1Order | C11: true | D11: true | E11: true | F11: true | G11: true | H11: true
B12: Блок гэп-контроля
B13: GapControl | C13: op_stop | D13: op_stop | E13: op_stop | F13: op_stop | G13: op_stop | H13: op_stop
B14: GapMaxStopOrders | C14: 3 | D14: 3 | F14: 3 | G14: 3 | H14: 3
B15: GapMinDistanceFromMarket | C15: 4 | D15: 4 | F15: 4 | G15: 4 | H15: 4
B16: S_GapMinPips | C16: 10 | D16: 0 | F16: 10 | G16: 10 | H16: 10
B17: S_GapMinPercent | C17: 0 | D17: 50 | F17: 0 | G17: 0 | H17: 0
B18: S_GapLotKoef | C18: 0.5 | D18: 0.5 | E18: 0.5 | F18: 0.5 | G18: 0.5 | H18: 0.5
B19: S_GapLastOrderKoef | C19: 2 | D19: 2 | E19: 2 | F19: 2 | G19: 2 | H19: 2
B20: Фильтр волатильности
B21: VolCandleTF | C21: 1 мин. | D21: 1 мин. | E21: 1 мин. | F21: 1 мин. | G21: 1 мин. | H21: 1 мин.
B22: VolCandleMaxSize | C22: 8 | D22: 20 | F22: 15 | G22: 15 | H22: 20
B23: VolStopTradeTimining | C23: 60 | D23: 60 | F23: 60 | G23: 60 | H23: 60
