Workbook

Sheet EURUSD
A1: год | B1: прибыль/убыток в пп | C1: сумма года | D1: Общая прибыль в пп | E1: средний год | F1: средний убыток пп | G1: средняя прибыль пп
A2: 1998 | B2: -135 | C2: =SUM(B2:B7) -> 834 | D2: =SUM(C2:C118) -> 4257 | E2: =D2/20 -> 212.85 | F2: =SUM(B2,B3,B4,B6,B11,B12,B15,B19,B20,B21,B23,B24,B25,B28,B29,B33,B37,B38,B39,B40,B41,B43,B45,B46,B47,B48,B52,B53,B60,B61,B63,B64,B65,B68,B69,B70,B72,B73,B74,B75,B77,B78,B80,B81,B82,B85,B88,B90,B93,B95,B97,B98,B100,B101,B104,B105,B107,B108,B109,B110,B113,B116,B117,B10)/64 -> -164.95312 | G2: =SUM(B5,B7,B8,B9,B13,B14,B16,B17,B18,B22,B26,B27,B30,B31,B32,B34,B35,B36,B42,B44,B49,B50,B51,B54,B55,B56,B57,B58,B59,B62,B66,B67,B71,B76,B79,B83,B84,B86,B87,B89,B91,B92,B94,B96,B99,B102,B103,B106,B111,B112,B114,B118)/52 -> 285.17308
B3: -143 | F3: сделок убыточных | G3: сделок прибыльных
B4: -93 | F4: 64 | G4: 52
B5: 783 | D5: Общая прибыль по годам | K5: в общем год
B6: -157 | D6: год | E6: EURUSD | F6: AUDUSD | G6: GBPUSD | H6: USDCAD | I6: USDCHF | J6: USDJPY
B7: 579 | D7: 1998 | E7: =C2 -> 834 | F7: =AUDUSD!C2 -> 345 | G7: =GBPUSD!C2 -> -452 | H7: =USDCAD!C2 -> 318 | K7: =SUM(E7:J7) -> 1045
A8: 1999 | B8: 86 | C8: =SUM(B8:B13) -> -128 | D8: 1999 | E8: =C8 -> -128 | F8: =AUDUSD!C5 -> -170 | G8: =GBPUSD!C6 -> -537 | H8: =USDCAD!C6 -> -214 | K8: =SUM(E8:J8) -> -1049
B9: 33 | D9: 2000 | E9: =C14 -> 502 | F9: =AUDUSD!C9 -> 230 | G9: =GBPUSD!C11 -> -57 | H9: =USDCAD!C12 -> 373 | K9: =SUM(E9:J9) -> 1048
B10: -88 | D10: 2001 | E10: =C20 -> -732 | F10: =AUDUSD!C16 -> 286 | G10: =GBPUSD!C19 -> -736 | H10: =USDCAD!C16 -> 369 | K10: =SUM(E10:J10) -> -813
B11: -229 | D11: 2002 | E11: =C26 -> 752 | F11: =AUDUSD!C21 -> 15 | G11: =GBPUSD!C26 -> 758 | H11: =USDCAD!C22 -> -484 | K11: =SUM(E11:J11) -> 1041
B12: -145 | D12: 2003 | E12: =C32 -> 1389 | F12: =AUDUSD!C27 -> 1609 | G12: =GBPUSD!C33 -> 1881 | H12: =USDCAD!C27 -> 843 | K12: =SUM(E12:J12) -> 5722
B13: 215 | D13: 2004 | E13: =C37 -> 96 | F13: =AUDUSD!C32 -> 180 | G13: =GBPUSD!C37 -> 235 | H13: =USDCAD!C34 -> 446 | K13: =SUM(E13:J13) -> 957
A14: 2000 | B14: 47 | C14: =SUM(B14:B19) -> 502 | D14: 2005 | E14: =C43 -> -622 | F14: =AUDUSD!C37 -> -822 | G14: =GBPUSD!C43 -> -95 | H14: =USDCAD!C41 -> -85 | K14: =SUM(E14:J14) -> -1624
B15: -74 | D15: 2006 | E15: =C50 -> 76 | F15: =AUDUSD!C45 -> -72 | G15: =GBPUSD!C49 -> 174 | H15: =USDCAD!C47 -> -213 | K15: =SUM(E15:J15) -> -35
B16: 342 | D16: 2007 | E16: =C55 -> 1133 | F16: =AUDUSD!C52 -> 856 | G16: =GBPUSD!C55 -> 239 | H16: =USDCAD!C53 -> 1283 | K16: =SUM(E16:J16) -> 3511
B17: 120 | D17: 2008 | E17: =C60 -> 184 | F17: =AUDUSD!C58 -> 735 | G17: =GBPUSD!C60 -> 1995 | H17: =USDCAD!C56 -> 92 | K17: =SUM(E17:J17) -> 3006
B18: 207 | D18: 2009 | E18: =C67 -> -397 | F18: =AUDUSD!C65 -> -70 | G18: =GBPUSD!C66 -> -977 | H18: =USDCAD!C63 -> -1432 | K18: =SUM(E18:J18) -> -2876
B19: -140 | D19: 2010 | E19: =C74 -> 436 | F19: =AUDUSD!C70 -> 14 | G19: =GBPUSD!C71 -> 316 | H19: =USDCAD!C71 -> -851 | K19: =SUM(E19:J19) -> -85
A20: 2001 | B20: -46 | C20: =SUM(B20:B25) -> -732 | D20: 2011 | E20: =C78 -> -139 | F20: =AUDUSD!C77 -> -542 | G20: =GBPUSD!C77 -> -1031 | H20: =USDCAD!C79 -> -116 | K20: =SUM(E20:J20) -> -1828
B21: -319 | D21: 2012 | E21: =C84 -> 291 | F21: =AUDUSD!C84 -> -491 | G21: =GBPUSD!C83 -> -1076 | H21: =USDCAD!C85 -> -213 | K21: =SUM(E21:J21) -> -1489
B22: 147 | D22: 2013 | E22: =C89 -> -216 | F22: =AUDUSD!C91 -> 652 | G22: =GBPUSD!C91 -> 504 | H22: =USDCAD!C89 -> 231 | K22: =SUM(E22:J22) -> 1171
B23: -235 | D23: 2014 | E23: =C96 -> 281 | F23: =AUDUSD!C97 -> 9 | G23: =GBPUSD!C96 -> -104 | H23: =USDCAD!C97 -> 744 | K23: =SUM(E23:J23) -> 930
B24: -5 | D24: 2015 | E24: =C103 -> 830 | F24: =AUDUSD!C102 -> 280 | G24: =GBPUSD!C104 -> 204 | H24: =USDCAD!C104 -> 1249 | K24: =SUM(E24:J24) -> 2563
B25: -274 | D25: 2016 | E25: =C107 -> -473 | F25: =AUDUSD!C110 -> 123 | G25: =GBPUSD!C110 -> 235 | H25: =USDCAD!C108 -> -750 | K25: =SUM(E25:J25) -> -865
A26: 2002 | B26: 9 | C26: =SUM(B26:B31) -> 752 | D26: 2017 | E26: =C115 -> 160 | F26: =AUDUSD!C114 -> 10 | G26: =GBPUSD!C117 -> -165 | H26: =USDCAD!C114 -> 319 | K26: =SUM(E26:J26) -> 324
B27: 608 | K27: =SUM(K7:K26) -> 10654
B28: -177
B29: -142
B30: 93
B31: 361
A32: 2003 | B32: 184 | C32: =SUM(B32:B36) -> 1389
B33: -165
B34: 642
B35: 248
B36: 480
A37: 2004 | B37: -123 | C37: =SUM(B37:B42) -> 96
B38: -274
B39: -105
B40: -70
...

Sheet AUDUSD
A1: год | B1: прибыль/убыток в пп | C1: сумма года | D1: Общая прибыль в пп | E1: средний год | F1: средний убыток пп | G1: средняя прибыль пп
A2: 1998 | B2: 237 | C2: =SUM(B2:B4) -> 345 | D2: =SUM(C2:C115) -> 3177 | E2: =D2/20 -> 158.85 | F2: =SUM(B4,B6,B7,B8,B9,B12,B13,B15,B17,B18,B20,B21,B22,B24,B26,B32,B33,B35,B37,B38,B39,B40,B41,B42,B43,B44,B45,B48,B49,B52,B53,B58,B61,B62,B63,B65,B69,B70,B72,B73,B76,B77,B78,B79,B81,B82,B83,B85,B86,B87,B88,B89,B90,B91,B93,B95,B97,B98,B99,B101,B104,B105,B109,B112,B114)/65 -> -123.26154 | G2: =SUM(B2,B3,B5,B10,B11,B14,B16,B19,B23,B25,B27,B28,B29,B30,B31,B34,B36,B46,B47,B50,B51,B54,B55,B56,B57,B59,B60,B64,B66,B67,B68,B71,B74,B75,B80,B84,B92,B94,B96,B100,B102,B103,B106,B107,B108,B110,B111,B113,B115)/49 -> 228.34694
B3: 127 | F3: всего убыточных сделок | G3: всего прибыльных сделок
B4: -19 | F4: 65 | G4: 49
A5: 1999 | B5: 156 | C5: =SUM(B5:B8) -> -170
B6: -95
B7: -131
B8: -100
A9: 2000 | B9: -26 | C9: =SUM(B9:B15) -> 230
B10: 30
B11: 32
B12: -8
B13: -56
B14: 429
B15: -171
A16: 2001 | B16: 477 | C16: =SUM(B16:B20) -> 286
B17: -147
B18: -149
B19: 142
B20: -37
A21: 2002 | B21: -62 | C21: =SUM(B21:B26) -> 15
B22: -19
B23: 152
B24: -52
B25: 48
B26: -52
A27: 2003 | B27: 144 | C27: =SUM(B27:B31) -> 1609
B28: 78
B29: 549
B30: 704
B31: 134
A32: 2004 | B32: -174 | C32: =SUM(B32:B36) -> 180
B33: -148
B34: 50
B35: -145
B36: 597
A37: 2005 | B37: -202 | C37: =SUM(B37:B44) -> -822
B38: -22
B39: -100
B40: -88
...

Sheet GBPUSD
A1: год | B1: прибыль/убыток в пп | C1: сумма года | D1: Общая прибыль в пп | E1: средний год | F1: средний убыток пп | G1: средняя прибыль пп
A2: 1998 | B2: -102 | C2: =SUM(B2:B5) -> -452 | D2: =SUM(C2:C119) -> 1311 | E2: =D2/20 -> 65.55 | F2: =SUM(B2,B3,B4,B5,B7,B8,B10,B11,B12,B14,B15,B17,B18,B19,B20,B21,B22,B24,B25,B27,B29,B30,B37,B38,B40,B41,B44,B48,B49,B50,B51,B55,B58,B60,B61,B62,B65,B66,B67,B68,B69,B70,B71,B74,B75,B76,B77,B78,B79,B81,B82,B83,B84,B85,B86,B87,B88,B90,B92,B93,B94,B96,B97,B100,B102,B105,B106,B107,B110,B111,B112,B114,B116,B117)/74 -> -190.55405 | G2: =SUM(B6,B9,B13,B16,B23,B26,B28,B31,B32,B33,B34,B35,B36,B39,B42,B43,B45,B46,B47,B52,B53,B54,B56,B57,B59,B63,B64,B72,B73,B80,B89,B91,B95,B98,B99,B101,B103,B104,B108,B109,B113,B115,B118,B119)/44 -> 350.27273
B3: -115 | F3: всего прибыльных сделок | G3: всего прибыльных сделок
B4: -93 | F4: 74 | G4: 44
B5: -142
A6: 1999 | B6: 50 | C6: =SUM(B6:B10) -> -537
B7: -190
B8: -157
B9: 79
B10: -319
A11: 2000 | B11: -226 | C11: =SUM(B11:B18) -> -57
B12: -10
B13: 661
B14: -262
B15: -245
B16: 415
B17: -281
B18: -109
A19: 2001 | B19: -125 | C19: =SUM(B19:B25) -> -736
B20: -129
B21: -121
B22: -234
B23: 14
B24: -34
B25: -107
A26: 2002 | B26: 75 | C26: =SUM(B26:B32) -> 758
B27: -207
B28: 865
B29: -151
B30: -216
B31: 37
B32: 355
A33: 2003 | B33: 410 | C33: =SUM(B33:B36) -> 1881
B34: 7
B35: 634
B36: 830
A37: 2004 | B37: -31 | C37: =SUM(B37:B42) -> 235
B38: -486
B39: 136
B40: -54
...

Sheet USDCAD
A1: год | B1: прибыль/убыток в пп | C1: сумма года | D1: Общая прибыль в пп | E1: средний год | F1: средний убыток пп | G1: средняя прибыль пп
A2: 1998 | B2: 722 | C2: =SUM(B2:B5) -> 318 | D2: =SUM(C2:C116) -> 1909 | E2: =D2/20 -> 95.45
B3: -69 | F3: сделок убыточных | G3: сделок прибыльных
B4: -165
B5: -170
A6: 1999 | B6: -65 | C6: =SUM(B6:B11) -> -214
B7: -128
B8: -34
B9: -33
B10: -79
B11: 125
A12: 2000 | B12: -150 | C12: =SUM(B12:B15) -> 373
B13: 156
B14: -140
B15: 507
A16: 2001 | B16: 368 | C16: =SUM(B16:B20) -> 369
B17: -76
B18: 140
B19: 59
B20: -122
A21: 2002 | B21: -243
B22: -117 | C22: =SUM(B22:B26) -> -484
B23: -122
B24: -110
B25: -3
B26: -132
A27: 2003 | B27: -229 | C27: =SUM(B27:B33) -> 843
B28: 473
B29: -47
B30: 521
B31: -234
B32: 492
B33: -133
A34: 2004 | B34: -38 | C34: =SUM(B34:B40) -> 446
B35: -145
B36: -101
B37: 87
B38: -107
B39: -80
B40: 830
...

Sheet USDCHF
A1: год | B1: прибыль/убыток в пп | C1: сумма года | D1: Общая прибыль в пп | E1: средний год | F1: средний убыток пп | G1: средняя прибыль пп
A2: 1998
F3: сделок убыточных | G3: сделок прибыльных

Sheet USDJPY
A1: год | B1: прибыль/убыток в пп | C1: сумма года | D1: Общая прибыль в пп | E1: средний год | F1: средний убыток пп | G1: средняя прибыль пп
A2: 1998
F3: сделок убыточных | G3: сделок прибыльных
