Workbook

Sheet подсчет по каждой свече H4
B2: Анализатор свечей AverageStatistic 1.7.1 ind (автор Usver73)
B4: тест корректности работы индикатора во всех режимах
B5: таймфрейм :H4
B6: брокер: Exness
B7: валютная пара : eurjpy
B8: единица измерения: пункт
B9: BeginDateCalc=значение свечи на H4; EndBeginCalc=BeginDateCalc
B10: Idbegin=0 ; Idlenth=24
B11: данные ручного подсчета | L11: данные индикатора AverageStatistic 1.7.1 ind | AA11: разность показателей ручного подсчета и индикатора
B12: buy/sell | C12: Open | D12: High | E12: Low | F12: Close | G12: Volume | H12: средняя волатильность | I12: средний размер тела | J12: средний размер верхней тени | K12: средний размер нижней тени | L12: весь период | N12: день недели нижняя таблица | O12: buy/sell дня недели нижняя таблица | P12: all дня недели нижняя таблица | Q12: день недели верхняя таблица | R12: buy/sell дня недели верхняя таблица | S12: all дня недели верхняя таблица | T12: High | U12: Low | V12: средняя волатильность,пп | W12: средний размер тела | X12: средний размер верхней тени,п | Y12: средний размер нижней тени | Z12: средняя волатильность | AA12: средняя волатильность ручного подсчета минус средняя волатильность индикатора | AB12: средний размер тела ручного подсчета минус средний размер тела индикатора | AC12: средний размер верхней тени ручного подсчета имнус средний размер верхней тени индикатора | AD12: средний размер нижней тени ручного подсчета минус средний размер нижней тени индикатора
A14: 43063
A15: 0 | B15: buy | C15: 131.838 | D15: 132.042 | E15: 131.832 | F15: 132.039 | G15: 7980 | H15: =(D15-E15)*1000 -> 210 | I15: =(F15-C15)*1000 -> 201 | J15: =(D15-F15)*1000 -> 3 | K15: =(C15-E15)*1000 -> 6 | L15: all | M15: buy | N15: пт | O15: buy | P15: all | Q15: пт | R15: buy | S15: all | T15: 132.042 | U15: 131.832 | V15: 210 | W15: 201 | X15: 3 | Y15: 6 | Z15: 210 | AA15: =H15-Z15 -> 7.9580786e-12 | AB15: =I15-W15 -> -6.5938366e-12 | AC15: =J15-X15 -> 1.4324542e-11 | AD15: =K15-Y15 -> 2.2737368e-13
A16: 0.16666667 | B16: sell | C16: 132.039 | D16: 132.19 | E16: 131.953 | F16: 132.002 | G16: 7216 | H16: =(D16-E16)*1000 -> 237 | I16: =(C16-F16)*1000 -> 37 | J16: =(D16-C16)*1000 -> 151 | K16: =(F16-E16)*1000 -> 49 | L16: all | M16: sell | N16: пт | O16: sell | P16: all | Q16: пт | R16: sell | S16: all | T16: 132.19 | U16: 131.953 | V16: 237 | W16: 37 | X16: 151 | Y16: 49 | Z16: 237 | AA16: =H16-Z16 -> -5.2295945e-12 | AB16: =I16-W16 -> -2.228262e-11 | AC16: =J16-X16 -> 1.0459189e-11 | AD16: =K16-Y16 -> 6.5938366e-12
A17: 0.33333333 | B17: buy | C17: 132 | D17: 132.336 | E17: 131.934 | F17: 132.15 | G17: 10654 | H17: =(D17-E17)*1000 -> 402 | I17: =(F17-C17)*1000 -> 150 | J17: =(D17-F17)*1000 -> 186 | K17: =(C17-E17)*1000 -> 66 | L17: all | M17: buy | N17: пт | O17: buy | P17: all | Q17: пт | R17: buy | S17: all | T17: 132.336 | U17: 131.934 | V17: 402 | W17: 150 | X17: 186 | Y17: 66 | Z17: 402 | AA17: =H17-Z17 -> 1.5234036e-11 | AB17: =I17-W17 -> 5.6843419e-12 | AC17: =J17-X17 -> 7.0485839e-12 | AD17: =K17-Y17 -> 2.5011104e-12
A18: 0.5 | B18: buy | C18: 132.151 | D18: 133.084 | E18: 132.142 | F18: 133.06 | G18: 11570 | H18: =(D18-E18)*1000 -> 942 | I18: =(F18-C18)*1000 -> 909 | J18: =(D18-F18)*1000 -> 24 | K18: =(C18-E18)*1000 -> 9 | L18: all | M18: buy | N18: пт | O18: buy | P18: all | Q18: пт | R18: buy | S18: all | T18: 133.084 | U18: 132.142 | V18: 942 | W18: 909 | X18: 24 | Y18: 9 | Z18: 942 | AA18: =H18-Z18 -> 7.2759576e-12 | AB18: =I18-W18 -> -8.1854523e-12 | AC18: =J18-X18 -> 9.094947e-13 | AD18: =K18-Y18 -> 1.4551915e-11
A19: 0.66666667 | B19: buy | C19: 133.061 | D19: 133.228 | E19: 132.993 | F19: 133.069 | G19: 7221 | H19: =(D19-E19)*1000 -> 235 | I19: =(F19-C19)*1000 -> 8 | J19: =(D19-F19)*1000 -> 159 | K19: =(C19-E19)*1000 -> 68 | L19: all | M19: buy | N19: пт | O19: buy | P19: all | Q19: пт | R19: buy | S19: all | T19: 133.228 | U19: 132.993 | V19: 235 | W19: 8 | X19: 159 | Y19: 68 | Z19: 235 | AA19: =H19-Z19 -> 1.3642421e-11 | AB19: =I19-W19 -> -1.8644641e-11 | AC19: =J19-X19 -> 2.0236257e-11 | AD19: =K19-Y19 -> 1.2050805e-11
A20: 0.83333333 | B20: sell | C20: 133.067 | D20: 133.133 | E20: 133.036 | F20: 133.061 | G20: 1439 | H20: =(D20-E20)*1000 -> 97 | I20: =(C20-F20)*1000 -> 6 | J20: =(D20-C20)*1000 -> 66 | K20: =(F20-E20)*1000 -> 25 | L20: all | M20: sell | N20: пт | O20: sell | P20: all | Q20: пт | R20: sell | S20: all | T20: 133.133 | U20: 133.036 | V20: 97 | W20: 6 | X20: 66 | Y20: 25 | Z20: 97 | AA20: =H20-Z20 -> 8.412826e-12 | AB20: =I20-W20 -> 2.2737368e-13 | AC20: =J20-X20 -> 2.5011104e-12 | AD20: =K20-Y20 -> 5.6843419e-12
A21: 43062 | AA21: =H21-Z21 -> 0 | AB21: =I21-W21 -> 0 | AC21: =J21-X21 -> 0 | AD21: =K21-Y21 -> 0
A22: 0 | B22: buy | C22: 131.466 | D22: 131.782 | E22: 131.223 | F22: 131.7 | G22: 7361 | H22: =(D22-E22)*1000 -> 559 | I22: =(F22-C22)*1000 -> 234 | J22: =(D22-F22)*1000 -> 82 | K22: =(C22-E22)*1000 -> 243 | L22: all | M22: buy | N22: чт | O22: buy | P22: all | Q22: чт | R22: buy | S22: all | T22: 131.782 | U22: 131.223 | V22: 559 | W22: 234 | X22: 82 | Y22: 243 | Z22: 559 | AA22: =H22-Z22 -> -2.5011104e-12 | AB22: =I22-W22 -> -1.9554136e-11 | AC22: =J22-X22 -> 2.2055247e-11 | AD22: =K22-Y22 -> -5.0022209e-12
A23: 0.16666667 | B23: sell | C23: 131.7 | D23: 131.808 | E23: 131.46 | F23: 131.48 | G23: 6915 | H23: =(D23-E23)*1000 -> 348 | I23: =(C23-F23)*1000 -> 220 | J23: =(D23-C23)*1000 -> 108 | K23: =(F23-E23)*1000 -> 20 | L23: all | M23: sell | N23: чт | O23: sell | P23: all | Q23: чт | R23: sell | S23: all | T23: 131.808 | U23: 131.46 | V23: 348 | W23: 220 | X23: 108 | Y23: 20 | Z23: 348 | AA23: =H23-Z23 -> -1.5234036e-11 | AB23: =I23-W23 -> -1.1368684e-12 | AC23: =J23-X23 -> 4.0927262e-12 | AD23: =K23-Y23 -> -1.8189894e-11
A24: 0.33333333 | B24: buy | C24: 131.465 | D24: 131.804 | E24: 131.463 | F24: 131.663 | G24: 9769 | H24: =(D24-E24)*1000 -> 341 | I24: =(F24-C24)*1000 -> 198 | J24: =(D24-F24)*1000 -> 141 | K24: =(C24-E24)*1000 -> 2 | L24: all | M24: buy | N24: чт | O24: buy | P24: all | Q24: чт | R24: buy | S24: all | T24: 131.804 | U24: 131.463 | V24: 341 | W24: 198 | X24: 141 | Y24: 2 | Z24: 341 | AA24: =H24-Z24 -> 8.1854523e-12 | AB24: =I24-W24 -> 7.5033313e-12 | AC24: =J24-X24 -> -8.8675733e-12 | AD24: =K24-Y24 -> 9.5496944e-12
A25: 0.5 | B25: buy | C25: 131.664 | D25: 131.871 | E25: 131.647 | F25: 131.731 | G25: 7658 | H25: =(D25-E25)*1000 -> 224 | I25: =(F25-C25)*1000 -> 67 | J25: =(D25-F25)*1000 -> 140 | K25: =(C25-E25)*1000 -> 17 | L25: all | M25: buy | N25: чт | O25: buy | P25: all | Q25: чт | R25: buy | S25: all | T25: 131.871 | U25: 131.647 | V25: 224 | W25: 67 | X25: 140 | Y25: 17 | Z25: 224 | AA25: =H25-Z25 -> 1.796252e-11 | AB25: =I25-W25 -> 7.2759576e-12 | AC25: =J25-X25 -> 1.4779289e-11 | AD25: =K25-Y25 -> -4.0927262e-12
A26: 0.66666667 | B26: buy | C26: 131.731 | D26: 131.827 | E26: 131.668 | F26: 131.8 | G26: 9252 | H26: =(D26-E26)*1000 -> 159 | I26: =(F26-C26)*1000 -> 69 | J26: =(D26-F26)*1000 -> 27 | K26: =(C26-E26)*1000 -> 63 | L26: all | M26: buy | N26: чт | O26: buy | P26: all | Q26: чт | R26: buy | S26: all | T26: 131.827 | U26: 131.668 | V26: 159 | W26: 69 | X26: 27 | Y26: 63 | Z26: 159 | AA26: =H26-Z26 -> -8.1854523e-12 | AB26: =I26-W26 -> 1.6825652e-11 | AC26: =J26-X26 -> -1.3187673e-11 | AD26: =K26-Y26 -> -1.1823431e-11
A27: 0.83333333 | B27: buy | C27: 131.801 | D27: 131.85 | E27: 131.701 | F27: 131.837 | G27: 7120 | H27: =(D27-E27)*1000 -> 149 | I27: =(F27-C27)*1000 -> 36 | J27: =(D27-F27)*1000 -> 13 | K27: =(C27-E27)*1000 -> 100 | L27: all | M27: buy | N27: чт | O27: buy | P27: all | Q27: чт | R27: buy | S27: all | T27: 131.85 | U27: 131.701 | V27: 149 | W27: 36 | X27: 13 | Y27: 100 | Z27: 149 | AA27: =H27-Z27 -> 9.094947e-13 | AB27: =I27-W27 -> 1.3642421e-12 | AC27: =J27-X27 -> 5.2295945e-12 | AD27: =K27-Y27 -> -5.6843419e-12
A28: 43061 | AA28: =H28-Z28 -> 0 | AB28: =I28-W28 -> 0 | AC28: =J28-X28 -> 0 | AD28: =K28-Y28 -> 0
A29: 0 | B29: sell | C29: 131.912 | D29: 131.917 | E29: 131.706 | F29: 131.815 | G29: 8005 | H29: =(D29-E29)*1000 -> 211 | I29: =(C29-F29)*1000 -> 97 | J29: =(D29-C29)*1000 -> 5 | K29: =(F29-E29)*1000 -> 109 | L29: all | M29: sell | N29: ср | O29: sell | P29: all | Q29: ср | R29: sell | S29: all | T29: 131.917 | U29: 131.706 | V29: 211 | W29: 97 | X29: 5 | Y29: 109 | Z29: 211 | AA29: =H29-Z29 -> 1.2732926e-11 | AB29: =I29-W29 -> 8.412826e-12 | AC29: =J29-X29 -> -4.5474735e-12 | AD29: =K29-Y29 -> 8.8675733e-12
A30: 0.16666667 | B30: sell | C30: 131.815 | D30: 131.872 | E30: 131.701 | F30: 131.752 | G30: 7775 | H30: =(D30-E30)*1000 -> 171 | I30: =(C30-F30)*1000 -> 63 | J30: =(D30-C30)*1000 -> 57 | K30: =(F30-E30)*1000 -> 51 | L30: all | M30: sell | N30: ср | O30: sell | P30: all | Q30: ср | R30: sell | S30: all | T30: 131.872 | U30: 131.701 | V30: 171 | W30: 63 | X30: 57 | Y30: 51 | Z30: 171 | AA30: =H30-Z30 -> 2.0691004e-11 | AB30: =I30-W30 -> -1.1823431e-11 | AC30: =J30-X30 -> 1.6370905e-11 | AD30: =K30-Y30 -> 1.6143531e-11
A31: 0.33333333 | B31: sell | C31: 131.753 | D31: 131.92 | E31: 131.655 | F31: 131.738 | G31: 10337 | H31: =(D31-E31)*1000 -> 265 | I31: =(C31-F31)*1000 -> 15 | J31: =(D31-C31)*1000 -> 167 | K31: =(F31-E31)*1000 -> 83 | L31: all | M31: sell | N31: ср | O31: sell | P31: all | Q31: ср | R31: sell | S31: all | T31: 131.92 | U31: 131.655 | V31: 265 | W31: 15 | X31: 167 | Y31: 83 | Z31: 265 | AA31: =H31-Z31 -> -1.3642421e-11 | AB31: =I31-W31 -> -1.3642421e-11 | AC31: =J31-X31 -> 1.5916157e-12 | AD31: =K31-Y31 -> -1.5916157e-12
A32: 0.5 | B32: sell | C32: 131.739 | D32: 131.762 | E32: 131.462 | F32: 131.566 | G32: 13507 | H32: =(D32-E32)*1000 -> 300 | I32: =(C32-F32)*1000 -> 173 | J32: =(D32-C32)*1000 -> 23 | K32: =(F32-E32)*1000 -> 104 | L32: all | M32: sell | N32: ср | O32: sell | P32: all | Q32: ср | R32: sell | S32: all | T32: 131.762 | U32: 131.462 | V32: 300 | W32: 173 | X32: 23 | Y32: 104 | Z32: 300 | AA32: =H32-Z32 -> 1.1368684e-11 | AB32: =I32-W32 -> 1.8189894e-12 | AC32: =J32-X32 -> -3.8653525e-12 | AD32: =K32-Y32 -> 1.3415047e-11
A33: 0.66666667 | B33: sell | C33: 131.568 | D33: 131.645 | E33: 131.426 | F33: 131.446 | G33: 10930 | H33: =(D33-E33)*1000 -> 219 | I33: =(C33-F33)*1000 -> 122 | J33: =(D33-C33)*1000 -> 77 | K33: =(F33-E33)*1000 -> 20 | L33: all | M33: sell | N33: ср | O33: sell | P33: all | Q33: ср | R33: sell | S33: all | T33: 131.645 | U33: 131.426 | V33: 219 | W33: 122 | X33: 77 | Y33: 20 | Z33: 219 | AA33: =H33-Z33 -> 2.2509994e-11 | AB33: =I33-W33 -> 1.4097168e-11 | AC33: =J33-X33 -> -1.8189894e-12 | AD33: =K33-Y33 -> 1.0231815e-11
A34: 0.83333333 | B34: buy | C34: 131.446 | D34: 131.517 | E34: 131.408 | F34: 131.465 | G34: 7355 | H34: =(D34-E34)*1000 -> 109 | I34: =(F34-C34)*1000 -> 19 | J34: =(D34-F34)*1000 -> 52 | K34: =(C34-E34)*1000 -> 38 | L34: all | M34: buy | N34: ср | O34: buy | P34: all | Q34: ср | R34: buy | S34: all | T34: 131.517 | U34: 131.408 | V34: 109 | W34: 19 | X34: 52 | Y34: 38 | Z34: 109 | AA34: =H34-Z34 -> 8.8675733e-12 | AB34: =I34-W34 -> 5.4569682e-12 | AC34: =J34-X34 -> -7.5033313e-12 | AD34: =K34-Y34 -> 1.0913936e-11
A35: 43060 | AA35: =H35-Z35 -> 0 | AB35: =I35-W35 -> 0 | AC35: =J35-X35 -> 0 | AD35: =K35-Y35 -> 0
A36: 0 | B36: sell | C36: 132.098 | D36: 132.259 | E36: 132.03 | F36: 132.079 | G36: 8291 | H36: =(D36-E36)*1000 -> 229 | I36: =(C36-F36)*1000 -> 19 | J36: =(D36-C36)*1000 -> 161 | K36: =(F36-E36)*1000 -> 49 | L36: all | M36: sell | N36: вт | O36: sell | P36: all | Q36: вт | R36: sell | S36: all | T36: 132.259 | U36: 132.03 | V36: 229 | W36: 19 | X36: 161 | Y36: 49 | Z36: 229 | AA36: =H36-Z36 -> -1.5006663e-11 | AB36: =I36-W36 -> 5.4569682e-12 | AC36: =J36-X36 -> -2.7057467e-11 | AD36: =K36-Y36 -> 6.5938366e-12
A37: 0.16666667 | B37: buy | C37: 132.079 | D37: 132.188 | E37: 132.018 | F37: 132.103 | G37: 7369 | H37: =(D37-E37)*1000 -> 170 | I37: =(F37-C37)*1000 -> 24 | J37: =(D37-F37)*1000 -> 85 | K37: =(C37-E37)*1000 -> 61 | L37: all | M37: buy | N37: вт | O37: buy | P37: all | Q37: вт | R37: buy | S37: all | T37: 132.188 | U37: 132.018 | V37: 170 | W37: 24 | X37: 85 | Y37: 61 | Z37: 170 | AA37: =H37-Z37 -> -1.2505552e-11 | AB37: =I37-W37 -> 9.094947e-13 | AC37: =J37-X37 -> -2.0463631e-11 | AD37: =K37-Y37 -> 7.0485839e-12
A38: 0.33333333 | B38: sell | C38: 132.101 | D38: 132.254 | E38: 131.685 | F38: 131.968 | G38: 11751 | H38: =(D38-E38)*1000 -> 569 | I38: =(C38-F38)*1000 -> 133 | J38: =(D38-C38)*1000 -> 153 | K38: =(F38-E38)*1000 -> 283 | L38: all | M38: sell | N38: вт | O38: sell | P38: all | Q38: вт | R38: sell | S38: all | T38: 132.254 | U38: 131.685 | V38: 569 | W38: 133 | X38: 153 | Y38: 283 | Z38: 569 | AA38: =H38-Z38 -> -1.1596057e-11 | AB38: =I38-W38 -> 9.777068e-12 | AC38: =J38-X38 -> -8.412826e-12 | AD38: =K38-Y38 -> -1.29603e-11
A39: 0.5 | B39: sell | C39: 131.969 | D39: 132.029 | E39: 131.567 | F39: 131.853 | G39: 12710 | H39: =(D39-E39)*1000 -> 462 | I39: =(C39-F39)*1000 -> 116 | J39: =(D39-C39)*1000 -> 60 | K39: =(F39-E39)*1000 -> 286 | L39: all | M39: sell | N39: вт | O39: sell | P39: all | Q39: вт | R39: sell | S39: all | T39: 132.029 | U39: 131.567 | V39: 462 | W39: 116 | X39: 60 | Y39: 286 | Z39: 462 | AA39: =H39-Z39 -> -1.0913936e-11 | AB39: =I39-W39 -> -1.4551915e-11 | AC39: =J39-X39 -> 2.2737368e-12 | AD39: =K39-Y39 -> 1.3642421e-12
A40: 0.66666667 | B40: buy | C40: 131.853 | D40: 132.08 | E40: 131.837 | F40: 132.031 | G40: 10303 | H40: =(D40-E40)*1000 -> 243 | I40: =(F40-C40)*1000 -> 178 | J40: =(D40-F40)*1000 -> 49 | K40: =(C40-E40)*1000 -> 16 | L40: all | M40: buy | N40: вт | O40: buy | P40: all | Q40: вт | R40: buy | S40: all | T40: 132.08 | U40: 131.837 | V40: 243 | W40: 178 | X40: 49 | Y40: 16 | Z40: 243 | AA40: =H40-Z40 -> 2.3419489e-11 | AB40: =I40-W40 -> -2.7284841e-12 | AC40: =J40-X40 -> 6.5938366e-12 | AD40: =K40-Y40 -> 1.9554136e-11
A41: 0.83333333 | B41: sell | C41: 132.03 | D41: 132.071 | E41: 131.858 | F41: 131.912 | G41: 7269 | H41: =(D41-E41)*1000 -> 213 | I41: =(C41-F41)*1000 -> 118 | J41: =(D41-C41)*1000 -> 41 | K41: =(F41-E41)*1000 -> 54 | L41: all | M41: sell | N41: вт | O41: sell | P41: all | Q41: вт | R41: sell | S41: all | T41: 132.071 | U41: 131.858 | V41: 213 | W41: 118 | X41: 41 | Y41: 54 | Z41: 213 | AA41: =H41-Z41 -> -6.1390892e-12 | AB41: =I41-W41 -> -5.0022209e-12 | AC41: =J41-X41 -> -3.1832315e-12 | AD41: =K41-Y41 -> 2.0463631e-12
A42: 43059 | AA42: =H42-Z42 -> 0 | AB42: =I42-W42 -> 0 | AC42: =J42-X42 -> 0 | AD42: =K42-Y42 -> 0
A43: 0 | B43: buy | C43: 131.44 | D43: 131.805 | E43: 131.275 | F43: 131.464 | G43: 10992 | H43: =(D43-E43)*1000 -> 530 | I43: =(F43-C43)*1000 -> 24 | J43: =(D43-F43)*1000 -> 341 | K43: =(C43-E43)*1000 -> 165 | L43: all | M43: buy | N43: пн | O43: buy | P43: all | Q43: пн | R43: buy | S43: all | T43: 131.805 | U43: 131.275 | V43: 530 | W43: 24 | X43: 341 | Y43: 165 | Z43: 530 | AA43: =H43-Z43 -> 1.1368684e-12 | AB43: =I43-W43 -> 9.094947e-13 | AC43: =J43-X43 -> 8.1854523e-12 | AD43: =K43-Y43 -> -7.9580786e-12
...

Sheet групповой подсчет
B2: Анализатор свечей AverageStatistic 1.7.1 ind (автор Usver73)
B4: тест корректности работы индикатора во всех режимах
B6: брокер: Exness
B7: валютная пара : eurjpy
B8: единица измерения: пункт
B9: таймфрейм :H4
B11: данные ручного подсчета | E11: данные индикатора AverageStatistic1/6ind | H11: разность показателей ручного подсчета и индикатора
B12: all | C12: buy | D12: sell | E12: all | F12: buy | G12: sell | H12: all | I12: buy | J12: sell
A14: 24.11.2017 00:00-23:59
A15: кол-во свечей | B15: 6 | C15: 4 | D15: 2 | E15: 6 | F15: 4 | G15: 2 | H15: =B15-E15 -> 0 | I15: =C15-F15 -> 0 | J15: =D15-G15 -> 0
A16: средн.р-р свечи | B16: =('подсчет по каждой свече H4'!H15+'подсчет по каждой свече H4'!H16+'подсчет по каждой свече H4'!H17+'подсчет по каждой свече H4'!H18+'подсчет по каждой свече H4'!H19+'подсчет по каждой свече H4'!H20)/6 -> 353.83333 | C16: =('подсчет по каждой свече H4'!H15+'подсчет по каждой свече H4'!H17+'подсчет по каждой свече H4'!H18+'подсчет по каждой свече H4'!H19)/4 -> 447.25 | D16: =('подсчет по каждой свече H4'!H16+'подсчет по каждой свече H4'!H20)/2 -> 167 | E16: 353 | F16: 447 | G16: 167 | H16: =B16-E16 -> 0.83333333 | I16: =C16-F16 -> 0.25 | J16: =D16-G16 -> 1.5916157e-12
A17: средн.р-р тела | B17: =('подсчет по каждой свече H4'!I15+'подсчет по каждой свече H4'!I16+'подсчет по каждой свече H4'!I17+'подсчет по каждой свече H4'!I18+'подсчет по каждой свече H4'!I19+'подсчет по каждой свече H4'!I20)/6 -> 218.5 | C17: =('подсчет по каждой свече H4'!I15+'подсчет по каждой свече H4'!I17+'подсчет по каждой свече H4'!I18+'подсчет по каждой свече H4'!I19)/4 -> 317 | D17: =('подсчет по каждой свече H4'!I16+'подсчет по каждой свече H4'!I20)/2 -> 21.5 | E17: 218 | F17: 317 | G17: 21 | H17: =B17-E17 -> 0.5 | I17: =C17-F17 -> -6.9348971e-12 | J17: =D17-G17 -> 0.5
A18: средн р-р Up тени | B18: =('подсчет по каждой свече H4'!J15+'подсчет по каждой свече H4'!J16+'подсчет по каждой свече H4'!J17+'подсчет по каждой свече H4'!J18+'подсчет по каждой свече H4'!J19+'подсчет по каждой свече H4'!J20)/6 -> 98.166667 | C18: =('подсчет по каждой свече H4'!J15+'подсчет по каждой свече H4'!J17+'подсчет по каждой свече H4'!J18+'подсчет по каждой свече H4'!J19)/4 -> 93 | D18: =('подсчет по каждой свече H4'!J16+'подсчет по каждой свече H4'!J20)/2 -> 108.5 | E18: 98 | F18: 93 | G18: 108 | H18: =B18-E18 -> 0.16666667 | I18: =C18-F18 -> 1.0629719e-11 | J18: =D18-G18 -> 0.5
A19: средн.р-р Dn тени | B19: =('подсчет по каждой свече H4'!K15+'подсчет по каждой свече H4'!K16+'подсчет по каждой свече H4'!K17+'подсчет по каждой свече H4'!K18+'подсчет по каждой свече H4'!K19+'подсчет по каждой свече H4'!K20)/6 -> 37.166667 | C19: =('подсчет по каждой свече H4'!K15+'подсчет по каждой свече H4'!K17+'подсчет по каждой свече H4'!K18+'подсчет по каждой свече H4'!K19)/4 -> 37.25 | D19: =('подсчет по каждой свече H4'!K16+'подсчет по каждой свече H4'!K20)/2 -> 37 | E19: 37 | F19: 37 | G19: 37 | H19: =B19-E19 -> 0.16666667 | I19: =C19-F19 -> 0.25 | J19: =D19-G19 -> 6.1390892e-12
A20: Макс. Свеча | B20: ='подсчет по каждой свече H4'!H18 -> 942 | C20: ='подсчет по каждой свече H4'!H18 -> 942 | D20: ='подсчет по каждой свече H4'!H16 -> 237 | E20: 942 | F20: 942 | G20: 237 | H20: =B20-E20 -> 7.2759576e-12 | I20: =C20-F20 -> 7.2759576e-12 | J20: =D20-G20 -> -5.2295945e-12
A21: Макс.тело | B21: ='подсчет по каждой свече H4'!I18 -> 909 | C21: ='подсчет по каждой свече H4'!I18 -> 909 | D21: ='подсчет по каждой свече H4'!I16 -> 37 | E21: 909 | F21: 909 | G21: 37 | H21: =B21-E21 -> -8.1854523e-12 | I21: =C21-F21 -> -8.1854523e-12 | J21: =D21-G21 -> -2.228262e-11
A22: Макс Up тень | B22: ='подсчет по каждой свече H4'!J17 -> 186 | C22: ='подсчет по каждой свече H4'!J17 -> 186 | D22: ='подсчет по каждой свече H4'!J16 -> 151 | E22: 186 | F22: 186 | G22: 151 | H22: =B22-E22 -> 7.0485839e-12 | I22: =C22-F22 -> 7.0485839e-12 | J22: =D22-G22 -> 1.0459189e-11
A23: Макс Dn тень | B23: ='подсчет по каждой свече H4'!K19 -> 68 | C23: ='подсчет по каждой свече H4'!K19 -> 68 | D23: ='подсчет по каждой свече H4'!K16 -> 49 | E23: 68 | F23: 68 | G23: 49 | H23: =B23-E23 -> 1.2050805e-11 | I23: =C23-F23 -> 1.2050805e-11 | J23: =D23-G23 -> 6.5938366e-12
A24: 23.11.2017 00:00-23:59
A25: кол-во свечей | B25: 6 | C25: 5 | D25: 1 | E25: 6 | F25: 5 | G25: 1 | H25: =B25-E25 -> 0 | I25: =C25-F25 -> 0 | J25: =D25-G25 -> 0
A26: средн.р-р свечи | B26: =('подсчет по каждой свече H4'!H22+'подсчет по каждой свече H4'!H23+'подсчет по каждой свече H4'!H24+'подсчет по каждой свече H4'!H25+'подсчет по каждой свече H4'!H26+'подсчет по каждой свече H4'!H27)/6 -> 296.66667 | C26: =('подсчет по каждой свече H4'!H22+'подсчет по каждой свече H4'!H24+'подсчет по каждой свече H4'!H25+'подсчет по каждой свече H4'!H26+'подсчет по каждой свече H4'!H27)/5 -> 286.4 | D26: ='подсчет по каждой свече H4'!H23 -> 348 | E26: 296 | F26: 286 | G26: 348 | H26: =B26-E26 -> 0.66666667 | I26: =C26-F26 -> 0.4 | J26: =D26-G26 -> -1.5234036e-11
A27: средн.р-р тела | B27: =('подсчет по каждой свече H4'!I22+'подсчет по каждой свече H4'!I23+'подсчет по каждой свече H4'!I24+'подсчет по каждой свече H4'!I25+'подсчет по каждой свече H4'!I26+'подсчет по каждой свече H4'!I27)/6 -> 137.33333 | C27: =('подсчет по каждой свече H4'!I22+'подсчет по каждой свече H4'!I24+'подсчет по каждой свече H4'!I25+'подсчет по каждой свече H4'!I26+'подсчет по каждой свече H4'!I27)/5 -> 120.8 | D27: ='подсчет по каждой свече H4'!I23 -> 220 | E27: 137 | F27: 120 | G27: 220 | H27: =B27-E27 -> 0.33333333 | I27: =C27-F27 -> 0.8 | J27: =D27-G27 -> -1.1368684e-12
A28: средн р-р Up тени | B28: =('подсчет по каждой свече H4'!J22+'подсчет по каждой свече H4'!J23+'подсчет по каждой свече H4'!J24+'подсчет по каждой свече H4'!J25+'подсчет по каждой свече H4'!J26+'подсчет по каждой свече H4'!J27)/6 -> 85.166667 | C28: =('подсчет по каждой свече H4'!J22+'подсчет по каждой свече H4'!J24+'подсчет по каждой свече H4'!J25+'подсчет по каждой свече H4'!J26+'подсчет по каждой свече H4'!J27)/5 -> 80.6 | D28: ='подсчет по каждой свече H4'!J23 -> 108 | E28: 85 | F28: 80 | G28: 108 | H28: =B28-E28 -> 0.16666667 | I28: =C28-F28 -> 0.6 | J28: =D28-G28 -> 4.0927262e-12
A29: средн.р-р Dn тени | B29: =('подсчет по каждой свече H4'!K22+'подсчет по каждой свече H4'!K23+'подсчет по каждой свече H4'!K24+'подсчет по каждой свече H4'!K25+'подсчет по каждой свече H4'!K26+'подсчет по каждой свече H4'!K27)/6 -> 74.166667 | C29: =('подсчет по каждой свече H4'!K22+'подсчет по каждой свече H4'!K24+'подсчет по каждой свече H4'!K25+'подсчет по каждой свече H4'!K26+'подсчет по каждой свече H4'!K27)/5 -> 85 | D29: ='подсчет по каждой свече H4'!K23 -> 20 | E29: 74 | F29: 85 | G29: 20 | H29: =B29-E29 -> 0.16666667 | I29: =C29-F29 -> -3.4106051e-12 | J29: =D29-G29 -> -1.8189894e-11
A30: Макс. Свеча | B30: ='подсчет по каждой свече H4'!H22 -> 559 | C30: ='подсчет по каждой свече H4'!H22 -> 559 | D30: ='подсчет по каждой свече H4'!H23 -> 348 | E30: 559 | F30: 559 | G30: 348 | H30: =B30-E30 -> -2.5011104e-12 | I30: =C30-F30 -> -2.5011104e-12 | J30: =D30-G30 -> -1.5234036e-11
A31: Макс.тело | B31: ='подсчет по каждой свече H4'!I22 -> 234 | C31: ='подсчет по каждой свече H4'!I22 -> 234 | D31: ='подсчет по каждой свече H4'!I23 -> 220 | E31: 234 | F31: 234 | G31: 220 | H31: =B31-E31 -> -1.9554136e-11 | I31: =C31-F31 -> -1.9554136e-11 | J31: =D31-G31 -> -1.1368684e-12
A32: Макс Up тень | B32: ='подсчет по каждой свече H4'!J24 -> 141 | C32: ='подсчет по каждой свече H4'!J24 -> 141 | D32: ='подсчет по каждой свече H4'!J23 -> 108 | E32: 141 | F32: 141 | G32: 108 | H32: =B32-E32 -> -8.8675733e-12 | I32: =C32-F32 -> -8.8675733e-12 | J32: =D32-G32 -> 4.0927262e-12
A33: Макс Dn тень | B33: ='подсчет по каждой свече H4'!K22 -> 243 | C33: ='подсчет по каждой свече H4'!K22 -> 243 | D33: ='подсчет по каждой свече H4'!K23 -> 20 | E33: 243 | F33: 243 | G33: 20 | H33: =B33-E33 -> -5.0022209e-12 | I33: =C33-F33 -> -5.0022209e-12 | J33: =D33-G33 -> -1.8189894e-11
A34: 22.11.2017 00:00-23:59
A35: кол-во свечей | B35: 6 | C35: 1 | D35: 5 | E35: 6 | F35: 1 | G35: 5 | H35: =B35-E35 -> 0 | I35: =C35-F35 -> 0 | J35: =D35-G35 -> 0
A36: средн.р-р свечи | B36: =('подсчет по каждой свече H4'!H29+'подсчет по каждой свече H4'!H30+'подсчет по каждой свече H4'!H31+'подсчет по каждой свече H4'!H32+'подсчет по каждой свече H4'!H33+'подсчет по каждой свече H4'!H34)/6 -> 212.5 | C36: ='подсчет по каждой свече H4'!H34 -> 109 | D36: =('подсчет по каждой свече H4'!H29+'подсчет по каждой свече H4'!H30+'подсчет по каждой свече H4'!H31+'подсчет по каждой свече H4'!H32+'подсчет по каждой свече H4'!H33)/5 -> 233.2 | E36: 212 | F36: 109 | G36: 233 | H36: =B36-E36 -> 0.5 | I36: =C36-F36 -> 8.8675733e-12 | J36: =D36-G36 -> 0.2
A37: средн.р-р тела | B37: =('подсчет по каждой свече H4'!I29+'подсчет по каждой свече H4'!I30+'подсчет по каждой свече H4'!I31+'подсчет по каждой свече H4'!I32+'подсчет по каждой свече H4'!I33+'подсчет по каждой свече H4'!I34)/6 -> 81.5 | C37: ='подсчет по каждой свече H4'!I34 -> 19 | D37: =('подсчет по каждой свече H4'!I29+'подсчет по каждой свече H4'!I30+'подсчет по каждой свече H4'!I31+'подсчет по каждой свече H4'!I32+'подсчет по каждой свече H4'!I33)/5 -> 94 | E37: 81 | F37: 19 | G37: 94 | H37: =B37-E37 -> 0.5 | I37: =C37-F37 -> 5.4569682e-12 | J37: =D37-G37 -> -2.2737368e-13
A38: средн р-р Up тени | B38: =('подсчет по каждой свече H4'!J29+'подсчет по каждой свече H4'!J30+'подсчет по каждой свече H4'!J31+'подсчет по каждой свече H4'!J32+'подсчет по каждой свече H4'!J33+'подсчет по каждой свече H4'!J34)/6 -> 63.5 | C38: ='подсчет по каждой свече H4'!J34 -> 52 | D38: =('подсчет по каждой свече H4'!J29+'подсчет по каждой свече H4'!J30+'подсчет по каждой свече H4'!J31+'подсчет по каждой свече H4'!J32+'подсчет по каждой свече H4'!J33)/5 -> 65.8 | E38: 63 | F38: 52 | G38: 65 | H38: =B38-E38 -> 0.5 | I38: =C38-F38 -> -7.5033313e-12 | J38: =D38-G38 -> 0.8
A39: средн.р-р Dn тени | B39: =('подсчет по каждой свече H4'!K29+'подсчет по каждой свече H4'!K30+'подсчет по каждой свече H4'!K31+'подсчет по каждой свече H4'!K32+'подсчет по каждой свече H4'!K33+'подсчет по каждой свече H4'!K34)/6 -> 67.5 | C39: ='подсчет по каждой свече H4'!K34 -> 38 | D39: =('подсчет по каждой свече H4'!K29+'подсчет по каждой свече H4'!K30+'подсчет по каждой свече H4'!K31+'подсчет по каждой свече H4'!K32+'подсчет по каждой свече H4'!K33)/5 -> 73.4 | E39: 67 | F39: 38 | G39: 73 | H39: =B39-E39 -> 0.5 | I39: =C39-F39 -> 1.0913936e-11 | J39: =D39-G39 -> 0.4
A40: Макс. Свеча | B40: ='подсчет по каждой свече H4'!H32 -> 300 | C40: ='подсчет по каждой свече H4'!H34 -> 109 | D40: ='подсчет по каждой свече H4'!H32 -> 300 | E40: 300 | F40: 109 | G40: 300 | H40: =B40-E40 -> 1.1368684e-11 | I40: =C40-F40 -> 8.8675733e-12 | J40: =D40-G40 -> 1.1368684e-11
A41: Макс.тело | B41: ='подсчет по каждой свече H4'!I32 -> 173 | C41: ='подсчет по каждой свече H4'!I34 -> 19 | D41: ='подсчет по каждой свече H4'!I32 -> 173 | E41: 173 | F41: 19 | G41: 173 | H41: =B41-E41 -> 1.8189894e-12 | I41: =C41-F41 -> 5.4569682e-12 | J41: =D41-G41 -> 1.8189894e-12
A42: Макс Up тень | B42: ='подсчет по каждой свече H4'!J31 -> 167 | C42: ='подсчет по каждой свече H4'!J34 -> 52 | D42: ='подсчет по каждой свече H4'!J31 -> 167 | E42: 167 | F42: 52 | G42: 167 | H42: =B42-E42 -> 1.5916157e-12 | I42: =C42-F42 -> -7.5033313e-12 | J42: =D42-G42 -> 1.5916157e-12
A43: Макс Dn тень | B43: ='подсчет по каждой свече H4'!K29 -> 109 | C43: ='подсчет по каждой свече H4'!K34 -> 38 | D43: ='подсчет по каждой свече H4'!K29 -> 109 | E43: 109 | F43: 38 | G43: 109 | H43: =B43-E43 -> 8.8675733e-12 | I43: =C43-F43 -> 1.0913936e-11 | J43: =D43-G43 -> 8.8675733e-12
A44: 21.11.2017 00:00-23:59
A45: кол-во свечей | B45: 6 | C45: 2 | D45: 4 | E45: 6 | F45: 2 | G45: 4 | H45: =B45-E45 -> 0 | I45: =C45-F45 -> 0 | J45: =D45-G45 -> 0
...

Sheet Лист2

Sheet Лист3
