Workbook

Sheet подсчет по каждой свече H4
B2: Анализатор свечей AverageStatistic 1.7.1 ind (автор Usver73)
B4: тест корректности работы индикатора во всех режимах
B5: таймфрейм :H4
B6: брокер: Exness
B7: валютная пара : eurjpy
B8: единица измерения: пункт
B9: BeginDateCalc=значение свечи на H4; EndBeginCalc=BeginDateCalc
B10: Idbegin=0 ; Idlenth=24
B11: данные ручного подсчета | L11: данные индикатора AverageStatistic 1.7.1 ind | AA11: разность показателей ручного подсчета и индикатора
B12: buy/sell | C12: Open | D12: High | E12: Low | F12: Close | G12: Volume | H12: средняя волатильность | I12: средний размер тела | J12: средний размер верхней тени | K12: средний размер нижней тени | L12: весь период | N12: день недели нижняя таблица | O12: buy/sell дня недели нижняя таблица | P12: all дня недели нижняя таблица | Q12: день недели верхняя таблица | R12: buy/sell дня недели верхняя таблица | S12: all дня недели верхняя таблица | T12: High | U12: Low | V12: средняя волатильность,пп | W12: средний размер тела | X12: средний размер верхней тени,п | Y12: средний размер нижней тени | Z12: средняя волатильность | AA12: средняя волатильность ручного подсчета минус средняя волатильность индикатора | AB12: средний размер тела ручного подсчета минус средний размер тела индикатора | AC12: средний размер верхней тени ручного подсчета имнус средний размер верхней тени индикатора | AD12: средний размер нижней тени ручного подсчета минус средний размер нижней тени индикатора
A14: 43063
A15: 0 | B15: buy | C15: 131.838 | D15: 132.042 | E15: 131.832 | F15: 132.039 | G15: 7980 | H15: =(D15-E15)*1000 -> 210 | I15: =(F15-C15)*1000 -> 201 | J15: =(D15-F15)*1000 -> 3 | K15: =(C15-E15)*1000 -> 6 | L15: all | M15: buy | N15: пт | O15: buy | P15: all | Q15: пт | R15: buy | S15: all | T15: 132.042 | U15: 131.832 | V15: 210 | W15: 201 | X15: 3 | Y15: 6 | Z15: 210 | AA15: =H15-Z15 -> 7.9580786e-12 | AB15: =I15-W15 -> -6.5938366e-12 | AC15: =J15-X15 -> 1.4324542e-11 | AD15: =K15-Y15 -> 2.2737368e-13
A16: 0.16666667 | B16: sell | C16: 132.039 | D16: 132.19 | E16: 131.953 | F16: 132.002 | G16: 7216 | H16: =(D16-E16)*1000 -> 237 | I16: =(C16-F16)*1000 -> 37 | J16: =(D16-C16)*1000 -> 151 | K16: =(F16-E16)*1000 -> 49 | L16: all | M16: sell | N16: пт | O16: sell | P16: all | Q16: пт | R16: sell | S16: all | T16: 132.19 | U16: 131.953 | V16: 237 | W16: 37 | X16: 151 | Y16: 49 | Z16: 237 | AA16: =H16-Z16 -> -5.2295945e-12 | AB16: =I16-W16 -> -2.228262e-11 | AC16: =J16-X16 -> 1.0459189e-11 | AD16: =K16-Y16 -> 6.5938366e-12
A17: 0.33333333 | B17: buy | C17: 132 | D17: 132.336 | E17: 131.934 | F17: 132.15 | G17: 10654 | H17: =(D17-E17)*1000 -> 402 | I17: =(F17-C17)*1000 -> 150 | J17: =(D17-F17)*1000 -> 186 | K17: =(C17-E17)*1000 -> 66 | L17: all | M17: buy | N17: пт | O17: buy | P17: all | Q17: пт | R17: buy | S17: all | T17: 132.336 | U17: 131.934 | V17: 402 | W17: 150 | X17: 186 | Y17: 66 | Z17: 402 | AA17: =H17-Z17 -> 1.5234036e-11 | AB17: =I17-W17 -> 5.6843419e-12 | AC17: =J17-X17 -> 7.0485839e-12 | AD17: =K17-Y17 -> 2.5011104e-12
A18: 0.5 | B18: buy | C18: 132.151 | D18: 133.084 | E18: 132.142 | F18: 133.06 | G18: 11570 | H18: =(D18-E18)*1000 -> 942 | I18: =(F18-C18)*1000 -> 909 | J18: =(D18-F18)*1000 -> 24 | K18: =(C18-E18)*1000 -> 9 | L18: all | M18: buy | N18: пт | O18: buy | P18: all | Q18: пт | R18: buy | S18: all | T18: 133.084 | U18: 132.142 | V18: 942 | W18: 909 | X18: 24 | Y18: 9 | Z18: 942 | AA18: =H18-Z18 -> 7.2759576e-12 | AB18: =I18-W18 -> -8.1854523e-12 | AC18: =J18-X18 -> 9.094947e-13 | AD18: =K18-Y18 -> 1.4551915e-11
A19: 0.66666667 | B19: buy | C19: 133.061 | D19: 133.228 | E19: 132.993 | F19: 133.069 | G19: 7221 | H19: =(D19-E19)*1000 -> 235 | I19: =(F19-C19)*1000 -> 8 | J19: =(D19-F19)*1000 -> 159 | K19: =(C19-E19)*1000 -> 68 | L19: all | M19: buy | N19: пт | O19: buy | P19: all | Q19: пт | R19: buy | S19: all | T19: 133.228 | U19: 132.993 | V19: 235 | W19: 8 | X19: 159 | Y19: 68 | Z19: 235 | AA19: =H19-Z19 -> 1.3642421e-11 | AB19: =I19-W19 -> -1.8644641e-11 | AC19: =J19-X19 -> 2.0236257e-11 | AD19: =K19-Y19 -> 1.2050805e-11
A20: 0.83333333 | B20: sell | C20: 133.067 | D20: 133.133 | E20: 133.036 | F20: 133.061 | G20: 1439 | H20: =(D20-E20)*1000 -> 97 | I20: =(C20-F20)*1000 -> 6 | J20: =(D20-C20)*1000 -> 66 | K20: =(F20-E20)*1000 -> 25 | L20: all | M20: sell | N20: пт | O20: sell | P20: all | Q20: пт | R20: sell | S20: all | T20: 133.133 | U20: 133.036 | V20: 97 | W20: 6 | X20: 66 | Y20: 25 | Z20: 97 | AA20: =H20-Z20 -> 8.412826e-12 | AB20: =I20-W20 -> 2.2737368e-13 | AC20: =J20-X20 -> 2.5011104e-12 | AD20: =K20-Y20 -> 5.6843419e-12
A21: 43062 | AA21: =H21-Z21 -> 0 | AB21: =I21-W21 -> 0 | AC21: =J21-X21 -> 0 | AD21: =K21-Y21 -> 0
A22: 0 | B22: buy | C22: 131.466 | D22: 131.782 | E22: 131.223 | F22: 131.7 | G22: 7361 | H22: =(D22-E22)*1000 -> 559 | I22: =(F22-C22)*1000 -> 234 | J22: =(D22-F22)*1000 -> 82 | K22: =(C22-E22)*1000 -> 243 | L22: all | M22: buy | N22: чт | O22: buy | P22: all | Q22: чт | R22: buy | S22: all | T22: 131.782 | U22: 131.223 | V22: 559 | W22: 234 | X22: 82 | Y22: 243 | Z22: 559 | AA22: =H22-Z22 -> -2.5011104e-12 | AB22: =I22-W22 -> -1.9554136e-11 | AC22: =J22-X22 -> 2.2055247e-11 | AD22: =K22-Y22 -> -5.0022209e-12
A23: 0.16666667 | B23: sell | C23: 131.7 | D23: 131.808 | E23: 131.46 | F23: 131.48 | G23: 6915 | H23: =(D23-E23)*1000 -> 348 | I23: =(C23-F23)*1000 -> 220 | J23: =(D23-C23)*1000 -> 108 | K23: =(F23-E23)*1000 -> 20 | L23: all | M23: sell | N23: чт | O23: sell | P23: all | Q23: чт | R23: sell | S23: all | T23: 131.808 | U23: 131.46 | V23: 348 | W23: 220 | X23: 108 | Y23: 20 | Z23: 348 | AA23: =H23-Z23 -> -1.5234036e-11 | AB23: =I23-W23 -> -1.1368684e-12 | AC23: =J23-X23 -> 4.0927262e-12 | AD23: =K23-Y23 -> -1.8189894e-11
A24: 0.33333333 | B24: buy | C24: 131.465 | D24: 131.804 | E24: 131.463 | F24: 131.663 | G24: 9769 | H24: =(D24-E24)*1000 -> 341 | I24: =(F24-C24)*1000 -> 198 | J24: =(D24-F24)*1000 -> 141 | K24: =(C24-E24)*1000 -> 2 | L24: all | M24: buy | N24: чт | O24: buy | P24: all | Q24: чт | R24: buy | S24: all | T24: 131.804 | U24: 131.463 | V24: 341 | W24: 198 | X24: 141 | Y24: 2 | Z24: 341 | AA24: =H24-Z24 -> 8.1854523e-12 | AB24: =I24-W24 -> 7.5033313e-12 | AC24: =J24-X24 -> -8.8675733e-12 | AD24: =K24-Y24 -> 9.5496944e-12
A25: 0.5 | B25: buy | C25: 131.664 | D25: 131.871 | E25: 131.647 | F25: 131.731 | G25: 7658 | H25: =(D25-E25)*1000 -> 224 | I25: =(F25-C25)*1000 -> 67 | J25: =(D25-F25)*1000 -> 140 | K25: =(C25-E25)*1000 -> 17 | L25: all | M25: buy | N25: чт | O25: buy | P25: all | Q25: чт | R25: buy | S25: all | T25: 131.871 | U25: 131.647 | V25: 224 | W25: 67 | X25: 140 | Y25: 17 | Z25: 224 | AA25: =H25-Z25 -> 1.796252e-11 | AB25: =I25-W25 -> 7.2759576e-12 | AC25: =J25-X25 -> 1.4779289e-11 | AD25: =K25-Y25 -> -4.0927262e-12
A26: 0.66666667 | B26: buy | C26: 131.731 | D26: 131.827 | E26: 131.668 | F26: 131.8 | G26: 9252 | H26: =(D26-E26)*1000 -> 159 | I26: =(F26-C26)*1000 -> 69 | J26: =(D26-F26)*1000 -> 27 | K26: =(C26-E26)*1000 -> 63 | L26: all | M26: buy | N26: чт | O26: buy | P26: all | Q26: чт | R26: buy | S26: all | T26: 131.827 | U26: 131.668 | V26: 159 | W26: 69 | X26: 27 | Y26: 63 | Z26: 159 | AA26: =H26-Z26 -> -8.1854523e-12 | AB26: =I26-W26 -> 1.6825652e-11 | AC26: =J26-X26 -> -1.3187673e-11 | AD26: =K26-Y26 -> -1.1823431e-11
A27: 0.83333333 | B27: buy | C27: 131.801 | D27: 131.85 | E27: 131.701 | F27: 131.837 | G27: 7120 | H27: =(D27-E27)*1000 -> 149 | I27: =(F27-C27)*1000 -> 36 | J27: =(D27-F27)*1000 -> 13 | K27: =(C27-E27)*1000 -> 100 | L27: all | M27: buy | N27: чт | O27: buy | P27: all | Q27: чт | R27: buy | S27: all | T27: 131.85 | U27: 131.701 | V27: 149 | W27: 36 | X27: 13 | Y27: 100 | Z27: 149 | AA27: =H27-Z27 -> 9.094947e-13 | AB27: =I27-W27 -> 1.3642421e-12 | AC27: =J27-X27 -> 5.2295945e-12 | AD27: =K27-Y27 -> -5.6843419e-12
A28: 43061 | AA28: =H28-Z28 -> 0 | AB28: =I28-W28 -> 0 | AC28: =J28-X28 -> 0 | AD28: =K28-Y28 -> 0
A29: 0 | B29: sell | C29: 131.912 | D29: 131.917 | E29: 131.706 | F29: 131.815 | G29: 8005 | H29: =(D29-E29)*1000 -> 211 | I29: =(C29-F29)*1000 -> 97 | J29: =(D29-C29)*1000 -> 5 | K29: =(F29-E29)*1000 -> 109 | L29: all | M29: sell | N29: ср | O29: sell | P29: all | Q29: ср | R29: sell | S29: all | T29: 131.917 | U29: 131.706 | V29: 211 | W29: 97 | X29: 5 | Y29: 109 | Z29: 211 | AA29: =H29-Z29 -> 1.2732926e-11 | AB29: =I29-W29 -> 8.412826e-12 | AC29: =J29-X29 -> -4.5474735e-12 | AD29: =K29-Y29 -> 8.8675733e-12
A30: 0.16666667 | B30: sell | C30: 131.815 | D30: 131.872 | E30: 131.701 | F30: 131.752 | G30: 7775 | H30: =(D30-E30)*1000 -> 171 | I30: =(C30-F30)*1000 -> 63 | J30: =(D30-C30)*1000 -> 57 | K30: =(F30-E30)*1000 -> 51 | L30: all | M30: sell | N30: ср | O30: sell | P30: all | Q30: ср | R30: sell | S30: all | T30: 131.872 | U30: 131.701 | V30: 171 | W30: 63 | X30: 57 | Y30: 51 | Z30: 171 | AA30: =H30-Z30 -> 2.0691004e-11 | AB30: =I30-W30 -> -1.1823431e-11 | AC30: =J30-X30 -> 1.6370905e-11 | AD30: =K30-Y30 -> 1.6143531e-11
A31: 0.33333333 | B31: sell | C31: 131.753 | D31: 131.92 | E31: 131.655 | F31: 131.738 | G31: 10337 | H31: =(D31-E31)*1000 -> 265 | I31: =(C31-F31)*1000 -> 15 | J31: =(D31-C31)*1000 -> 167 | K31: =(F31-E31)*1000 -> 83 | L31: all | M31: sell | N31: ср | O31: sell | P31: all | Q31: ср | R31: sell | S31: all | T31: 131.92 | U31: 131.655 | V31: 265 | W31: 15 | X31: 167 | Y31: 83 | Z31: 265 | AA31: =H31-Z31 -> -1.3642421e-11 | AB31: =I31-W31 -> -1.3642421e-11 | AC31: =J31-X31 -> 1.5916157e-12 | AD31: =K31-Y31 -> -1.5916157e-12
A32: 0.5 | B32: sell | C32: 131.739 | D32: 131.762 | E32: 131.462 | F32: 131.566 | G32: 13507 | H32: =(D32-E32)*1000 -> 300 | I32: =(C32-F32)*1000 -> 173 | J32: =(D32-C32)*1000 -> 23 | K32: =(F32-E32)*1000 -> 104 | L32: all | M32: sell | N32: ср | O32: sell | P32: all | Q32: ср | R32: sell | S32: all | T32: 131.762 | U32: 131.462 | V32: 300 | W32: 173 | X32: 23 | Y32: 104 | Z32: 300 | AA32: =H32-Z32 -> 1.1368684e-11 | AB32: =I32-W32 -> 1.8189894e-12 | AC32: =J32-X32 -> -3.8653525e-12 | AD32: =K32-Y32 -> 1.3415047e-11
A33: 0.66666667 | B33: sell | C33: 131.568 | D33: 131.645 | E33: 131.426 | F33: 131.446 | G33: 10930 | H33: =(D33-E33)*1000 -> 219 | I33: =(C33-F33)*1000 -> 122 | J33: =(D33-C33)*1000 -> 77 | K33: =(F33-E33)*1000 -> 20 | L33: all | M33: sell | N33: ср | O33: sell | P33: all | Q33: ср | R33: sell | S33: all | T33: 131.645 | U33: 131.426 | V33: 219 | W33: 122 | X33: 77 | Y33: 20 | Z33: 219 | AA33: =H33-Z33 -> 2.2509994e-11 | AB33: =I33-W33 -> 1.4097168e-11 | AC33: =J33-X33 -> -1.8189894e-12 | AD33: =K33-Y33 -> 1.0231815e-11
A34: 0.83333333 | B34: buy | C34: 131.446 | D34: 131.517 | E34: 131.408 | F34: 131.465 | G34: 7355 | H34: =(D34-E34)*1000 -> 109 | I34: =(F34-C34)*1000 -> 19 | J34: =(D34-F34)*1000 -> 52 | K34: =(C34-E34)*1000 -> 38 | L34: all | M34: buy | N34: ср | O34: buy | P34: all | Q34: ср | R34: buy | S34: all | T34: 131.517 | U34: 131.408 | V34: 109 | W34: 19 | X34: 52 | Y34: 38 | Z34: 109 | AA34: =H34-Z34 -> 8.8675733e-12 | AB34: =I34-W34 -> 5.4569682e-12 | AC34: =J34-X34 -> -7.5033313e-12 | AD34: =K34-Y34 -> 1.0913936e-11
A35: 43060 | AA35: =H35-Z35 -> 0 | AB35: =I35-W35 -> 0 | AC35: =J35-X35 -> 0 | AD35: =K35-Y35 -> 0
A36: 0 | B36: sell | C36: 132.098 | D36: 132.259 | E36: 132.03 | F36: 132.079 | G36: 8291 | H36: =(D36-E36)*1000 -> 229 | I36: =(C36-F36)*1000 -> 19 | J36: =(D36-C36)*1000 -> 161 | K36: =(F36-E36)*1000 -> 49 | L36: all | M36: sell | N36: вт | O36: sell | P36: all | Q36: вт | R36: sell | S36: all | T36: 132.259 | U36: 132.03 | V36: 229 | W36: 19 | X36: 161 | Y36: 49 | Z36: 229 | AA36: =H36-Z36 -> -1.5006663e-11 | AB36: =I36-W36 -> 5.4569682e-12 | AC36: =J36-X36 -> -2.7057467e-11 | AD36: =K36-Y36 -> 6.5938366e-12
A37: 0.16666667 | B37: buy | C37: 132.079 | D37: 132.188 | E37: 132.018 | F37: 132.103 | G37: 7369 | H37: =(D37-E37)*1000 -> 170 | I37: =(F37-C37)*1000 -> 24 | J37: =(D37-F37)*1000 -> 85 | K37: =(C37-E37)*1000 -> 61 | L37: all | M37: buy | N37: вт | O37: buy | P37: all | Q37: вт | R37: buy | S37: all | T37: 132.188 | U37: 132.018 | V37: 170 | W37: 24 | X37: 85 | Y37: 61 | Z37: 170 | AA37: =H37-Z37 -> -1.2505552e-11 | AB37: =I37-W37 -> 9.094947e-13 | AC37: =J37-X37 -> -2.0463631e-11 | AD37: =K37-Y37 -> 7.0485839e-12
A38: 0.33333333 | B38: sell | C38: 132.101 | D38: 132.254 | E38: 131.685 | F38: 131.968 | G38: 11751 | H38: =(D38-E38)*1000 -> 569 | I38: =(C38-F38)*1000 -> 133 | J38: =(D38-C38)*1000 -> 153 | K38: =(F38-E38)*1000 -> 283 | L38: all | M38: sell | N38: вт | O38: sell | P38: all | Q38: вт | R38: sell | S38: all | T38: 132.254 | U38: 131.685 | V38: 569 | W38: 133 | X38: 153 | Y38: 283 | Z38: 569 | AA38: =H38-Z38 -> -1.1596057e-11 | AB38: =I38-W38 -> 9.777068e-12 | AC38: =J38-X38 -> -8.412826e-12 | AD38: =K38-Y38 -> -1.29603e-11
A39: 0.5 | B39: sell | C39: 131.969 | D39: 132.029 | E39: 131.567 | F39: 131.853 | G39: 12710 | H39: =(D39-E39)*1000 -> 462 | I39: =(C39-F39)*1000 -> 116 | J39: =(D39-C39)*1000 -> 60 | K39: =(F39-E39)*1000 -> 286 | L39: all | M39: sell | N39: вт | O39: sell | P39: all | Q39: вт | R39: sell | S39: all | T39: 132.029 | U39: 131.567 | V39: 462 | W39: 116 | X39: 60 | Y39: 286 | Z39: 462 | AA39: =H39-Z39 -> -1.0913936e-11 | AB39: =I39-W39 -> -1.4551915e-11 | AC39: =J39-X39 -> 2.2737368e-12 | AD39: =K39-Y39 -> 1.3642421e-12
A40: 0.66666667 | B40: buy | C40: 131.853 | D40: 132.08 | E40: 131.837 | F40: 132.031 | G40: 10303 | H40: =(D40-E40)*1000 -> 243 | I40: =(F40-C40)*1000 -> 178 | J40: =(D40-F40)*1000 -> 49 | K40: =(C40-E40)*1000 -> 16 | L40: all | M40: buy | N40: вт | O40: buy | P40: all | Q40: вт | R40: buy | S40: all | T40: 132.08 | U40: 131.837 | V40: 243 | W40: 178 | X40: 49 | Y40: 16 | Z40: 243 | AA40: =H40-Z40 -> 2.3419489e-11 | AB40: =I40-W40 -> -2.7284841e-12 | AC40: =J40-X40 -> 6.5938366e-12 | AD40: =K40-Y40 -> 1.9554136e-11
A41: 0.83333333 | B41: sell | C41: 132.03 | D41: 132.071 | E41: 131.858 | F41: 131.912 | G41: 7269 | H41: =(D41-E41)*1000 -> 213 | I41: =(C41-F41)*1000 -> 118 | J41: =(D41-C41)*1000 -> 41 | K41: =(F41-E41)*1000 -> 54 | L41: all | M41: sell | N41: вт | O41: sell | P41: all | Q41: вт | R41: sell | S41: all | T41: 132.071 | U41: 131.858 | V41: 213 | W41: 118 | X41: 41 | Y41: 54 | Z41: 213 | AA41: =H41-Z41 -> -6.1390892e-12 | AB41: =I41-W41 -> -5.0022209e-12 | AC41: =J41-X41 -> -3.1832315e-12 | AD41: =K41-Y41 -> 2.0463631e-12
A42: 43059 | AA42: =H42-Z42 -> 0 | AB42: =I42-W42 -> 0 | AC42: =J42-X42 -> 0 | AD42: =K42-Y42 -> 0
A43: 0 | B43: buy | C43: 131.44 | D43: 131.805 | E43: 131.275 | F43: 131.464 | G43: 10992 | H43: =(D43-E43)*1000 -> 530 | I43: =(F43-C43)*1000 -> 24 | J43: =(D43-F43)*1000 -> 341 | K43: =(C43-E43)*1000 -> 165 | L43: all | M43: buy | N43: пн | O43: buy | P43: all | Q43: пн | R43: buy | S43: all | T43: 131.805 | U43: 131.275 | V43: 530 | W43: 24 | X43: 341 | Y43: 165 | Z43: 530 | AA43: =H43-Z43 -> 1.1368684e-12 | AB43: =I43-W43 -> 9.094947e-13 | AC43: =J43-X43 -> 8.1854523e-12 | AD43: =K43-Y43 -> -7.9580786e-12
A44: 0.16666667 | B44: buy | C44: 131.464 | D44: 131.683 | E44: 131.371 | F44: 131.68 | G44: 9814 | H44: =(D44-E44)*1000 -> 312 | I44: =(F44-C44)*1000 -> 216 | J44: =(D44-F44)*1000 -> 3 | K44: =(C44-E44)*1000 -> 93 | L44: all | M44: buy | N44: пн | O44: buy | P44: all | Q44: пн | R44: buy | S44: all | T44: 131.683 | U44: 131.371 | V44: 312 | W44: 216 | X44: 3 | Y44: 93 | Z44: 312 | AA44: =H44-Z44 -> -1.6598278e-11 | AB44: =I44-W44 -> 8.1854523e-12 | AC44: =J44-X44 -> -1.4097168e-11 | AD44: =K44-Y44 -> -1.0686563e-11
A45: 0.33333333 | B45: buy | C45: 131.682 | D45: 132.452 | E45: 131.663 | F45: 132.104 | G45: 11797 | H45: =(D45-E45)*1000 -> 789 | I45: =(F45-C45)*1000 -> 422 | J45: =(D45-F45)*1000 -> 348 | K45: =(C45-E45)*1000 -> 19 | L45: all | M45: buy | N45: пн | O45: buy | P45: all | Q45: пн | R45: buy | S45: all | T45: 132.452 | U45: 131.663 | V45: 789 | W45: 422 | X45: 348 | Y45: 19 | Z45: 789 | AA45: =H45-Z45 -> -1.2732926e-11 | AB45: =I45-W45 -> 2.5465852e-11 | AC45: =J45-X45 -> -1.5234036e-11 | AD45: =K45-Y45 -> -2.2964741e-11
A46: 0.5 | B46: sell | C46: 132.105 | D46: 132.219 | E46: 131.883 | F46: 132.039 | G46: 12360 | H46: =(D46-E46)*1000 -> 336 | I46: =(C46-F46)*1000 -> 66 | J46: =(D46-C46)*1000 -> 114 | K46: =(F46-E46)*1000 -> 156 | L46: all | M46: sell | N46: пн | O46: sell | P46: all | Q46: пн | R46: sell | S46: all | T46: 132.219 | U46: 131.883 | V46: 336 | W46: 66 | X46: 114 | Y46: 156 | Z46: 336 | AA46: =H46-Z46 -> -1.5688784e-11 | AB46: =I46-W46 -> 2.5011104e-12 | AC46: =J46-X46 -> 4.3200998e-12 | AD46: =K46-Y46 -> -2.2509994e-11
A47: 0.66666667 | B47: buy | C47: 132.041 | D47: 132.261 | E47: 131.987 | F47: 132.191 | G47: 10084 | H47: =(D47-E47)*1000 -> 274 | I47: =(F47-C47)*1000 -> 150 | J47: =(D47-F47)*1000 -> 70 | K47: =(C47-E47)*1000 -> 54 | L47: all | M47: buy | N47: пн | O47: buy | P47: all | Q47: пн | R47: buy | S47: all | T47: 132.261 | U47: 131.987 | V47: 274 | W47: 150 | X47: 70 | Y47: 54 | Z47: 274 | AA47: =H47-Z47 -> 9.094947e-13 | AB47: =I47-W47 -> 5.6843419e-12 | AC47: =J47-X47 -> -6.8212103e-12 | AD47: =K47-Y47 -> 2.0463631e-12
A48: 0.83333333 | B48: sell | C48: 132.188 | D48: 132.197 | E48: 132.054 | F48: 132.099 | G48: 6662 | H48: =(D48-E48)*1000 -> 143 | I48: =(C48-F48)*1000 -> 89 | J48: =(D48-C48)*1000 -> 9 | K48: =(F48-E48)*1000 -> 45 | L48: all | M48: sell | N48: пн | O48: sell | P48: all | Q48: пн | R48: sell | S48: all | T48: 132.197 | U48: 132.054 | V48: 143 | W48: 89 | X48: 9 | Y48: 45 | Z48: 143 | AA48: =H48-Z48 -> 6.8212103e-13 | AB48: =I48-W48 -> -1.3642421e-12 | AC48: =J48-X48 -> 1.4551915e-11 | AD48: =K48-Y48 -> -1.2505552e-11
A49: 43058 | AA49: =H49-Z49 -> 0 | AB49: =I49-W49 -> 0 | AC49: =J49-X49 -> 0 | AD49: =K49-Y49 -> 0
A50: 0.875 | B50: sell | C50: 132.096 | D50: 132.275 | E50: 131.161 | F50: 131.44 | G50: 6817 | H50: =(D50-E50)*1000 -> 1114 | I50: =(C50-F50)*1000 -> 656 | J50: =(D50-C50)*1000 -> 179 | K50: =(F50-E50)*1000 -> 279 | L50: all | M50: нет | N50: нет | O50: нет | P50: all | Q50: нет | R50: нет | S50: all | T50: 132.275 | U50: 131.161 | V50: 1114 | W50: 656 | X50: 179 | Y50: 279 | Z50: 1114 | AA50: =H50-Z50 -> 4.3200998e-12 | AB50: =I50-W50 -> 5.9117156e-12 | AC50: =J50-X50 -> 2.0463631e-12 | AD50: =K50-Y50 -> -3.6379788e-12
A51: 43056 | AA51: =H51-Z51 -> 0 | AB51: =I51-W51 -> 0 | AC51: =J51-X51 -> 0 | AD51: =K51-Y51 -> 0
A52: 0 | B52: sell | C52: 133.135 | D52: 133.138 | E52: 132.82 | F52: 132.836 | G52: 12556 | H52: =(D52-E52)*1000 -> 318 | I52: =(C52-F52)*1000 -> 299 | J52: =(D52-C52)*1000 -> 3 | K52: =(F52-E52)*1000 -> 16 | L52: all | M52: sell | N52: пт | O52: sell | P52: all | Q52: пт | R52: sell | S52: all | T52: 133.138 | U52: 132.82 | V52: 318 | W52: 299 | X52: 3 | Y52: 16 | Z52: 318 | AA52: =H52-Z52 -> 1.2050805e-11 | AB52: =I52-W52 -> -2.1827873e-11 | AC52: =J52-X52 -> 1.4324542e-11 | AD52: =K52-Y52 -> 1.9554136e-11
A53: 0.16666667 | B53: sell | C53: 132.835 | D53: 132.966 | E53: 132.69 | F53: 132.69 | G53: 9746 | H53: =(D53-E53)*1000 -> 276 | I53: =(C53-F53)*1000 -> 145 | J53: =(D53-C53)*1000 -> 131 | K53: =(F53-E53)*1000 -> 0 | L53: all | M53: sell | N53: пт | O53: sell | P53: all | Q53: пт | R53: sell | S53: all | T53: 132.966 | U53: 132.69 | V53: 276 | W53: 145 | X53: 131 | Y53: 0 | Z53: 276 | AA53: =H53-Z53 -> 1.0459189e-11 | AB53: =I53-W53 -> 1.0231815e-11 | AC53: =J53-X53 -> 2.2737368e-13 | AD53: =K53-Y53 -> 0
A54: 0.33333333 | B54: buy | C54: 132.689 | D54: 132.94 | E54: 132.608 | F54: 132.813 | G54: 10986 | H54: =(D54-E54)*1000 -> 332 | I54: =(F54-C54)*1000 -> 124 | J54: =(D54-F54)*1000 -> 127 | K54: =(C54-E54)*1000 -> 81 | L54: all | M54: buy | N54: пт | O54: buy | P54: all | Q54: пт | R54: buy | S54: all | T54: 132.94 | U54: 132.608 | V54: 332 | W54: 124 | X54: 127 | Y54: 81 | Z54: 332 | AA54: =H54-Z54 -> -6.3664629e-12 | AB54: =I54-W54 -> -4.7748472e-12 | AC54: =J54-X54 -> 9.5496944e-12 | AD54: =K54-Y54 -> -1.114131e-11
A55: 0.5 | B55: sell | C55: 132.811 | D55: 132.883 | E55: 132.204 | F55: 132.213 | G55: 12484 | H55: =(D55-E55)*1000 -> 679 | I55: =(C55-F55)*1000 -> 598 | J55: =(D55-C55)*1000 -> 72 | K55: =(F55-E55)*1000 -> 9 | L55: all | M55: sell | N55: пт | O55: sell | P55: all | Q55: пт | R55: sell | S55: all | T55: 132.883 | U55: 132.204 | V55: 679 | W55: 598 | X55: 72 | Y55: 9 | Z55: 679 | AA55: =H55-Z55 -> 2.0463631e-12 | AB55: =I55-W55 -> 1.3187673e-11 | AC55: =J55-X55 -> 2.7284841e-12 | AD55: =K55-Y55 -> -1.3869794e-11
A56: 0.66666667 | B56: buy | C56: 132.214 | D56: 132.298 | E56: 132.043 | F56: 132.269 | G56: 10751 | H56: =(D56-E56)*1000 -> 255 | I56: =(F56-C56)*1000 -> 55 | J56: =(D56-F56)*1000 -> 29 | K56: =(C56-E56)*1000 -> 171 | L56: all | M56: buy | N56: пт | O56: buy | P56: all | Q56: пт | R56: buy | S56: all | T56: 132.298 | U56: 132.043 | V56: 255 | W56: 55 | X56: 29 | Y56: 171 | Z56: 255 | AA56: =H56-Z56 -> -4.5474735e-12 | AB56: =I56-W56 -> 6.8212103e-12 | AC56: =J56-X56 -> -3.6379788e-12 | AD56: =K56-Y56 -> -7.730705e-12
A57: 0.83333333 | B57: sell | C57: 132.27 | D57: 132.286 | E57: 132.159 | F57: 132.169 | G57: 4130 | H57: =(D57-E57)*1000 -> 127 | I57: =(C57-F57)*1000 -> 101 | J57: =(D57-C57)*1000 -> 16 | K57: =(F57-E57)*1000 -> 10 | L57: all | M57: sell | N57: пт | O57: sell | P57: all | Q57: пт | R57: sell | S57: all | T57: 132.286 | U57: 132.159 | V57: 127 | W57: 101 | X57: 16 | Y57: 10 | Z57: 127 | AA57: =H57-Z57 -> 9.5496944e-12 | AB57: =I57-W57 -> -9.094947e-13 | AC57: =J57-X57 -> -8.8675733e-12 | AD57: =K57-Y57 -> 1.9326762e-11
A58: 43055 | AA58: =H58-Z58 -> 0 | AB58: =I58-W58 -> 0 | AC58: =J58-X58 -> 0 | AD58: =K58-Y58 -> 0
A59: 0 | B59: buy | C59: 132.864 | D59: 133.158 | E59: 132.853 | F59: 133.092 | G59: 5535 | H59: =(D59-E59)*1000 -> 305 | I59: =(F59-C59)*1000 -> 228 | J59: =(D59-F59)*1000 -> 66 | K59: =(C59-E59)*1000 -> 11 | L59: all | M59: buy | N59: чт | O59: buy | P59: all | Q59: чт | R59: buy | S59: all | T59: 133.158 | U59: 132.853 | V59: 305 | W59: 228 | X59: 66 | Y59: 11 | Z59: 305 | AA59: =H59-Z59 -> -2.1600499e-11 | AB59: =I59-W59 -> 8.6401997e-12 | AC59: =J59-X59 -> -2.5920599e-11 | AD59: =K59-Y59 -> -4.3200998e-12
A60: 0.16666667 | B60: buy | C60: 133.092 | D60: 133.444 | E60: 133.085 | F60: 133.297 | G60: 8439 | H60: =(D60-E60)*1000 -> 359 | I60: =(F60-C60)*1000 -> 205 | J60: =(D60-F60)*1000 -> 147 | K60: =(C60-E60)*1000 -> 7 | L60: all | M60: buy | N60: чт | O60: buy | P60: all | Q60: чт | R60: buy | S60: all | T60: 133.444 | U60: 133.085 | V60: 359 | W60: 205 | X60: 147 | Y60: 7 | Z60: 359 | AA60: =H60-Z60 -> -1.9554136e-11 | AB60: =I60-W60 -> -1.5916157e-11 | AC60: =J60-X60 -> -8.6401997e-12 | AD60: =K60-Y60 -> 5.0022209e-12
A61: 0.33333333 | B61: sell | C61: 133.296 | D61: 133.427 | E61: 133.056 | F61: 133.112 | G61: 11377 | H61: =(D61-E61)*1000 -> 371 | I61: =(C61-F61)*1000 -> 184 | J61: =(D61-C61)*1000 -> 131 | K61: =(F61-E61)*1000 -> 56 | L61: all | M61: sell | N61: чт | O61: sell | P61: all | Q61: чт | R61: sell | S61: all | T61: 133.427 | U61: 133.056 | V61: 371 | W61: 184 | X61: 131 | Y61: 56 | Z61: 371 | AA61: =H61-Z61 -> -1.9099389e-11 | AB61: =I61-W61 -> -2.5011104e-12 | AC61: =J61-X61 -> 2.2737368e-13 | AD61: =K61-Y61 -> -1.6825652e-11
A62: 0.5 | B62: sell | C62: 133.112 | D62: 133.189 | E62: 132.762 | F62: 132.786 | G62: 12131 | H62: =(D62-E62)*1000 -> 427 | I62: =(C62-F62)*1000 -> 326 | J62: =(D62-C62)*1000 -> 77 | K62: =(F62-E62)*1000 -> 24 | L62: all | M62: sell | N62: чт | O62: sell | P62: all | Q62: чт | R62: sell | S62: all | T62: 133.189 | U62: 132.762 | V62: 427 | W62: 326 | X62: 77 | Y62: 24 | Z62: 427 | AA62: =H62-Z62 -> -7.5033313e-12 | AB62: =I62-W62 -> -6.5938366e-12 | AC62: =J62-X62 -> -1.8189894e-12 | AD62: =K62-Y62 -> 9.094947e-13
A63: 0.66666667 | B63: buy | C63: 132.787 | D63: 132.999 | E63: 132.752 | F63: 132.936 | G63: 9356 | H63: =(D63-E63)*1000 -> 247 | I63: =(F63-C63)*1000 -> 149 | J63: =(D63-F63)*1000 -> 63 | K63: =(C63-E63)*1000 -> 35 | L63: all | M63: buy | N63: чт | O63: buy | P63: all | Q63: чт | R63: buy | S63: all | T63: 132.999 | U63: 132.752 | V63: 247 | W63: 149 | X63: 63 | Y63: 35 | Z63: 247 | AA63: =H63-Z63 -> -1.4324542e-11 | AB63: =I63-W63 -> 9.094947e-13 | AC63: =J63-X63 -> -1.1823431e-11 | AD63: =K63-Y63 -> -3.4106051e-12
A64: 0.83333333 | B64: buy | C64: 132.937 | D64: 133.15 | E64: 132.906 | F64: 133.134 | G64: 7273 | H64: =(D64-E64)*1000 -> 244 | I64: =(F64-C64)*1000 -> 197 | J64: =(D64-F64)*1000 -> 16 | K64: =(C64-E64)*1000 -> 31 | L64: all | M64: buy | N64: чт | O64: buy | P64: all | Q64: чт | R64: buy | S64: all | T64: 133.15 | U64: 132.906 | V64: 244 | W64: 197 | X64: 16 | Y64: 31 | Z64: 244 | AA64: =H64-Z64 -> -2.2737368e-13 | AB64: =I64-W64 -> -2.5693225e-11 | AC64: =J64-X64 -> 1.9554136e-11 | AD64: =K64-Y64 -> 5.9117156e-12
A65: 43054 | AA65: =H65-Z65 -> 0 | AB65: =I65-W65 -> 0 | AC65: =J65-X65 -> 0 | AD65: =K65-Y65 -> 0
A66: 0 | B66: sell | C66: 133.716 | D66: 133.829 | E66: 133.294 | F66: 133.458 | G66: 8045 | H66: =(D66-E66)*1000 -> 535 | I66: =(C66-F66)*1000 -> 258 | J66: =(D66-C66)*1000 -> 113 | K66: =(F66-E66)*1000 -> 164 | L66: all | M66: sell | N66: ср | O66: sell | P66: all | Q66: ср | R66: sell | S66: all | T66: 133.829 | U66: 133.294 | V66: 535 | W66: 258 | X66: 113 | Y66: 164 | Z66: 535 | AA66: =H66-Z66 -> -3.4106051e-12 | AB66: =I66-W66 -> 9.777068e-12 | AC66: =J66-X66 -> -4.5474735e-13 | AD66: =K66-Y66 -> -1.2732926e-11
A67: 0.16666667 | B67: sell | C67: 133.458 | D67: 133.563 | E67: 133.315 | F67: 133.413 | G67: 7668 | H67: =(D67-E67)*1000 -> 248 | I67: =(C67-F67)*1000 -> 45 | J67: =(D67-C67)*1000 -> 105 | K67: =(F67-E67)*1000 -> 98 | L67: all | M67: sell | N67: ср | O67: sell | P67: all | Q67: ср | R67: sell | S67: all | T67: 133.563 | U67: 133.315 | V67: 248 | W67: 45 | X67: 105 | Y67: 98 | Z67: 248 | AA67: =H67-Z67 -> -9.5496944e-12 | AB67: =I67-W67 -> -1.2505552e-11 | AC67: =J67-X67 -> -1.0231815e-11 | AD67: =K67-Y67 -> 1.3187673e-11
A68: 0.33333333 | B68: buy | C68: 133.412 | D68: 133.636 | E68: 133.373 | F68: 133.511 | G68: 11117 | H68: =(D68-E68)*1000 -> 263 | I68: =(F68-C68)*1000 -> 99 | J68: =(D68-F68)*1000 -> 125 | K68: =(C68-E68)*1000 -> 39 | L68: all | M68: buy | N68: ср | O68: buy | P68: all | Q68: ср | R68: buy | S68: all | T68: 133.636 | U68: 133.373 | V68: 263 | W68: 99 | X68: 125 | Y68: 39 | Z68: 263 | AA68: =H68-Z68 -> 5.2295945e-12 | AB68: =I68-W68 -> -1.0459189e-11 | AC68: =J68-X68 -> 0 | AD68: =K68-Y68 -> 1.5688784e-11
A69: 0.5 | B69: sell | C69: 133.512 | D69: 133.589 | E69: 133.15 | F69: 133.442 | G69: 14380 | H69: =(D69-E69)*1000 -> 439 | I69: =(C69-F69)*1000 -> 70 | J69: =(D69-C69)*1000 -> 77 | K69: =(F69-E69)*1000 -> 292 | L69: all | M69: sell | N69: ср | O69: sell | P69: all | Q69: ср | R69: sell | S69: all | T69: 133.589 | U69: 133.15 | V69: 439 | W69: 70 | X69: 77 | Y69: 292 | Z69: 439 | AA69: =H69-Z69 -> -7.0485839e-12 | AB69: =I69-W69 -> -6.8212103e-12 | AC69: =J69-X69 -> -1.8189894e-12 | AD69: =K69-Y69 -> 1.5916157e-12
A70: 0.66666667 | B70: sell | C70: 133.445 | D70: 133.527 | E70: 133.107 | F70: 133.127 | G70: 10193 | H70: =(D70-E70)*1000 -> 420 | I70: =(C70-F70)*1000 -> 318 | J70: =(D70-C70)*1000 -> 82 | K70: =(F70-E70)*1000 -> 20 | L70: all | M70: sell | N70: ср | O70: sell | P70: all | Q70: ср | R70: sell | S70: all | T70: 133.527 | U70: 133.107 | V70: 420 | W70: 318 | X70: 82 | Y70: 20 | Z70: 420 | AA70: =H70-Z70 -> -1.2505552e-11 | AB70: =I70-W70 -> -1.6370905e-11 | AC70: =J70-X70 -> -6.3664629e-12 | AD70: =K70-Y70 -> 1.0231815e-11
A71: 0.83333333 | B71: sell | C71: 133.128 | D71: 133.151 | E71: 132.788 | F71: 132.864 | G71: 8371 | H71: =(D71-E71)*1000 -> 363 | I71: =(C71-F71)*1000 -> 264 | J71: =(D71-C71)*1000 -> 23 | K71: =(F71-E71)*1000 -> 76 | L71: all | M71: sell | N71: ср | O71: sell | P71: all | Q71: ср | R71: sell | S71: all | T71: 133.151 | U71: 132.788 | V71: 363 | W71: 264 | X71: 23 | Y71: 76 | Z71: 363 | AA71: =H71-Z71 -> -4.5474735e-13 | AB71: =I71-W71 -> -1.8417268e-11 | AC71: =J71-X71 -> 2.4556357e-11 | AD71: =K71-Y71 -> -6.5938366e-12
A72: 43053 | AA72: =H72-Z72 -> 0 | AB72: =I72-W72 -> 0 | AC72: =J72-X72 -> 0 | AD72: =K72-Y72 -> 0
A73: 0 | B73: buy | C73: 132.507 | D73: 132.706 | E73: 132.487 | F73: 132.611 | G73: 8253 | H73: =(D73-E73)*1000 -> 219 | I73: =(F73-C73)*1000 -> 104 | J73: =(D73-F73)*1000 -> 95 | K73: =(C73-E73)*1000 -> 20 | L73: all | M73: buy | N73: вт | O73: buy | P73: all | Q73: вт | R73: buy | S73: all | T73: 132.706 | U73: 132.487 | V73: 219 | W73: 104 | X73: 95 | Y73: 20 | Z73: 219 | AA73: =H73-Z73 -> -5.9117156e-12 | AB73: =I73-W73 -> -1.5006663e-11 | AC73: =J73-X73 -> -1.1368684e-12 | AD73: =K73-Y73 -> 1.0231815e-11
A74: 0.16666667 | B74: buy | C74: 132.611 | D74: 133.016 | E74: 132.565 | F74: 132.937 | G74: 7708 | H74: =(D74-E74)*1000 -> 451 | I74: =(F74-C74)*1000 -> 326 | J74: =(D74-F74)*1000 -> 79 | K74: =(C74-E74)*1000 -> 46 | L74: all | M74: buy | N74: вт | O74: buy | P74: all | Q74: вт | R74: buy | S74: all | T74: 133.016 | U74: 132.565 | V74: 451 | W74: 326 | X74: 79 | Y74: 46 | Z74: 451 | AA74: =H74-Z74 -> -6.5938366e-12 | AB74: =I74-W74 -> 2.1827873e-11 | AC74: =J74-X74 -> -2.0691004e-11 | AD74: =K74-Y74 -> -7.730705e-12
A75: 0.33333333 | B75: buy | C75: 132.938 | D75: 133.328 | E75: 132.921 | F75: 133.23 | G75: 11506 | H75: =(D75-E75)*1000 -> 407 | I75: =(F75-C75)*1000 -> 292 | J75: =(D75-F75)*1000 -> 98 | K75: =(C75-E75)*1000 -> 17 | L75: all | M75: buy | N75: вт | O75: buy | P75: all | Q75: вт | R75: buy | S75: all | T75: 133.328 | U75: 132.921 | V75: 407 | W75: 292 | X75: 98 | Y75: 17 | Z75: 407 | AA75: =H75-Z75 -> 1.0686563e-11 | AB75: =I75-W75 -> 1.5916157e-12 | AC75: =J75-X75 -> 1.3187673e-11 | AD75: =K75-Y75 -> -4.0927262e-12
A76: 0.5 | B76: buy | C76: 133.23 | D76: 133.502 | E76: 133.162 | F76: 133.359 | G76: 13630 | H76: =(D76-E76)*1000 -> 340 | I76: =(F76-C76)*1000 -> 129 | J76: =(D76-F76)*1000 -> 143 | K76: =(C76-E76)*1000 -> 68 | L76: all | M76: buy | N76: вт | O76: buy | P76: all | Q76: вт | R76: buy | S76: all | T76: 133.502 | U76: 133.162 | V76: 340 | W76: 129 | X76: 143 | Y76: 68 | Z76: 340 | AA76: =H76-Z76 -> 3.4106051e-12 | AB76: =I76-W76 -> 1.9099389e-11 | AC76: =J76-X76 -> 6.8212103e-13 | AD76: =K76-Y76 -> -1.6370905e-11
A77: 0.66666667 | B77: buy | C77: 133.36 | D77: 133.819 | E77: 133.293 | F77: 133.729 | G77: 11210 | H77: =(D77-E77)*1000 -> 526 | I77: =(F77-C77)*1000 -> 369 | J77: =(D77-F77)*1000 -> 90 | K77: =(C77-E77)*1000 -> 67 | L77: all | M77: buy | N77: вт | O77: buy | P77: all | Q77: вт | R77: buy | S77: all | T77: 133.819 | U77: 133.293 | V77: 526 | W77: 369 | X77: 90 | Y77: 67 | Z77: 526 | AA77: =H77-Z77 -> -1.796252e-11 | AB77: =I77-W77 -> 0 | AC77: =J77-X77 -> -2.5011104e-11 | AD77: =K77-Y77 -> 7.2759576e-12
A78: 0.83333333 | B78: sell | C78: 133.729 | D78: 133.871 | E78: 133.685 | F78: 133.714 | G78: 6950 | H78: =(D78-E78)*1000 -> 186 | I78: =(C78-F78)*1000 -> 15 | J78: =(D78-C78)*1000 -> 142 | K78: =(F78-E78)*1000 -> 29 | L78: all | M78: sell | N78: вт | O78: sell | P78: all | Q78: вт | R78: sell | S78: all | T78: 133.871 | U78: 133.685 | V78: 186 | W78: 15 | X78: 142 | Y78: 29 | Z78: 186 | AA78: =H78-Z78 -> 7.0485839e-12 | AB78: =I78-W78 -> 1.4779289e-11 | AC78: =J78-X78 -> -4.0927262e-12 | AD78: =K78-Y78 -> -3.6379788e-12
A79: 43052 | AA79: =H79-Z79 -> 0 | AB79: =I79-W79 -> 0 | AC79: =J79-X79 -> 0 | AD79: =K79-Y79 -> 0
A80: 0 | B80: sell | C80: 132.573 | D80: 132.575 | E80: 132.308 | F80: 132.47 | G80: 8425 | H80: =(D80-E80)*1000 -> 267 | I80: =(C80-F80)*1000 -> 103 | J80: =(D80-C80)*1000 -> 2 | K80: =(F80-E80)*1000 -> 162 | L80: all | M80: sell | N80: пн | O80: sell | P80: all | Q80: пн | R80: sell | S80: all | T80: 132.575 | U80: 132.308 | V80: 267 | W80: 103 | X80: 2 | Y80: 162 | Z80: 267 | AA80: =H80-Z80 -> -4.0927262e-12 | AB80: =I80-W80 -> 8.6401997e-12 | AC80: =J80-X80 -> -1.8872015e-11 | AD80: =K80-Y80 -> 6.1390892e-12
A81: 0.16666667 | B81: sell | C81: 132.47 | D81: 132.481 | E81: 132.053 | F81: 132.059 | G81: 8667 | H81: =(D81-E81)*1000 -> 428 | I81: =(C81-F81)*1000 -> 411 | J81: =(D81-C81)*1000 -> 11 | K81: =(F81-E81)*1000 -> 6 | L81: all | M81: sell | N81: пн | O81: sell | P81: all | Q81: пн | R81: sell | S81: all | T81: 132.481 | U81: 132.053 | V81: 428 | W81: 411 | X81: 11 | Y81: 6 | Z81: 428 | AA81: =H81-Z81 -> -2.7284841e-12 | AB81: =I81-W81 -> 1.3642421e-12 | AC81: =J81-X81 -> -4.3200998e-12 | AD81: =K81-Y81 -> 2.2737368e-13
A82: 0.33333333 | B82: sell | C82: 132.059 | D82: 132.182 | E82: 131.917 | F82: 132.047 | G82: 10070 | H82: =(D82-E82)*1000 -> 265 | I82: =(C82-F82)*1000 -> 12 | J82: =(D82-C82)*1000 -> 123 | K82: =(F82-E82)*1000 -> 130 | L82: all | M82: sell | N82: пн | O82: sell | P82: all | Q82: пн | R82: sell | S82: all | T82: 132.182 | U82: 131.917 | V82: 265 | W82: 12 | X82: 123 | Y82: 130 | Z82: 265 | AA82: =H82-Z82 -> -1.3642421e-11 | AB82: =I82-W82 -> 4.5474735e-13 | AC82: =J82-X82 -> -9.5496944e-12 | AD82: =K82-Y82 -> -4.5474735e-12
A83: 0.5 | B83: buy | C83: 132.048 | D83: 132.537 | E83: 132.032 | F83: 132.39 | G83: 11519 | H83: =(D83-E83)*1000 -> 505 | I83: =(F83-C83)*1000 -> 342 | J83: =(D83-F83)*1000 -> 147 | K83: =(C83-E83)*1000 -> 16 | L83: all | M83: buy | N83: пн | O83: buy | P83: all | Q83: пн | R83: buy | S83: all | T83: 132.537 | U83: 132.032 | V83: 505 | W83: 342 | X83: 147 | Y83: 16 | Z83: 505 | AA83: =H83-Z83 -> -4.5474735e-12 | AB83: =I83-W83 -> -1.546141e-11 | AC83: =J83-X83 -> 1.978151e-11 | AD83: =K83-Y83 -> -8.8675733e-12
A84: 0.66666667 | B84: buy | C84: 132.389 | D84: 132.536 | E84: 132.297 | F84: 132.49 | G84: 7899 | H84: =(D84-E84)*1000 -> 239 | I84: =(F84-C84)*1000 -> 101 | J84: =(D84-F84)*1000 -> 46 | K84: =(C84-E84)*1000 -> 92 | L84: all | M84: buy | N84: пн | O84: buy | P84: all | Q84: пн | R84: buy | S84: all | T84: 132.536 | U84: 132.297 | V84: 239 | W84: 101 | X84: 46 | Y84: 92 | Z84: 239 | AA84: =H84-Z84 -> 4.3200998e-12 | AB84: =I84-W84 -> -9.094947e-13 | AC84: =J84-X84 -> -7.730705e-12 | AD84: =K84-Y84 -> 1.29603e-11
A85: 0.83333333 | B85: buy | C85: 132.49 | D85: 132.616 | E85: 132.471 | F85: 132.505 | G85: 6629 | H85: =(D85-E85)*1000 -> 145 | I85: =(F85-C85)*1000 -> 15 | J85: =(D85-F85)*1000 -> 111 | K85: =(C85-E85)*1000 -> 19 | L85: all | M85: buy | N85: пн | O85: buy | P85: all | Q85: пн | R85: buy | S85: all | T85: 132.616 | U85: 132.471 | V85: 145 | W85: 15 | X85: 111 | Y85: 19 | Z85: 145 | AA85: =H85-Z85 -> 1.0231815e-11 | AB85: =I85-W85 -> -1.3642421e-11 | AC85: =J85-X85 -> 1.8417268e-11 | AD85: =K85-Y85 -> 5.4569682e-12
A86: 43051 | AA86: =H86-Z86 -> 0 | AB86: =I86-W86 -> 0 | AC86: =J86-X86 -> 0 | AD86: =K86-Y86 -> 0
A87: 0.875 | B87: buy | C87: 132.306 | D87: 132.583 | E87: 132.24 | F87: 132.571 | G87: 5137 | H87: =(D87-E87)*1000 -> 343 | I87: =(F87-C87)*1000 -> 265 | J87: =(D87-F87)*1000 -> 12 | K87: =(C87-E87)*1000 -> 66 | L87: all | M87: нет | N87: нет | O87: нет | P87: all | Q87: нет | R87: нет | S87: all | T87: 132.583 | U87: 132.24 | V87: 343 | W87: 265 | X87: 12 | Y87: 66 | Z87: 343 | AA87: =H87-Z87 -> -1.0686563e-11 | AB87: =I87-W87 -> -1.3642421e-11 | AC87: =J87-X87 -> 4.5474735e-13 | AD87: =K87-Y87 -> 2.5011104e-12
A88: 43049 | AA88: =H88-Z88 -> 0 | AB88: =I88-W88 -> 0 | AC88: =J88-X88 -> 0 | AD88: =K88-Y88 -> 0
A89: 0 | B89: buy | C89: 132.014 | D89: 132.191 | E89: 131.947 | F89: 132.048 | G89: 9917 | H89: =(D89-E89)*1000 -> 244 | I89: =(F89-C89)*1000 -> 34 | J89: =(D89-F89)*1000 -> 143 | K89: =(C89-E89)*1000 -> 67 | L89: all | M89: buy | N89: пт | O89: buy | P89: all | Q89: пт | R89: buy | S89: all | T89: 132.191 | U89: 131.947 | V89: 244 | W89: 34 | X89: 143 | Y89: 67 | Z89: 244 | AA89: =H89-Z89 -> -2.2737368e-13 | AB89: =I89-W89 -> -8.1854523e-12 | AC89: =J89-X89 -> 6.8212103e-13 | AD89: =K89-Y89 -> 7.2759576e-12
A90: 0.16666667 | B90: buy | C90: 132.047 | D90: 132.207 | E90: 131.989 | F90: 132.102 | G90: 9341 | H90: =(D90-E90)*1000 -> 218 | I90: =(F90-C90)*1000 -> 55 | J90: =(D90-F90)*1000 -> 105 | K90: =(C90-E90)*1000 -> 58 | L90: all | M90: buy | N90: пт | O90: buy | P90: all | Q90: пт | R90: buy | S90: all | T90: 132.207 | U90: 131.989 | V90: 218 | W90: 55 | X90: 105 | Y90: 58 | Z90: 218 | AA90: =H90-Z90 -> -1.0686563e-11 | AB90: =I90-W90 -> 6.8212103e-12 | AC90: =J90-X90 -> -1.0231815e-11 | AD90: =K90-Y90 -> -7.2759576e-12
A91: 0.33333333 | B91: sell | C91: 132.101 | D91: 132.232 | E91: 132.013 | F91: 132.074 | G91: 11568 | H91: =(D91-E91)*1000 -> 219 | I91: =(C91-F91)*1000 -> 27 | J91: =(D91-C91)*1000 -> 131 | K91: =(F91-E91)*1000 -> 61 | L91: all | M91: sell | N91: пт | O91: sell | P91: all | Q91: пт | R91: sell | S91: all | T91: 132.232 | U91: 132.013 | V91: 219 | W91: 27 | X91: 131 | Y91: 61 | Z91: 219 | AA91: =H91-Z91 -> -5.9117156e-12 | AB91: =I91-W91 -> -1.3187673e-11 | AC91: =J91-X91 -> 2.2737368e-13 | AD91: =K91-Y91 -> 7.0485839e-12
A92: 0.5 | B92: buy | C92: 132.074 | D92: 132.256 | E92: 132.01 | F92: 132.121 | G92: 11784 | H92: =(D92-E92)*1000 -> 246 | I92: =(F92-C92)*1000 -> 47 | J92: =(D92-F92)*1000 -> 135 | K92: =(C92-E92)*1000 -> 64 | L92: all | M92: buy | N92: пт | O92: buy | P92: all | Q92: пт | R92: buy | S92: all | T92: 132.256 | U92: 132.01 | V92: 246 | W92: 47 | X92: 135 | Y92: 64 | Z92: 246 | AA92: =H92-Z92 -> 9.3223207e-12 | AB92: =I92-W92 -> -2.9558578e-12 | AC92: =J92-X92 -> -9.094947e-12 | AD92: =K92-Y92 -> 2.1373125e-11
A93: 0.66666667 | B93: buy | C93: 132.123 | D93: 132.499 | E93: 132.103 | F93: 132.499 | G93: 9204 | H93: =(D93-E93)*1000 -> 396 | I93: =(F93-C93)*1000 -> 376 | J93: =(D93-F93)*1000 -> 0 | K93: =(C93-E93)*1000 -> 20 | L93: all | M93: buy | N93: пт | O93: buy | P93: all | Q93: пт | R93: buy | S93: all | T93: 132.499 | U93: 132.103 | V93: 396 | W93: 376 | X93: 0 | Y93: 20 | Z93: 396 | AA93: =H93-Z93 -> -1.3415047e-11 | AB93: =I93-W93 -> 4.7748472e-12 | AC93: =J93-X93 -> 0 | AD93: =K93-Y93 -> -1.8189894e-11
A94: 0.83333333 | B94: sell | C94: 132.5 | D94: 132.541 | E94: 132.364 | F94: 132.389 | G94: 3362 | H94: =(D94-E94)*1000 -> 177 | I94: =(C94-F94)*1000 -> 111 | J94: =(D94-C94)*1000 -> 41 | K94: =(F94-E94)*1000 -> 25 | L94: all | M94: sell | N94: пт | O94: sell | P94: all | Q94: пт | R94: sell | S94: all | T94: 132.541 | U94: 132.364 | V94: 177 | W94: 111 | X94: 41 | Y94: 25 | Z94: 177 | AA94: =H94-Z94 -> -7.5033313e-12 | AB94: =I94-W94 -> -1.0004442e-11 | AC94: =J94-X94 -> -3.1832315e-12 | AD94: =K94-Y94 -> 5.6843419e-12
A95: 43048 | AA95: =H95-Z95 -> 0 | AB95: =I95-W95 -> 0 | AC95: =J95-X95 -> 0 | AD95: =K95-Y95 -> 0
A96: 0 | B96: buy | C96: 132.077 | D96: 132.249 | E96: 132.046 | F96: 132.151 | G96: 9460 | H96: =(D96-E96)*1000 -> 203 | I96: =(F96-C96)*1000 -> 74 | J96: =(D96-F96)*1000 -> 98 | K96: =(C96-E96)*1000 -> 31 | L96: all | M96: buy | N96: чт | O96: buy | P96: all | Q96: чт | R96: buy | S96: all | T96: 132.249 | U96: 132.046 | V96: 203 | W96: 74 | X96: 98 | Y96: 31 | Z96: 203 | AA96: =H96-Z96 -> 2.9558578e-12 | AB96: =I96-W96 -> 1.2278178e-11 | AC96: =J96-X96 -> -1.5234036e-11 | AD96: =K96-Y96 -> 5.9117156e-12
A97: 0.16666667 | B97: sell | C97: 132.15 | D97: 132.153 | E97: 131.626 | F97: 131.74 | G97: 11511 | H97: =(D97-E97)*1000 -> 527 | I97: =(C97-F97)*1000 -> 410 | J97: =(D97-C97)*1000 -> 3 | K97: =(F97-E97)*1000 -> 114 | L97: all | M97: sell | N97: чт | O97: sell | P97: all | Q97: чт | R97: sell | S97: all | T97: 132.153 | U97: 131.626 | V97: 527 | W97: 410 | X97: 3 | Y97: 114 | Z97: 527 | AA97: =H97-Z97 -> -1.3187673e-11 | AB97: =I97-W97 -> -3.4106051e-12 | AC97: =J97-X97 -> -1.4097168e-11 | AD97: =K97-Y97 -> 4.3200998e-12
A98: 0.33333333 | B98: buy | C98: 131.739 | D98: 132.001 | E98: 131.514 | F98: 131.913 | G98: 12508 | H98: =(D98-E98)*1000 -> 487 | I98: =(F98-C98)*1000 -> 174 | J98: =(D98-F98)*1000 -> 88 | K98: =(C98-E98)*1000 -> 225 | L98: all | M98: buy | N98: чт | O98: buy | P98: all | Q98: чт | R98: buy | S98: all | T98: 132.001 | U98: 131.514 | V98: 487 | W98: 174 | X98: 88 | Y98: 225 | Z98: 487 | AA98: =H98-Z98 -> -5.2295945e-12 | AB98: =I98-W98 -> 6.5938366e-12 | AC98: =J98-X98 -> -6.1390892e-12 | AD98: =K98-Y98 -> -5.6843419e-12
A99: 0.5 | B99: buy | C99: 131.914 | D99: 132.19 | E99: 131.697 | F99: 132.132 | G99: 14795 | H99: =(D99-E99)*1000 -> 493 | I99: =(F99-C99)*1000 -> 218 | J99: =(D99-F99)*1000 -> 58 | K99: =(C99-E99)*1000 -> 217 | L99: all | M99: buy | N99: чт | O99: buy | P99: all | Q99: чт | R99: buy | S99: all | T99: 132.19 | U99: 131.697 | V99: 493 | W99: 218 | X99: 58 | Y99: 217 | Z99: 493 | AA99: =H99-Z99 -> -5.0022209e-12 | AB99: =I99-W99 -> 1.7735147e-11 | AC99: =J99-X99 -> -7.2759576e-12 | AD99: =K99-Y99 -> -1.546141e-11
A100: 0.66666667 | B100: sell | C100: 132.133 | D100: 132.218 | E100: 131.689 | F100: 131.823 | G100: 13878 | H100: =(D100-E100)*1000 -> 529 | I100: =(C100-F100)*1000 -> 310 | J100: =(D100-C100)*1000 -> 85 | K100: =(F100-E100)*1000 -> 134 | L100: all | M100: sell | N100: чт | O100: sell | P100: all | Q100: чт | R100: sell | S100: all | T100: 132.218 | U100: 131.689 | V100: 529 | W100: 310 | X100: 85 | Y100: 134 | Z100: 529 | AA100: =H100-Z100 -> -3.6379788e-12 | AB100: =I100-W100 -> 2.2737368e-12 | AC100: =J100-X100 -> -2.0463631e-11 | AD100: =K100-Y100 -> 1.4551915e-11
A101: 0.83333333 | B101: buy | C101: 131.824 | D101: 132.099 | E101: 131.803 | F101: 132.019 | G101: 8490 | H101: =(D101-E101)*1000 -> 296 | I101: =(F101-C101)*1000 -> 195 | J101: =(D101-F101)*1000 -> 80 | K101: =(C101-E101)*1000 -> 21 | L101: all | M101: buy | N101: чт | O101: buy | P101: all | Q101: чт | R101: buy | S101: all | T101: 132.099 | U101: 131.803 | V101: 296 | W101: 195 | X101: 80 | Y101: 21 | Z101: 296 | AA101: =H101-Z101 -> -7.730705e-12 | AB101: =I101-W101 -> -6.8212103e-12 | AC101: =J101-X101 -> -1.5916157e-11 | AD101: =K101-Y101 -> 1.5006663e-11
A102: 43047 | AA102: =H102-Z102 -> 0 | AB102: =I102-W102 -> 0 | AC102: =J102-X102 -> 0 | AD102: =K102-Y102 -> 0
A103: 0 | B103: buy | C103: 131.949 | D103: 132.01 | E103: 131.796 | F103: 131.969 | G103: 8720 | H103: =(D103-E103)*1000 -> 214 | I103: =(F103-C103)*1000 -> 20 | J103: =(D103-F103)*1000 -> 41 | K103: =(C103-E103)*1000 -> 153 | L103: all | M103: buy | N103: ср | O103: buy | P103: all | Q103: ср | R103: buy | S103: all | T103: 132.01 | U103: 131.796 | V103: 214 | W103: 20 | X103: 41 | Y103: 153 | Z103: 214 | AA103: =H103-Z103 -> -1.3642421e-12 | AB103: =I103-W103 -> -1.8189894e-11 | AC103: =J103-X103 -> -3.1832315e-12 | AD103: =K103-Y103 -> 2.0008883e-11
...

Sheet групповой подсчет
B2: Анализатор свечей AverageStatistic 1.7.1 ind (автор Usver73)
B4: тест корректности работы индикатора во всех режимах
B6: брокер: Exness
B7: валютная пара : eurjpy
B8: единица измерения: пункт
B9: таймфрейм :H4
B11: данные ручного подсчета | E11: данные индикатора AverageStatistic1/6ind | H11: разность показателей ручного подсчета и индикатора
B12: all | C12: buy | D12: sell | E12: all | F12: buy | G12: sell | H12: all | I12: buy | J12: sell
A14: 24.11.2017 00:00-23:59
A15: кол-во свечей | B15: 6 | C15: 4 | D15: 2 | E15: 6 | F15: 4 | G15: 2 | H15: =B15-E15 -> 0 | I15: =C15-F15 -> 0 | J15: =D15-G15 -> 0
A16: средн.р-р свечи | B16: =('подсчет по каждой свече H4'!H15+'подсчет по каждой свече H4'!H16+'подсчет по каждой свече H4'!H17+'подсчет по каждой свече H4'!H18+'подсчет по каждой свече H4'!H19+'подсчет по каждой свече H4'!H20)/6 -> 353.83333 | C16: =('подсчет по каждой свече H4'!H15+'подсчет по каждой свече H4'!H17+'подсчет по каждой свече H4'!H18+'подсчет по каждой свече H4'!H19)/4 -> 447.25 | D16: =('подсчет по каждой свече H4'!H16+'подсчет по каждой свече H4'!H20)/2 -> 167 | E16: 353 | F16: 447 | G16: 167 | H16: =B16-E16 -> 0.83333333 | I16: =C16-F16 -> 0.25 | J16: =D16-G16 -> 1.5916157e-12
A17: средн.р-р тела | B17: =('подсчет по каждой свече H4'!I15+'подсчет по каждой свече H4'!I16+'подсчет по каждой свече H4'!I17+'подсчет по каждой свече H4'!I18+'подсчет по каждой свече H4'!I19+'подсчет по каждой свече H4'!I20)/6 -> 218.5 | C17: =('подсчет по каждой свече H4'!I15+'подсчет по каждой свече H4'!I17+'подсчет по каждой свече H4'!I18+'подсчет по каждой свече H4'!I19)/4 -> 317 | D17: =('подсчет по каждой свече H4'!I16+'подсчет по каждой свече H4'!I20)/2 -> 21.5 | E17: 218 | F17: 317 | G17: 21 | H17: =B17-E17 -> 0.5 | I17: =C17-F17 -> -6.9348971e-12 | J17: =D17-G17 -> 0.5
A18: средн р-р Up тени | B18: =('подсчет по каждой свече H4'!J15+'подсчет по каждой свече H4'!J16+'подсчет по каждой свече H4'!J17+'подсчет по каждой свече H4'!J18+'подсчет по каждой свече H4'!J19+'подсчет по каждой свече H4'!J20)/6 -> 98.166667 | C18: =('подсчет по каждой свече H4'!J15+'подсчет по каждой свече H4'!J17+'подсчет по каждой свече H4'!J18+'подсчет по каждой свече H4'!J19)/4 -> 93 | D18: =('подсчет по каждой свече H4'!J16+'подсчет по каждой свече H4'!J20)/2 -> 108.5 | E18: 98 | F18: 93 | G18: 108 | H18: =B18-E18 -> 0.16666667 | I18: =C18-F18 -> 1.0629719e-11 | J18: =D18-G18 -> 0.5
A19: средн.р-р Dn тени | B19: =('подсчет по каждой свече H4'!K15+'подсчет по каждой свече H4'!K16+'подсчет по каждой свече H4'!K17+'подсчет по каждой свече H4'!K18+'подсчет по каждой свече H4'!K19+'подсчет по каждой свече H4'!K20)/6 -> 37.166667 | C19: =('подсчет по каждой свече H4'!K15+'подсчет по каждой свече H4'!K17+'подсчет по каждой свече H4'!K18+'подсчет по каждой свече H4'!K19)/4 -> 37.25 | D19: =('подсчет по каждой свече H4'!K16+'подсчет по каждой свече H4'!K20)/2 -> 37 | E19: 37 | F19: 37 | G19: 37 | H19: =B19-E19 -> 0.16666667 | I19: =C19-F19 -> 0.25 | J19: =D19-G19 -> 6.1390892e-12
A20: Макс. Свеча | B20: ='подсчет по каждой свече H4'!H18 -> 942 | C20: ='подсчет по каждой свече H4'!H18 -> 942 | D20: ='подсчет по каждой свече H4'!H16 -> 237 | E20: 942 | F20: 942 | G20: 237 | H20: =B20-E20 -> 7.2759576e-12 | I20: =C20-F20 -> 7.2759576e-12 | J20: =D20-G20 -> -5.2295945e-12
A21: Макс.тело | B21: ='подсчет по каждой свече H4'!I18 -> 909 | C21: ='подсчет по каждой свече H4'!I18 -> 909 | D21: ='подсчет по каждой свече H4'!I16 -> 37 | E21: 909 | F21: 909 | G21: 37 | H21: =B21-E21 -> -8.1854523e-12 | I21: =C21-F21 -> -8.1854523e-12 | J21: =D21-G21 -> -2.228262e-11
A22: Макс Up тень | B22: ='подсчет по каждой свече H4'!J17 -> 186 | C22: ='подсчет по каждой свече H4'!J17 -> 186 | D22: ='подсчет по каждой свече H4'!J16 -> 151 | E22: 186 | F22: 186 | G22: 151 | H22: =B22-E22 -> 7.0485839e-12 | I22: =C22-F22 -> 7.0485839e-12 | J22: =D22-G22 -> 1.0459189e-11
A23: Макс Dn тень | B23: ='подсчет по каждой свече H4'!K19 -> 68 | C23: ='подсчет по каждой свече H4'!K19 -> 68 | D23: ='подсчет по каждой свече H4'!K16 -> 49 | E23: 68 | F23: 68 | G23: 49 | H23: =B23-E23 -> 1.2050805e-11 | I23: =C23-F23 -> 1.2050805e-11 | J23: =D23-G23 -> 6.5938366e-12
A24: 23.11.2017 00:00-23:59
A25: кол-во свечей | B25: 6 | C25: 5 | D25: 1 | E25: 6 | F25: 5 | G25: 1 | H25: =B25-E25 -> 0 | I25: =C25-F25 -> 0 | J25: =D25-G25 -> 0
A26: средн.р-р свечи | B26: =('подсчет по каждой свече H4'!H22+'подсчет по каждой свече H4'!H23+'подсчет по каждой свече H4'!H24+'подсчет по каждой свече H4'!H25+'подсчет по каждой свече H4'!H26+'подсчет по каждой свече H4'!H27)/6 -> 296.66667 | C26: =('подсчет по каждой свече H4'!H22+'подсчет по каждой свече H4'!H24+'подсчет по каждой свече H4'!H25+'подсчет по каждой свече H4'!H26+'подсчет по каждой свече H4'!H27)/5 -> 286.4 | D26: ='подсчет по каждой свече H4'!H23 -> 348 | E26: 296 | F26: 286 | G26: 348 | H26: =B26-E26 -> 0.66666667 | I26: =C26-F26 -> 0.4 | J26: =D26-G26 -> -1.5234036e-11
A27: средн.р-р тела | B27: =('подсчет по каждой свече H4'!I22+'подсчет по каждой свече H4'!I23+'подсчет по каждой свече H4'!I24+'подсчет по каждой свече H4'!I25+'подсчет по каждой свече H4'!I26+'подсчет по каждой свече H4'!I27)/6 -> 137.33333 | C27: =('подсчет по каждой свече H4'!I22+'подсчет по каждой свече H4'!I24+'подсчет по каждой свече H4'!I25+'подсчет по каждой свече H4'!I26+'подсчет по каждой свече H4'!I27)/5 -> 120.8 | D27: ='подсчет по каждой свече H4'!I23 -> 220 | E27: 137 | F27: 120 | G27: 220 | H27: =B27-E27 -> 0.33333333 | I27: =C27-F27 -> 0.8 | J27: =D27-G27 -> -1.1368684e-12
A28: средн р-р Up тени | B28: =('подсчет по каждой свече H4'!J22+'подсчет по каждой свече H4'!J23+'подсчет по каждой свече H4'!J24+'подсчет по каждой свече H4'!J25+'подсчет по каждой свече H4'!J26+'подсчет по каждой свече H4'!J27)/6 -> 85.166667 | C28: =('подсчет по каждой свече H4'!J22+'подсчет по каждой свече H4'!J24+'подсчет по каждой свече H4'!J25+'подсчет по каждой свече H4'!J26+'подсчет по каждой свече H4'!J27)/5 -> 80.6 | D28: ='подсчет по каждой свече H4'!J23 -> 108 | E28: 85 | F28: 80 | G28: 108 | H28: =B28-E28 -> 0.16666667 | I28: =C28-F28 -> 0.6 | J28: =D28-G28 -> 4.0927262e-12
A29: средн.р-р Dn тени | B29: =('подсчет по каждой свече H4'!K22+'подсчет по каждой свече H4'!K23+'подсчет по каждой свече H4'!K24+'подсчет по каждой свече H4'!K25+'подсчет по каждой свече H4'!K26+'подсчет по каждой свече H4'!K27)/6 -> 74.166667 | C29: =('подсчет по каждой свече H4'!K22+'подсчет по каждой свече H4'!K24+'подсчет по каждой свече H4'!K25+'подсчет по каждой свече H4'!K26+'подсчет по каждой свече H4'!K27)/5 -> 85 | D29: ='подсчет по каждой свече H4'!K23 -> 20 | E29: 74 | F29: 85 | G29: 20 | H29: =B29-E29 -> 0.16666667 | I29: =C29-F29 -> -3.4106051e-12 | J29: =D29-G29 -> -1.8189894e-11
A30: Макс. Свеча | B30: ='подсчет по каждой свече H4'!H22 -> 559 | C30: ='подсчет по каждой свече H4'!H22 -> 559 | D30: ='подсчет по каждой свече H4'!H23 -> 348 | E30: 559 | F30: 559 | G30: 348 | H30: =B30-E30 -> -2.5011104e-12 | I30: =C30-F30 -> -2.5011104e-12 | J30: =D30-G30 -> -1.5234036e-11
A31: Макс.тело | B31: ='подсчет по каждой свече H4'!I22 -> 234 | C31: ='подсчет по каждой свече H4'!I22 -> 234 | D31: ='подсчет по каждой свече H4'!I23 -> 220 | E31: 234 | F31: 234 | G31: 220 | H31: =B31-E31 -> -1.9554136e-11 | I31: =C31-F31 -> -1.9554136e-11 | J31: =D31-G31 -> -1.1368684e-12
A32: Макс Up тень | B32: ='подсчет по каждой свече H4'!J24 -> 141 | C32: ='подсчет по каждой свече H4'!J24 -> 141 | D32: ='подсчет по каждой свече H4'!J23 -> 108 | E32: 141 | F32: 141 | G32: 108 | H32: =B32-E32 -> -8.8675733e-12 | I32: =C32-F32 -> -8.8675733e-12 | J32: =D32-G32 -> 4.0927262e-12
A33: Макс Dn тень | B33: ='подсчет по каждой свече H4'!K22 -> 243 | C33: ='подсчет по каждой свече H4'!K22 -> 243 | D33: ='подсчет по каждой свече H4'!K23 -> 20 | E33: 243 | F33: 243 | G33: 20 | H33: =B33-E33 -> -5.0022209e-12 | I33: =C33-F33 -> -5.0022209e-12 | J33: =D33-G33 -> -1.8189894e-11
A34: 22.11.2017 00:00-23:59
A35: кол-во свечей | B35: 6 | C35: 1 | D35: 5 | E35: 6 | F35: 1 | G35: 5 | H35: =B35-E35 -> 0 | I35: =C35-F35 -> 0 | J35: =D35-G35 -> 0
A36: средн.р-р свечи | B36: =('подсчет по каждой свече H4'!H29+'подсчет по каждой свече H4'!H30+'подсчет по каждой свече H4'!H31+'подсчет по каждой свече H4'!H32+'подсчет по каждой свече H4'!H33+'подсчет по каждой свече H4'!H34)/6 -> 212.5 | C36: ='подсчет по каждой свече H4'!H34 -> 109 | D36: =('подсчет по каждой свече H4'!H29+'подсчет по каждой свече H4'!H30+'подсчет по каждой свече H4'!H31+'подсчет по каждой свече H4'!H32+'подсчет по каждой свече H4'!H33)/5 -> 233.2 | E36: 212 | F36: 109 | G36: 233 | H36: =B36-E36 -> 0.5 | I36: =C36-F36 -> 8.8675733e-12 | J36: =D36-G36 -> 0.2
A37: средн.р-р тела | B37: =('подсчет по каждой свече H4'!I29+'подсчет по каждой свече H4'!I30+'подсчет по каждой свече H4'!I31+'подсчет по каждой свече H4'!I32+'подсчет по каждой свече H4'!I33+'подсчет по каждой свече H4'!I34)/6 -> 81.5 | C37: ='подсчет по каждой свече H4'!I34 -> 19 | D37: =('подсчет по каждой свече H4'!I29+'подсчет по каждой свече H4'!I30+'подсчет по каждой свече H4'!I31+'подсчет по каждой свече H4'!I32+'подсчет по каждой свече H4'!I33)/5 -> 94 | E37: 81 | F37: 19 | G37: 94 | H37: =B37-E37 -> 0.5 | I37: =C37-F37 -> 5.4569682e-12 | J37: =D37-G37 -> -2.2737368e-13
A38: средн р-р Up тени | B38: =('подсчет по каждой свече H4'!J29+'подсчет по каждой свече H4'!J30+'подсчет по каждой свече H4'!J31+'подсчет по каждой свече H4'!J32+'подсчет по каждой свече H4'!J33+'подсчет по каждой свече H4'!J34)/6 -> 63.5 | C38: ='подсчет по каждой свече H4'!J34 -> 52 | D38: =('подсчет по каждой свече H4'!J29+'подсчет по каждой свече H4'!J30+'подсчет по каждой свече H4'!J31+'подсчет по каждой свече H4'!J32+'подсчет по каждой свече H4'!J33)/5 -> 65.8 | E38: 63 | F38: 52 | G38: 65 | H38: =B38-E38 -> 0.5 | I38: =C38-F38 -> -7.5033313e-12 | J38: =D38-G38 -> 0.8
A39: средн.р-р Dn тени | B39: =('подсчет по каждой свече H4'!K29+'подсчет по каждой свече H4'!K30+'подсчет по каждой свече H4'!K31+'подсчет по каждой свече H4'!K32+'подсчет по каждой свече H4'!K33+'подсчет по каждой свече H4'!K34)/6 -> 67.5 | C39: ='подсчет по каждой свече H4'!K34 -> 38 | D39: =('подсчет по каждой свече H4'!K29+'подсчет по каждой свече H4'!K30+'подсчет по каждой свече H4'!K31+'подсчет по каждой свече H4'!K32+'подсчет по каждой свече H4'!K33)/5 -> 73.4 | E39: 67 | F39: 38 | G39: 73 | H39: =B39-E39 -> 0.5 | I39: =C39-F39 -> 1.0913936e-11 | J39: =D39-G39 -> 0.4
A40: Макс. Свеча | B40: ='подсчет по каждой свече H4'!H32 -> 300 | C40: ='подсчет по каждой свече H4'!H34 -> 109 | D40: ='подсчет по каждой свече H4'!H32 -> 300 | E40: 300 | F40: 109 | G40: 300 | H40: =B40-E40 -> 1.1368684e-11 | I40: =C40-F40 -> 8.8675733e-12 | J40: =D40-G40 -> 1.1368684e-11
A41: Макс.тело | B41: ='подсчет по каждой свече H4'!I32 -> 173 | C41: ='подсчет по каждой свече H4'!I34 -> 19 | D41: ='подсчет по каждой свече H4'!I32 -> 173 | E41: 173 | F41: 19 | G41: 173 | H41: =B41-E41 -> 1.8189894e-12 | I41: =C41-F41 -> 5.4569682e-12 | J41: =D41-G41 -> 1.8189894e-12
A42: Макс Up тень | B42: ='подсчет по каждой свече H4'!J31 -> 167 | C42: ='подсчет по каждой свече H4'!J34 -> 52 | D42: ='подсчет по каждой свече H4'!J31 -> 167 | E42: 167 | F42: 52 | G42: 167 | H42: =B42-E42 -> 1.5916157e-12 | I42: =C42-F42 -> -7.5033313e-12 | J42: =D42-G42 -> 1.5916157e-12
A43: Макс Dn тень | B43: ='подсчет по каждой свече H4'!K29 -> 109 | C43: ='подсчет по каждой свече H4'!K34 -> 38 | D43: ='подсчет по каждой свече H4'!K29 -> 109 | E43: 109 | F43: 38 | G43: 109 | H43: =B43-E43 -> 8.8675733e-12 | I43: =C43-F43 -> 1.0913936e-11 | J43: =D43-G43 -> 8.8675733e-12
A44: 21.11.2017 00:00-23:59
A45: кол-во свечей | B45: 6 | C45: 2 | D45: 4 | E45: 6 | F45: 2 | G45: 4 | H45: =B45-E45 -> 0 | I45: =C45-F45 -> 0 | J45: =D45-G45 -> 0
A46: средн.р-р свечи | B46: =('подсчет по каждой свече H4'!H36+'подсчет по каждой свече H4'!H37+'подсчет по каждой свече H4'!H38+'подсчет по каждой свече H4'!H39+'подсчет по каждой свече H4'!H40+'подсчет по каждой свече H4'!H41)/6 -> 314.33333 | C46: =('подсчет по каждой свече H4'!H37+'подсчет по каждой свече H4'!H40)/2 -> 206.5 | D46: =('подсчет по каждой свече H4'!H36+'подсчет по каждой свече H4'!H38+'подсчет по каждой свече H4'!H39+'подсчет по каждой свече H4'!H41)/4 -> 368.25 | E46: 314 | F46: 206 | G46: 368 | H46: =B46-E46 -> 0.33333333 | I46: =C46-F46 -> 0.5 | J46: =D46-G46 -> 0.25
A47: средн.р-р тела | B47: =('подсчет по каждой свече H4'!I36+'подсчет по каждой свече H4'!I37+'подсчет по каждой свече H4'!I38+'подсчет по каждой свече H4'!I39+'подсчет по каждой свече H4'!I40+'подсчет по каждой свече H4'!I41)/6 -> 98 | C47: =('подсчет по каждой свече H4'!I37+'подсчет по каждой свече H4'!I40)/2 -> 101 | D47: =('подсчет по каждой свече H4'!I36+'подсчет по каждой свече H4'!I38+'подсчет по каждой свече H4'!I39+'подсчет по каждой свече H4'!I41)/4 -> 96.5 | E47: 98 | F47: 101 | G47: 96 | H47: =B47-E47 -> -1.0231815e-12 | I47: =C47-F47 -> -9.094947e-13 | J47: =D47-G47 -> 0.5
A48: средн р-р Up тени | B48: =('подсчет по каждой свече H4'!J36+'подсчет по каждой свече H4'!J37+'подсчет по каждой свече H4'!J38+'подсчет по каждой свече H4'!J39+'подсчет по каждой свече H4'!J40+'подсчет по каждой свече H4'!J41)/6 -> 91.5 | C48: =('подсчет по каждой свече H4'!J37+'подсчет по каждой свече H4'!J40)/2 -> 67 | D48: =('подсчет по каждой свече H4'!J36+'подсчет по каждой свече H4'!J38+'подсчет по каждой свече H4'!J39+'подсчет по каждой свече H4'!J41)/4 -> 103.75 | E48: 91 | F48: 67 | G48: 103 | H48: =B48-E48 -> 0.5 | I48: =C48-F48 -> -6.9348971e-12 | J48: =D48-G48 -> 0.75
A49: средн.р-р Dn тени | B49: =('подсчет по каждой свече H4'!K36+'подсчет по каждой свече H4'!K37+'подсчет по каждой свече H4'!K38+'подсчет по каждой свече H4'!K39+'подсчет по каждой свече H4'!K40+'подсчет по каждой свече H4'!K41)/6 -> 124.83333 | C49: =('подсчет по каждой свече H4'!K37+'подсчет по каждой свече H4'!K40)/2 -> 38.5 | D49: =('подсчет по каждой свече H4'!K36+'подсчет по каждой свече H4'!K38+'подсчет по каждой свече H4'!K39+'подсчет по каждой свече H4'!K41)/4 -> 168 | E49: 124 | F49: 38 | G49: 168 | H49: =B49-E49 -> 0.83333333 | I49: =C49-F49 -> 0.5 | J49: =D49-G49 -> -7.3896445e-13
A50: Макс. Свеча | B50: ='подсчет по каждой свече H4'!H38 -> 569 | C50: ='подсчет по каждой свече H4'!H40 -> 243 | D50: ='подсчет по каждой свече H4'!H38 -> 569 | E50: 569 | F50: 243 | G50: 569 | H50: =B50-E50 -> -1.1596057e-11 | I50: =C50-F50 -> 2.3419489e-11 | J50: =D50-G50 -> -1.1596057e-11
A51: Макс.тело | B51: ='подсчет по каждой свече H4'!I40 -> 178 | C51: ='подсчет по каждой свече H4'!I40 -> 178 | D51: ='подсчет по каждой свече H4'!I38 -> 133 | E51: 178 | F51: 178 | G51: 133 | H51: =B51-E51 -> -2.7284841e-12 | I51: =C51-F51 -> -2.7284841e-12 | J51: =D51-G51 -> 9.777068e-12
A52: Макс Up тень | B52: ='подсчет по каждой свече H4'!J36 -> 161 | C52: ='подсчет по каждой свече H4'!J37 -> 85 | D52: ='подсчет по каждой свече H4'!J36 -> 161 | E52: 161 | F52: 85 | G52: 161 | H52: =B52-E52 -> -2.7057467e-11 | I52: =C52-F52 -> -2.0463631e-11 | J52: =D52-G52 -> -2.7057467e-11
A53: Макс Dn тень | B53: ='подсчет по каждой свече H4'!K39 -> 286 | C53: ='подсчет по каждой свече H4'!K37 -> 61 | D53: ='подсчет по каждой свече H4'!K39 -> 286 | E53: 286 | F53: 61 | G53: 286 | H53: =B53-E53 -> 1.3642421e-12 | I53: =C53-F53 -> 7.0485839e-12 | J53: =D53-G53 -> 1.3642421e-12
A54: 20.11.2017 00:00-23:59
A55: кол-во свечей | B55: 6 | C55: 4 | D55: 2 | E55: 6 | F55: 4 | G55: 2 | H55: =B55-E55 -> 0 | I55: =C55-F55 -> 0 | J55: =D55-G55 -> 0
A56: средн.р-р свечи | B56: =('подсчет по каждой свече H4'!H43+'подсчет по каждой свече H4'!H44+'подсчет по каждой свече H4'!H45+'подсчет по каждой свече H4'!H46+'подсчет по каждой свече H4'!H47+'подсчет по каждой свече H4'!H48)/6 -> 397.33333 | C56: =('подсчет по каждой свече H4'!H43+'подсчет по каждой свече H4'!H44+'подсчет по каждой свече H4'!H45+'подсчет по каждой свече H4'!H47)/4 -> 476.25 | D56: =('подсчет по каждой свече H4'!H46+'подсчет по каждой свече H4'!H48)/2 -> 239.5 | E56: 397 | F56: 476 | G56: 239 | H56: =B56-E56 -> 0.33333333 | I56: =C56-F56 -> 0.25 | J56: =D56-G56 -> 0.5
A57: средн.р-р тела | B57: =('подсчет по каждой свече H4'!I43+'подсчет по каждой свече H4'!I44+'подсчет по каждой свече H4'!I45+'подсчет по каждой свече H4'!I46+'подсчет по каждой свече H4'!I47+'подсчет по каждой свече H4'!I48)/6 -> 161.16667 | C57: =('подсчет по каждой свече H4'!I43+'подсчет по каждой свече H4'!I44+'подсчет по каждой свече H4'!I45+'подсчет по каждой свече H4'!I47)/4 -> 203 | D57: =('подсчет по каждой свече H4'!I46+'подсчет по каждой свече H4'!I48)/2 -> 77.5 | E57: 161 | F57: 203 | G57: 77 | H57: =B57-E57 -> 0.16666667 | I57: =C57-F57 -> 1.0061285e-11 | J57: =D57-G57 -> 0.5
A58: средн р-р Up тени | B58: =('подсчет по каждой свече H4'!J43+'подсчет по каждой свече H4'!J44+'подсчет по каждой свече H4'!J45+'подсчет по каждой свече H4'!J46+'подсчет по каждой свече H4'!J47+'подсчет по каждой свече H4'!J48)/6 -> 147.5 | C58: =('подсчет по каждой свече H4'!J43+'подсчет по каждой свече H4'!J44+'подсчет по каждой свече H4'!J45+'подсчет по каждой свече H4'!J47)/4 -> 190.5 | D58: =('подсчет по каждой свече H4'!J46+'подсчет по каждой свече H4'!J48)/2 -> 61.5 | E58: 147 | F58: 190 | G58: 61 | H58: =B58-E58 -> 0.5 | I58: =C58-F58 -> 0.5 | J58: =D58-G58 -> 0.5
A59: средн.р-р Dn тени | B59: =('подсчет по каждой свече H4'!K43+'подсчет по каждой свече H4'!K44+'подсчет по каждой свече H4'!K45+'подсчет по каждой свече H4'!K46+'подсчет по каждой свече H4'!K47+'подсчет по каждой свече H4'!K48)/6 -> 88.666667 | C59: =('подсчет по каждой свече H4'!K43+'подсчет по каждой свече H4'!K44+'подсчет по каждой свече H4'!K45+'подсчет по каждой свече H4'!K47)/4 -> 82.75 | D59: =('подсчет по каждой свече H4'!K46+'подсчет по каждой свече H4'!K48)/2 -> 100.5 | E59: 88 | F59: 82 | G59: 100 | H59: =B59-E59 -> 0.66666667 | I59: =C59-F59 -> 0.75 | J59: =D59-G59 -> 0.5
A60: Макс. Свеча | B60: ='подсчет по каждой свече H4'!H45 -> 789 | C60: ='подсчет по каждой свече H4'!H45 -> 789 | D60: ='подсчет по каждой свече H4'!H46 -> 336 | E60: 789 | F60: 789 | G60: 336 | H60: =B60-E60 -> -1.2732926e-11 | I60: =C60-F60 -> -1.2732926e-11 | J60: =D60-G60 -> -1.5688784e-11
A61: Макс.тело | B61: ='подсчет по каждой свече H4'!I45 -> 422 | C61: ='подсчет по каждой свече H4'!I45 -> 422 | D61: ='подсчет по каждой свече H4'!I48 -> 89 | E61: 422 | F61: 422 | G61: 89 | H61: =B61-E61 -> 2.5465852e-11 | I61: =C61-F61 -> 2.5465852e-11 | J61: =D61-G61 -> -1.3642421e-12
A62: Макс Up тень | B62: ='подсчет по каждой свече H4'!J45 -> 348 | C62: ='подсчет по каждой свече H4'!J45 -> 348 | D62: ='подсчет по каждой свече H4'!J46 -> 114 | E62: 348 | F62: 348 | G62: 114 | H62: =B62-E62 -> -1.5234036e-11 | I62: =C62-F62 -> -1.5234036e-11 | J62: =D62-G62 -> 4.3200998e-12
A63: Макс Dn тень | B63: ='подсчет по каждой свече H4'!K43 -> 165 | C63: ='подсчет по каждой свече H4'!K43 -> 165 | D63: ='подсчет по каждой свече H4'!K46 -> 156 | E63: 165 | F63: 165 | G63: 156 | H63: =B63-E63 -> -7.9580786e-12 | I63: =C63-F63 -> -7.9580786e-12 | J63: =D63-G63 -> -2.2509994e-11
A64: 19.11.2017 00:00-23:59 | E64: вс
A65: кол-во свечей | B65: 1 | D65: 1 | E65: 2 | F65: 0 | G65: 2 | H65: =B65-E65 -> -1 | I65: =C65-F65 -> 0 | J65: =D65-G65 -> -1
A66: средн.р-р свечи | B66: 1114 | D66: 1114 | E66: 1114 | F66: 0 | G66: 1114 | H66: =B66-E66 -> 0 | I66: =C66-F66 -> 0 | J66: =D66-G66 -> 0
A67: средн.р-р тела | B67: 656 | D67: 656 | E67: 656 | F67: 0 | G67: 656 | H67: =B67-E67 -> 0 | I67: =C67-F67 -> 0 | J67: =D67-G67 -> 0
A68: средн р-р Up тени | B68: 179 | D68: 179 | E68: 179 | F68: 0 | G68: 179 | H68: =B68-E68 -> 0 | I68: =C68-F68 -> 0 | J68: =D68-G68 -> 0
A69: средн.р-р Dn тени | B69: 279 | D69: 279 | E69: 279 | F69: 0 | G69: 279 | H69: =B69-E69 -> 0 | I69: =C69-F69 -> 0 | J69: =D69-G69 -> 0
A70: Макс. Свеча | B70: 1114 | D70: 1114 | E70: 1114 | F70: 0 | G70: 1114 | H70: =B70-E70 -> 0 | I70: =C70-F70 -> 0 | J70: =D70-G70 -> 0
A71: Макс.тело | B71: 656 | D71: 656 | E71: 656 | F71: 0 | G71: 656 | H71: =B71-E71 -> 0 | I71: =C71-F71 -> 0 | J71: =D71-G71 -> 0
A72: Макс Up тень | B72: 179 | D72: 179 | E72: 179 | F72: 0 | G72: 179 | H72: =B72-E72 -> 0 | I72: =C72-F72 -> 0 | J72: =D72-G72 -> 0
A73: Макс Dn тень | B73: 279 | D73: 279 | E73: 279 | F73: 0 | G73: 279 | H73: =B73-E73 -> 0 | I73: =C73-F73 -> 0 | J73: =D73-G73 -> 0
A74: 17.11.2017 00:00-23:59
A75: кол-во свечей | B75: 6 | C75: 2 | D75: 4 | E75: 6 | F75: 2 | G75: 4 | H75: =B75-E75 -> 0 | I75: =C75-F75 -> 0 | J75: =D75-G75 -> 0
A76: средн.р-р свечи | B76: =('подсчет по каждой свече H4'!H52+'подсчет по каждой свече H4'!H53+'подсчет по каждой свече H4'!H54+'подсчет по каждой свече H4'!H55+'подсчет по каждой свече H4'!H56+'подсчет по каждой свече H4'!H57)/6 -> 331.16667 | C76: =('подсчет по каждой свече H4'!H54+'подсчет по каждой свече H4'!H56)/2 -> 293.5 | D76: =('подсчет по каждой свече H4'!H52+'подсчет по каждой свече H4'!H53+'подсчет по каждой свече H4'!H55+'подсчет по каждой свече H4'!H57)/4 -> 350 | E76: 331 | F76: 293 | G76: 350 | H76: =B76-E76 -> 0.16666667 | I76: =C76-F76 -> 0.5 | J76: =D76-G76 -> 8.5265128e-12
A77: средн.р-р тела | B77: =('подсчет по каждой свече H4'!I52+'подсчет по каждой свече H4'!I53+'подсчет по каждой свече H4'!I54+'подсчет по каждой свече H4'!I55+'подсчет по каждой свече H4'!I56+'подсчет по каждой свече H4'!I57)/6 -> 220.33333 | C77: =('подсчет по каждой свече H4'!I54+'подсчет по каждой свече H4'!I56)/2 -> 89.5 | D77: =('подсчет по каждой свече H4'!I52+'подсчет по каждой свече H4'!I53+'подсчет по каждой свече H4'!I55+'подсчет по каждой свече H4'!I57)/4 -> 285.75 | E77: 220 | F77: 89 | G77: 285 | H77: =B77-E77 -> 0.33333333 | I77: =C77-F77 -> 0.5 | J77: =D77-G77 -> 0.75
A78: средн р-р Up тени | B78: =('подсчет по каждой свече H4'!J52+'подсчет по каждой свече H4'!J53+'подсчет по каждой свече H4'!J54+'подсчет по каждой свече H4'!J55+'подсчет по каждой свече H4'!J56+'подсчет по каждой свече H4'!J57)/6 -> 63 | C78: =('подсчет по каждой свече H4'!J54+'подсчет по каждой свече H4'!J56)/2 -> 78 | D78: =('подсчет по каждой свече H4'!J52+'подсчет по каждой свече H4'!J53+'подсчет по каждой свече H4'!J55+'подсчет по каждой свече H4'!J57)/4 -> 55.5 | E78: 63 | F78: 78 | G78: 55 | H78: =B78-E78 -> 2.3874236e-12 | I78: =C78-F78 -> 2.9558578e-12 | J78: =D78-G78 -> 0.5
A79: средн.р-р Dn тени | B79: =('подсчет по каждой свече H4'!K52+'подсчет по каждой свече H4'!K53+'подсчет по каждой свече H4'!K54+'подсчет по каждой свече H4'!K55+'подсчет по каждой свече H4'!K56+'подсчет по каждой свече H4'!K57)/6 -> 47.833333 | C79: =('подсчет по каждой свече H4'!K54+'подсчет по каждой свече H4'!K56)/2 -> 126 | D79: =('подсчет по каждой свече H4'!K52+'подсчет по каждой свече H4'!K53+'подсчет по каждой свече H4'!K55+'подсчет по каждой свече H4'!K57)/4 -> 8.75 | E79: 47 | F79: 126 | G79: 8 | H79: =B79-E79 -> 0.83333333 | I79: =C79-F79 -> -9.4360075e-12 | J79: =D79-G79 -> 0.75
A80: Макс. Свеча | B80: ='подсчет по каждой свече H4'!H55 -> 679 | C80: ='подсчет по каждой свече H4'!H54 -> 332 | D80: ='подсчет по каждой свече H4'!H55 -> 679 | E80: 679 | F80: 332 | G80: 679 | H80: =B80-E80 -> 2.0463631e-12 | I80: =C80-F80 -> -6.3664629e-12 | J80: =D80-G80 -> 2.0463631e-12
A81: Макс.тело | B81: ='подсчет по каждой свече H4'!I55 -> 598 | C81: ='подсчет по каждой свече H4'!I54 -> 124 | D81: ='подсчет по каждой свече H4'!I55 -> 598 | E81: 598 | F81: 124 | G81: 598 | H81: =B81-E81 -> 1.3187673e-11 | I81: =C81-F81 -> -4.7748472e-12 | J81: =D81-G81 -> 1.3187673e-11
A82: Макс Up тень | B82: ='подсчет по каждой свече H4'!J53 -> 131 | C82: ='подсчет по каждой свече H4'!J54 -> 127 | D82: ='подсчет по каждой свече H4'!J53 -> 131 | E82: 131 | F82: 127 | G82: 131 | H82: =B82-E82 -> 2.2737368e-13 | I82: =C82-F82 -> 9.5496944e-12 | J82: =D82-G82 -> 2.2737368e-13
A83: Макс Dn тень | B83: ='подсчет по каждой свече H4'!K56 -> 171 | C83: ='подсчет по каждой свече H4'!K56 -> 171 | D83: ='подсчет по каждой свече H4'!K52 -> 16 | E83: 171 | F83: 171 | G83: 16 | H83: =B83-E83 -> -7.730705e-12 | I83: =C83-F83 -> -7.730705e-12 | J83: =D83-G83 -> 1.9554136e-11
A84: 16.11.2017 00:00-23:59
A85: кол-во свечей | B85: 6 | C85: 4 | D85: 2 | E85: 6 | F85: 4 | G85: 2 | H85: =B85-E85 -> 0 | I85: =C85-F85 -> 0 | J85: =D85-G85 -> 0
A86: средн.р-р свечи | B86: =('подсчет по каждой свече H4'!H59+'подсчет по каждой свече H4'!H60+'подсчет по каждой свече H4'!H61+'подсчет по каждой свече H4'!H62+'подсчет по каждой свече H4'!H63+'подсчет по каждой свече H4'!H64)/6 -> 325.5 | C86: =('подсчет по каждой свече H4'!H59+'подсчет по каждой свече H4'!H60+'подсчет по каждой свече H4'!H63+'подсчет по каждой свече H4'!H64)/4 -> 288.75 | D86: =('подсчет по каждой свече H4'!H61+'подсчет по каждой свече H4'!H62)/2 -> 399 | E86: 325 | F86: 288 | G86: 399 | H86: =B86-E86 -> 0.5 | I86: =C86-F86 -> 0.75 | J86: =D86-G86 -> -1.330136e-11
A87: средн.р-р тела | B87: =('подсчет по каждой свече H4'!I59+'подсчет по каждой свече H4'!I60+'подсчет по каждой свече H4'!I61+'подсчет по каждой свече H4'!I62+'подсчет по каждой свече H4'!I63+'подсчет по каждой свече H4'!I64)/6 -> 214.83333 | C87: =('подсчет по каждой свече H4'!I59+'подсчет по каждой свече H4'!I60+'подсчет по каждой свече H4'!I63+'подсчет по каждой свече H4'!I64)/4 -> 194.75 | D87: =('подсчет по каждой свече H4'!I61+'подсчет по каждой свече H4'!I62)/2 -> 255 | E87: 214 | F87: 194 | G87: 255 | H87: =B87-E87 -> 0.83333333 | I87: =C87-F87 -> 0.75 | J87: =D87-G87 -> -4.5474735e-12
A88: средн р-р Up тени | B88: =('подсчет по каждой свече H4'!J59+'подсчет по каждой свече H4'!J60+'подсчет по каждой свече H4'!J61+'подсчет по каждой свече H4'!J62+'подсчет по каждой свече H4'!J63+'подсчет по каждой свече H4'!J64)/6 -> 83.333333 | C88: =('подсчет по каждой свече H4'!J59+'подсчет по каждой свече H4'!J60+'подсчет по каждой свече H4'!J63+'подсчет по каждой свече H4'!J64)/4 -> 73 | D88: =('подсчет по каждой свече H4'!J61+'подсчет по каждой свече H4'!J62)/2 -> 104 | E88: 83 | F88: 73 | G88: 104 | H88: =B88-E88 -> 0.33333333 | I88: =C88-F88 -> -6.7075234e-12 | J88: =D88-G88 -> -7.9580786e-13
A89: средн.р-р Dn тени | B89: =('подсчет по каждой свече H4'!K59+'подсчет по каждой свече H4'!K60+'подсчет по каждой свече H4'!K61+'подсчет по каждой свече H4'!K62+'подсчет по каждой свече H4'!K63+'подсчет по каждой свече H4'!K64)/6 -> 27.333333 | C89: =('подсчет по каждой свече H4'!K59+'подсчет по каждой свече H4'!K60+'подсчет по каждой свече H4'!K63+'подсчет по каждой свече H4'!K64)/4 -> 21 | D89: =('подсчет по каждой свече H4'!K61+'подсчет по каждой свече H4'!K62)/2 -> 40 | E89: 27 | F89: 21 | G89: 40 | H89: =B89-E89 -> 0.33333333 | I89: =C89-F89 -> 7.9580786e-13 | J89: =D89-G89 -> -7.9580786e-12
A90: Макс. Свеча | B90: ='подсчет по каждой свече H4'!H62 -> 427 | C90: ='подсчет по каждой свече H4'!H60 -> 359 | D90: ='подсчет по каждой свече H4'!H62 -> 427 | E90: 427 | F90: 359 | G90: 427 | H90: =B90-E90 -> -7.5033313e-12 | I90: =C90-F90 -> -1.9554136e-11 | J90: =D90-G90 -> -7.5033313e-12
A91: Макс.тело | B91: ='подсчет по каждой свече H4'!I62 -> 326 | C91: ='подсчет по каждой свече H4'!I59 -> 228 | D91: ='подсчет по каждой свече H4'!I62 -> 326 | E91: 326 | F91: 228 | G91: 326 | H91: =B91-E91 -> -6.5938366e-12 | I91: =C91-F91 -> 8.6401997e-12 | J91: =D91-G91 -> -6.5938366e-12
A92: Макс Up тень | B92: ='подсчет по каждой свече H4'!J60 -> 147 | C92: ='подсчет по каждой свече H4'!J60 -> 147 | D92: ='подсчет по каждой свече H4'!J61 -> 131 | E92: 147 | F92: 147 | G92: 131 | H92: =B92-E92 -> -8.6401997e-12 | I92: =C92-F92 -> -8.6401997e-12 | J92: =D92-G92 -> 2.2737368e-13
A93: Макс Dn тень | B93: ='подсчет по каждой свече H4'!K61 -> 56 | C93: ='подсчет по каждой свече H4'!K63 -> 35 | D93: ='подсчет по каждой свече H4'!K61 -> 56 | E93: 56 | F93: 35 | G93: 56 | H93: =B93-E93 -> -1.6825652e-11 | I93: =C93-F93 -> -3.4106051e-12 | J93: =D93-G93 -> -1.6825652e-11
A94: 15.11.2017 00:00-23:59
A95: кол-во свечей | B95: 6 | C95: 1 | D95: 5 | E95: 6 | F95: 1 | G95: 5 | H95: =B95-E95 -> 0 | I95: =C95-F95 -> 0 | J95: =D95-G95 -> 0
A96: средн.р-р свечи | B96: =('подсчет по каждой свече H4'!H66+'подсчет по каждой свече H4'!H67+'подсчет по каждой свече H4'!H68+'подсчет по каждой свече H4'!H69+'подсчет по каждой свече H4'!H70+'подсчет по каждой свече H4'!H71)/6 -> 378 | C96: ='подсчет по каждой свече H4'!H68 -> 263 | D96: =('подсчет по каждой свече H4'!H66+'подсчет по каждой свече H4'!H67+'подсчет по каждой свече H4'!H69+'подсчет по каждой свече H4'!H70+'подсчет по каждой свече H4'!H71)/5 -> 401 | E96: 378 | F96: 263 | G96: 401 | H96: =B96-E96 -> -4.6043169e-12 | I96: =C96-F96 -> 5.2295945e-12 | J96: =D96-G96 -> -6.5938366e-12
A97: средн.р-р тела | B97: =('подсчет по каждой свече H4'!I66+'подсчет по каждой свече H4'!I67+'подсчет по каждой свече H4'!I68+'подсчет по каждой свече H4'!I69+'подсчет по каждой свече H4'!I70+'подсчет по каждой свече H4'!I71)/6 -> 175.66667 | C97: ='подсчет по каждой свече H4'!I68 -> 99 | D97: =('подсчет по каждой свече H4'!I66+'подсчет по каждой свече H4'!I67+'подсчет по каждой свече H4'!I69+'подсчет по каждой свече H4'!I70+'подсчет по каждой свече H4'!I71)/5 -> 191 | E97: 175 | F97: 99 | G97: 191 | H97: =B97-E97 -> 0.66666667 | I97: =C97-F97 -> -1.0459189e-11 | J97: =D97-G97 -> -8.8675733e-12
A98: средн р-р Up тени | B98: =('подсчет по каждой свече H4'!J66+'подсчет по каждой свече H4'!J67+'подсчет по каждой свече H4'!J68+'подсчет по каждой свече H4'!J69+'подсчет по каждой свече H4'!J70+'подсчет по каждой свече H4'!J71)/6 -> 87.5 | C98: ='подсчет по каждой свече H4'!J68 -> 125 | D98: =('подсчет по каждой свече H4'!J66+'подсчет по каждой свече H4'!J67+'подсчет по каждой свече H4'!J69+'подсчет по каждой свече H4'!J70+'подсчет по каждой свече H4'!J71)/5 -> 80 | E98: 87 | F98: 125 | G98: 80 | H98: =B98-E98 -> 0.5 | I98: =C98-F98 -> 0 | J98: =D98-G98 -> 1.1368684e-12
A99: средн.р-р Dn тени | B99: =('подсчет по каждой свече H4'!K66+'подсчет по каждой свече H4'!K67+'подсчет по каждой свече H4'!K68+'подсчет по каждой свече H4'!K69+'подсчет по каждой свече H4'!K70+'подсчет по каждой свече H4'!K71)/6 -> 114.83333 | C99: ='подсчет по каждой свече H4'!K68 -> 39 | D99: =('подсчет по каждой свече H4'!K66+'подсчет по каждой свече H4'!K67+'подсчет по каждой свече H4'!K69+'подсчет по каждой свече H4'!K70+'подсчет по каждой свече H4'!K71)/5 -> 130 | E99: 114 | F99: 39 | G99: 130 | H99: =B99-E99 -> 0.83333333 | I99: =C99-F99 -> 1.5688784e-11 | J99: =D99-G99 -> 1.1368684e-12
A100: Макс. Свеча | B100: ='подсчет по каждой свече H4'!H66 -> 535 | C100: ='подсчет по каждой свече H4'!H68 -> 263 | D100: ='подсчет по каждой свече H4'!H66 -> 535 | E100: 535 | F100: 263 | G100: 535 | H100: =B100-E100 -> -3.4106051e-12 | I100: =C100-F100 -> 5.2295945e-12 | J100: =D100-G100 -> -3.4106051e-12
A101: Макс.тело | B101: ='подсчет по каждой свече H4'!I70 -> 318 | C101: ='подсчет по каждой свече H4'!I68 -> 99 | D101: ='подсчет по каждой свече H4'!I70 -> 318 | E101: 318 | F101: 99 | G101: 318 | H101: =B101-E101 -> -1.6370905e-11 | I101: =C101-F101 -> -1.0459189e-11 | J101: =D101-G101 -> -1.6370905e-11
A102: Макс Up тень | B102: ='подсчет по каждой свече H4'!J68 -> 125 | C102: ='подсчет по каждой свече H4'!J68 -> 125 | D102: ='подсчет по каждой свече H4'!J66 -> 113 | E102: 125 | F102: 125 | G102: 113 | H102: =B102-E102 -> 0 | I102: =C102-F102 -> 0 | J102: =D102-G102 -> -4.5474735e-13
A103: Макс Dn тень | B103: ='подсчет по каждой свече H4'!K69 -> 292 | C103: ='подсчет по каждой свече H4'!K68 -> 39 | D103: ='подсчет по каждой свече H4'!K69 -> 292 | E103: 292 | F103: 39 | G103: 292 | H103: =B103-E103 -> 1.5916157e-12 | I103: =C103-F103 -> 1.5688784e-11 | J103: =D103-G103 -> 1.5916157e-12
A104: 14.11.2017 00:00-23:59
A105: кол-во свечей | B105: 6 | C105: 5 | D105: 1 | E105: 6 | F105: 5 | G105: 1 | H105: =B105-E105 -> 0 | I105: =C105-F105 -> 0 | J105: =D105-G105 -> 0
...

Sheet Лист2

Sheet Лист3
