Workbook

Sheet mult+lots 2x2
A1: CalcLotType | B1: =IF(C$1=0,"LastOrder",IF(C$1=1,"MinOrder","ОШИБКА")) -> LastOrder | C1: 0 | J1: =IF(K$1=0,"LastOrder",IF(K$1=1,"MinOrder","ОШИБКА")) -> LastOrder | K1: 0
A2: MinLot | B2: =IF(C$2<0,"д.б. >0","") | C2: 0.01 | J2: =IF(K$2<0,"д.б. >0","") | K2: 0.01
A3: Mult | B3: =IF(C$3<0,"д.б. >0","") | C3: 1.4 | J3: =IF(K$3<0,"д.б. >0","") | K3: 1.5
A6: MultLevel2 | B6: =IF(C$6<0,"д.б. >=0","") | C6: 6 | J6: =IF(K$6<0,"д.б. >=0","") | K6: 5
A7: MultCorr | B7: =IF(AND(C$6=0,C$7<>0),"д.б. =0","") | C7: 0.02 | J7: =IF(AND(K$6=0,K$7<>0),"д.б. =0","") | K7: 0.02
B8: =IF(OR(C$6=1,C$6<0,C$9=1,C$9<0,C$12=1,C$12<0,C$15<0,AND(C$6>0,B$18>=C$6),AND(C$9>0,B$18>=C$9),AND(C$12>0,B$18>=C$12),AND(C$6>0,F$18>=C$6),AND(C$9>0,F$18>=C$9),AND(C$12>0,F$18>=C$12),AND(C$6>1,C$9>1,C$6>=C$9),AND(C$6>1,C$12>1,C$6>=C$12),AND(C$9>1,C$12>1,C$9>=C$12),AND(C$6>1,C$15>0,C$6>C$15),AND(C$9>1,C$15>0,C$9>C$15),AND(C$12>1,C$15>0,C$12>C$15)),"НЕВЕРНО ЗАДАНЫ №№ колен в настройках","") | J8: =IF(OR(K$6=1,K$6<0,K$9=1,K$9<0,K$12=1,K$12<0,K$15<0,AND(K$6>0,J$18>=K$6),AND(K$9>0,J$18>=K$9),AND(K$12>0,J$18>=K$12),AND(K$6>0,N$18>=K$6),AND(K$9>0,N$18>=K$9),AND(K$12>0,N$18>=K$12),AND(K$6>1,K$9>1,K$6>=K$9),AND(K$6>1,K$12>1,K$6>=K$12),AND(K$9>1,K$12>1,K$9>=K$12),AND(K$6>1,K$15>0,K$6>K$15),AND(K$9>1,K$15>0,K$9>K$15),AND(K$12>1,K$15>0,K$12>K$15)),"НЕВЕРНО ЗАДАНЫ №№ колен в настройках","")
A9: MultLevel3 | B9: =IF(C$9<0,"д.б. >=0","") | C9: 11 | J9: =IF(K$9<0,"д.б. >=0","") | K9: 10
A10: MultСorrLevel3 | B10: =IF(AND(C$9=0,C$10<>0),"д.б. =0","") | C10: -0.05 | J10: =IF(AND(K$9=0,K$10<>0),"д.б. =0","") | K10: -0.05
A12: Mult3 | B12: =IF(C$12<0,"д.б. >=0","") | C12: 0 | J12: =IF(K$12<0,"д.б. >=0","") | K12: 0
A13: Mult3Add | B13: =IF(AND(C$12=0,C$13<>0),"д.б. =0","") | C13: 0 | J13: =IF(AND(K$12=0,K$13<>0),"д.б. =0","") | K13: 0
A15: MultStop | B15: =IF(C$15<0,"д.б. >=0","") | C15: 15 | J15: =IF(K$15<0,"д.б. >=0","") | K15: 12
A16: MaxLotCoef | B16: =IF(C$16<0,"д.б. >=0","") | C16: 110 | J16: =IF(K$16<0,"д.б. >=0","") | K16: 200
A18: MultStart | B18: 3 | F18: 2 | J18: 3 | N18: 2
A19: №№ колен | B19: Мульт | C19: Ордер | D19: Лотов | F19: Мульт | G19: Ордер | H19: Лотов | J19: Мульт | K19: Ордер | L19: Лотов | N19: Мульт | O19: Ордер | P19: Лотов
A21: 1 | B21: =IF(($A21<B$18),1,IF(AND($A21>$C$15,$C$15>0),B20,IF(AND($A21>=$C$12,$C$12>0),ROUND(B20+$C$13,4),IF(AND($A21>=$C$9,$C$9>0),ROUND(B20+$C$10,4),IF(AND($A21>=$C$6,$C$6>0),ROUND(B20+$C$7,4),$C$3))))) -> 1 | C21: =IF($A21<B$18, $C$2, IF($C$1=0,IF($C$16>0,IF($C$2*$C$16<ROUND(C20*B21, 3),$C$2*$C$16,ROUND(C20*B21, 3)),ROUND(C20*B21, 3)),IF($C$16>0,IF($C$2*$C$16<ROUND($C$2*B21, 3),$C$2*$C$16,ROUND($C$2*B21, 3)),ROUND($C$2*B21, 3)))) -> 0.01 | D21: =C21 -> 0.01 | F21: =IF(($A21<F$18),1,IF(AND($A21>$C$15,$C$15>0),F20,IF(AND($A21>=$C$12,$C$12>0),ROUND(F20+$C$13,4),IF(AND($A21>=$C$9,$C$9>0),ROUND(F20+$C$10,4),IF(AND($A21>=$C$6,$C$6>0),ROUND(F20+$C$7,4),$C$3))))) -> 1 | G21: =IF($A21<F$18, $C$2, IF($C$1=0,IF($C$16>0,IF($C$2*$C$16<ROUND(G20*F21, 3),$C$2*$C$16,ROUND(G20*F21, 3)),ROUND(G20*F21, 3)),IF($C$16>0,IF($C$2*$C$16<ROUND($C$2*F21, 3),$C$2*$C$16,ROUND($C$2*F21, 3)),ROUND($C$2*F21, 3)))) -> 0.01 | H21: =G21 -> 0.01 | J21: =IF(($A21<J$18),1,IF(AND($A21>$K$15,$K$15>0),J20,IF(AND($A21>=$K$12,$K$12>0),ROUND(J20+$K$13,4),IF(AND($A21>=$K$9,$K$9>0),ROUND(J20+$K$10,4),IF(AND($A21>=$K$6,$K$6>0),ROUND(J20+$K$7,4),$K$3))))) -> 1 | K21: =IF($A21<J$18, $K$2, IF($K$1=0,IF($K$16>0,IF($K$2*$K$16<ROUND(K20*J21, 3),$K$2*$K$16,ROUND(K20*J21, 3)),ROUND(K20*J21, 3)),IF($K$16>0,IF($K$2*$K$16<ROUND($K$2*J21, 3),$K$2*$K$16,ROUND($K$2*J21, 3)),ROUND($K$2*J21, 3)))) -> 0.01 | L21: =K21 -> 0.01 | N21: =IF(($A21<N$18),1,IF(AND($A21>$K$15,$K$15>0),N20,IF(AND($A21>=$K$12,$K$12>0),ROUND(N20+$K$13,4),IF(AND($A21>=$K$9,$K$9>0),ROUND(N20+$K$10,4),IF(AND($A21>=$K$6,$K$6>0),ROUND(N20+$K$7,4),$K$3))))) -> 1 | O21: =IF($A21<N$18, $K$2, IF($K$1=0,IF($K$16>0,IF($K$2*$K$16<ROUND(O20*N21, 3),$K$2*$K$16,ROUND(O20*N21, 3)),ROUND(O20*N21, 3)),IF($K$16>0,IF($K$2*$K$16<ROUND($K$2*N21, 3),$K$2*$K$16,ROUND($K$2*N21, 3)),ROUND($K$2*N21, 3)))) -> 0.01 | P21: =O21 -> 0.01
A22: 2 | B22: =IF(($A22<B$18),1,IF(AND($A22>$C$15,$C$15>0),B21,IF(AND($A22>=$C$12,$C$12>0),ROUND(B21+$C$13,4),IF(AND($A22>=$C$9,$C$9>0),ROUND(B21+$C$10,4),IF(AND($A22>=$C$6,$C$6>0),ROUND(B21+$C$7,4),$C$3))))) -> 1 | C22: =IF($A22<B$18, $C$2, IF($C$1=0,IF($C$16>0,IF($C$2*$C$16<ROUND(C21*B22, 3),$C$2*$C$16,ROUND(C21*B22, 3)),ROUND(C21*B22, 3)),IF($C$16>0,IF($C$2*$C$16<ROUND($C$2*B22, 3),$C$2*$C$16,ROUND($C$2*B22, 3)),ROUND($C$2*B22, 3)))) -> 0.01 | D22: =D21+ROUND(C22,2) -> 0.02 | F22: =IF(($A22<F$18),1,IF(AND($A22>$C$15,$C$15>0),F21,IF(AND($A22>=$C$12,$C$12>0),ROUND(F21+$C$13,4),IF(AND($A22>=$C$9,$C$9>0),ROUND(F21+$C$10,4),IF(AND($A22>=$C$6,$C$6>0),ROUND(F21+$C$7,4),$C$3))))) -> 1.4 | G22: =IF($A22<F$18, $C$2, IF($C$1=0,IF($C$16>0,IF($C$2*$C$16<ROUND(G21*F22, 3),$C$2*$C$16,ROUND(G21*F22, 3)),ROUND(G21*F22, 3)),IF($C$16>0,IF($C$2*$C$16<ROUND($C$2*F22, 3),$C$2*$C$16,ROUND($C$2*F22, 3)),ROUND($C$2*F22, 3)))) -> 0.014 | H22: =H21+ROUND(G22,2) -> 0.02 | J22: =IF(($A22<J$18),1,IF(AND($A22>$K$15,$K$15>0),J21,IF(AND($A22>=$K$12,$K$12>0),ROUND(J21+$K$13,4),IF(AND($A22>=$K$9,$K$9>0),ROUND(J21+$K$10,4),IF(AND($A22>=$K$6,$K$6>0),ROUND(J21+$K$7,4),$K$3))))) -> 1 | K22: =IF($A22<J$18, $K$2, IF($K$1=0,IF($K$16>0,IF($K$2*$K$16<ROUND(K21*J22, 3),$K$2*$K$16,ROUND(K21*J22, 3)),ROUND(K21*J22, 3)),IF($K$16>0,IF($K$2*$K$16<ROUND($K$2*J22, 3),$K$2*$K$16,ROUND($K$2*J22, 3)),ROUND($K$2*J22, 3)))) -> 0.01 | L22: =L21+ROUND(K22,2) -> 0.02 | N22: =IF(($A22<N$18),1,IF(AND($A22>$K$15,$K$15>0),N21,IF(AND($A22>=$K$12,$K$12>0),ROUND(N21+$K$13,4),IF(AND($A22>=$K$9,$K$9>0),ROUND(N21+$K$10,4),IF(AND($A22>=$K$6,$K$6>0),ROUND(N21+$K$7,4),$K$3))))) -> 1.5 | O22: =IF($A22<N$18, $K$2, IF($K$1=0,IF($K$16>0,IF($K$2*$K$16<ROUND(O21*N22, 3),$K$2*$K$16,ROUND(O21*N22, 3)),ROUND(O21*N22, 3)),IF($K$16>0,IF($K$2*$K$16<ROUND($K$2*N22, 3),$K$2*$K$16,ROUND($K$2*N22, 3)),ROUND($K$2*N22, 3)))) -> 0.015 | P22: =P21+ROUND(O22,2) -> 0.03
A23: 3 | B23: =IF(($A23<B$18),1,IF(AND($A23>$C$15,$C$15>0),B22,IF(AND($A23>=$C$12,$C$12>0),ROUND(B22+$C$13,4),IF(AND($A23>=$C$9,$C$9>0),ROUND(B22+$C$10,4),IF(AND($A23>=$C$6,$C$6>0),ROUND(B22+$C$7,4),$C$3))))) -> 1.4 | C23: =IF($A23<B$18, $C$2, IF($C$1=0,IF($C$16>0,IF($C$2*$C$16<ROUND(C22*B23, 3),$C$2*$C$16,ROUND(C22*B23, 3)),ROUND(C22*B23, 3)),IF($C$16>0,IF($C$2*$C$16<ROUND($C$2*B23, 3),$C$2*$C$16,ROUND($C$2*B23, 3)),ROUND($C$2*B23, 3)))) -> 0.014 | D23: =D22+ROUND(C23,2) -> 0.03 | F23: =IF(($A23<F$18),1,IF(AND($A23>$C$15,$C$15>0),F22,IF(AND($A23>=$C$12,$C$12>0),ROUND(F22+$C$13,4),IF(AND($A23>=$C$9,$C$9>0),ROUND(F22+$C$10,4),IF(AND($A23>=$C$6,$C$6>0),ROUND(F22+$C$7,4),$C$3))))) -> 1.4 | G23: =IF($A23<F$18, $C$2, IF($C$1=0,IF($C$16>0,IF($C$2*$C$16<ROUND(G22*F23, 3),$C$2*$C$16,ROUND(G22*F23, 3)),ROUND(G22*F23, 3)),IF($C$16>0,IF($C$2*$C$16<ROUND($C$2*F23, 3),$C$2*$C$16,ROUND($C$2*F23, 3)),ROUND($C$2*F23, 3)))) -> 0.02 | H23: =H22+ROUND(G23,2) -> 0.04 | J23: =IF(($A23<J$18),1,IF(AND($A23>$K$15,$K$15>0),J22,IF(AND($A23>=$K$12,$K$12>0),ROUND(J22+$K$13,4),IF(AND($A23>=$K$9,$K$9>0),ROUND(J22+$K$10,4),IF(AND($A23>=$K$6,$K$6>0),ROUND(J22+$K$7,4),$K$3))))) -> 1.5 | K23: =IF($A23<J$18, $K$2, IF($K$1=0,IF($K$16>0,IF($K$2*$K$16<ROUND(K22*J23, 3),$K$2*$K$16,ROUND(K22*J23, 3)),ROUND(K22*J23, 3)),IF($K$16>0,IF($K$2*$K$16<ROUND($K$2*J23, 3),$K$2*$K$16,ROUND($K$2*J23, 3)),ROUND($K$2*J23, 3)))) -> 0.015 | L23: =L22+ROUND(K23,2) -> 0.04 | N23: =IF(($A23<N$18),1,IF(AND($A23>$K$15,$K$15>0),N22,IF(AND($A23>=$K$12,$K$12>0),ROUND(N22+$K$13,4),IF(AND($A23>=$K$9,$K$9>0),ROUND(N22+$K$10,4),IF(AND($A23>=$K$6,$K$6>0),ROUND(N22+$K$7,4),$K$3))))) -> 1.5 | O23: =IF($A23<N$18, $K$2, IF($K$1=0,IF($K$16>0,IF($K$2*$K$16<ROUND(O22*N23, 3),$K$2*$K$16,ROUND(O22*N23, 3)),ROUND(O22*N23, 3)),IF($K$16>0,IF($K$2*$K$16<ROUND($K$2*N23, 3),$K$2*$K$16,ROUND($K$2*N23, 3)),ROUND($K$2*N23, 3)))) -> 0.023 | P23: =P22+ROUND(O23,2) -> 0.05
A24: 4 | B24: =IF(($A24<B$18),1,IF(AND($A24>$C$15,$C$15>0),B23,IF(AND($A24>=$C$12,$C$12>0),ROUND(B23+$C$13,4),IF(AND($A24>=$C$9,$C$9>0),ROUND(B23+$C$10,4),IF(AND($A24>=$C$6,$C$6>0),ROUND(B23+$C$7,4),$C$3))))) -> 1.4 | C24: =IF($A24<B$18, $C$2, IF($C$1=0,IF($C$16>0,IF($C$2*$C$16<ROUND(C23*B24, 3),$C$2*$C$16,ROUND(C23*B24, 3)),ROUND(C23*B24, 3)),IF($C$16>0,IF($C$2*$C$16<ROUND($C$2*B24, 3),$C$2*$C$16,ROUND($C$2*B24, 3)),ROUND($C$2*B24, 3)))) -> 0.02 | D24: =D23+ROUND(C24,2) -> 0.05 | F24: =IF(($A24<F$18),1,IF(AND($A24>$C$15,$C$15>0),F23,IF(AND($A24>=$C$12,$C$12>0),ROUND(F23+$C$13,4),IF(AND($A24>=$C$9,$C$9>0),ROUND(F23+$C$10,4),IF(AND($A24>=$C$6,$C$6>0),ROUND(F23+$C$7,4),$C$3))))) -> 1.4 | G24: =IF($A24<F$18, $C$2, IF($C$1=0,IF($C$16>0,IF($C$2*$C$16<ROUND(G23*F24, 3),$C$2*$C$16,ROUND(G23*F24, 3)),ROUND(G23*F24, 3)),IF($C$16>0,IF($C$2*$C$16<ROUND($C$2*F24, 3),$C$2*$C$16,ROUND($C$2*F24, 3)),ROUND($C$2*F24, 3)))) -> 0.028 | H24: =H23+ROUND(G24,2) -> 0.07 | J24: =IF(($A24<J$18),1,IF(AND($A24>$K$15,$K$15>0),J23,IF(AND($A24>=$K$12,$K$12>0),ROUND(J23+$K$13,4),IF(AND($A24>=$K$9,$K$9>0),ROUND(J23+$K$10,4),IF(AND($A24>=$K$6,$K$6>0),ROUND(J23+$K$7,4),$K$3))))) -> 1.5 | K24: =IF($A24<J$18, $K$2, IF($K$1=0,IF($K$16>0,IF($K$2*$K$16<ROUND(K23*J24, 3),$K$2*$K$16,ROUND(K23*J24, 3)),ROUND(K23*J24, 3)),IF($K$16>0,IF($K$2*$K$16<ROUND($K$2*J24, 3),$K$2*$K$16,ROUND($K$2*J24, 3)),ROUND($K$2*J24, 3)))) -> 0.023 | L24: =L23+ROUND(K24,2) -> 0.06 | N24: =IF(($A24<N$18),1,IF(AND($A24>$K$15,$K$15>0),N23,IF(AND($A24>=$K$12,$K$12>0),ROUND(N23+$K$13,4),IF(AND($A24>=$K$9,$K$9>0),ROUND(N23+$K$10,4),IF(AND($A24>=$K$6,$K$6>0),ROUND(N23+$K$7,4),$K$3))))) -> 1.5 | O24: =IF($A24<N$18, $K$2, IF($K$1=0,IF($K$16>0,IF($K$2*$K$16<ROUND(O23*N24, 3),$K$2*$K$16,ROUND(O23*N24, 3)),ROUND(O23*N24, 3)),IF($K$16>0,IF($K$2*$K$16<ROUND($K$2*N24, 3),$K$2*$K$16,ROUND($K$2*N24, 3)),ROUND($K$2*N24, 3)))) -> 0.035 | P24: =P23+ROUND(O24,2) -> 0.09
A25: 5 | B25: =IF(($A25<B$18),1,IF(AND($A25>$C$15,$C$15>0),B24,IF(AND($A25>=$C$12,$C$12>0),ROUND(B24+$C$13,4),IF(AND($A25>=$C$9,$C$9>0),ROUND(B24+$C$10,4),IF(AND($A25>=$C$6,$C$6>0),ROUND(B24+$C$7,4),$C$3))))) -> 1.4 | C25: =IF($A25<B$18, $C$2, IF($C$1=0,IF($C$16>0,IF($C$2*$C$16<ROUND(C24*B25, 3),$C$2*$C$16,ROUND(C24*B25, 3)),ROUND(C24*B25, 3)),IF($C$16>0,IF($C$2*$C$16<ROUND($C$2*B25, 3),$C$2*$C$16,ROUND($C$2*B25, 3)),ROUND($C$2*B25, 3)))) -> 0.028 | D25: =D24+ROUND(C25,2) -> 0.08 | F25: =IF(($A25<F$18),1,IF(AND($A25>$C$15,$C$15>0),F24,IF(AND($A25>=$C$12,$C$12>0),ROUND(F24+$C$13,4),IF(AND($A25>=$C$9,$C$9>0),ROUND(F24+$C$10,4),IF(AND($A25>=$C$6,$C$6>0),ROUND(F24+$C$7,4),$C$3))))) -> 1.4 | G25: =IF($A25<F$18, $C$2, IF($C$1=0,IF($C$16>0,IF($C$2*$C$16<ROUND(G24*F25, 3),$C$2*$C$16,ROUND(G24*F25, 3)),ROUND(G24*F25, 3)),IF($C$16>0,IF($C$2*$C$16<ROUND($C$2*F25, 3),$C$2*$C$16,ROUND($C$2*F25, 3)),ROUND($C$2*F25, 3)))) -> 0.039 | H25: =H24+ROUND(G25,2) -> 0.11 | J25: =IF(($A25<J$18),1,IF(AND($A25>$K$15,$K$15>0),J24,IF(AND($A25>=$K$12,$K$12>0),ROUND(J24+$K$13,4),IF(AND($A25>=$K$9,$K$9>0),ROUND(J24+$K$10,4),IF(AND($A25>=$K$6,$K$6>0),ROUND(J24+$K$7,4),$K$3))))) -> 1.52 | K25: =IF($A25<J$18, $K$2, IF($K$1=0,IF($K$16>0,IF($K$2*$K$16<ROUND(K24*J25, 3),$K$2*$K$16,ROUND(K24*J25, 3)),ROUND(K24*J25, 3)),IF($K$16>0,IF($K$2*$K$16<ROUND($K$2*J25, 3),$K$2*$K$16,ROUND($K$2*J25, 3)),ROUND($K$2*J25, 3)))) -> 0.035 | L25: =L24+ROUND(K25,2) -> 0.1 | N25: =IF(($A25<N$18),1,IF(AND($A25>$K$15,$K$15>0),N24,IF(AND($A25>=$K$12,$K$12>0),ROUND(N24+$K$13,4),IF(AND($A25>=$K$9,$K$9>0),ROUND(N24+$K$10,4),IF(AND($A25>=$K$6,$K$6>0),ROUND(N24+$K$7,4),$K$3))))) -> 1.52 | O25: =IF($A25<N$18, $K$2, IF($K$1=0,IF($K$16>0,IF($K$2*$K$16<ROUND(O24*N25, 3),$K$2*$K$16,ROUND(O24*N25, 3)),ROUND(O24*N25, 3)),IF($K$16>0,IF($K$2*$K$16<ROUND($K$2*N25, 3),$K$2*$K$16,ROUND($K$2*N25, 3)),ROUND($K$2*N25, 3)))) -> 0.053 | P25: =P24+ROUND(O25,2) -> 0.14
A26: 6 | B26: =IF(($A26<B$18),1,IF(AND($A26>$C$15,$C$15>0),B25,IF(AND($A26>=$C$12,$C$12>0),ROUND(B25+$C$13,4),IF(AND($A26>=$C$9,$C$9>0),ROUND(B25+$C$10,4),IF(AND($A26>=$C$6,$C$6>0),ROUND(B25+$C$7,4),$C$3))))) -> 1.42 | C26: =IF($A26<B$18, $C$2, IF($C$1=0,IF($C$16>0,IF($C$2*$C$16<ROUND(C25*B26, 3),$C$2*$C$16,ROUND(C25*B26, 3)),ROUND(C25*B26, 3)),IF($C$16>0,IF($C$2*$C$16<ROUND($C$2*B26, 3),$C$2*$C$16,ROUND($C$2*B26, 3)),ROUND($C$2*B26, 3)))) -> 0.04 | D26: =D25+ROUND(C26,2) -> 0.12 | F26: =IF(($A26<F$18),1,IF(AND($A26>$C$15,$C$15>0),F25,IF(AND($A26>=$C$12,$C$12>0),ROUND(F25+$C$13,4),IF(AND($A26>=$C$9,$C$9>0),ROUND(F25+$C$10,4),IF(AND($A26>=$C$6,$C$6>0),ROUND(F25+$C$7,4),$C$3))))) -> 1.42 | G26: =IF($A26<F$18, $C$2, IF($C$1=0,IF($C$16>0,IF($C$2*$C$16<ROUND(G25*F26, 3),$C$2*$C$16,ROUND(G25*F26, 3)),ROUND(G25*F26, 3)),IF($C$16>0,IF($C$2*$C$16<ROUND($C$2*F26, 3),$C$2*$C$16,ROUND($C$2*F26, 3)),ROUND($C$2*F26, 3)))) -> 0.055 | H26: =H25+ROUND(G26,2) -> 0.17 | J26: =IF(($A26<J$18),1,IF(AND($A26>$K$15,$K$15>0),J25,IF(AND($A26>=$K$12,$K$12>0),ROUND(J25+$K$13,4),IF(AND($A26>=$K$9,$K$9>0),ROUND(J25+$K$10,4),IF(AND($A26>=$K$6,$K$6>0),ROUND(J25+$K$7,4),$K$3))))) -> 1.54 | K26: =IF($A26<J$18, $K$2, IF($K$1=0,IF($K$16>0,IF($K$2*$K$16<ROUND(K25*J26, 3),$K$2*$K$16,ROUND(K25*J26, 3)),ROUND(K25*J26, 3)),IF($K$16>0,IF($K$2*$K$16<ROUND($K$2*J26, 3),$K$2*$K$16,ROUND($K$2*J26, 3)),ROUND($K$2*J26, 3)))) -> 0.054 | L26: =L25+ROUND(K26,2) -> 0.15 | N26: =IF(($A26<N$18),1,IF(AND($A26>$K$15,$K$15>0),N25,IF(AND($A26>=$K$12,$K$12>0),ROUND(N25+$K$13,4),IF(AND($A26>=$K$9,$K$9>0),ROUND(N25+$K$10,4),IF(AND($A26>=$K$6,$K$6>0),ROUND(N25+$K$7,4),$K$3))))) -> 1.54 | O26: =IF($A26<N$18, $K$2, IF($K$1=0,IF($K$16>0,IF($K$2*$K$16<ROUND(O25*N26, 3),$K$2*$K$16,ROUND(O25*N26, 3)),ROUND(O25*N26, 3)),IF($K$16>0,IF($K$2*$K$16<ROUND($K$2*N26, 3),$K$2*$K$16,ROUND($K$2*N26, 3)),ROUND($K$2*N26, 3)))) -> 0.082 | P26: =P25+ROUND(O26,2) -> 0.22
A27: 7 | B27: =IF(($A27<B$18),1,IF(AND($A27>$C$15,$C$15>0),B26,IF(AND($A27>=$C$12,$C$12>0),ROUND(B26+$C$13,4),IF(AND($A27>=$C$9,$C$9>0),ROUND(B26+$C$10,4),IF(AND($A27>=$C$6,$C$6>0),ROUND(B26+$C$7,4),$C$3))))) -> 1.44 | C27: =IF($A27<B$18, $C$2, IF($C$1=0,IF($C$16>0,IF($C$2*$C$16<ROUND(C26*B27, 3),$C$2*$C$16,ROUND(C26*B27, 3)),ROUND(C26*B27, 3)),IF($C$16>0,IF($C$2*$C$16<ROUND($C$2*B27, 3),$C$2*$C$16,ROUND($C$2*B27, 3)),ROUND($C$2*B27, 3)))) -> 0.058 | D27: =D26+ROUND(C27,2) -> 0.18 | F27: =IF(($A27<F$18),1,IF(AND($A27>$C$15,$C$15>0),F26,IF(AND($A27>=$C$12,$C$12>0),ROUND(F26+$C$13,4),IF(AND($A27>=$C$9,$C$9>0),ROUND(F26+$C$10,4),IF(AND($A27>=$C$6,$C$6>0),ROUND(F26+$C$7,4),$C$3))))) -> 1.44 | G27: =IF($A27<F$18, $C$2, IF($C$1=0,IF($C$16>0,IF($C$2*$C$16<ROUND(G26*F27, 3),$C$2*$C$16,ROUND(G26*F27, 3)),ROUND(G26*F27, 3)),IF($C$16>0,IF($C$2*$C$16<ROUND($C$2*F27, 3),$C$2*$C$16,ROUND($C$2*F27, 3)),ROUND($C$2*F27, 3)))) -> 0.079 | H27: =H26+ROUND(G27,2) -> 0.25 | J27: =IF(($A27<J$18),1,IF(AND($A27>$K$15,$K$15>0),J26,IF(AND($A27>=$K$12,$K$12>0),ROUND(J26+$K$13,4),IF(AND($A27>=$K$9,$K$9>0),ROUND(J26+$K$10,4),IF(AND($A27>=$K$6,$K$6>0),ROUND(J26+$K$7,4),$K$3))))) -> 1.56 | K27: =IF($A27<J$18, $K$2, IF($K$1=0,IF($K$16>0,IF($K$2*$K$16<ROUND(K26*J27, 3),$K$2*$K$16,ROUND(K26*J27, 3)),ROUND(K26*J27, 3)),IF($K$16>0,IF($K$2*$K$16<ROUND($K$2*J27, 3),$K$2*$K$16,ROUND($K$2*J27, 3)),ROUND($K$2*J27, 3)))) -> 0.084 | L27: =L26+ROUND(K27,2) -> 0.23 | N27: =IF(($A27<N$18),1,IF(AND($A27>$K$15,$K$15>0),N26,IF(AND($A27>=$K$12,$K$12>0),ROUND(N26+$K$13,4),IF(AND($A27>=$K$9,$K$9>0),ROUND(N26+$K$10,4),IF(AND($A27>=$K$6,$K$6>0),ROUND(N26+$K$7,4),$K$3))))) -> 1.56 | O27: =IF($A27<N$18, $K$2, IF($K$1=0,IF($K$16>0,IF($K$2*$K$16<ROUND(O26*N27, 3),$K$2*$K$16,ROUND(O26*N27, 3)),ROUND(O26*N27, 3)),IF($K$16>0,IF($K$2*$K$16<ROUND($K$2*N27, 3),$K$2*$K$16,ROUND($K$2*N27, 3)),ROUND($K$2*N27, 3)))) -> 0.128 | P27: =P26+ROUND(O27,2) -> 0.35
A28: 8 | B28: =IF(($A28<B$18),1,IF(AND($A28>$C$15,$C$15>0),B27,IF(AND($A28>=$C$12,$C$12>0),ROUND(B27+$C$13,4),IF(AND($A28>=$C$9,$C$9>0),ROUND(B27+$C$10,4),IF(AND($A28>=$C$6,$C$6>0),ROUND(B27+$C$7,4),$C$3))))) -> 1.46 | C28: =IF($A28<B$18, $C$2, IF($C$1=0,IF($C$16>0,IF($C$2*$C$16<ROUND(C27*B28, 3),$C$2*$C$16,ROUND(C27*B28, 3)),ROUND(C27*B28, 3)),IF($C$16>0,IF($C$2*$C$16<ROUND($C$2*B28, 3),$C$2*$C$16,ROUND($C$2*B28, 3)),ROUND($C$2*B28, 3)))) -> 0.085 | D28: =D27+ROUND(C28,2) -> 0.27 | F28: =IF(($A28<F$18),1,IF(AND($A28>$C$15,$C$15>0),F27,IF(AND($A28>=$C$12,$C$12>0),ROUND(F27+$C$13,4),IF(AND($A28>=$C$9,$C$9>0),ROUND(F27+$C$10,4),IF(AND($A28>=$C$6,$C$6>0),ROUND(F27+$C$7,4),$C$3))))) -> 1.46 | G28: =IF($A28<F$18, $C$2, IF($C$1=0,IF($C$16>0,IF($C$2*$C$16<ROUND(G27*F28, 3),$C$2*$C$16,ROUND(G27*F28, 3)),ROUND(G27*F28, 3)),IF($C$16>0,IF($C$2*$C$16<ROUND($C$2*F28, 3),$C$2*$C$16,ROUND($C$2*F28, 3)),ROUND($C$2*F28, 3)))) -> 0.115 | H28: =H27+ROUND(G28,2) -> 0.37 | J28: =IF(($A28<J$18),1,IF(AND($A28>$K$15,$K$15>0),J27,IF(AND($A28>=$K$12,$K$12>0),ROUND(J27+$K$13,4),IF(AND($A28>=$K$9,$K$9>0),ROUND(J27+$K$10,4),IF(AND($A28>=$K$6,$K$6>0),ROUND(J27+$K$7,4),$K$3))))) -> 1.58 | K28: =IF($A28<J$18, $K$2, IF($K$1=0,IF($K$16>0,IF($K$2*$K$16<ROUND(K27*J28, 3),$K$2*$K$16,ROUND(K27*J28, 3)),ROUND(K27*J28, 3)),IF($K$16>0,IF($K$2*$K$16<ROUND($K$2*J28, 3),$K$2*$K$16,ROUND($K$2*J28, 3)),ROUND($K$2*J28, 3)))) -> 0.133 | L28: =L27+ROUND(K28,2) -> 0.36 | N28: =IF(($A28<N$18),1,IF(AND($A28>$K$15,$K$15>0),N27,IF(AND($A28>=$K$12,$K$12>0),ROUND(N27+$K$13,4),IF(AND($A28>=$K$9,$K$9>0),ROUND(N27+$K$10,4),IF(AND($A28>=$K$6,$K$6>0),ROUND(N27+$K$7,4),$K$3))))) -> 1.58 | O28: =IF($A28<N$18, $K$2, IF($K$1=0,IF($K$16>0,IF($K$2*$K$16<ROUND(O27*N28, 3),$K$2*$K$16,ROUND(O27*N28, 3)),ROUND(O27*N28, 3)),IF($K$16>0,IF($K$2*$K$16<ROUND($K$2*N28, 3),$K$2*$K$16,ROUND($K$2*N28, 3)),ROUND($K$2*N28, 3)))) -> 0.202 | P28: =P27+ROUND(O28,2) -> 0.55
A29: 9 | B29: =IF(($A29<B$18),1,IF(AND($A29>$C$15,$C$15>0),B28,IF(AND($A29>=$C$12,$C$12>0),ROUND(B28+$C$13,4),IF(AND($A29>=$C$9,$C$9>0),ROUND(B28+$C$10,4),IF(AND($A29>=$C$6,$C$6>0),ROUND(B28+$C$7,4),$C$3))))) -> 1.48 | C29: =IF($A29<B$18, $C$2, IF($C$1=0,IF($C$16>0,IF($C$2*$C$16<ROUND(C28*B29, 3),$C$2*$C$16,ROUND(C28*B29, 3)),ROUND(C28*B29, 3)),IF($C$16>0,IF($C$2*$C$16<ROUND($C$2*B29, 3),$C$2*$C$16,ROUND($C$2*B29, 3)),ROUND($C$2*B29, 3)))) -> 0.126 | D29: =D28+ROUND(C29,2) -> 0.4 | F29: =IF(($A29<F$18),1,IF(AND($A29>$C$15,$C$15>0),F28,IF(AND($A29>=$C$12,$C$12>0),ROUND(F28+$C$13,4),IF(AND($A29>=$C$9,$C$9>0),ROUND(F28+$C$10,4),IF(AND($A29>=$C$6,$C$6>0),ROUND(F28+$C$7,4),$C$3))))) -> 1.48 | G29: =IF($A29<F$18, $C$2, IF($C$1=0,IF($C$16>0,IF($C$2*$C$16<ROUND(G28*F29, 3),$C$2*$C$16,ROUND(G28*F29, 3)),ROUND(G28*F29, 3)),IF($C$16>0,IF($C$2*$C$16<ROUND($C$2*F29, 3),$C$2*$C$16,ROUND($C$2*F29, 3)),ROUND($C$2*F29, 3)))) -> 0.17 | H29: =H28+ROUND(G29,2) -> 0.54 | J29: =IF(($A29<J$18),1,IF(AND($A29>$K$15,$K$15>0),J28,IF(AND($A29>=$K$12,$K$12>0),ROUND(J28+$K$13,4),IF(AND($A29>=$K$9,$K$9>0),ROUND(J28+$K$10,4),IF(AND($A29>=$K$6,$K$6>0),ROUND(J28+$K$7,4),$K$3))))) -> 1.6 | K29: =IF($A29<J$18, $K$2, IF($K$1=0,IF($K$16>0,IF($K$2*$K$16<ROUND(K28*J29, 3),$K$2*$K$16,ROUND(K28*J29, 3)),ROUND(K28*J29, 3)),IF($K$16>0,IF($K$2*$K$16<ROUND($K$2*J29, 3),$K$2*$K$16,ROUND($K$2*J29, 3)),ROUND($K$2*J29, 3)))) -> 0.213 | L29: =L28+ROUND(K29,2) -> 0.57 | N29: =IF(($A29<N$18),1,IF(AND($A29>$K$15,$K$15>0),N28,IF(AND($A29>=$K$12,$K$12>0),ROUND(N28+$K$13,4),IF(AND($A29>=$K$9,$K$9>0),ROUND(N28+$K$10,4),IF(AND($A29>=$K$6,$K$6>0),ROUND(N28+$K$7,4),$K$3))))) -> 1.6 | O29: =IF($A29<N$18, $K$2, IF($K$1=0,IF($K$16>0,IF($K$2*$K$16<ROUND(O28*N29, 3),$K$2*$K$16,ROUND(O28*N29, 3)),ROUND(O28*N29, 3)),IF($K$16>0,IF($K$2*$K$16<ROUND($K$2*N29, 3),$K$2*$K$16,ROUND($K$2*N29, 3)),ROUND($K$2*N29, 3)))) -> 0.323 | P29: =P28+ROUND(O29,2) -> 0.87
A30: 10 | B30: =IF(($A30<B$18),1,IF(AND($A30>$C$15,$C$15>0),B29,IF(AND($A30>=$C$12,$C$12>0),ROUND(B29+$C$13,4),IF(AND($A30>=$C$9,$C$9>0),ROUND(B29+$C$10,4),IF(AND($A30>=$C$6,$C$6>0),ROUND(B29+$C$7,4),$C$3))))) -> 1.5 | C30: =IF($A30<B$18, $C$2, IF($C$1=0,IF($C$16>0,IF($C$2*$C$16<ROUND(C29*B30, 3),$C$2*$C$16,ROUND(C29*B30, 3)),ROUND(C29*B30, 3)),IF($C$16>0,IF($C$2*$C$16<ROUND($C$2*B30, 3),$C$2*$C$16,ROUND($C$2*B30, 3)),ROUND($C$2*B30, 3)))) -> 0.189 | D30: =D29+ROUND(C30,2) -> 0.59 | F30: =IF(($A30<F$18),1,IF(AND($A30>$C$15,$C$15>0),F29,IF(AND($A30>=$C$12,$C$12>0),ROUND(F29+$C$13,4),IF(AND($A30>=$C$9,$C$9>0),ROUND(F29+$C$10,4),IF(AND($A30>=$C$6,$C$6>0),ROUND(F29+$C$7,4),$C$3))))) -> 1.5 | G30: =IF($A30<F$18, $C$2, IF($C$1=0,IF($C$16>0,IF($C$2*$C$16<ROUND(G29*F30, 3),$C$2*$C$16,ROUND(G29*F30, 3)),ROUND(G29*F30, 3)),IF($C$16>0,IF($C$2*$C$16<ROUND($C$2*F30, 3),$C$2*$C$16,ROUND($C$2*F30, 3)),ROUND($C$2*F30, 3)))) -> 0.255 | H30: =H29+ROUND(G30,2) -> 0.8 | J30: =IF(($A30<J$18),1,IF(AND($A30>$K$15,$K$15>0),J29,IF(AND($A30>=$K$12,$K$12>0),ROUND(J29+$K$13,4),IF(AND($A30>=$K$9,$K$9>0),ROUND(J29+$K$10,4),IF(AND($A30>=$K$6,$K$6>0),ROUND(J29+$K$7,4),$K$3))))) -> 1.55 | K30: =IF($A30<J$18, $K$2, IF($K$1=0,IF($K$16>0,IF($K$2*$K$16<ROUND(K29*J30, 3),$K$2*$K$16,ROUND(K29*J30, 3)),ROUND(K29*J30, 3)),IF($K$16>0,IF($K$2*$K$16<ROUND($K$2*J30, 3),$K$2*$K$16,ROUND($K$2*J30, 3)),ROUND($K$2*J30, 3)))) -> 0.33 | L30: =L29+ROUND(K30,2) -> 0.9 | N30: =IF(($A30<N$18),1,IF(AND($A30>$K$15,$K$15>0),N29,IF(AND($A30>=$K$12,$K$12>0),ROUND(N29+$K$13,4),IF(AND($A30>=$K$9,$K$9>0),ROUND(N29+$K$10,4),IF(AND($A30>=$K$6,$K$6>0),ROUND(N29+$K$7,4),$K$3))))) -> 1.55 | O30: =IF($A30<N$18, $K$2, IF($K$1=0,IF($K$16>0,IF($K$2*$K$16<ROUND(O29*N30, 3),$K$2*$K$16,ROUND(O29*N30, 3)),ROUND(O29*N30, 3)),IF($K$16>0,IF($K$2*$K$16<ROUND($K$2*N30, 3),$K$2*$K$16,ROUND($K$2*N30, 3)),ROUND($K$2*N30, 3)))) -> 0.501 | P30: =P29+ROUND(O30,2) -> 1.37
A31: 11 | B31: =IF(($A31<B$18),1,IF(AND($A31>$C$15,$C$15>0),B30,IF(AND($A31>=$C$12,$C$12>0),ROUND(B30+$C$13,4),IF(AND($A31>=$C$9,$C$9>0),ROUND(B30+$C$10,4),IF(AND($A31>=$C$6,$C$6>0),ROUND(B30+$C$7,4),$C$3))))) -> 1.45 | C31: =IF($A31<B$18, $C$2, IF($C$1=0,IF($C$16>0,IF($C$2*$C$16<ROUND(C30*B31, 3),$C$2*$C$16,ROUND(C30*B31, 3)),ROUND(C30*B31, 3)),IF($C$16>0,IF($C$2*$C$16<ROUND($C$2*B31, 3),$C$2*$C$16,ROUND($C$2*B31, 3)),ROUND($C$2*B31, 3)))) -> 0.274 | D31: =D30+ROUND(C31,2) -> 0.86 | F31: =IF(($A31<F$18),1,IF(AND($A31>$C$15,$C$15>0),F30,IF(AND($A31>=$C$12,$C$12>0),ROUND(F30+$C$13,4),IF(AND($A31>=$C$9,$C$9>0),ROUND(F30+$C$10,4),IF(AND($A31>=$C$6,$C$6>0),ROUND(F30+$C$7,4),$C$3))))) -> 1.45 | G31: =IF($A31<F$18, $C$2, IF($C$1=0,IF($C$16>0,IF($C$2*$C$16<ROUND(G30*F31, 3),$C$2*$C$16,ROUND(G30*F31, 3)),ROUND(G30*F31, 3)),IF($C$16>0,IF($C$2*$C$16<ROUND($C$2*F31, 3),$C$2*$C$16,ROUND($C$2*F31, 3)),ROUND($C$2*F31, 3)))) -> 0.37 | H31: =H30+ROUND(G31,2) -> 1.17 | J31: =IF(($A31<J$18),1,IF(AND($A31>$K$15,$K$15>0),J30,IF(AND($A31>=$K$12,$K$12>0),ROUND(J30+$K$13,4),IF(AND($A31>=$K$9,$K$9>0),ROUND(J30+$K$10,4),IF(AND($A31>=$K$6,$K$6>0),ROUND(J30+$K$7,4),$K$3))))) -> 1.5 | K31: =IF($A31<J$18, $K$2, IF($K$1=0,IF($K$16>0,IF($K$2*$K$16<ROUND(K30*J31, 3),$K$2*$K$16,ROUND(K30*J31, 3)),ROUND(K30*J31, 3)),IF($K$16>0,IF($K$2*$K$16<ROUND($K$2*J31, 3),$K$2*$K$16,ROUND($K$2*J31, 3)),ROUND($K$2*J31, 3)))) -> 0.495 | L31: =L30+ROUND(K31,2) -> 1.4 | N31: =IF(($A31<N$18),1,IF(AND($A31>$K$15,$K$15>0),N30,IF(AND($A31>=$K$12,$K$12>0),ROUND(N30+$K$13,4),IF(AND($A31>=$K$9,$K$9>0),ROUND(N30+$K$10,4),IF(AND($A31>=$K$6,$K$6>0),ROUND(N30+$K$7,4),$K$3))))) -> 1.5 | O31: =IF($A31<N$18, $K$2, IF($K$1=0,IF($K$16>0,IF($K$2*$K$16<ROUND(O30*N31, 3),$K$2*$K$16,ROUND(O30*N31, 3)),ROUND(O30*N31, 3)),IF($K$16>0,IF($K$2*$K$16<ROUND($K$2*N31, 3),$K$2*$K$16,ROUND($K$2*N31, 3)),ROUND($K$2*N31, 3)))) -> 0.752 | P31: =P30+ROUND(O31,2) -> 2.12
A32: 12 | B32: =IF(($A32<B$18),1,IF(AND($A32>$C$15,$C$15>0),B31,IF(AND($A32>=$C$12,$C$12>0),ROUND(B31+$C$13,4),IF(AND($A32>=$C$9,$C$9>0),ROUND(B31+$C$10,4),IF(AND($A32>=$C$6,$C$6>0),ROUND(B31+$C$7,4),$C$3))))) -> 1.4 | C32: =IF($A32<B$18, $C$2, IF($C$1=0,IF($C$16>0,IF($C$2*$C$16<ROUND(C31*B32, 3),$C$2*$C$16,ROUND(C31*B32, 3)),ROUND(C31*B32, 3)),IF($C$16>0,IF($C$2*$C$16<ROUND($C$2*B32, 3),$C$2*$C$16,ROUND($C$2*B32, 3)),ROUND($C$2*B32, 3)))) -> 0.384 | D32: =D31+ROUND(C32,2) -> 1.24 | F32: =IF(($A32<F$18),1,IF(AND($A32>$C$15,$C$15>0),F31,IF(AND($A32>=$C$12,$C$12>0),ROUND(F31+$C$13,4),IF(AND($A32>=$C$9,$C$9>0),ROUND(F31+$C$10,4),IF(AND($A32>=$C$6,$C$6>0),ROUND(F31+$C$7,4),$C$3))))) -> 1.4 | G32: =IF($A32<F$18, $C$2, IF($C$1=0,IF($C$16>0,IF($C$2*$C$16<ROUND(G31*F32, 3),$C$2*$C$16,ROUND(G31*F32, 3)),ROUND(G31*F32, 3)),IF($C$16>0,IF($C$2*$C$16<ROUND($C$2*F32, 3),$C$2*$C$16,ROUND($C$2*F32, 3)),ROUND($C$2*F32, 3)))) -> 0.518 | H32: =H31+ROUND(G32,2) -> 1.69 | J32: =IF(($A32<J$18),1,IF(AND($A32>$K$15,$K$15>0),J31,IF(AND($A32>=$K$12,$K$12>0),ROUND(J31+$K$13,4),IF(AND($A32>=$K$9,$K$9>0),ROUND(J31+$K$10,4),IF(AND($A32>=$K$6,$K$6>0),ROUND(J31+$K$7,4),$K$3))))) -> 1.45 | K32: =IF($A32<J$18, $K$2, IF($K$1=0,IF($K$16>0,IF($K$2*$K$16<ROUND(K31*J32, 3),$K$2*$K$16,ROUND(K31*J32, 3)),ROUND(K31*J32, 3)),IF($K$16>0,IF($K$2*$K$16<ROUND($K$2*J32, 3),$K$2*$K$16,ROUND($K$2*J32, 3)),ROUND($K$2*J32, 3)))) -> 0.718 | L32: =L31+ROUND(K32,2) -> 2.12 | N32: =IF(($A32<N$18),1,IF(AND($A32>$K$15,$K$15>0),N31,IF(AND($A32>=$K$12,$K$12>0),ROUND(N31+$K$13,4),IF(AND($A32>=$K$9,$K$9>0),ROUND(N31+$K$10,4),IF(AND($A32>=$K$6,$K$6>0),ROUND(N31+$K$7,4),$K$3))))) -> 1.45 | O32: =IF($A32<N$18, $K$2, IF($K$1=0,IF($K$16>0,IF($K$2*$K$16<ROUND(O31*N32, 3),$K$2*$K$16,ROUND(O31*N32, 3)),ROUND(O31*N32, 3)),IF($K$16>0,IF($K$2*$K$16<ROUND($K$2*N32, 3),$K$2*$K$16,ROUND($K$2*N32, 3)),ROUND($K$2*N32, 3)))) -> 1.09 | P32: =P31+ROUND(O32,2) -> 3.21
A33: 13 | B33: =IF(($A33<B$18),1,IF(AND($A33>$C$15,$C$15>0),B32,IF(AND($A33>=$C$12,$C$12>0),ROUND(B32+$C$13,4),IF(AND($A33>=$C$9,$C$9>0),ROUND(B32+$C$10,4),IF(AND($A33>=$C$6,$C$6>0),ROUND(B32+$C$7,4),$C$3))))) -> 1.35 | C33: =IF($A33<B$18, $C$2, IF($C$1=0,IF($C$16>0,IF($C$2*$C$16<ROUND(C32*B33, 3),$C$2*$C$16,ROUND(C32*B33, 3)),ROUND(C32*B33, 3)),IF($C$16>0,IF($C$2*$C$16<ROUND($C$2*B33, 3),$C$2*$C$16,ROUND($C$2*B33, 3)),ROUND($C$2*B33, 3)))) -> 0.518 | D33: =D32+ROUND(C33,2) -> 1.76 | F33: =IF(($A33<F$18),1,IF(AND($A33>$C$15,$C$15>0),F32,IF(AND($A33>=$C$12,$C$12>0),ROUND(F32+$C$13,4),IF(AND($A33>=$C$9,$C$9>0),ROUND(F32+$C$10,4),IF(AND($A33>=$C$6,$C$6>0),ROUND(F32+$C$7,4),$C$3))))) -> 1.35 | G33: =IF($A33<F$18, $C$2, IF($C$1=0,IF($C$16>0,IF($C$2*$C$16<ROUND(G32*F33, 3),$C$2*$C$16,ROUND(G32*F33, 3)),ROUND(G32*F33, 3)),IF($C$16>0,IF($C$2*$C$16<ROUND($C$2*F33, 3),$C$2*$C$16,ROUND($C$2*F33, 3)),ROUND($C$2*F33, 3)))) -> 0.699 | H33: =H32+ROUND(G33,2) -> 2.39 | J33: =IF(($A33<J$18),1,IF(AND($A33>$K$15,$K$15>0),J32,IF(AND($A33>=$K$12,$K$12>0),ROUND(J32+$K$13,4),IF(AND($A33>=$K$9,$K$9>0),ROUND(J32+$K$10,4),IF(AND($A33>=$K$6,$K$6>0),ROUND(J32+$K$7,4),$K$3))))) -> 1.45 | K33: =IF($A33<J$18, $K$2, IF($K$1=0,IF($K$16>0,IF($K$2*$K$16<ROUND(K32*J33, 3),$K$2*$K$16,ROUND(K32*J33, 3)),ROUND(K32*J33, 3)),IF($K$16>0,IF($K$2*$K$16<ROUND($K$2*J33, 3),$K$2*$K$16,ROUND($K$2*J33, 3)),ROUND($K$2*J33, 3)))) -> 1.041 | L33: =L32+ROUND(K33,2) -> 3.16 | N33: =IF(($A33<N$18),1,IF(AND($A33>$K$15,$K$15>0),N32,IF(AND($A33>=$K$12,$K$12>0),ROUND(N32+$K$13,4),IF(AND($A33>=$K$9,$K$9>0),ROUND(N32+$K$10,4),IF(AND($A33>=$K$6,$K$6>0),ROUND(N32+$K$7,4),$K$3))))) -> 1.45 | O33: =IF($A33<N$18, $K$2, IF($K$1=0,IF($K$16>0,IF($K$2*$K$16<ROUND(O32*N33, 3),$K$2*$K$16,ROUND(O32*N33, 3)),ROUND(O32*N33, 3)),IF($K$16>0,IF($K$2*$K$16<ROUND($K$2*N33, 3),$K$2*$K$16,ROUND($K$2*N33, 3)),ROUND($K$2*N33, 3)))) -> 1.581 | P33: =P32+ROUND(O33,2) -> 4.79
... A40: 20 | B40: =IF(($A40<B$18),1,IF(AND($A40>$C$15,$C$15>0),B39,IF(AND($A40>=$C$12,$C$12>0),ROUND(B39+$C$13,4),IF(AND($A40>=$C$9,$C$9>0),ROUND(B39+$C$10,4),IF(AND($A40>=$C$6,$C$6>0),ROUND(B39+$C$7,4),$C$3))))) -> 1.25 | C40: =IF($A40<B$18, $C$2, IF($C$1=0,IF($C$16>0,IF($C$2*$C$16<ROUND(C39*B40, 3),$C$2*$C$16,ROUND(C39*B40, 3)),ROUND(C39*B40, 3)),IF($C$16>0,IF($C$2*$C$16<ROUND($C$2*B40, 3),$C$2*$C$16,ROUND($C$2*B40, 3)),ROUND($C$2*B40, 3)))) -> 1.1 | D40: =D39+ROUND(C40,2) -> 8.72 | F40: =IF(($A40<F$18),1,IF(AND($A40>$C$15,$C$15>0),F39,IF(AND($A40>=$C$12,$C$12>0),ROUND(F39+$C$13,4),IF(AND($A40>=$C$9,$C$9>0),ROUND(F39+$C$10,4),IF(AND($A40>=$C$6,$C$6>0),ROUND(F39+$C$7,4),$C$3))))) -> 1.25 | G40: =IF($A40<F$18, $C$2, IF($C$1=0,IF($C$16>0,IF($C$2*$C$16<ROUND(G39*F40, 3),$C$2*$C$16,ROUND(G39*F40, 3)),ROUND(G39*F40, 3)),IF($C$16>0,IF($C$2*$C$16<ROUND($C$2*F40, 3),$C$2*$C$16,ROUND($C$2*F40, 3)),ROUND($C$2*F40, 3)))) -> 1.1 | H40: =H39+ROUND(G40,2) -> 9.9 | J40: =IF(($A40<J$18),1,IF(AND($A40>$K$15,$K$15>0),J39,IF(AND($A40>=$K$12,$K$12>0),ROUND(J39+$K$13,4),IF(AND($A40>=$K$9,$K$9>0),ROUND(J39+$K$10,4),IF(AND($A40>=$K$6,$K$6>0),ROUND(J39+$K$7,4),$K$3))))) -> 1.45 | K40: =IF($A40<J$18, $K$2, IF($K$1=0,IF($K$16>0,IF($K$2*$K$16<ROUND(K39*J40, 3),$K$2*$K$16,ROUND(K39*J40, 3)),ROUND(K39*J40, 3)),IF($K$16>0,IF($K$2*$K$16<ROUND($K$2*J40, 3),$K$2*$K$16,ROUND($K$2*J40, 3)),ROUND($K$2*J40, 3)))) -> 2 | L40: =L39+ROUND(K40,2) -> 16.67 | N40: =IF(($A40<N$18),1,IF(AND($A40>$K$15,$K$15>0),N39,IF(AND($A40>=$K$12,$K$12>0),ROUND(N39+$K$13,4),IF(AND($A40>=$K$9,$K$9>0),ROUND(N39+$K$10,4),IF(AND($A40>=$K$6,$K$6>0),ROUND(N39+$K$7,4),$K$3))))) -> 1.45 | O40: =IF($A40<N$18, $K$2, IF($K$1=0,IF($K$16>0,IF($K$2*$K$16<ROUND(O39*N40, 3),$K$2*$K$16,ROUND(O39*N40, 3)),ROUND(O39*N40, 3)),IF($K$16>0,IF($K$2*$K$16<ROUND($K$2*N40, 3),$K$2*$K$16,ROUND($K$2*N40, 3)),ROUND($K$2*N40, 3)))) -> 2 | P40: =P39+ROUND(O40,2) -> 18.79

Sheet mult+lots 4x1
A1: CalcLotType | B1: =IF(C$1=0,"LastOrder",IF(C$1=1,"MinOrder","ОШИБКА")) -> LastOrder | C1: 0 | F1: =IF(G$1=0,"LastOrder",IF(G$1=1,"MinOrder","ОШИБКА")) -> LastOrder | G1: 0 | J1: =IF(K$1=0,"LastOrder",IF(K$1=1,"MinOrder","ОШИБКА")) -> LastOrder | K1: 0 | N1: =IF(O$1=0,"LastOrder",IF(O$1=1,"MinOrder","ОШИБКА")) -> MinOrder | O1: 1
A2: MinLot | B2: =IF(C$2<0,"д.б. >0","") | C2: 0.01 | F2: =IF(G$2<0,"д.б. >0","") | G2: 0.02 | J2: =IF(K$2<0,"д.б. >0","") | K2: 0.03 | N2: =IF(O$2<0,"д.б. >0","") | O2: 0.01
A3: Mult | B3: =IF(C$3<0,"д.б. >0","") | C3: 1.4 | F3: =IF(G$3<0,"д.б. >0","") | G3: 1.4 | J3: =IF(K$3<0,"д.б. >0","") | K3: 1.4 | N3: =IF(O$3<0,"д.б. >0","") | O3: 3
A4: MultStart | B4: =IF(C$4<2,"д.б. >1","") | C4: 2 | F4: =IF(G$4<2,"д.б. >1","") | G4: 3 | J4: =IF(K$4<2,"д.б. >1","") | K4: 4 | N4: =IF(O$4<2,"д.б. >1","") | O4: 2
A6: MultLevel2 | B6: =IF(C$6<0,"д.б. >=0","") | C6: 6 | F6: =IF(G$6<0,"д.б. >=0","") | G6: 6 | J6: =IF(K$6<0,"д.б. >=0","") | K6: 6 | N6: =IF(O$6<0,"д.б. >=0","") | O6: 4
A7: MultCorr | B7: =IF(AND(C$6=0,C$7<>0),"д.б. =0","") | C7: 0.01 | F7: =IF(AND(G$6=0,G$7<>0),"д.б. =0","") | G7: 0.01 | J7: =IF(AND(K$6=0,K$7<>0),"д.б. =0","") | K7: 0.01 | N7: =IF(AND(O$6=0,O$7<>0),"д.б. =0","") | O7: 3
B8: =IF(OR(C$6=1,C$6<0,C$9=1,C$9<0,C$12=1,C$12<0,C$15<0,AND(C$6>0,C$4>=C$6),AND(C$9>0,C$4>=C$9),AND(C$12>0,C$4>=C$12),AND(C$6>1,C$9>1,C$6>=C$9),AND(C$6>1,C$12>1,C$6>=C$12),AND(C$9>1,C$12>1,C$9>=C$12),AND(C$15>0,C$4>C$15),AND(C$6>1,C$15>0,C$6>C$15),AND(C$9>1,C$15>0,C$9>C$15),AND(C$12>1,C$15>0,C$12>C$15)),"ОШИБКА в №№ колен","") | F8: =IF(OR(G$6=1,G$6<0,G$9=1,G$9<0,G$12=1,G$12<0,G$15<0,AND(G$6>0,G$4>=G$6),AND(G$9>0,G$4>=G$9),AND(G$12>0,G$4>=G$12),AND(G$6>1,G$9>1,G$6>=G$9),AND(G$6>1,G$12>1,G$6>=G$12),AND(G$9>1,G$12>1,G$9>=G$12),AND(G$15>0,G$4>G$15),AND(G$6>1,G$15>0,G$6>G$15),AND(G$9>1,G$15>0,G$9>G$15),AND(G$12>1,G$15>0,G$12>G$15)),"ОШИБКА в №№ колен","") | J8: =IF(OR(K$6=1,K$6<0,K$9=1,K$9<0,K$12=1,K$12<0,K$15<0,AND(K$6>0,K$4>=K$6),AND(K$9>0,K$4>=K$9),AND(K$12>0,K$4>=K$12),AND(K$6>1,K$9>1,K$6>=K$9),AND(K$6>1,K$12>1,K$6>=K$12),AND(K$9>1,K$12>1,K$9>=K$12),AND(K$15>0,K$4>K$15),AND(K$6>1,K$15>0,K$6>K$15),AND(K$9>1,K$15>0,K$9>K$15),AND(K$12>1,K$15>0,K$12>K$15)),"ОШИБКА в №№ колен","") | N8: =IF(OR(O$6=1,O$6<0,O$9=1,O$9<0,O$12=1,O$12<0,O$15<0,AND(O$6>0,O$4>=O$6),AND(O$9>0,O$4>=O$9),AND(O$12>0,O$4>=O$12),AND(O$6>1,O$9>1,O$6>=O$9),AND(O$6>1,O$12>1,O$6>=O$12),AND(O$9>1,O$12>1,O$9>=O$12),AND(O$15>0,O$4>O$15),AND(O$6>1,O$15>0,O$6>O$15),AND(O$9>1,O$15>0,O$9>O$15),AND(O$12>1,O$15>0,O$12>O$15)),"ОШИБКА в №№ колен","")
A9: MultLevel3 | B9: =IF(C$9<0,"д.б. >=0","") | C9: 0 | F9: =IF(G$9<0,"д.б. >=0","") | G9: 0 | J9: =IF(K$9<0,"д.б. >=0","") | K9: 0 | N9: =IF(O$9<0,"д.б. >=0","") | O9: 10
A10: MultСorrLevel3 | B10: =IF(AND(C$9=0,C$10<>0),"д.б. =0","") | C10: 0 | F10: =IF(AND(G$9=0,G$10<>0),"д.б. =0","") | G10: 0 | J10: =IF(AND(K$9=0,K$10<>0),"д.б. =0","") | K10: 0 | N10: =IF(AND(O$9=0,O$10<>0),"д.б. =0","") | O10: 5
A12: Mult3 | B12: =IF(C$12<0,"д.б. >=0","") | C12: 0 | F12: =IF(G$12<0,"д.б. >=0","") | G12: 0 | J12: =IF(K$12<0,"д.б. >=0","") | K12: 0 | N12: =IF(O$12<0,"д.б. >=0","") | O12: 0
A13: Mult3Add | B13: =IF(AND(C$12=0,C$13<>0),"д.б. =0","") | C13: 0 | F13: =IF(AND(G$12=0,G$13<>0),"д.б. =0","") | G13: 0 | J13: =IF(AND(K$12=0,K$13<>0),"д.б. =0","") | K13: 0 | N13: =IF(AND(O$12=0,O$13<>0),"д.б. =0","") | O13: 0
A15: MultStop | B15: =IF(C$15<0,"д.б. >=0","") | C15: 12 | F15: =IF(G$15<0,"д.б. >=0","") | G15: 15 | J15: =IF(K$15<0,"д.б. >=0","") | K15: 0 | N15: =IF(O$15<0,"д.б. >=0","") | O15: 14
A16: MaxLotCoef | B16: =IF(C$16<0,"д.б. >=0","") | C16: 400 | F16: =IF(G$16<0,"д.б. >=0","") | G16: 200 | J16: =IF(K$16<0,"д.б. >=0","") | K16: 200 | N16: =IF(O$16<0,"д.б. >=0","") | O16: 40
A18: №№ колен | B18: Мульт | C18: Ордер | D18: Лотов | F18: Мульт | G18: Ордер | H18: Лотов | J18: Мульт | K18: Ордер | L18: Лотов | N18: Мульт | O18: Ордер | P18: Лотов
A20: 1 | B20: =IF(($A20<C$4),1,IF(AND($A20>C$15,C$15>0),B19,IF(AND($A20>=C$12,C$12>0),ROUND(B19+C$13,4),IF(AND($A20>=C$9,C$9>0),ROUND(B19+C$10,4),IF(AND($A20>=C$6,C$6>0),ROUND(B19+C$7,4),C$3))))) -> 1 | C20: =IF($A20<C$4, C$2, IF(C$1=0,IF(C$16>0,IF(C$2*C$16<ROUND(C19*B20, 3),C$2*C$16,ROUND(C19*B20, 3)),ROUND(C19*B20, 3)),IF(C$16>0,IF(C$2*C$16<ROUND(C$2*B20, 3),C$2*C$16,ROUND(C$2*B20, 3)),ROUND(C$2*B20, 3)))) -> 0.01 | D20: =C20 -> 0.01 | F20: =IF(($A20<G$4),1,IF(AND($A20>G$15,G$15>0),F19,IF(AND($A20>=G$12,G$12>0),ROUND(F19+G$13,4),IF(AND($A20>=G$9,G$9>0),ROUND(F19+G$10,4),IF(AND($A20>=G$6,G$6>0),ROUND(F19+G$7,4),G$3))))) -> 1 | G20: =IF($A20<G$4, G$2, IF(G$1=0,IF(G$16>0,IF(G$2*G$16<ROUND(G19*F20, 3),G$2*G$16,ROUND(G19*F20, 3)),ROUND(G19*F20, 3)),IF(G$16>0,IF(G$2*G$16<ROUND(G$2*F20, 3),G$2*G$16,ROUND(G$2*F20, 3)),ROUND(G$2*F20, 3)))) -> 0.02 | H20: =G20 -> 0.02 | J20: =IF(($A20<K$4),1,IF(AND($A20>K$15,K$15>0),J19,IF(AND($A20>=K$12,K$12>0),ROUND(J19+K$13,4),IF(AND($A20>=K$9,K$9>0),ROUND(J19+K$10,4),IF(AND($A20>=K$6,K$6>0),ROUND(J19+K$7,4),K$3))))) -> 1 | K20: =IF($A20<K$4, K$2, IF(K$1=0,IF(K$16>0,IF(K$2*K$16<ROUND(K19*J20, 3),K$2*K$16,ROUND(K19*J20, 3)),ROUND(K19*J20, 3)),IF(K$16>0,IF(K$2*K$16<ROUND(K$2*J20, 3),K$2*K$16,ROUND(K$2*J20, 3)),ROUND(K$2*J20, 3)))) -> 0.03 | L20: =K20 -> 0.03 | N20: =IF(($A20<O$4),1,IF(AND($A20>O$15,O$15>0),N19,IF(AND($A20>=O$12,O$12>0),ROUND(N19+O$13,4),IF(AND($A20>=O$9,O$9>0),ROUND(N19+O$10,4),IF(AND($A20>=O$6,O$6>0),ROUND(N19+O$7,4),O$3))))) -> 1 | O20: =IF($A20<O$4, O$2, IF(O$1=0,IF(O$16>0,IF(O$2*O$16<ROUND(O19*N20, 3),O$2*O$16,ROUND(O19*N20, 3)),ROUND(O19*N20, 3)),IF(O$16>0,IF(O$2*O$16<ROUND(O$2*N20, 3),O$2*O$16,ROUND(O$2*N20, 3)),ROUND(O$2*N20, 3)))) -> 0.01 | P20: =O20 -> 0.01
A21: 2 | B21: =IF(($A21<C$4),1,IF(AND($A21>C$15,C$15>0),B20,IF(AND($A21>=C$12,C$12>0),ROUND(B20+C$13,4),IF(AND($A21>=C$9,C$9>0),ROUND(B20+C$10,4),IF(AND($A21>=C$6,C$6>0),ROUND(B20+C$7,4),C$3))))) -> 1.4 | C21: =IF($A21<C$4, C$2, IF(C$1=0,IF(C$16>0,IF(C$2*C$16<ROUND(C20*B21, 3),C$2*C$16,ROUND(C20*B21, 3)),ROUND(C20*B21, 3)),IF(C$16>0,IF(C$2*C$16<ROUND(C$2*B21, 3),C$2*C$16,ROUND(C$2*B21, 3)),ROUND(C$2*B21, 3)))) -> 0.014 | D21: =D20+ROUND(C21,2) -> 0.02 | F21: =IF(($A21<G$4),1,IF(AND($A21>G$15,G$15>0),F20,IF(AND($A21>=G$12,G$12>0),ROUND(F20+G$13,4),IF(AND($A21>=G$9,G$9>0),ROUND(F20+G$10,4),IF(AND($A21>=G$6,G$6>0),ROUND(F20+G$7,4),G$3))))) -> 1 | G21: =IF($A21<G$4, G$2, IF(G$1=0,IF(G$16>0,IF(G$2*G$16<ROUND(G20*F21, 3),G$2*G$16,ROUND(G20*F21, 3)),ROUND(G20*F21, 3)),IF(G$16>0,IF(G$2*G$16<ROUND(G$2*F21, 3),G$2*G$16,ROUND(G$2*F21, 3)),ROUND(G$2*F21, 3)))) -> 0.02 | H21: =H20+ROUND(G21,2) -> 0.04 | J21: =IF(($A21<K$4),1,IF(AND($A21>K$15,K$15>0),J20,IF(AND($A21>=K$12,K$12>0),ROUND(J20+K$13,4),IF(AND($A21>=K$9,K$9>0),ROUND(J20+K$10,4),IF(AND($A21>=K$6,K$6>0),ROUND(J20+K$7,4),K$3))))) -> 1 | K21: =IF($A21<K$4, K$2, IF(K$1=0,IF(K$16>0,IF(K$2*K$16<ROUND(K20*J21, 3),K$2*K$16,ROUND(K20*J21, 3)),ROUND(K20*J21, 3)),IF(K$16>0,IF(K$2*K$16<ROUND(K$2*J21, 3),K$2*K$16,ROUND(K$2*J21, 3)),ROUND(K$2*J21, 3)))) -> 0.03 | L21: =L20+ROUND(K21,2) -> 0.06 | N21: =IF(($A21<O$4),1,IF(AND($A21>O$15,O$15>0),N20,IF(AND($A21>=O$12,O$12>0),ROUND(N20+O$13,4),IF(AND($A21>=O$9,O$9>0),ROUND(N20+O$10,4),IF(AND($A21>=O$6,O$6>0),ROUND(N20+O$7,4),O$3))))) -> 3 | O21: =IF($A21<O$4, O$2, IF(O$1=0,IF(O$16>0,IF(O$2*O$16<ROUND(O20*N21, 3),O$2*O$16,ROUND(O20*N21, 3)),ROUND(O20*N21, 3)),IF(O$16>0,IF(O$2*O$16<ROUND(O$2*N21, 3),O$2*O$16,ROUND(O$2*N21, 3)),ROUND(O$2*N21, 3)))) -> 0.03 | P21: =P20+ROUND(O21,2) -> 0.04
A22: 3 | B22: =IF(($A22<C$4),1,IF(AND($A22>C$15,C$15>0),B21,IF(AND($A22>=C$12,C$12>0),ROUND(B21+C$13,4),IF(AND($A22>=C$9,C$9>0),ROUND(B21+C$10,4),IF(AND($A22>=C$6,C$6>0),ROUND(B21+C$7,4),C$3))))) -> 1.4 | C22: =IF($A22<C$4, C$2, IF(C$1=0,IF(C$16>0,IF(C$2*C$16<ROUND(C21*B22, 3),C$2*C$16,ROUND(C21*B22, 3)),ROUND(C21*B22, 3)),IF(C$16>0,IF(C$2*C$16<ROUND(C$2*B22, 3),C$2*C$16,ROUND(C$2*B22, 3)),ROUND(C$2*B22, 3)))) -> 0.02 | D22: =D21+ROUND(C22,2) -> 0.04 | F22: =IF(($A22<G$4),1,IF(AND($A22>G$15,G$15>0),F21,IF(AND($A22>=G$12,G$12>0),ROUND(F21+G$13,4),IF(AND($A22>=G$9,G$9>0),ROUND(F21+G$10,4),IF(AND($A22>=G$6,G$6>0),ROUND(F21+G$7,4),G$3))))) -> 1.4 | G22: =IF($A22<G$4, G$2, IF(G$1=0,IF(G$16>0,IF(G$2*G$16<ROUND(G21*F22, 3),G$2*G$16,ROUND(G21*F22, 3)),ROUND(G21*F22, 3)),IF(G$16>0,IF(G$2*G$16<ROUND(G$2*F22, 3),G$2*G$16,ROUND(G$2*F22, 3)),ROUND(G$2*F22, 3)))) -> 0.028 | H22: =H21+ROUND(G22,2) -> 0.07 | J22: =IF(($A22<K$4),1,IF(AND($A22>K$15,K$15>0),J21,IF(AND($A22>=K$12,K$12>0),ROUND(J21+K$13,4),IF(AND($A22>=K$9,K$9>0),ROUND(J21+K$10,4),IF(AND($A22>=K$6,K$6>0),ROUND(J21+K$7,4),K$3))))) -> 1 | K22: =IF($A22<K$4, K$2, IF(K$1=0,IF(K$16>0,IF(K$2*K$16<ROUND(K21*J22, 3),K$2*K$16,ROUND(K21*J22, 3)),ROUND(K21*J22, 3)),IF(K$16>0,IF(K$2*K$16<ROUND(K$2*J22, 3),K$2*K$16,ROUND(K$2*J22, 3)),ROUND(K$2*J22, 3)))) -> 0.03 | L22: =L21+ROUND(K22,2) -> 0.09 | N22: =IF(($A22<O$4),1,IF(AND($A22>O$15,O$15>0),N21,IF(AND($A22>=O$12,O$12>0),ROUND(N21+O$13,4),IF(AND($A22>=O$9,O$9>0),ROUND(N21+O$10,4),IF(AND($A22>=O$6,O$6>0),ROUND(N21+O$7,4),O$3))))) -> 3 | O22: =IF($A22<O$4, O$2, IF(O$1=0,IF(O$16>0,IF(O$2*O$16<ROUND(O21*N22, 3),O$2*O$16,ROUND(O21*N22, 3)),ROUND(O21*N22, 3)),IF(O$16>0,IF(O$2*O$16<ROUND(O$2*N22, 3),O$2*O$16,ROUND(O$2*N22, 3)),ROUND(O$2*N22, 3)))) -> 0.03 | P22: =P21+ROUND(O22,2) -> 0.07
A23: 4 | B23: =IF(($A23<C$4),1,IF(AND($A23>C$15,C$15>0),B22,IF(AND($A23>=C$12,C$12>0),ROUND(B22+C$13,4),IF(AND($A23>=C$9,C$9>0),ROUND(B22+C$10,4),IF(AND($A23>=C$6,C$6>0),ROUND(B22+C$7,4),C$3))))) -> 1.4 | C23: =IF($A23<C$4, C$2, IF(C$1=0,IF(C$16>0,IF(C$2*C$16<ROUND(C22*B23, 3),C$2*C$16,ROUND(C22*B23, 3)),ROUND(C22*B23, 3)),IF(C$16>0,IF(C$2*C$16<ROUND(C$2*B23, 3),C$2*C$16,ROUND(C$2*B23, 3)),ROUND(C$2*B23, 3)))) -> 0.028 | D23: =D22+ROUND(C23,2) -> 0.07 | F23: =IF(($A23<G$4),1,IF(AND($A23>G$15,G$15>0),F22,IF(AND($A23>=G$12,G$12>0),ROUND(F22+G$13,4),IF(AND($A23>=G$9,G$9>0),ROUND(F22+G$10,4),IF(AND($A23>=G$6,G$6>0),ROUND(F22+G$7,4),G$3))))) -> 1.4 | G23: =IF($A23<G$4, G$2, IF(G$1=0,IF(G$16>0,IF(G$2*G$16<ROUND(G22*F23, 3),G$2*G$16,ROUND(G22*F23, 3)),ROUND(G22*F23, 3)),IF(G$16>0,IF(G$2*G$16<ROUND(G$2*F23, 3),G$2*G$16,ROUND(G$2*F23, 3)),ROUND(G$2*F23, 3)))) -> 0.039 | H23: =H22+ROUND(G23,2) -> 0.11 | J23: =IF(($A23<K$4),1,IF(AND($A23>K$15,K$15>0),J22,IF(AND($A23>=K$12,K$12>0),ROUND(J22+K$13,4),IF(AND($A23>=K$9,K$9>0),ROUND(J22+K$10,4),IF(AND($A23>=K$6,K$6>0),ROUND(J22+K$7,4),K$3))))) -> 1.4 | K23: =IF($A23<K$4, K$2, IF(K$1=0,IF(K$16>0,IF(K$2*K$16<ROUND(K22*J23, 3),K$2*K$16,ROUND(K22*J23, 3)),ROUND(K22*J23, 3)),IF(K$16>0,IF(K$2*K$16<ROUND(K$2*J23, 3),K$2*K$16,ROUND(K$2*J23, 3)),ROUND(K$2*J23, 3)))) -> 0.042 | L23: =L22+ROUND(K23,2) -> 0.13 | N23: =IF(($A23<O$4),1,IF(AND($A23>O$15,O$15>0),N22,IF(AND($A23>=O$12,O$12>0),ROUND(N22+O$13,4),IF(AND($A23>=O$9,O$9>0),ROUND(N22+O$10,4),IF(AND($A23>=O$6,O$6>0),ROUND(N22+O$7,4),O$3))))) -> 6 | O23: =IF($A23<O$4, O$2, IF(O$1=0,IF(O$16>0,IF(O$2*O$16<ROUND(O22*N23, 3),O$2*O$16,ROUND(O22*N23, 3)),ROUND(O22*N23, 3)),IF(O$16>0,IF(O$2*O$16<ROUND(O$2*N23, 3),O$2*O$16,ROUND(O$2*N23, 3)),ROUND(O$2*N23, 3)))) -> 0.06 | P23: =P22+ROUND(O23,2) -> 0.13
A24: 5 | B24: =IF(($A24<C$4),1,IF(AND($A24>C$15,C$15>0),B23,IF(AND($A24>=C$12,C$12>0),ROUND(B23+C$13,4),IF(AND($A24>=C$9,C$9>0),ROUND(B23+C$10,4),IF(AND($A24>=C$6,C$6>0),ROUND(B23+C$7,4),C$3))))) -> 1.4 | C24: =IF($A24<C$4, C$2, IF(C$1=0,IF(C$16>0,IF(C$2*C$16<ROUND(C23*B24, 3),C$2*C$16,ROUND(C23*B24, 3)),ROUND(C23*B24, 3)),IF(C$16>0,IF(C$2*C$16<ROUND(C$2*B24, 3),C$2*C$16,ROUND(C$2*B24, 3)),ROUND(C$2*B24, 3)))) -> 0.039 | D24: =D23+ROUND(C24,2) -> 0.11 | F24: =IF(($A24<G$4),1,IF(AND($A24>G$15,G$15>0),F23,IF(AND($A24>=G$12,G$12>0),ROUND(F23+G$13,4),IF(AND($A24>=G$9,G$9>0),ROUND(F23+G$10,4),IF(AND($A24>=G$6,G$6>0),ROUND(F23+G$7,4),G$3))))) -> 1.4 | G24: =IF($A24<G$4, G$2, IF(G$1=0,IF(G$16>0,IF(G$2*G$16<ROUND(G23*F24, 3),G$2*G$16,ROUND(G23*F24, 3)),ROUND(G23*F24, 3)),IF(G$16>0,IF(G$2*G$16<ROUND(G$2*F24, 3),G$2*G$16,ROUND(G$2*F24, 3)),ROUND(G$2*F24, 3)))) -> 0.055 | H24: =H23+ROUND(G24,2) -> 0.17 | J24: =IF(($A24<K$4),1,IF(AND($A24>K$15,K$15>0),J23,IF(AND($A24>=K$12,K$12>0),ROUND(J23+K$13,4),IF(AND($A24>=K$9,K$9>0),ROUND(J23+K$10,4),IF(AND($A24>=K$6,K$6>0),ROUND(J23+K$7,4),K$3))))) -> 1.4 | K24: =IF($A24<K$4, K$2, IF(K$1=0,IF(K$16>0,IF(K$2*K$16<ROUND(K23*J24, 3),K$2*K$16,ROUND(K23*J24, 3)),ROUND(K23*J24, 3)),IF(K$16>0,IF(K$2*K$16<ROUND(K$2*J24, 3),K$2*K$16,ROUND(K$2*J24, 3)),ROUND(K$2*J24, 3)))) -> 0.059 | L24: =L23+ROUND(K24,2) -> 0.19 | N24: =IF(($A24<O$4),1,IF(AND($A24>O$15,O$15>0),N23,IF(AND($A24>=O$12,O$12>0),ROUND(N23+O$13,4),IF(AND($A24>=O$9,O$9>0),ROUND(N23+O$10,4),IF(AND($A24>=O$6,O$6>0),ROUND(N23+O$7,4),O$3))))) -> 9 | O24: =IF($A24<O$4, O$2, IF(O$1=0,IF(O$16>0,IF(O$2*O$16<ROUND(O23*N24, 3),O$2*O$16,ROUND(O23*N24, 3)),ROUND(O23*N24, 3)),IF(O$16>0,IF(O$2*O$16<ROUND(O$2*N24, 3),O$2*O$16,ROUND(O$2*N24, 3)),ROUND(O$2*N24, 3)))) -> 0.09 | P24: =P23+ROUND(O24,2) -> 0.22
A25: 6 | B25: =IF(($A25<C$4),1,IF(AND($A25>C$15,C$15>0),B24,IF(AND($A25>=C$12,C$12>0),ROUND(B24+C$13,4),IF(AND($A25>=C$9,C$9>0),ROUND(B24+C$10,4),IF(AND($A25>=C$6,C$6>0),ROUND(B24+C$7,4),C$3))))) -> 1.41 | C25: =IF($A25<C$4, C$2, IF(C$1=0,IF(C$16>0,IF(C$2*C$16<ROUND(C24*B25, 3),C$2*C$16,ROUND(C24*B25, 3)),ROUND(C24*B25, 3)),IF(C$16>0,IF(C$2*C$16<ROUND(C$2*B25, 3),C$2*C$16,ROUND(C$2*B25, 3)),ROUND(C$2*B25, 3)))) -> 0.055 | D25: =D24+ROUND(C25,2) -> 0.17 | F25: =IF(($A25<G$4),1,IF(AND($A25>G$15,G$15>0),F24,IF(AND($A25>=G$12,G$12>0),ROUND(F24+G$13,4),IF(AND($A25>=G$9,G$9>0),ROUND(F24+G$10,4),IF(AND($A25>=G$6,G$6>0),ROUND(F24+G$7,4),G$3))))) -> 1.41 | G25: =IF($A25<G$4, G$2, IF(G$1=0,IF(G$16>0,IF(G$2*G$16<ROUND(G24*F25, 3),G$2*G$16,ROUND(G24*F25, 3)),ROUND(G24*F25, 3)),IF(G$16>0,IF(G$2*G$16<ROUND(G$2*F25, 3),G$2*G$16,ROUND(G$2*F25, 3)),ROUND(G$2*F25, 3)))) -> 0.078 | H25: =H24+ROUND(G25,2) -> 0.25 | J25: =IF(($A25<K$4),1,IF(AND($A25>K$15,K$15>0),J24,IF(AND($A25>=K$12,K$12>0),ROUND(J24+K$13,4),IF(AND($A25>=K$9,K$9>0),ROUND(J24+K$10,4),IF(AND($A25>=K$6,K$6>0),ROUND(J24+K$7,4),K$3))))) -> 1.41 | K25: =IF($A25<K$4, K$2, IF(K$1=0,IF(K$16>0,IF(K$2*K$16<ROUND(K24*J25, 3),K$2*K$16,ROUND(K24*J25, 3)),ROUND(K24*J25, 3)),IF(K$16>0,IF(K$2*K$16<ROUND(K$2*J25, 3),K$2*K$16,ROUND(K$2*J25, 3)),ROUND(K$2*J25, 3)))) -> 0.083 | L25: =L24+ROUND(K25,2) -> 0.27 | N25: =IF(($A25<O$4),1,IF(AND($A25>O$15,O$15>0),N24,IF(AND($A25>=O$12,O$12>0),ROUND(N24+O$13,4),IF(AND($A25>=O$9,O$9>0),ROUND(N24+O$10,4),IF(AND($A25>=O$6,O$6>0),ROUND(N24+O$7,4),O$3))))) -> 12 | O25: =IF($A25<O$4, O$2, IF(O$1=0,IF(O$16>0,IF(O$2*O$16<ROUND(O24*N25, 3),O$2*O$16,ROUND(O24*N25, 3)),ROUND(O24*N25, 3)),IF(O$16>0,IF(O$2*O$16<ROUND(O$2*N25, 3),O$2*O$16,ROUND(O$2*N25, 3)),ROUND(O$2*N25, 3)))) -> 0.12 | P25: =P24+ROUND(O25,2) -> 0.34
A26: 7 | B26: =IF(($A26<C$4),1,IF(AND($A26>C$15,C$15>0),B25,IF(AND($A26>=C$12,C$12>0),ROUND(B25+C$13,4),IF(AND($A26>=C$9,C$9>0),ROUND(B25+C$10,4),IF(AND($A26>=C$6,C$6>0),ROUND(B25+C$7,4),C$3))))) -> 1.42 | C26: =IF($A26<C$4, C$2, IF(C$1=0,IF(C$16>0,IF(C$2*C$16<ROUND(C25*B26, 3),C$2*C$16,ROUND(C25*B26, 3)),ROUND(C25*B26, 3)),IF(C$16>0,IF(C$2*C$16<ROUND(C$2*B26, 3),C$2*C$16,ROUND(C$2*B26, 3)),ROUND(C$2*B26, 3)))) -> 0.078 | D26: =D25+ROUND(C26,2) -> 0.25 | F26: =IF(($A26<G$4),1,IF(AND($A26>G$15,G$15>0),F25,IF(AND($A26>=G$12,G$12>0),ROUND(F25+G$13,4),IF(AND($A26>=G$9,G$9>0),ROUND(F25+G$10,4),IF(AND($A26>=G$6,G$6>0),ROUND(F25+G$7,4),G$3))))) -> 1.42 | G26: =IF($A26<G$4, G$2, IF(G$1=0,IF(G$16>0,IF(G$2*G$16<ROUND(G25*F26, 3),G$2*G$16,ROUND(G25*F26, 3)),ROUND(G25*F26, 3)),IF(G$16>0,IF(G$2*G$16<ROUND(G$2*F26, 3),G$2*G$16,ROUND(G$2*F26, 3)),ROUND(G$2*F26, 3)))) -> 0.111 | H26: =H25+ROUND(G26,2) -> 0.36 | J26: =IF(($A26<K$4),1,IF(AND($A26>K$15,K$15>0),J25,IF(AND($A26>=K$12,K$12>0),ROUND(J25+K$13,4),IF(AND($A26>=K$9,K$9>0),ROUND(J25+K$10,4),IF(AND($A26>=K$6,K$6>0),ROUND(J25+K$7,4),K$3))))) -> 1.42 | K26: =IF($A26<K$4, K$2, IF(K$1=0,IF(K$16>0,IF(K$2*K$16<ROUND(K25*J26, 3),K$2*K$16,ROUND(K25*J26, 3)),ROUND(K25*J26, 3)),IF(K$16>0,IF(K$2*K$16<ROUND(K$2*J26, 3),K$2*K$16,ROUND(K$2*J26, 3)),ROUND(K$2*J26, 3)))) -> 0.118 | L26: =L25+ROUND(K26,2) -> 0.39 | N26: =IF(($A26<O$4),1,IF(AND($A26>O$15,O$15>0),N25,IF(AND($A26>=O$12,O$12>0),ROUND(N25+O$13,4),IF(AND($A26>=O$9,O$9>0),ROUND(N25+O$10,4),IF(AND($A26>=O$6,O$6>0),ROUND(N25+O$7,4),O$3))))) -> 15 | O26: =IF($A26<O$4, O$2, IF(O$1=0,IF(O$16>0,IF(O$2*O$16<ROUND(O25*N26, 3),O$2*O$16,ROUND(O25*N26, 3)),ROUND(O25*N26, 3)),IF(O$16>0,IF(O$2*O$16<ROUND(O$2*N26, 3),O$2*O$16,ROUND(O$2*N26, 3)),ROUND(O$2*N26, 3)))) -> 0.15 | P26: =P25+ROUND(O26,2) -> 0.49
A27: 8 | B27: =IF(($A27<C$4),1,IF(AND($A27>C$15,C$15>0),B26,IF(AND($A27>=C$12,C$12>0),ROUND(B26+C$13,4),IF(AND($A27>=C$9,C$9>0),ROUND(B26+C$10,4),IF(AND($A27>=C$6,C$6>0),ROUND(B26+C$7,4),C$3))))) -> 1.43 | C27: =IF($A27<C$4, C$2, IF(C$1=0,IF(C$16>0,IF(C$2*C$16<ROUND(C26*B27, 3),C$2*C$16,ROUND(C26*B27, 3)),ROUND(C26*B27, 3)),IF(C$16>0,IF(C$2*C$16<ROUND(C$2*B27, 3),C$2*C$16,ROUND(C$2*B27, 3)),ROUND(C$2*B27, 3)))) -> 0.112 | D27: =D26+ROUND(C27,2) -> 0.36 | F27: =IF(($A27<G$4),1,IF(AND($A27>G$15,G$15>0),F26,IF(AND($A27>=G$12,G$12>0),ROUND(F26+G$13,4),IF(AND($A27>=G$9,G$9>0),ROUND(F26+G$10,4),IF(AND($A27>=G$6,G$6>0),ROUND(F26+G$7,4),G$3))))) -> 1.43 | G27: =IF($A27<G$4, G$2, IF(G$1=0,IF(G$16>0,IF(G$2*G$16<ROUND(G26*F27, 3),G$2*G$16,ROUND(G26*F27, 3)),ROUND(G26*F27, 3)),IF(G$16>0,IF(G$2*G$16<ROUND(G$2*F27, 3),G$2*G$16,ROUND(G$2*F27, 3)),ROUND(G$2*F27, 3)))) -> 0.159 | H27: =H26+ROUND(G27,2) -> 0.52 | J27: =IF(($A27<K$4),1,IF(AND($A27>K$15,K$15>0),J26,IF(AND($A27>=K$12,K$12>0),ROUND(J26+K$13,4),IF(AND($A27>=K$9,K$9>0),ROUND(J26+K$10,4),IF(AND($A27>=K$6,K$6>0),ROUND(J26+K$7,4),K$3))))) -> 1.43 | K27: =IF($A27<K$4, K$2, IF(K$1=0,IF(K$16>0,IF(K$2*K$16<ROUND(K26*J27, 3),K$2*K$16,ROUND(K26*J27, 3)),ROUND(K26*J27, 3)),IF(K$16>0,IF(K$2*K$16<ROUND(K$2*J27, 3),K$2*K$16,ROUND(K$2*J27, 3)),ROUND(K$2*J27, 3)))) -> 0.169 | L27: =L26+ROUND(K27,2) -> 0.56 | N27: =IF(($A27<O$4),1,IF(AND($A27>O$15,O$15>0),N26,IF(AND($A27>=O$12,O$12>0),ROUND(N26+O$13,4),IF(AND($A27>=O$9,O$9>0),ROUND(N26+O$10,4),IF(AND($A27>=O$6,O$6>0),ROUND(N26+O$7,4),O$3))))) -> 18 | O27: =IF($A27<O$4, O$2, IF(O$1=0,IF(O$16>0,IF(O$2*O$16<ROUND(O26*N27, 3),O$2*O$16,ROUND(O26*N27, 3)),ROUND(O26*N27, 3)),IF(O$16>0,IF(O$2*O$16<ROUND(O$2*N27, 3),O$2*O$16,ROUND(O$2*N27, 3)),ROUND(O$2*N27, 3)))) -> 0.18 | P27: =P26+ROUND(O27,2) -> 0.67
A28: 9 | B28: =IF(($A28<C$4),1,IF(AND($A28>C$15,C$15>0),B27,IF(AND($A28>=C$12,C$12>0),ROUND(B27+C$13,4),IF(AND($A28>=C$9,C$9>0),ROUND(B27+C$10,4),IF(AND($A28>=C$6,C$6>0),ROUND(B27+C$7,4),C$3))))) -> 1.44 | C28: =IF($A28<C$4, C$2, IF(C$1=0,IF(C$16>0,IF(C$2*C$16<ROUND(C27*B28, 3),C$2*C$16,ROUND(C27*B28, 3)),ROUND(C27*B28, 3)),IF(C$16>0,IF(C$2*C$16<ROUND(C$2*B28, 3),C$2*C$16,ROUND(C$2*B28, 3)),ROUND(C$2*B28, 3)))) -> 0.161 | D28: =D27+ROUND(C28,2) -> 0.52 | F28: =IF(($A28<G$4),1,IF(AND($A28>G$15,G$15>0),F27,IF(AND($A28>=G$12,G$12>0),ROUND(F27+G$13,4),IF(AND($A28>=G$9,G$9>0),ROUND(F27+G$10,4),IF(AND($A28>=G$6,G$6>0),ROUND(F27+G$7,4),G$3))))) -> 1.44 | G28: =IF($A28<G$4, G$2, IF(G$1=0,IF(G$16>0,IF(G$2*G$16<ROUND(G27*F28, 3),G$2*G$16,ROUND(G27*F28, 3)),ROUND(G27*F28, 3)),IF(G$16>0,IF(G$2*G$16<ROUND(G$2*F28, 3),G$2*G$16,ROUND(G$2*F28, 3)),ROUND(G$2*F28, 3)))) -> 0.229 | H28: =H27+ROUND(G28,2) -> 0.75 | J28: =IF(($A28<K$4),1,IF(AND($A28>K$15,K$15>0),J27,IF(AND($A28>=K$12,K$12>0),ROUND(J27+K$13,4),IF(AND($A28>=K$9,K$9>0),ROUND(J27+K$10,4),IF(AND($A28>=K$6,K$6>0),ROUND(J27+K$7,4),K$3))))) -> 1.44 | K28: =IF($A28<K$4, K$2, IF(K$1=0,IF(K$16>0,IF(K$2*K$16<ROUND(K27*J28, 3),K$2*K$16,ROUND(K27*J28, 3)),ROUND(K27*J28, 3)),IF(K$16>0,IF(K$2*K$16<ROUND(K$2*J28, 3),K$2*K$16,ROUND(K$2*J28, 3)),ROUND(K$2*J28, 3)))) -> 0.243 | L28: =L27+ROUND(K28,2) -> 0.8 | N28: =IF(($A28<O$4),1,IF(AND($A28>O$15,O$15>0),N27,IF(AND($A28>=O$12,O$12>0),ROUND(N27+O$13,4),IF(AND($A28>=O$9,O$9>0),ROUND(N27+O$10,4),IF(AND($A28>=O$6,O$6>0),ROUND(N27+O$7,4),O$3))))) -> 21 | O28: =IF($A28<O$4, O$2, IF(O$1=0,IF(O$16>0,IF(O$2*O$16<ROUND(O27*N28, 3),O$2*O$16,ROUND(O27*N28, 3)),ROUND(O27*N28, 3)),IF(O$16>0,IF(O$2*O$16<ROUND(O$2*N28, 3),O$2*O$16,ROUND(O$2*N28, 3)),ROUND(O$2*N28, 3)))) -> 0.21 | P28: =P27+ROUND(O28,2) -> 0.88
A29: 10 | B29: =IF(($A29<C$4),1,IF(AND($A29>C$15,C$15>0),B28,IF(AND($A29>=C$12,C$12>0),ROUND(B28+C$13,4),IF(AND($A29>=C$9,C$9>0),ROUND(B28+C$10,4),IF(AND($A29>=C$6,C$6>0),ROUND(B28+C$7,4),C$3))))) -> 1.45 | C29: =IF($A29<C$4, C$2, IF(C$1=0,IF(C$16>0,IF(C$2*C$16<ROUND(C28*B29, 3),C$2*C$16,ROUND(C28*B29, 3)),ROUND(C28*B29, 3)),IF(C$16>0,IF(C$2*C$16<ROUND(C$2*B29, 3),C$2*C$16,ROUND(C$2*B29, 3)),ROUND(C$2*B29, 3)))) -> 0.233 | D29: =D28+ROUND(C29,2) -> 0.75 | F29: =IF(($A29<G$4),1,IF(AND($A29>G$15,G$15>0),F28,IF(AND($A29>=G$12,G$12>0),ROUND(F28+G$13,4),IF(AND($A29>=G$9,G$9>0),ROUND(F28+G$10,4),IF(AND($A29>=G$6,G$6>0),ROUND(F28+G$7,4),G$3))))) -> 1.45 | G29: =IF($A29<G$4, G$2, IF(G$1=0,IF(G$16>0,IF(G$2*G$16<ROUND(G28*F29, 3),G$2*G$16,ROUND(G28*F29, 3)),ROUND(G28*F29, 3)),IF(G$16>0,IF(G$2*G$16<ROUND(G$2*F29, 3),G$2*G$16,ROUND(G$2*F29, 3)),ROUND(G$2*F29, 3)))) -> 0.332 | H29: =H28+ROUND(G29,2) -> 1.08 | J29: =IF(($A29<K$4),1,IF(AND($A29>K$15,K$15>0),J28,IF(AND($A29>=K$12,K$12>0),ROUND(J28+K$13,4),IF(AND($A29>=K$9,K$9>0),ROUND(J28+K$10,4),IF(AND($A29>=K$6,K$6>0),ROUND(J28+K$7,4),K$3))))) -> 1.45 | K29: =IF($A29<K$4, K$2, IF(K$1=0,IF(K$16>0,IF(K$2*K$16<ROUND(K28*J29, 3),K$2*K$16,ROUND(K28*J29, 3)),ROUND(K28*J29, 3)),IF(K$16>0,IF(K$2*K$16<ROUND(K$2*J29, 3),K$2*K$16,ROUND(K$2*J29, 3)),ROUND(K$2*J29, 3)))) -> 0.352 | L29: =L28+ROUND(K29,2) -> 1.15 | N29: =IF(($A29<O$4),1,IF(AND($A29>O$15,O$15>0),N28,IF(AND($A29>=O$12,O$12>0),ROUND(N28+O$13,4),IF(AND($A29>=O$9,O$9>0),ROUND(N28+O$10,4),IF(AND($A29>=O$6,O$6>0),ROUND(N28+O$7,4),O$3))))) -> 26 | O29: =IF($A29<O$4, O$2, IF(O$1=0,IF(O$16>0,IF(O$2*O$16<ROUND(O28*N29, 3),O$2*O$16,ROUND(O28*N29, 3)),ROUND(O28*N29, 3)),IF(O$16>0,IF(O$2*O$16<ROUND(O$2*N29, 3),O$2*O$16,ROUND(O$2*N29, 3)),ROUND(O$2*N29, 3)))) -> 0.26 | P29: =P28+ROUND(O29,2) -> 1.14
A30: 11 | B30: =IF(($A30<C$4),1,IF(AND($A30>C$15,C$15>0),B29,IF(AND($A30>=C$12,C$12>0),ROUND(B29+C$13,4),IF(AND($A30>=C$9,C$9>0),ROUND(B29+C$10,4),IF(AND($A30>=C$6,C$6>0),ROUND(B29+C$7,4),C$3))))) -> 1.46 | C30: =IF($A30<C$4, C$2, IF(C$1=0,IF(C$16>0,IF(C$2*C$16<ROUND(C29*B30, 3),C$2*C$16,ROUND(C29*B30, 3)),ROUND(C29*B30, 3)),IF(C$16>0,IF(C$2*C$16<ROUND(C$2*B30, 3),C$2*C$16,ROUND(C$2*B30, 3)),ROUND(C$2*B30, 3)))) -> 0.34 | D30: =D29+ROUND(C30,2) -> 1.09 | F30: =IF(($A30<G$4),1,IF(AND($A30>G$15,G$15>0),F29,IF(AND($A30>=G$12,G$12>0),ROUND(F29+G$13,4),IF(AND($A30>=G$9,G$9>0),ROUND(F29+G$10,4),IF(AND($A30>=G$6,G$6>0),ROUND(F29+G$7,4),G$3))))) -> 1.46 | G30: =IF($A30<G$4, G$2, IF(G$1=0,IF(G$16>0,IF(G$2*G$16<ROUND(G29*F30, 3),G$2*G$16,ROUND(G29*F30, 3)),ROUND(G29*F30, 3)),IF(G$16>0,IF(G$2*G$16<ROUND(G$2*F30, 3),G$2*G$16,ROUND(G$2*F30, 3)),ROUND(G$2*F30, 3)))) -> 0.485 | H30: =H29+ROUND(G30,2) -> 1.57 | J30: =IF(($A30<K$4),1,IF(AND($A30>K$15,K$15>0),J29,IF(AND($A30>=K$12,K$12>0),ROUND(J29+K$13,4),IF(AND($A30>=K$9,K$9>0),ROUND(J29+K$10,4),IF(AND($A30>=K$6,K$6>0),ROUND(J29+K$7,4),K$3))))) -> 1.46 | K30: =IF($A30<K$4, K$2, IF(K$1=0,IF(K$16>0,IF(K$2*K$16<ROUND(K29*J30, 3),K$2*K$16,ROUND(K29*J30, 3)),ROUND(K29*J30, 3)),IF(K$16>0,IF(K$2*K$16<ROUND(K$2*J30, 3),K$2*K$16,ROUND(K$2*J30, 3)),ROUND(K$2*J30, 3)))) -> 0.514 | L30: =L29+ROUND(K30,2) -> 1.66 | N30: =IF(($A30<O$4),1,IF(AND($A30>O$15,O$15>0),N29,IF(AND($A30>=O$12,O$12>0),ROUND(N29+O$13,4),IF(AND($A30>=O$9,O$9>0),ROUND(N29+O$10,4),IF(AND($A30>=O$6,O$6>0),ROUND(N29+O$7,4),O$3))))) -> 31 | O30: =IF($A30<O$4, O$2, IF(O$1=0,IF(O$16>0,IF(O$2*O$16<ROUND(O29*N30, 3),O$2*O$16,ROUND(O29*N30, 3)),ROUND(O29*N30, 3)),IF(O$16>0,IF(O$2*O$16<ROUND(O$2*N30, 3),O$2*O$16,ROUND(O$2*N30, 3)),ROUND(O$2*N30, 3)))) -> 0.31 | P30: =P29+ROUND(O30,2) -> 1.45
A31: 12 | B31: =IF(($A31<C$4),1,IF(AND($A31>C$15,C$15>0),B30,IF(AND($A31>=C$12,C$12>0),ROUND(B30+C$13,4),IF(AND($A31>=C$9,C$9>0),ROUND(B30+C$10,4),IF(AND($A31>=C$6,C$6>0),ROUND(B30+C$7,4),C$3))))) -> 1.47 | C31: =IF($A31<C$4, C$2, IF(C$1=0,IF(C$16>0,IF(C$2*C$16<ROUND(C30*B31, 3),C$2*C$16,ROUND(C30*B31, 3)),ROUND(C30*B31, 3)),IF(C$16>0,IF(C$2*C$16<ROUND(C$2*B31, 3),C$2*C$16,ROUND(C$2*B31, 3)),ROUND(C$2*B31, 3)))) -> 0.5 | D31: =D30+ROUND(C31,2) -> 1.59 | F31: =IF(($A31<G$4),1,IF(AND($A31>G$15,G$15>0),F30,IF(AND($A31>=G$12,G$12>0),ROUND(F30+G$13,4),IF(AND($A31>=G$9,G$9>0),ROUND(F30+G$10,4),IF(AND($A31>=G$6,G$6>0),ROUND(F30+G$7,4),G$3))))) -> 1.47 | G31: =IF($A31<G$4, G$2, IF(G$1=0,IF(G$16>0,IF(G$2*G$16<ROUND(G30*F31, 3),G$2*G$16,ROUND(G30*F31, 3)),ROUND(G30*F31, 3)),IF(G$16>0,IF(G$2*G$16<ROUND(G$2*F31, 3),G$2*G$16,ROUND(G$2*F31, 3)),ROUND(G$2*F31, 3)))) -> 0.713 | H31: =H30+ROUND(G31,2) -> 2.28 | J31: =IF(($A31<K$4),1,IF(AND($A31>K$15,K$15>0),J30,IF(AND($A31>=K$12,K$12>0),ROUND(J30+K$13,4),IF(AND($A31>=K$9,K$9>0),ROUND(J30+K$10,4),IF(AND($A31>=K$6,K$6>0),ROUND(J30+K$7,4),K$3))))) -> 1.47 | K31: =IF($A31<K$4, K$2, IF(K$1=0,IF(K$16>0,IF(K$2*K$16<ROUND(K30*J31, 3),K$2*K$16,ROUND(K30*J31, 3)),ROUND(K30*J31, 3)),IF(K$16>0,IF(K$2*K$16<ROUND(K$2*J31, 3),K$2*K$16,ROUND(K$2*J31, 3)),ROUND(K$2*J31, 3)))) -> 0.756 | L31: =L30+ROUND(K31,2) -> 2.42 | N31: =IF(($A31<O$4),1,IF(AND($A31>O$15,O$15>0),N30,IF(AND($A31>=O$12,O$12>0),ROUND(N30+O$13,4),IF(AND($A31>=O$9,O$9>0),ROUND(N30+O$10,4),IF(AND($A31>=O$6,O$6>0),ROUND(N30+O$7,4),O$3))))) -> 36 | O31: =IF($A31<O$4, O$2, IF(O$1=0,IF(O$16>0,IF(O$2*O$16<ROUND(O30*N31, 3),O$2*O$16,ROUND(O30*N31, 3)),ROUND(O30*N31, 3)),IF(O$16>0,IF(O$2*O$16<ROUND(O$2*N31, 3),O$2*O$16,ROUND(O$2*N31, 3)),ROUND(O$2*N31, 3)))) -> 0.36 | P31: =P30+ROUND(O31,2) -> 1.81
A32: 13 | B32: =IF(($A32<C$4),1,IF(AND($A32>C$15,C$15>0),B31,IF(AND($A32>=C$12,C$12>0),ROUND(B31+C$13,4),IF(AND($A32>=C$9,C$9>0),ROUND(B31+C$10,4),IF(AND($A32>=C$6,C$6>0),ROUND(B31+C$7,4),C$3))))) -> 1.47 | C32: =IF($A32<C$4, C$2, IF(C$1=0,IF(C$16>0,IF(C$2*C$16<ROUND(C31*B32, 3),C$2*C$16,ROUND(C31*B32, 3)),ROUND(C31*B32, 3)),IF(C$16>0,IF(C$2*C$16<ROUND(C$2*B32, 3),C$2*C$16,ROUND(C$2*B32, 3)),ROUND(C$2*B32, 3)))) -> 0.735 | D32: =D31+ROUND(C32,2) -> 2.33 | F32: =IF(($A32<G$4),1,IF(AND($A32>G$15,G$15>0),F31,IF(AND($A32>=G$12,G$12>0),ROUND(F31+G$13,4),IF(AND($A32>=G$9,G$9>0),ROUND(F31+G$10,4),IF(AND($A32>=G$6,G$6>0),ROUND(F31+G$7,4),G$3))))) -> 1.48 | G32: =IF($A32<G$4, G$2, IF(G$1=0,IF(G$16>0,IF(G$2*G$16<ROUND(G31*F32, 3),G$2*G$16,ROUND(G31*F32, 3)),ROUND(G31*F32, 3)),IF(G$16>0,IF(G$2*G$16<ROUND(G$2*F32, 3),G$2*G$16,ROUND(G$2*F32, 3)),ROUND(G$2*F32, 3)))) -> 1.055 | H32: =H31+ROUND(G32,2) -> 3.34 | J32: =IF(($A32<K$4),1,IF(AND($A32>K$15,K$15>0),J31,IF(AND($A32>=K$12,K$12>0),ROUND(J31+K$13,4),IF(AND($A32>=K$9,K$9>0),ROUND(J31+K$10,4),IF(AND($A32>=K$6,K$6>0),ROUND(J31+K$7,4),K$3))))) -> 1.48 | K32: =IF($A32<K$4, K$2, IF(K$1=0,IF(K$16>0,IF(K$2*K$16<ROUND(K31*J32, 3),K$2*K$16,ROUND(K31*J32, 3)),ROUND(K31*J32, 3)),IF(K$16>0,IF(K$2*K$16<ROUND(K$2*J32, 3),K$2*K$16,ROUND(K$2*J32, 3)),ROUND(K$2*J32, 3)))) -> 1.119 | L32: =L31+ROUND(K32,2) -> 3.54 | N32: =IF(($A32<O$4),1,IF(AND($A32>O$15,O$15>0),N31,IF(AND($A32>=O$12,O$12>0),ROUND(N31+O$13,4),IF(AND($A32>=O$9,O$9>0),ROUND(N31+O$10,4),IF(AND($A32>=O$6,O$6>0),ROUND(N31+O$7,4),O$3))))) -> 41 | O32: =IF($A32<O$4, O$2, IF(O$1=0,IF(O$16>0,IF(O$2*O$16<ROUND(O31*N32, 3),O$2*O$16,ROUND(O31*N32, 3)),ROUND(O31*N32, 3)),IF(O$16>0,IF(O$2*O$16<ROUND(O$2*N32, 3),O$2*O$16,ROUND(O$2*N32, 3)),ROUND(O$2*N32, 3)))) -> 0.4 | P32: =P31+ROUND(O32,2) -> 2.21
... A39: 20 | B39: =IF(($A39<C$4),1,IF(AND($A39>C$15,C$15>0),B38,IF(AND($A39>=C$12,C$12>0),ROUND(B38+C$13,4),IF(AND($A39>=C$9,C$9>0),ROUND(B38+C$10,4),IF(AND($A39>=C$6,C$6>0),ROUND(B38+C$7,4),C$3))))) -> 1.47 | C39: =IF($A39<C$4, C$2, IF(C$1=0,IF(C$16>0,IF(C$2*C$16<ROUND(C38*B39, 3),C$2*C$16,ROUND(C38*B39, 3)),ROUND(C38*B39, 3)),IF(C$16>0,IF(C$2*C$16<ROUND(C$2*B39, 3),C$2*C$16,ROUND(C$2*B39, 3)),ROUND(C$2*B39, 3)))) -> 4 | D39: =D38+ROUND(C39,2) -> 22.76 | F39: =IF(($A39<G$4),1,IF(AND($A39>G$15,G$15>0),F38,IF(AND($A39>=G$12,G$12>0),ROUND(F38+G$13,4),IF(AND($A39>=G$9,G$9>0),ROUND(F38+G$10,4),IF(AND($A39>=G$6,G$6>0),ROUND(F38+G$7,4),G$3))))) -> 1.5 | G39: =IF($A39<G$4, G$2, IF(G$1=0,IF(G$16>0,IF(G$2*G$16<ROUND(G38*F39, 3),G$2*G$16,ROUND(G38*F39, 3)),ROUND(G38*F39, 3)),IF(G$16>0,IF(G$2*G$16<ROUND(G$2*F39, 3),G$2*G$16,ROUND(G$2*F39, 3)),ROUND(G$2*F39, 3)))) -> 4 | H39: =H38+ROUND(G39,2) -> 26.81 | J39: =IF(($A39<K$4),1,IF(AND($A39>K$15,K$15>0),J38,IF(AND($A39>=K$12,K$12>0),ROUND(J38+K$13,4),IF(AND($A39>=K$9,K$9>0),ROUND(J38+K$10,4),IF(AND($A39>=K$6,K$6>0),ROUND(J38+K$7,4),K$3))))) -> 1.55 | K39: =IF($A39<K$4, K$2, IF(K$1=0,IF(K$16>0,IF(K$2*K$16<ROUND(K38*J39, 3),K$2*K$16,ROUND(K38*J39, 3)),ROUND(K38*J39, 3)),IF(K$16>0,IF(K$2*K$16<ROUND(K$2*J39, 3),K$2*K$16,ROUND(K$2*J39, 3)),ROUND(K$2*J39, 3)))) -> 6 | L39: =L38+ROUND(K39,2) -> 35.23 | N39: =IF(($A39<O$4),1,IF(AND($A39>O$15,O$15>0),N38,IF(AND($A39>=O$12,O$12>0),ROUND(N38+O$13,4),IF(AND($A39>=O$9,O$9>0),ROUND(N38+O$10,4),IF(AND($A39>=O$6,O$6>0),ROUND(N38+O$7,4),O$3))))) -> 46 | O39: =IF($A39<O$4, O$2, IF(O$1=0,IF(O$16>0,IF(O$2*O$16<ROUND(O38*N39, 3),O$2*O$16,ROUND(O38*N39, 3)),ROUND(O38*N39, 3)),IF(O$16>0,IF(O$2*O$16<ROUND(O$2*N39, 3),O$2*O$16,ROUND(O$2*N39, 3)),ROUND(O$2*N39, 3)))) -> 0.4 | P39: =P38+ROUND(O39,2) -> 5.01

Sheet Итого
B2: Колено | C2: MinLot | E2: 0.01 | F2: =E2+0.01 -> 0.02 | G2: =F2+0.01 -> 0.03 | H2: =G2+0.01 -> 0.04 | I2: =H2+0.01 -> 0.05 | J2: =I2+0.01 -> 0.06 | K2: =J2+0.01 -> 0.07 | L2: =K2+0.01 -> 0.08 | M2: =L2+0.01 -> 0.09 | N2: =M2+0.01 -> 0.1
B3: ='0.01'!A31 -> 12 | C3: Просадка+залог (Колонка Х) | E3: ='0.01'!$X31 -> 905.65 | F3: ='0.02'!$X31 -> 1795.06 | G3: ='0.03'!$X31 -> 3639.76 | H3: ='0.04'!$X31 -> 3639.76 | I3: ='0.05'!$X31 -> 4547.98 | J3: ='0.06'!$X31 -> 5482.75 | K3: ='0.07'!$X31 -> 6368.41 | L3: ='0.08'!$X31 -> 7285.04 | M3: ='0.09'!$X31 -> 8172.02 | N3: ='0.10'!$X31 -> 9080.27
C4: Отношение = Просадка тек MinLot / Просадка MinLot=0.01 | E4: =E3/$E$3 -> 1 | F4: =F3/$E$3 -> 1.9820681 | G4: =G3/$E$3 -> 4.0189477 | H4: =H3/$E$3 -> 4.0189477 | I4: =I3/$E$3 -> 5.0217855 | J4: =J3/$E$3 -> 6.0539392 | K4: =K3/$E$3 -> 7.0318666 | L4: =L3/$E$3 -> 8.0439905 | ... N4: =N3/$E$3 -> 10.026246
B6: ='0.01'!A34 -> 15 | C6: Просадка+залог (Колонка Х) | E6: ='0.01'!$X34 -> 4426.61 | F6: ='0.02'!$X34 -> 8765.69 | G6: ='0.03'!$X34 -> 17822.34 | H6: ='0.04'!$X34 -> 17822.34 | I6: ='0.05'!$X34 -> 22259.3 | J6: ='0.06'!$X34 -> 26876.94 | K6: ='0.07'!$X34 -> 31197.43 | L6: ='0.08'!$X34 -> 35680.04 | M6: ='0.09'!$X34 -> 40022.98 | N6: ='0.10'!$X34 -> 44453.7
C7: Отношение = Просадка тек MinLot / Просадка MinLot=0.01 | E7: =E6/$E$6 -> 1 | F7: =F6/$E$6 -> 1.9802264 | G7: =G6/$E$6 -> 4.0261826 | H7: =H6/$E$6 -> 4.0261826 | I7: =I6/$E$6 -> 5.0285207 | J7: =J6/$E$6 -> 6.0716756 | K7: =K6/$E$6 -> 7.0477024 | L7: =L6/$E$6 -> 8.0603532 | ... N7: =N6/$E$6 -> 10.04238
