Workbook

Sheet mult+lots 2x2
A1: CalcLotType | B1: =IF(C$1=0,"LastOrder",IF(C$1=1,"MinOrder","ОШИБКА")) -> LastOrder | C1: 0 | J1: =IF(K$1=0,"LastOrder",IF(K$1=1,"MinOrder","ОШИБКА")) -> LastOrder | K1: 0
A2: MinLot | B2: =IF(C$2<0,"д.б. >0","") | C2: 0.01 | J2: =IF(K$2<0,"д.б. >0","") | K2: 0.01
A3: Mult | B3: =IF(C$3<0,"д.б. >0","") | C3: 1.4 | J3: =IF(K$3<0,"д.б. >0","") | K3: 1.5
A6: MultLevel2 | B6: =IF(C$6<0,"д.б. >=0","") | C6: 6 | J6: =IF(K$6<0,"д.б. >=0","") | K6: 5
A7: MultCorr | B7: =IF(AND(C$6=0,C$7<>0),"д.б. =0","") | C7: 0.02 | J7: =IF(AND(K$6=0,K$7<>0),"д.б. =0","") | K7: 0.02
B8: =IF(OR(C$6=1,C$6<0,C$9=1,C$9<0,C$12=1,C$12<0,C$15<0,AND(C$6>0,B$18>=C$6),AND(C$9>0,B$18>=C$9),AND(C$12>0,B$18>=C$12),AND(C$6>0,F$18>=C$6),AND(C$9>0,F$18>=C$9),AND(C$12>0,F$18>=C$12),AND(C$6>1,C$9>1,C$6>=C$9),AND(C$6>1,C$12>1,C$6>=C$12),AND(C$9>1,C$12>1,C$9>=C$12),AND(C$6>1,C$15>0,C$6>C$15),AND(C$9>1,C$15>0,C$9>C$15),AND(C$12>1,C$15>0,C$12>C$15)),"НЕВЕРНО ЗАДАНЫ №№ колен в настройках","") | J8: =IF(OR(K$6=1,K$6<0,K$9=1,K$9<0,K$12=1,K$12<0,K$15<0,AND(K$6>0,J$18>=K$6),AND(K$9>0,J$18>=K$9),AND(K$12>0,J$18>=K$12),AND(K$6>0,N$18>=K$6),AND(K$9>0,N$18>=K$9),AND(K$12>0,N$18>=K$12),AND(K$6>1,K$9>1,K$6>=K$9),AND(K$6>1,K$12>1,K$6>=K$12),AND(K$9>1,K$12>1,K$9>=K$12),AND(K$6>1,K$15>0,K$6>K$15),AND(K$9>1,K$15>0,K$9>K$15),AND(K$12>1,K$15>0,K$12>K$15)),"НЕВЕРНО ЗАДАНЫ №№ колен в настройках","")
A9: MultLevel3 | B9: =IF(C$9<0,"д.б. >=0","") | C9: 11 | J9: =IF(K$9<0,"д.б. >=0","") | K9: 10
A10: MultСorrLevel3 | B10: =IF(AND(C$9=0,C$10<>0),"д.б. =0","") | C10: -0.05 | J10: =IF(AND(K$9=0,K$10<>0),"д.б. =0","") | K10: -0.05
A12: Mult3 | B12: =IF(C$12<0,"д.б. >=0","") | C12: 0 | J12: =IF(K$12<0,"д.б. >=0","") | K12: 0
A13: Mult3Add | B13: =IF(AND(C$12=0,C$13<>0),"д.б. =0","") | C13: 0 | J13: =IF(AND(K$12=0,K$13<>0),"д.б. =0","") | K13: 0
A15: MultStop | B15: =IF(C$15<0,"д.б. >=0","") | C15: 15 | J15: =IF(K$15<0,"д.б. >=0","") | K15: 12
A16: MaxLotCoef | B16: =IF(C$16<0,"д.б. >=0","") | C16: 110 | J16: =IF(K$16<0,"д.б. >=0","") | K16: 200
A18: MultStart | B18: 3 | F18: 2 | J18: 3 | N18: 2
A19: №№ колен | B19: Мульт | C19: Ордер | D19: Лотов | F19: Мульт | G19: Ордер | H19: Лотов | J19: Мульт | K19: Ордер | L19: Лотов | N19: Мульт | O19: Ордер | P19: Лотов
A21: 1 | B21: =IF(($A21<B$18),1,IF(AND($A21>$C$15,$C$15>0),B20,IF(AND($A21>=$C$12,$C$12>0),ROUND(B20+$C$13,4),IF(AND($A21>=$C$9,$C$9>0),ROUND(B20+$C$10,4),IF(AND($A21>=$C$6,$C$6>0),ROUND(B20+$C$7,4),$C$3))))) -> 1 | C21: =IF($A21<B$18, $C$2, IF($C$1=0,IF($C$16>0,IF($C$2*$C$16<ROUND(C20*B21, 3),$C$2*$C$16,ROUND(C20*B21, 3)),ROUND(C20*B21, 3)),IF($C$16>0,IF($C$2*$C$16<ROUND($C$2*B21, 3),$C$2*$C$16,ROUND($C$2*B21, 3)),ROUND($C$2*B21, 3)))) -> 0.01 | D21: =C21 -> 0.01 | F21: =IF(($A21<F$18),1,IF(AND($A21>$C$15,$C$15>0),F20,IF(AND($A21>=$C$12,$C$12>0),ROUND(F20+$C$13,4),IF(AND($A21>=$C$9,$C$9>0),ROUND(F20+$C$10,4),IF(AND($A21>=$C$6,$C$6>0),ROUND(F20+$C$7,4),$C$3))))) -> 1 | G21: =IF($A21<F$18, $C$2, IF($C$1=0,IF($C$16>0,IF($C$2*$C$16<ROUND(G20*F21, 3),$C$2*$C$16,ROUND(G20*F21, 3)),ROUND(G20*F21, 3)),IF($C$16>0,IF($C$2*$C$16<ROUND($C$2*F21, 3),$C$2*$C$16,ROUND($C$2*F21, 3)),ROUND($C$2*F21, 3)))) -> 0.01 | H21: =G21 -> 0.01 | J21: =IF(($A21<J$18),1,IF(AND($A21>$K$15,$K$15>0),J20,IF(AND($A21>=$K$12,$K$12>0),ROUND(J20+$K$13,4),IF(AND($A21>=$K$9,$K$9>0),ROUND(J20+$K$10,4),IF(AND($A21>=$K$6,$K$6>0),ROUND(J20+$K$7,4),$K$3))))) -> 1 | K21: =IF($A21<J$18, $K$2, IF($K$1=0,IF($K$16>0,IF($K$2*$K$16<ROUND(K20*J21, 3),$K$2*$K$16,ROUND(K20*J21, 3)),ROUND(K20*J21, 3)),IF($K$16>0,IF($K$2*$K$16<ROUND($K$2*J21, 3),$K$2*$K$16,ROUND($K$2*J21, 3)),ROUND($K$2*J21, 3)))) -> 0.01 | L21: =K21 -> 0.01 | N21: =IF(($A21<N$18),1,IF(AND($A21>$K$15,$K$15>0),N20,IF(AND($A21>=$K$12,$K$12>0),ROUND(N20+$K$13,4),IF(AND($A21>=$K$9,$K$9>0),ROUND(N20+$K$10,4),IF(AND($A21>=$K$6,$K$6>0),ROUND(N20+$K$7,4),$K$3))))) -> 1 | O21: =IF($A21<N$18, $K$2, IF($K$1=0,IF($K$16>0,IF($K$2*$K$16<ROUND(O20*N21, 3),$K$2*$K$16,ROUND(O20*N21, 3)),ROUND(O20*N21, 3)),IF($K$16>0,IF($K$2*$K$16<ROUND($K$2*N21, 3),$K$2*$K$16,ROUND($K$2*N21, 3)),ROUND($K$2*N21, 3)))) -> 0.01 | P21: =O21 -> 0.01
A22: 2 | B22: =IF(($A22<B$18),1,IF(AND($A22>$C$15,$C$15>0),B21,IF(AND($A22>=$C$12,$C$12>0),ROUND(B21+$C$13,4),IF(AND($A22>=$C$9,$C$9>0),ROUND(B21+$C$10,4),IF(AND($A22>=$C$6,$C$6>0),ROUND(B21+$C$7,4),$C$3))))) -> 1 | C22: =IF($A22<B$18, $C$2, IF($C$1=0,IF($C$16>0,IF($C$2*$C$16<ROUND(C21*B22, 3),$C$2*$C$16,ROUND(C21*B22, 3)),ROUND(C21*B22, 3)),IF($C$16>0,IF($C$2*$C$16<ROUND($C$2*B22, 3),$C$2*$C$16,ROUND($C$2*B22, 3)),ROUND($C$2*B22, 3)))) -> 0.01 | D22: =D21+ROUND(C22,2) -> 0.02 | F22: =IF(($A22<F$18),1,IF(AND($A22>$C$15,$C$15>0),F21,IF(AND($A22>=$C$12,$C$12>0),ROUND(F21+$C$13,4),IF(AND($A22>=$C$9,$C$9>0),ROUND(F21+$C$10,4),IF(AND($A22>=$C$6,$C$6>0),ROUND(F21+$C$7,4),$C$3))))) -> 1.4 | G22: =IF($A22<F$18, $C$2, IF($C$1=0,IF($C$16>0,IF($C$2*$C$16<ROUND(G21*F22, 3),$C$2*$C$16,ROUND(G21*F22, 3)),ROUND(G21*F22, 3)),IF($C$16>0,IF($C$2*$C$16<ROUND($C$2*F22, 3),$C$2*$C$16,ROUND($C$2*F22, 3)),ROUND($C$2*F22, 3)))) -> 0.014 | H22: =H21+ROUND(G22,2) -> 0.02 | J22: =IF(($A22<J$18),1,IF(AND($A22>$K$15,$K$15>0),J21,IF(AND($A22>=$K$12,$K$12>0),ROUND(J21+$K$13,4),IF(AND($A22>=$K$9,$K$9>0),ROUND(J21+$K$10,4),IF(AND($A22>=$K$6,$K$6>0),ROUND(J21+$K$7,4),$K$3))))) -> 1 | K22: =IF($A22<J$18, $K$2, IF($K$1=0,IF($K$16>0,IF($K$2*$K$16<ROUND(K21*J22, 3),$K$2*$K$16,ROUND(K21*J22, 3)),ROUND(K21*J22, 3)),IF($K$16>0,IF($K$2*$K$16<ROUND($K$2*J22, 3),$K$2*$K$16,ROUND($K$2*J22, 3)),ROUND($K$2*J22, 3)))) -> 0.01 | L22: =L21+ROUND(K22,2) -> 0.02 | N22: =IF(($A22<N$18),1,IF(AND($A22>$K$15,$K$15>0),N21,IF(AND($A22>=$K$12,$K$12>0),ROUND(N21+$K$13,4),IF(AND($A22>=$K$9,$K$9>0),ROUND(N21+$K$10,4),IF(AND($A22>=$K$6,$K$6>0),ROUND(N21+$K$7,4),$K$3))))) -> 1.5 | O22: =IF($A22<N$18, $K$2, IF($K$1=0,IF($K$16>0,IF($K$2*$K$16<ROUND(O21*N22, 3),$K$2*$K$16,ROUND(O21*N22, 3)),ROUND(O21*N22, 3)),IF($K$16>0,IF($K$2*$K$16<ROUND($K$2*N22, 3),$K$2*$K$16,ROUND($K$2*N22, 3)),ROUND($K$2*N22, 3)))) -> 0.015 | P22: =P21+ROUND(O22,2) -> 0.03
A23: 3 | B23: =IF(($A23<B$18),1,IF(AND($A23>$C$15,$C$15>0),B22,IF(AND($A23>=$C$12,$C$12>0),ROUND(B22+$C$13,4),IF(AND($A23>=$C$9,$C$9>0),ROUND(B22+$C$10,4),IF(AND($A23>=$C$6,$C$6>0),ROUND(B22+$C$7,4),$C$3))))) -> 1.4 | C23: =IF($A23<B$18, $C$2, IF($C$1=0,IF($C$16>0,IF($C$2*$C$16<ROUND(C22*B23, 3),$C$2*$C$16,ROUND(C22*B23, 3)),ROUND(C22*B23, 3)),IF($C$16>0,IF($C$2*$C$16<ROUND($C$2*B23, 3),$C$2*$C$16,ROUND($C$2*B23, 3)),ROUND($C$2*B23, 3)))) -> 0.014 | D23: =D22+ROUND(C23,2) -> 0.03 | F23: =IF(($A23<F$18),1,IF(AND($A23>$C$15,$C$15>0),F22,IF(AND($A23>=$C$12,$C$12>0),ROUND(F22+$C$13,4),IF(AND($A23>=$C$9,$C$9>0),ROUND(F22+$C$10,4),IF(AND($A23>=$C$6,$C$6>0),ROUND(F22+$C$7,4),$C$3))))) -> 1.4 | G23: =IF($A23<F$18, $C$2, IF($C$1=0,IF($C$16>0,IF($C$2*$C$16<ROUND(G22*F23, 3),$C$2*$C$16,ROUND(G22*F23, 3)),ROUND(G22*F23, 3)),IF($C$16>0,IF($C$2*$C$16<ROUND($C$2*F23, 3),$C$2*$C$16,ROUND($C$2*F23, 3)),ROUND($C$2*F23, 3)))) -> 0.02 | H23: =H22+ROUND(G23,2) -> 0.04 | J23: =IF(($A23<J$18),1,IF(AND($A23>$K$15,$K$15>0),J22,IF(AND($A23>=$K$12,$K$12>0),ROUND(J22+$K$13,4),IF(AND($A23>=$K$9,$K$9>0),ROUND(J22+$K$10,4),IF(AND($A23>=$K$6,$K$6>0),ROUND(J22+$K$7,4),$K$3))))) -> 1.5 | K23: =IF($A23<J$18, $K$2, IF($K$1=0,IF($K$16>0,IF($K$2*$K$16<ROUND(K22*J23, 3),$K$2*$K$16,ROUND(K22*J23, 3)),ROUND(K22*J23, 3)),IF($K$16>0,IF($K$2*$K$16<ROUND($K$2*J23, 3),$K$2*$K$16,ROUND($K$2*J23, 3)),ROUND($K$2*J23, 3)))) -> 0.015 | L23: =L22+ROUND(K23,2) -> 0.04 | N23: =IF(($A23<N$18),1,IF(AND($A23>$K$15,$K$15>0),N22,IF(AND($A23>=$K$12,$K$12>0),ROUND(N22+$K$13,4),IF(AND($A23>=$K$9,$K$9>0),ROUND(N22+$K$10,4),IF(AND($A23>=$K$6,$K$6>0),ROUND(N22+$K$7,4),$K$3))))) -> 1.5 | O23: =IF($A23<N$18, $K$2, IF($K$1=0,IF($K$16>0,IF($K$2*$K$16<ROUND(O22*N23, 3),$K$2*$K$16,ROUND(O22*N23, 3)),ROUND(O22*N23, 3)),IF($K$16>0,IF($K$2*$K$16<ROUND($K$2*N23, 3),$K$2*$K$16,ROUND($K$2*N23, 3)),ROUND($K$2*N23, 3)))) -> 0.023 | P23: =P22+ROUND(O23,2) -> 0.05
A24: 4 | B24: =IF(($A24<B$18),1,IF(AND($A24>$C$15,$C$15>0),B23,IF(AND($A24>=$C$12,$C$12>0),ROUND(B23+$C$13,4),IF(AND($A24>=$C$9,$C$9>0),ROUND(B23+$C$10,4),IF(AND($A24>=$C$6,$C$6>0),ROUND(B23+$C$7,4),$C$3))))) -> 1.4 | C24: =IF($A24<B$18, $C$2, IF($C$1=0,IF($C$16>0,IF($C$2*$C$16<ROUND(C23*B24, 3),$C$2*$C$16,ROUND(C23*B24, 3)),ROUND(C23*B24, 3)),IF($C$16>0,IF($C$2*$C$16<ROUND($C$2*B24, 3),$C$2*$C$16,ROUND($C$2*B24, 3)),ROUND($C$2*B24, 3)))) -> 0.02 | D24: =D23+ROUND(C24,2) -> 0.05 | F24: =IF(($A24<F$18),1,IF(AND($A24>$C$15,$C$15>0),F23,IF(AND($A24>=$C$12,$C$12>0),ROUND(F23+$C$13,4),IF(AND($A24>=$C$9,$C$9>0),ROUND(F23+$C$10,4),IF(AND($A24>=$C$6,$C$6>0),ROUND(F23+$C$7,4),$C$3))))) -> 1.4 | G24: =IF($A24<F$18, $C$2, IF($C$1=0,IF($C$16>0,IF($C$2*$C$16<ROUND(G23*F24, 3),$C$2*$C$16,ROUND(G23*F24, 3)),ROUND(G23*F24, 3)),IF($C$16>0,IF($C$2*$C$16<ROUND($C$2*F24, 3),$C$2*$C$16,ROUND($C$2*F24, 3)),ROUND($C$2*F24, 3)))) -> 0.028 | H24: =H23+ROUND(G24,2) -> 0.07 | J24: =IF(($A24<J$18),1,IF(AND($A24>$K$15,$K$15>0),J23,IF(AND($A24>=$K$12,$K$12>0),ROUND(J23+$K$13,4),IF(AND($A24>=$K$9,$K$9>0),ROUND(J23+$K$10,4),IF(AND($A24>=$K$6,$K$6>0),ROUND(J23+$K$7,4),$K$3))))) -> 1.5 | K24: =IF($A24<J$18, $K$2, IF($K$1=0,IF($K$16>0,IF($K$2*$K$16<ROUND(K23*J24, 3),$K$2*$K$16,ROUND(K23*J24, 3)),ROUND(K23*J24, 3)),IF($K$16>0,IF($K$2*$K$16<ROUND($K$2*J24, 3),$K$2*$K$16,ROUND($K$2*J24, 3)),ROUND($K$2*J24, 3)))) -> 0.023 | L24: =L23+ROUND(K24,2) -> 0.06 | N24: =IF(($A24<N$18),1,IF(AND($A24>$K$15,$K$15>0),N23,IF(AND($A24>=$K$12,$K$12>0),ROUND(N23+$K$13,4),IF(AND($A24>=$K$9,$K$9>0),ROUND(N23+$K$10,4),IF(AND($A24>=$K$6,$K$6>0),ROUND(N23+$K$7,4),$K$3))))) -> 1.5 | O24: =IF($A24<N$18, $K$2, IF($K$1=0,IF($K$16>0,IF($K$2*$K$16<ROUND(O23*N24, 3),$K$2*$K$16,ROUND(O23*N24, 3)),ROUND(O23*N24, 3)),IF($K$16>0,IF($K$2*$K$16<ROUND($K$2*N24, 3),$K$2*$K$16,ROUND($K$2*N24, 3)),ROUND($K$2*N24, 3)))) -> 0.035 | P24: =P23+ROUND(O24,2) -> 0.09
A25: 5 | B25: =IF(($A25<B$18),1,IF(AND($A25>$C$15,$C$15>0),B24,IF(AND($A25>=$C$12,$C$12>0),ROUND(B24+$C$13,4),IF(AND($A25>=$C$9,$C$9>0),ROUND(B24+$C$10,4),IF(AND($A25>=$C$6,$C$6>0),ROUND(B24+$C$7,4),$C$3))))) -> 1.4 | C25: =IF($A25<B$18, $C$2, IF($C$1=0,IF($C$16>0,IF($C$2*$C$16<ROUND(C24*B25, 3),$C$2*$C$16,ROUND(C24*B25, 3)),ROUND(C24*B25, 3)),IF($C$16>0,IF($C$2*$C$16<ROUND($C$2*B25, 3),$C$2*$C$16,ROUND($C$2*B25, 3)),ROUND($C$2*B25, 3)))) -> 0.028 | D25: =D24+ROUND(C25,2) -> 0.08 | F25: =IF(($A25<F$18),1,IF(AND($A25>$C$15,$C$15>0),F24,IF(AND($A25>=$C$12,$C$12>0),ROUND(F24+$C$13,4),IF(AND($A25>=$C$9,$C$9>0),ROUND(F24+$C$10,4),IF(AND($A25>=$C$6,$C$6>0),ROUND(F24+$C$7,4),$C$3))))) -> 1.4 | G25: =IF($A25<F$18, $C$2, IF($C$1=0,IF($C$16>0,IF($C$2*$C$16<ROUND(G24*F25, 3),$C$2*$C$16,ROUND(G24*F25, 3)),ROUND(G24*F25, 3)),IF($C$16>0,IF($C$2*$C$16<ROUND($C$2*F25, 3),$C$2*$C$16,ROUND($C$2*F25, 3)),ROUND($C$2*F25, 3)))) -> 0.039 | H25: =H24+ROUND(G25,2) -> 0.11 | J25: =IF(($A25<J$18),1,IF(AND($A25>$K$15,$K$15>0),J24,IF(AND($A25>=$K$12,$K$12>0),ROUND(J24+$K$13,4),IF(AND($A25>=$K$9,$K$9>0),ROUND(J24+$K$10,4),IF(AND($A25>=$K$6,$K$6>0),ROUND(J24+$K$7,4),$K$3))))) -> 1.52 | K25: =IF($A25<J$18, $K$2, IF($K$1=0,IF($K$16>0,IF($K$2*$K$16<ROUND(K24*J25, 3),$K$2*$K$16,ROUND(K24*J25, 3)),ROUND(K24*J25, 3)),IF($K$16>0,IF($K$2*$K$16<ROUND($K$2*J25, 3),$K$2*$K$16,ROUND($K$2*J25, 3)),ROUND($K$2*J25, 3)))) -> 0.035 | L25: =L24+ROUND(K25,2) -> 0.1 | N25: =IF(($A25<N$18),1,IF(AND($A25>$K$15,$K$15>0),N24,IF(AND($A25>=$K$12,$K$12>0),ROUND(N24+$K$13,4),IF(AND($A25>=$K$9,$K$9>0),ROUND(N24+$K$10,4),IF(AND($A25>=$K$6,$K$6>0),ROUND(N24+$K$7,4),$K$3))))) -> 1.52 | O25: =IF($A25<N$18, $K$2, IF($K$1=0,IF($K$16>0,IF($K$2*$K$16<ROUND(O24*N25, 3),$K$2*$K$16,ROUND(O24*N25, 3)),ROUND(O24*N25, 3)),IF($K$16>0,IF($K$2*$K$16<ROUND($K$2*N25, 3),$K$2*$K$16,ROUND($K$2*N25, 3)),ROUND($K$2*N25, 3)))) -> 0.053 | P25: =P24+ROUND(O25,2) -> 0.14
A26: 6 | B26: =IF(($A26<B$18),1,IF(AND($A26>$C$15,$C$15>0),B25,IF(AND($A26>=$C$12,$C$12>0),ROUND(B25+$C$13,4),IF(AND($A26>=$C$9,$C$9>0),ROUND(B25+$C$10,4),IF(AND($A26>=$C$6,$C$6>0),ROUND(B25+$C$7,4),$C$3))))) -> 1.42 | C26: =IF($A26<B$18, $C$2, IF($C$1=0,IF($C$16>0,IF($C$2*$C$16<ROUND(C25*B26, 3),$C$2*$C$16,ROUND(C25*B26, 3)),ROUND(C25*B26, 3)),IF($C$16>0,IF($C$2*$C$16<ROUND($C$2*B26, 3),$C$2*$C$16,ROUND($C$2*B26, 3)),ROUND($C$2*B26, 3)))) -> 0.04 | D26: =D25+ROUND(C26,2) -> 0.12 | F26: =IF(($A26<F$18),1,IF(AND($A26>$C$15,$C$15>0),F25,IF(AND($A26>=$C$12,$C$12>0),ROUND(F25+$C$13,4),IF(AND($A26>=$C$9,$C$9>0),ROUND(F25+$C$10,4),IF(AND($A26>=$C$6,$C$6>0),ROUND(F25+$C$7,4),$C$3))))) -> 1.42 | G26: =IF($A26<F$18, $C$2, IF($C$1=0,IF($C$16>0,IF($C$2*$C$16<ROUND(G25*F26, 3),$C$2*$C$16,ROUND(G25*F26, 3)),ROUND(G25*F26, 3)),IF($C$16>0,IF($C$2*$C$16<ROUND($C$2*F26, 3),$C$2*$C$16,ROUND($C$2*F26, 3)),ROUND($C$2*F26, 3)))) -> 0.055 | H26: =H25+ROUND(G26,2) -> 0.17 | J26: =IF(($A26<J$18),1,IF(AND($A26>$K$15,$K$15>0),J25,IF(AND($A26>=$K$12,$K$12>0),ROUND(J25+$K$13,4),IF(AND($A26>=$K$9,$K$9>0),ROUND(J25+$K$10,4),IF(AND($A26>=$K$6,$K$6>0),ROUND(J25+$K$7,4),$K$3))))) -> 1.54 | K26: =IF($A26<J$18, $K$2, IF($K$1=0,IF($K$16>0,IF($K$2*$K$16<ROUND(K25*J26, 3),$K$2*$K$16,ROUND(K25*J26, 3)),ROUND(K25*J26, 3)),IF($K$16>0,IF($K$2*$K$16<ROUND($K$2*J26, 3),$K$2*$K$16,ROUND($K$2*J26, 3)),ROUND($K$2*J26, 3)))) -> 0.054 | L26: =L25+ROUND(K26,2) -> 0.15 | N26: =IF(($A26<N$18),1,IF(AND($A26>$K$15,$K$15>0),N25,IF(AND($A26>=$K$12,$K$12>0),ROUND(N25+$K$13,4),IF(AND($A26>=$K$9,$K$9>0),ROUND(N25+$K$10,4),IF(AND($A26>=$K$6,$K$6>0),ROUND(N25+$K$7,4),$K$3))))) -> 1.54 | O26: =IF($A26<N$18, $K$2, IF($K$1=0,IF($K$16>0,IF($K$2*$K$16<ROUND(O25*N26, 3),$K$2*$K$16,ROUND(O25*N26, 3)),ROUND(O25*N26, 3)),IF($K$16>0,IF($K$2*$K$16<ROUND($K$2*N26, 3),$K$2*$K$16,ROUND($K$2*N26, 3)),ROUND($K$2*N26, 3)))) -> 0.082 | P26: =P25+ROUND(O26,2) -> 0.22
A27: 7 | B27: =IF(($A27<B$18),1,IF(AND($A27>$C$15,$C$15>0),B26,IF(AND($A27>=$C$12,$C$12>0),ROUND(B26+$C$13,4),IF(AND($A27>=$C$9,$C$9>0),ROUND(B26+$C$10,4),IF(AND($A27>=$C$6,$C$6>0),ROUND(B26+$C$7,4),$C$3))))) -> 1.44 | C27: =IF($A27<B$18, $C$2, IF($C$1=0,IF($C$16>0,IF($C$2*$C$16<ROUND(C26*B27, 3),$C$2*$C$16,ROUND(C26*B27, 3)),ROUND(C26*B27, 3)),IF($C$16>0,IF($C$2*$C$16<ROUND($C$2*B27, 3),$C$2*$C$16,ROUND($C$2*B27, 3)),ROUND($C$2*B27, 3)))) -> 0.058 | D27: =D26+ROUND(C27,2) -> 0.18 | F27: =IF(($A27<F$18),1,IF(AND($A27>$C$15,$C$15>0),F26,IF(AND($A27>=$C$12,$C$12>0),ROUND(F26+$C$13,4),IF(AND($A27>=$C$9,$C$9>0),ROUND(F26+$C$10,4),IF(AND($A27>=$C$6,$C$6>0),ROUND(F26+$C$7,4),$C$3))))) -> 1.44 | G27: =IF($A27<F$18, $C$2, IF($C$1=0,IF($C$16>0,IF($C$2*$C$16<ROUND(G26*F27, 3),$C$2*$C$16,ROUND(G26*F27, 3)),ROUND(G26*F27, 3)),IF($C$16>0,IF($C$2*$C$16<ROUND($C$2*F27, 3),$C$2*$C$16,ROUND($C$2*F27, 3)),ROUND($C$2*F27, 3)))) -> 0.079 | H27: =H26+ROUND(G27,2) -> 0.25 | J27: =IF(($A27<J$18),1,IF(AND($A27>$K$15,$K$15>0),J26,IF(AND($A27>=$K$12,$K$12>0),ROUND(J26+$K$13,4),IF(AND($A27>=$K$9,$K$9>0),ROUND(J26+$K$10,4),IF(AND($A27>=$K$6,$K$6>0),ROUND(J26+$K$7,4),$K$3))))) -> 1.56 | K27: =IF($A27<J$18, $K$2, IF($K$1=0,IF($K$16>0,IF($K$2*$K$16<ROUND(K26*J27, 3),$K$2*$K$16,ROUND(K26*J27, 3)),ROUND(K26*J27, 3)),IF($K$16>0,IF($K$2*$K$16<ROUND($K$2*J27, 3),$K$2*$K$16,ROUND($K$2*J27, 3)),ROUND($K$2*J27, 3)))) -> 0.084 | L27: =L26+ROUND(K27,2) -> 0.23 | N27: =IF(($A27<N$18),1,IF(AND($A27>$K$15,$K$15>0),N26,IF(AND($A27>=$K$12,$K$12>0),ROUND(N26+$K$13,4),IF(AND($A27>=$K$9,$K$9>0),ROUND(N26+$K$10,4),IF(AND($A27>=$K$6,$K$6>0),ROUND(N26+$K$7,4),$K$3))))) -> 1.56 | O27: =IF($A27<N$18, $K$2, IF($K$1=0,IF($K$16>0,IF($K$2*$K$16<ROUND(O26*N27, 3),$K$2*$K$16,ROUND(O26*N27, 3)),ROUND(O26*N27, 3)),IF($K$16>0,IF($K$2*$K$16<ROUND($K$2*N27, 3),$K$2*$K$16,ROUND($K$2*N27, 3)),ROUND($K$2*N27, 3)))) -> 0.128 | P27: =P26+ROUND(O27,2) -> 0.35
A28: 8 | B28: =IF(($A28<B$18),1,IF(AND($A28>$C$15,$C$15>0),B27,IF(AND($A28>=$C$12,$C$12>0),ROUND(B27+$C$13,4),IF(AND($A28>=$C$9,$C$9>0),ROUND(B27+$C$10,4),IF(AND($A28>=$C$6,$C$6>0),ROUND(B27+$C$7,4),$C$3))))) -> 1.46 | C28: =IF($A28<B$18, $C$2, IF($C$1=0,IF($C$16>0,IF($C$2*$C$16<ROUND(C27*B28, 3),$C$2*$C$16,ROUND(C27*B28, 3)),ROUND(C27*B28, 3)),IF($C$16>0,IF($C$2*$C$16<ROUND($C$2*B28, 3),$C$2*$C$16,ROUND($C$2*B28, 3)),ROUND($C$2*B28, 3)))) -> 0.085 | D28: =D27+ROUND(C28,2) -> 0.27 | F28: =IF(($A28<F$18),1,IF(AND($A28>$C$15,$C$15>0),F27,IF(AND($A28>=$C$12,$C$12>0),ROUND(F27+$C$13,4),IF(AND($A28>=$C$9,$C$9>0),ROUND(F27+$C$10,4),IF(AND($A28>=$C$6,$C$6>0),ROUND(F27+$C$7,4),$C$3))))) -> 1.46 | G28: =IF($A28<F$18, $C$2, IF($C$1=0,IF($C$16>0,IF($C$2*$C$16<ROUND(G27*F28, 3),$C$2*$C$16,ROUND(G27*F28, 3)),ROUND(G27*F28, 3)),IF($C$16>0,IF($C$2*$C$16<ROUND($C$2*F28, 3),$C$2*$C$16,ROUND($C$2*F28, 3)),ROUND($C$2*F28, 3)))) -> 0.115 | H28: =H27+ROUND(G28,2) -> 0.37 | J28: =IF(($A28<J$18),1,IF(AND($A28>$K$15,$K$15>0),J27,IF(AND($A28>=$K$12,$K$12>0),ROUND(J27+$K$13,4),IF(AND($A28>=$K$9,$K$9>0),ROUND(J27+$K$10,4),IF(AND($A28>=$K$6,$K$6>0),ROUND(J27+$K$7,4),$K$3))))) -> 1.58 | K28: =IF($A28<J$18, $K$2, IF($K$1=0,IF($K$16>0,IF($K$2*$K$16<ROUND(K27*J28, 3),$K$2*$K$16,ROUND(K27*J28, 3)),ROUND(K27*J28, 3)),IF($K$16>0,IF($K$2*$K$16<ROUND($K$2*J28, 3),$K$2*$K$16,ROUND($K$2*J28, 3)),ROUND($K$2*J28, 3)))) -> 0.133 | L28: =L27+ROUND(K28,2) -> 0.36 | N28: =IF(($A28<N$18),1,IF(AND($A28>$K$15,$K$15>0),N27,IF(AND($A28>=$K$12,$K$12>0),ROUND(N27+$K$13,4),IF(AND($A28>=$K$9,$K$9>0),ROUND(N27+$K$10,4),IF(AND($A28>=$K$6,$K$6>0),ROUND(N27+$K$7,4),$K$3))))) -> 1.58 | O28: =IF($A28<N$18, $K$2, IF($K$1=0,IF($K$16>0,IF($K$2*$K$16<ROUND(O27*N28, 3),$K$2*$K$16,ROUND(O27*N28, 3)),ROUND(O27*N28, 3)),IF($K$16>0,IF($K$2*$K$16<ROUND($K$2*N28, 3),$K$2*$K$16,ROUND($K$2*N28, 3)),ROUND($K$2*N28, 3)))) -> 0.202 | P28: =P27+ROUND(O28,2) -> 0.55
A29: 9 | B29: =IF(($A29<B$18),1,IF(AND($A29>$C$15,$C$15>0),B28,IF(AND($A29>=$C$12,$C$12>0),ROUND(B28+$C$13,4),IF(AND($A29>=$C$9,$C$9>0),ROUND(B28+$C$10,4),IF(AND($A29>=$C$6,$C$6>0),ROUND(B28+$C$7,4),$C$3))))) -> 1.48 | C29: =IF($A29<B$18, $C$2, IF($C$1=0,IF($C$16>0,IF($C$2*$C$16<ROUND(C28*B29, 3),$C$2*$C$16,ROUND(C28*B29, 3)),ROUND(C28*B29, 3)),IF($C$16>0,IF($C$2*$C$16<ROUND($C$2*B29, 3),$C$2*$C$16,ROUND($C$2*B29, 3)),ROUND($C$2*B29, 3)))) -> 0.126 | D29: =D28+ROUND(C29,2) -> 0.4 | F29: =IF(($A29<F$18),1,IF(AND($A29>$C$15,$C$15>0),F28,IF(AND($A29>=$C$12,$C$12>0),ROUND(F28+$C$13,4),IF(AND($A29>=$C$9,$C$9>0),ROUND(F28+$C$10,4),IF(AND($A29>=$C$6,$C$6>0),ROUND(F28+$C$7,4),$C$3))))) -> 1.48 | G29: =IF($A29<F$18, $C$2, IF($C$1=0,IF($C$16>0,IF($C$2*$C$16<ROUND(G28*F29, 3),$C$2*$C$16,ROUND(G28*F29, 3)),ROUND(G28*F29, 3)),IF($C$16>0,IF($C$2*$C$16<ROUND($C$2*F29, 3),$C$2*$C$16,ROUND($C$2*F29, 3)),ROUND($C$2*F29, 3)))) -> 0.17 | H29: =H28+ROUND(G29,2) -> 0.54 | J29: =IF(($A29<J$18),1,IF(AND($A29>$K$15,$K$15>0),J28,IF(AND($A29>=$K$12,$K$12>0),ROUND(J28+$K$13,4),IF(AND($A29>=$K$9,$K$9>0),ROUND(J28+$K$10,4),IF(AND($A29>=$K$6,$K$6>0),ROUND(J28+$K$7,4),$K$3))))) -> 1.6 | K29: =IF($A29<J$18, $K$2, IF($K$1=0,IF($K$16>0,IF($K$2*$K$16<ROUND(K28*J29, 3),$K$2*$K$16,ROUND(K28*J29, 3)),ROUND(K28*J29, 3)),IF($K$16>0,IF($K$2*$K$16<ROUND($K$2*J29, 3),$K$2*$K$16,ROUND($K$2*J29, 3)),ROUND($K$2*J29, 3)))) -> 0.213 | L29: =L28+ROUND(K29,2) -> 0.57 | N29: =IF(($A29<N$18),1,IF(AND($A29>$K$15,$K$15>0),N28,IF(AND($A29>=$K$12,$K$12>0),ROUND(N28+$K$13,4),IF(AND($A29>=$K$9,$K$9>0),ROUND(N28+$K$10,4),IF(AND($A29>=$K$6,$K$6>0),ROUND(N28+$K$7,4),$K$3))))) -> 1.6 | O29: =IF($A29<N$18, $K$2, IF($K$1=0,IF($K$16>0,IF($K$2*$K$16<ROUND(O28*N29, 3),$K$2*$K$16,ROUND(O28*N29, 3)),ROUND(O28*N29, 3)),IF($K$16>0,IF($K$2*$K$16<ROUND($K$2*N29, 3),$K$2*$K$16,ROUND($K$2*N29, 3)),ROUND($K$2*N29, 3)))) -> 0.323 | P29: =P28+ROUND(O29,2) -> 0.87
A30: 10 | B30: =IF(($A30<B$18),1,IF(AND($A30>$C$15,$C$15>0),B29,IF(AND($A30>=$C$12,$C$12>0),ROUND(B29+$C$13,4),IF(AND($A30>=$C$9,$C$9>0),ROUND(B29+$C$10,4),IF(AND($A30>=$C$6,$C$6>0),ROUND(B29+$C$7,4),$C$3))))) -> 1.5 | C30: =IF($A30<B$18, $C$2, IF($C$1=0,IF($C$16>0,IF($C$2*$C$16<ROUND(C29*B30, 3),$C$2*$C$16,ROUND(C29*B30, 3)),ROUND(C29*B30, 3)),IF($C$16>0,IF($C$2*$C$16<ROUND($C$2*B30, 3),$C$2*$C$16,ROUND($C$2*B30, 3)),ROUND($C$2*B30, 3)))) -> 0.189 | D30: =D29+ROUND(C30,2) -> 0.59 | F30: =IF(($A30<F$18),1,IF(AND($A30>$C$15,$C$15>0),F29,IF(AND($A30>=$C$12,$C$12>0),ROUND(F29+$C$13,4),IF(AND($A30>=$C$9,$C$9>0),ROUND(F29+$C$10,4),IF(AND($A30>=$C$6,$C$6>0),ROUND(F29+$C$7,4),$C$3))))) -> 1.5 | G30: =IF($A30<F$18, $C$2, IF($C$1=0,IF($C$16>0,IF($C$2*$C$16<ROUND(G29*F30, 3),$C$2*$C$16,ROUND(G29*F30, 3)),ROUND(G29*F30, 3)),IF($C$16>0,IF($C$2*$C$16<ROUND($C$2*F30, 3),$C$2*$C$16,ROUND($C$2*F30, 3)),ROUND($C$2*F30, 3)))) -> 0.255 | H30: =H29+ROUND(G30,2) -> 0.8 | J30: =IF(($A30<J$18),1,IF(AND($A30>$K$15,$K$15>0),J29,IF(AND($A30>=$K$12,$K$12>0),ROUND(J29+$K$13,4),IF(AND($A30>=$K$9,$K$9>0),ROUND(J29+$K$10,4),IF(AND($A30>=$K$6,$K$6>0),ROUND(J29+$K$7,4),$K$3))))) -> 1.55 | K30: =IF($A30<J$18, $K$2, IF($K$1=0,IF($K$16>0,IF($K$2*$K$16<ROUND(K29*J30, 3),$K$2*$K$16,ROUND(K29*J30, 3)),ROUND(K29*J30, 3)),IF($K$16>0,IF($K$2*$K$16<ROUND($K$2*J30, 3),$K$2*$K$16,ROUND($K$2*J30, 3)),ROUND($K$2*J30, 3)))) -> 0.33 | L30: =L29+ROUND(K30,2) -> 0.9 | N30: =IF(($A30<N$18),1,IF(AND($A30>$K$15,$K$15>0),N29,IF(AND($A30>=$K$12,$K$12>0),ROUND(N29+$K$13,4),IF(AND($A30>=$K$9,$K$9>0),ROUND(N29+$K$10,4),IF(AND($A30>=$K$6,$K$6>0),ROUND(N29+$K$7,4),$K$3))))) -> 1.55 | O30: =IF($A30<N$18, $K$2, IF($K$1=0,IF($K$16>0,IF($K$2*$K$16<ROUND(O29*N30, 3),$K$2*$K$16,ROUND(O29*N30, 3)),ROUND(O29*N30, 3)),IF($K$16>0,IF($K$2*$K$16<ROUND($K$2*N30, 3),$K$2*$K$16,ROUND($K$2*N30, 3)),ROUND($K$2*N30, 3)))) -> 0.501 | P30: =P29+ROUND(O30,2) -> 1.37
A31: 11 | B31: =IF(($A31<B$18),1,IF(AND($A31>$C$15,$C$15>0),B30,IF(AND($A31>=$C$12,$C$12>0),ROUND(B30+$C$13,4),IF(AND($A31>=$C$9,$C$9>0),ROUND(B30+$C$10,4),IF(AND($A31>=$C$6,$C$6>0),ROUND(B30+$C$7,4),$C$3))))) -> 1.45 | C31: =IF($A31<B$18, $C$2, IF($C$1=0,IF($C$16>0,IF($C$2*$C$16<ROUND(C30*B31, 3),$C$2*$C$16,ROUND(C30*B31, 3)),ROUND(C30*B31, 3)),IF($C$16>0,IF($C$2*$C$16<ROUND($C$2*B31, 3),$C$2*$C$16,ROUND($C$2*B31, 3)),ROUND($C$2*B31, 3)))) -> 0.274 | D31: =D30+ROUND(C31,2) -> 0.86 | F31: =IF(($A31<F$18),1,IF(AND($A31>$C$15,$C$15>0),F30,IF(AND($A31>=$C$12,$C$12>0),ROUND(F30+$C$13,4),IF(AND($A31>=$C$9,$C$9>0),ROUND(F30+$C$10,4),IF(AND($A31>=$C$6,$C$6>0),ROUND(F30+$C$7,4),$C$3))))) -> 1.45 | G31: =IF($A31<F$18, $C$2, IF($C$1=0,IF($C$16>0,IF($C$2*$C$16<ROUND(G30*F31, 3),$C$2*$C$16,ROUND(G30*F31, 3)),ROUND(G30*F31, 3)),IF($C$16>0,IF($C$2*$C$16<ROUND($C$2*F31, 3),$C$2*$C$16,ROUND($C$2*F31, 3)),ROUND($C$2*F31, 3)))) -> 0.37 | H31: =H30+ROUND(G31,2) -> 1.17 | J31: =IF(($A31<J$18),1,IF(AND($A31>$K$15,$K$15>0),J30,IF(AND($A31>=$K$12,$K$12>0),ROUND(J30+$K$13,4),IF(AND($A31>=$K$9,$K$9>0),ROUND(J30+$K$10,4),IF(AND($A31>=$K$6,$K$6>0),ROUND(J30+$K$7,4),$K$3))))) -> 1.5 | K31: =IF($A31<J$18, $K$2, IF($K$1=0,IF($K$16>0,IF($K$2*$K$16<ROUND(K30*J31, 3),$K$2*$K$16,ROUND(K30*J31, 3)),ROUND(K30*J31, 3)),IF($K$16>0,IF($K$2*$K$16<ROUND($K$2*J31, 3),$K$2*$K$16,ROUND($K$2*J31, 3)),ROUND($K$2*J31, 3)))) -> 0.495 | L31: =L30+ROUND(K31,2) -> 1.4 | N31: =IF(($A31<N$18),1,IF(AND($A31>$K$15,$K$15>0),N30,IF(AND($A31>=$K$12,$K$12>0),ROUND(N30+$K$13,4),IF(AND($A31>=$K$9,$K$9>0),ROUND(N30+$K$10,4),IF(AND($A31>=$K$6,$K$6>0),ROUND(N30+$K$7,4),$K$3))))) -> 1.5 | O31: =IF($A31<N$18, $K$2, IF($K$1=0,IF($K$16>0,IF($K$2*$K$16<ROUND(O30*N31, 3),$K$2*$K$16,ROUND(O30*N31, 3)),ROUND(O30*N31, 3)),IF($K$16>0,IF($K$2*$K$16<ROUND($K$2*N31, 3),$K$2*$K$16,ROUND($K$2*N31, 3)),ROUND($K$2*N31, 3)))) -> 0.752 | P31: =P30+ROUND(O31,2) -> 2.12
A32: 12 | B32: =IF(($A32<B$18),1,IF(AND($A32>$C$15,$C$15>0),B31,IF(AND($A32>=$C$12,$C$12>0),ROUND(B31+$C$13,4),IF(AND($A32>=$C$9,$C$9>0),ROUND(B31+$C$10,4),IF(AND($A32>=$C$6,$C$6>0),ROUND(B31+$C$7,4),$C$3))))) -> 1.4 | C32: =IF($A32<B$18, $C$2, IF($C$1=0,IF($C$16>0,IF($C$2*$C$16<ROUND(C31*B32, 3),$C$2*$C$16,ROUND(C31*B32, 3)),ROUND(C31*B32, 3)),IF($C$16>0,IF($C$2*$C$16<ROUND($C$2*B32, 3),$C$2*$C$16,ROUND($C$2*B32, 3)),ROUND($C$2*B32, 3)))) -> 0.384 | D32: =D31+ROUND(C32,2) -> 1.24 | F32: =IF(($A32<F$18),1,IF(AND($A32>$C$15,$C$15>0),F31,IF(AND($A32>=$C$12,$C$12>0),ROUND(F31+$C$13,4),IF(AND($A32>=$C$9,$C$9>0),ROUND(F31+$C$10,4),IF(AND($A32>=$C$6,$C$6>0),ROUND(F31+$C$7,4),$C$3))))) -> 1.4 | G32: =IF($A32<F$18, $C$2, IF($C$1=0,IF($C$16>0,IF($C$2*$C$16<ROUND(G31*F32, 3),$C$2*$C$16,ROUND(G31*F32, 3)),ROUND(G31*F32, 3)),IF($C$16>0,IF($C$2*$C$16<ROUND($C$2*F32, 3),$C$2*$C$16,ROUND($C$2*F32, 3)),ROUND($C$2*F32, 3)))) -> 0.518 | H32: =H31+ROUND(G32,2) -> 1.69 | J32: =IF(($A32<J$18),1,IF(AND($A32>$K$15,$K$15>0),J31,IF(AND($A32>=$K$12,$K$12>0),ROUND(J31+$K$13,4),IF(AND($A32>=$K$9,$K$9>0),ROUND(J31+$K$10,4),IF(AND($A32>=$K$6,$K$6>0),ROUND(J31+$K$7,4),$K$3))))) -> 1.45 | K32: =IF($A32<J$18, $K$2, IF($K$1=0,IF($K$16>0,IF($K$2*$K$16<ROUND(K31*J32, 3),$K$2*$K$16,ROUND(K31*J32, 3)),ROUND(K31*J32, 3)),IF($K$16>0,IF($K$2*$K$16<ROUND($K$2*J32, 3),$K$2*$K$16,ROUND($K$2*J32, 3)),ROUND($K$2*J32, 3)))) -> 0.718 | L32: =L31+ROUND(K32,2) -> 2.12 | N32: =IF(($A32<N$18),1,IF(AND($A32>$K$15,$K$15>0),N31,IF(AND($A32>=$K$12,$K$12>0),ROUND(N31+$K$13,4),IF(AND($A32>=$K$9,$K$9>0),ROUND(N31+$K$10,4),IF(AND($A32>=$K$6,$K$6>0),ROUND(N31+$K$7,4),$K$3))))) -> 1.45 | O32: =IF($A32<N$18, $K$2, IF($K$1=0,IF($K$16>0,IF($K$2*$K$16<ROUND(O31*N32, 3),$K$2*$K$16,ROUND(O31*N32, 3)),ROUND(O31*N32, 3)),IF($K$16>0,IF($K$2*$K$16<ROUND($K$2*N32, 3),$K$2*$K$16,ROUND($K$2*N32, 3)),ROUND($K$2*N32, 3)))) -> 1.09 | P32: =P31+ROUND(O32,2) -> 3.21
A33: 13 | B33: =IF(($A33<B$18),1,IF(AND($A33>$C$15,$C$15>0),B32,IF(AND($A33>=$C$12,$C$12>0),ROUND(B32+$C$13,4),IF(AND($A33>=$C$9,$C$9>0),ROUND(B32+$C$10,4),IF(AND($A33>=$C$6,$C$6>0),ROUND(B32+$C$7,4),$C$3))))) -> 1.35 | C33: =IF($A33<B$18, $C$2, IF($C$1=0,IF($C$16>0,IF($C$2*$C$16<ROUND(C32*B33, 3),$C$2*$C$16,ROUND(C32*B33, 3)),ROUND(C32*B33, 3)),IF($C$16>0,IF($C$2*$C$16<ROUND($C$2*B33, 3),$C$2*$C$16,ROUND($C$2*B33, 3)),ROUND($C$2*B33, 3)))) -> 0.518 | D33: =D32+ROUND(C33,2) -> 1.76 | F33: =IF(($A33<F$18),1,IF(AND($A33>$C$15,$C$15>0),F32,IF(AND($A33>=$C$12,$C$12>0),ROUND(F32+$C$13,4),IF(AND($A33>=$C$9,$C$9>0),ROUND(F32+$C$10,4),IF(AND($A33>=$C$6,$C$6>0),ROUND(F32+$C$7,4),$C$3))))) -> 1.35 | G33: =IF($A33<F$18, $C$2, IF($C$1=0,IF($C$16>0,IF($C$2*$C$16<ROUND(G32*F33, 3),$C$2*$C$16,ROUND(G32*F33, 3)),ROUND(G32*F33, 3)),IF($C$16>0,IF($C$2*$C$16<ROUND($C$2*F33, 3),$C$2*$C$16,ROUND($C$2*F33, 3)),ROUND($C$2*F33, 3)))) -> 0.699 | H33: =H32+ROUND(G33,2) -> 2.39 | J33: =IF(($A33<J$18),1,IF(AND($A33>$K$15,$K$15>0),J32,IF(AND($A33>=$K$12,$K$12>0),ROUND(J32+$K$13,4),IF(AND($A33>=$K$9,$K$9>0),ROUND(J32+$K$10,4),IF(AND($A33>=$K$6,$K$6>0),ROUND(J32+$K$7,4),$K$3))))) -> 1.45 | K33: =IF($A33<J$18, $K$2, IF($K$1=0,IF($K$16>0,IF($K$2*$K$16<ROUND(K32*J33, 3),$K$2*$K$16,ROUND(K32*J33, 3)),ROUND(K32*J33, 3)),IF($K$16>0,IF($K$2*$K$16<ROUND($K$2*J33, 3),$K$2*$K$16,ROUND($K$2*J33, 3)),ROUND($K$2*J33, 3)))) -> 1.041 | L33: =L32+ROUND(K33,2) -> 3.16 | N33: =IF(($A33<N$18),1,IF(AND($A33>$K$15,$K$15>0),N32,IF(AND($A33>=$K$12,$K$12>0),ROUND(N32+$K$13,4),IF(AND($A33>=$K$9,$K$9>0),ROUND(N32+$K$10,4),IF(AND($A33>=$K$6,$K$6>0),ROUND(N32+$K$7,4),$K$3))))) -> 1.45 | O33: =IF($A33<N$18, $K$2, IF($K$1=0,IF($K$16>0,IF($K$2*$K$16<ROUND(O32*N33, 3),$K$2*$K$16,ROUND(O32*N33, 3)),ROUND(O32*N33, 3)),IF($K$16>0,IF($K$2*$K$16<ROUND($K$2*N33, 3),$K$2*$K$16,ROUND($K$2*N33, 3)),ROUND($K$2*N33, 3)))) -> 1.581 | P33: =P32+ROUND(O33,2) -> 4.79
... A40: 20 | B40: =IF(($A40<B$18),1,IF(AND($A40>$C$15,$C$15>0),B39,IF(AND($A40>=$C$12,$C$12>0),ROUND(B39+$C$13,4),IF(AND($A40>=$C$9,$C$9>0),ROUND(B39+$C$10,4),IF(AND($A40>=$C$6,$C$6>0),ROUND(B39+$C$7,4),$C$3))))) -> 1.25 | C40: =IF($A40<B$18, $C$2, IF($C$1=0,IF($C$16>0,IF($C$2*$C$16<ROUND(C39*B40, 3),$C$2*$C$16,ROUND(C39*B40, 3)),ROUND(C39*B40, 3)),IF($C$16>0,IF($C$2*$C$16<ROUND($C$2*B40, 3),$C$2*$C$16,ROUND($C$2*B40, 3)),ROUND($C$2*B40, 3)))) -> 1.1 | D40: =D39+ROUND(C40,2) -> 8.72 | F40: =IF(($A40<F$18),1,IF(AND($A40>$C$15,$C$15>0),F39,IF(AND($A40>=$C$12,$C$12>0),ROUND(F39+$C$13,4),IF(AND($A40>=$C$9,$C$9>0),ROUND(F39+$C$10,4),IF(AND($A40>=$C$6,$C$6>0),ROUND(F39+$C$7,4),$C$3))))) -> 1.25 | G40: =IF($A40<F$18, $C$2, IF($C$1=0,IF($C$16>0,IF($C$2*$C$16<ROUND(G39*F40, 3),$C$2*$C$16,ROUND(G39*F40, 3)),ROUND(G39*F40, 3)),IF($C$16>0,IF($C$2*$C$16<ROUND($C$2*F40, 3),$C$2*$C$16,ROUND($C$2*F40, 3)),ROUND($C$2*F40, 3)))) -> 1.1 | H40: =H39+ROUND(G40,2) -> 9.9 | J40: =IF(($A40<J$18),1,IF(AND($A40>$K$15,$K$15>0),J39,IF(AND($A40>=$K$12,$K$12>0),ROUND(J39+$K$13,4),IF(AND($A40>=$K$9,$K$9>0),ROUND(J39+$K$10,4),IF(AND($A40>=$K$6,$K$6>0),ROUND(J39+$K$7,4),$K$3))))) -> 1.45 | K40: =IF($A40<J$18, $K$2, IF($K$1=0,IF($K$16>0,IF($K$2*$K$16<ROUND(K39*J40, 3),$K$2*$K$16,ROUND(K39*J40, 3)),ROUND(K39*J40, 3)),IF($K$16>0,IF($K$2*$K$16<ROUND($K$2*J40, 3),$K$2*$K$16,ROUND($K$2*J40, 3)),ROUND($K$2*J40, 3)))) -> 2 | L40: =L39+ROUND(K40,2) -> 16.67 | N40: =IF(($A40<N$18),1,IF(AND($A40>$K$15,$K$15>0),N39,IF(AND($A40>=$K$12,$K$12>0),ROUND(N39+$K$13,4),IF(AND($A40>=$K$9,$K$9>0),ROUND(N39+$K$10,4),IF(AND($A40>=$K$6,$K$6>0),ROUND(N39+$K$7,4),$K$3))))) -> 1.45 | O40: =IF($A40<N$18, $K$2, IF($K$1=0,IF($K$16>0,IF($K$2*$K$16<ROUND(O39*N40, 3),$K$2*$K$16,ROUND(O39*N40, 3)),ROUND(O39*N40, 3)),IF($K$16>0,IF($K$2*$K$16<ROUND($K$2*N40, 3),$K$2*$K$16,ROUND($K$2*N40, 3)),ROUND($K$2*N40, 3)))) -> 2 | P40: =P39+ROUND(O40,2) -> 18.79

Sheet mult+lots 4x1
A1: CalcLotType | B1: =IF(C$1=0,"LastOrder",IF(C$1=1,"MinOrder","ОШИБКА")) -> LastOrder | C1: 0 | F1: =IF(G$1=0,"LastOrder",IF(G$1=1,"MinOrder","ОШИБКА")) -> LastOrder | G1: 0 | J1: =IF(K$1=0,"LastOrder",IF(K$1=1,"MinOrder","ОШИБКА")) -> LastOrder | K1: 0 | N1: =IF(O$1=0,"LastOrder",IF(O$1=1,"MinOrder","ОШИБКА")) -> MinOrder | O1: 1
A2: MinLot | B2: =IF(C$2<0,"д.б. >0","") | C2: 0.01 | F2: =IF(G$2<0,"д.б. >0","") | G2: 0.02 | J2: =IF(K$2<0,"д.б. >0","") | K2: 0.03 | N2: =IF(O$2<0,"д.б. >0","") | O2: 0.01
A3: Mult | B3: =IF(C$3<0,"д.б. >0","") | C3: 1.4 | F3: =IF(G$3<0,"д.б. >0","") | G3: 1.4 | J3: =IF(K$3<0,"д.б. >0","") | K3: 1.4 | N3: =IF(O$3<0,"д.б. >0","") | O3: 3
A4: MultStart | B4: =IF(C$4<2,"д.б. >1","") | C4: 2 | F4: =IF(G$4<2,"д.б. >1","") | G4: 3 | J4: =IF(K$4<2,"д.б. >1","") | K4: 4 | N4: =IF(O$4<2,"д.б. >1","") | O4: 2
A6: MultLevel2 | B6: =IF(C$6<0,"д.б. >=0","") | C6: 6 | F6: =IF(G$6<0,"д.б. >=0","") | G6: 6 | J6: =IF(K$6<0,"д.б. >=0","") | K6: 6 | N6: =IF(O$6<0,"д.б. >=0","") | O6: 4
A7: MultCorr | B7: =IF(AND(C$6=0,C$7<>0),"д.б. =0","") | C7: 0.01 | F7: =IF(AND(G$6=0,G$7<>0),"д.б. =0","") | G7: 0.01 | J7: =IF(AND(K$6=0,K$7<>0),"д.б. =0","") | K7: 0.01 | N7: =IF(AND(O$6=0,O$7<>0),"д.б. =0","") | O7: 3
B8: =IF(OR(C$6=1,C$6<0,C$9=1,C$9<0,C$12=1,C$12<0,C$15<0,AND(C$6>0,C$4>=C$6),AND(C$9>0,C$4>=C$9),AND(C$12>0,C$4>=C$12),AND(C$6>1,C$9>1,C$6>=C$9),AND(C$6>1,C$12>1,C$6>=C$12),AND(C$9>1,C$12>1,C$9>=C$12),AND(C$15>0,C$4>C$15),AND(C$6>1,C$15>0,C$6>C$15),AND(C$9>1,C$15>0,C$9>C$15),AND(C$12>1,C$15>0,C$12>C$15)),"ОШИБКА в №№ колен","") | F8: =IF(OR(G$6=1,G$6<0,G$9=1,G$9<0,G$12=1,G$12<0,G$15<0,AND(G$6>0,G$4>=G$6),AND(G$9>0,G$4>=G$9),AND(G$12>0,G$4>=G$12),AND(G$6>1,G$9>1,G$6>=G$9),AND(G$6>1,G$12>1,G$6>=G$12),AND(G$9>1,G$12>1,G$9>=G$12),AND(G$15>0,G$4>G$15),AND(G$6>1,G$15>0,G$6>G$15),AND(G$9>1,G$15>0,G$9>G$15),AND(G$12>1,G$15>0,G$12>G$15)),"ОШИБКА в №№ колен","") | J8: =IF(OR(K$6=1,K$6<0,K$9=1,K$9<0,K$12=1,K$12<0,K$15<0,AND(K$6>0,K$4>=K$6),AND(K$9>0,K$4>=K$9),AND(K$12>0,K$4>=K$12),AND(K$6>1,K$9>1,K$6>=K$9),AND(K$6>1,K$12>1,K$6>=K$12),AND(K$9>1,K$12>1,K$9>=K$12),AND(K$15>0,K$4>K$15),AND(K$6>1,K$15>0,K$6>K$15),AND(K$9>1,K$15>0,K$9>K$15),AND(K$12>1,K$15>0,K$12>K$15)),"ОШИБКА в №№ колен","") | N8: =IF(OR(O$6=1,O$6<0,O$9=1,O$9<0,O$12=1,O$12<0,O$15<0,AND(O$6>0,O$4>=O$6),AND(O$9>0,O$4>=O$9),AND(O$12>0,O$4>=O$12),AND(O$6>1,O$9>1,O$6>=O$9),AND(O$6>1,O$12>1,O$6>=O$12),AND(O$9>1,O$12>1,O$9>=O$12),AND(O$15>0,O$4>O$15),AND(O$6>1,O$15>0,O$6>O$15),AND(O$9>1,O$15>0,O$9>O$15),AND(O$12>1,O$15>0,O$12>O$15)),"ОШИБКА в №№ колен","")
A9: MultLevel3 | B9: =IF(C$9<0,"д.б. >=0","") | C9: 0 | F9: =IF(G$9<0,"д.б. >=0","") | G9: 0 | J9: =IF(K$9<0,"д.б. >=0","") | K9: 0 | N9: =IF(O$9<0,"д.б. >=0","") | O9: 10
A10: MultСorrLevel3 | B10: =IF(AND(C$9=0,C$10<>0),"д.б. =0","") | C10: 0 | F10: =IF(AND(G$9=0,G$10<>0),"д.б. =0","") | G10: 0 | J10: =IF(AND(K$9=0,K$10<>0),"д.б. =0","") | K10: 0 | N10: =IF(AND(O$9=0,O$10<>0),"д.б. =0","") | O10: 5
A12: Mult3 | B12: =IF(C$12<0,"д.б. >=0","") | C12: 0 | F12: =IF(G$12<0,"д.б. >=0","") | G12: 0 | J12: =IF(K$12<0,"д.б. >=0","") | K12: 0 | N12: =IF(O$12<0,"д.б. >=0","") | O12: 0
A13: Mult3Add | B13: =IF(AND(C$12=0,C$13<>0),"д.б. =0","") | C13: 0 | F13: =IF(AND(G$12=0,G$13<>0),"д.б. =0","") | G13: 0 | J13: =IF(AND(K$12=0,K$13<>0),"д.б. =0","") | K13: 0 | N13: =IF(AND(O$12=0,O$13<>0),"д.б. =0","") | O13: 0
A15: MultStop | B15: =IF(C$15<0,"д.б. >=0","") | C15: 12 | F15: =IF(G$15<0,"д.б. >=0","") | G15: 15 | J15: =IF(K$15<0,"д.б. >=0","") | K15: 0 | N15: =IF(O$15<0,"д.б. >=0","") | O15: 14
A16: MaxLotCoef | B16: =IF(C$16<0,"д.б. >=0","") | C16: 400 | F16: =IF(G$16<0,"д.б. >=0","") | G16: 200 | J16: =IF(K$16<0,"д.б. >=0","") | K16: 200 | N16: =IF(O$16<0,"д.б. >=0","") | O16: 40
A18: №№ колен | B18: Мульт | C18: Ордер | D18: Лотов | F18: Мульт | G18: Ордер | H18: Лотов | J18: Мульт | K18: Ордер | L18: Лотов | N18: Мульт | O18: Ордер | P18: Лотов
A20: 1 | B20: =IF(($A20<C$4),1,IF(AND($A20>C$15,C$15>0),B19,IF(AND($A20>=C$12,C$12>0),ROUND(B19+C$13,4),IF(AND($A20>=C$9,C$9>0),ROUND(B19+C$10,4),IF(AND($A20>=C$6,C$6>0),ROUND(B19+C$7,4),C$3))))) -> 1 | C20: =IF($A20<C$4, C$2, IF(C$1=0,IF(C$16>0,IF(C$2*C$16<ROUND(C19*B20, 3),C$2*C$16,ROUND(C19*B20, 3)),ROUND(C19*B20, 3)),IF(C$16>0,IF(C$2*C$16<ROUND(C$2*B20, 3),C$2*C$16,ROUND(C$2*B20, 3)),ROUND(C$2*B20, 3)))) -> 0.01 | D20: =C20 -> 0.01 | F20: =IF(($A20<G$4),1,IF(AND($A20>G$15,G$15>0),F19,IF(AND($A20>=G$12,G$12>0),ROUND(F19+G$13,4),IF(AND($A20>=G$9,G$9>0),ROUND(F19+G$10,4),IF(AND($A20>=G$6,G$6>0),ROUND(F19+G$7,4),G$3))))) -> 1 | G20: =IF($A20<G$4, G$2, IF(G$1=0,IF(G$16>0,IF(G$2*G$16<ROUND(G19*F20, 3),G$2*G$16,ROUND(G19*F20, 3)),ROUND(G19*F20, 3)),IF(G$16>0,IF(G$2*G$16<ROUND(G$2*F20, 3),G$2*G$16,ROUND(G$2*F20, 3)),ROUND(G$2*F20, 3)))) -> 0.02 | H20: =G20 -> 0.02 | J20: =IF(($A20<K$4),1,IF(AND($A20>K$15,K$15>0),J19,IF(AND($A20>=K$12,K$12>0),ROUND(J19+K$13,4),IF(AND($A20>=K$9,K$9>0),ROUND(J19+K$10,4),IF(AND($A20>=K$6,K$6>0),ROUND(J19+K$7,4),K$3))))) -> 1 | K20: =IF($A20<K$4, K$2, IF(K$1=0,IF(K$16>0,IF(K$2*K$16<ROUND(K19*J20, 3),K$2*K$16,ROUND(K19*J20, 3)),ROUND(K19*J20, 3)),IF(K$16>0,IF(K$2*K$16<ROUND(K$2*J20, 3),K$2*K$16,ROUND(K$2*J20, 3)),ROUND(K$2*J20, 3)))) -> 0.03 | L20: =K20 -> 0.03 | N20: =IF(($A20<O$4),1,IF(AND($A20>O$15,O$15>0),N19,IF(AND($A20>=O$12,O$12>0),ROUND(N19+O$13,4),IF(AND($A20>=O$9,O$9>0),ROUND(N19+O$10,4),IF(AND($A20>=O$6,O$6>0),ROUND(N19+O$7,4),O$3))))) -> 1 | O20: =IF($A20<O$4, O$2, IF(O$1=0,IF(O$16>0,IF(O$2*O$16<ROUND(O19*N20, 3),O$2*O$16,ROUND(O19*N20, 3)),ROUND(O19*N20, 3)),IF(O$16>0,IF(O$2*O$16<ROUND(O$2*N20, 3),O$2*O$16,ROUND(O$2*N20, 3)),ROUND(O$2*N20, 3)))) -> 0.01 | P20: =O20 -> 0.01
A21: 2 | B21: =IF(($A21<C$4),1,IF(AND($A21>C$15,C$15>0),B20,IF(AND($A21>=C$12,C$12>0),ROUND(B20+C$13,4),IF(AND($A21>=C$9,C$9>0),ROUND(B20+C$10,4),IF(AND($A21>=C$6,C$6>0),ROUND(B20+C$7,4),C$3))))) -> 1.4 | C21: =IF($A21<C$4, C$2, IF(C$1=0,IF(C$16>0,IF(C$2*C$16<ROUND(C20*B21, 3),C$2*C$16,ROUND(C20*B21, 3)),ROUND(C20*B21, 3)),IF(C$16>0,IF(C$2*C$16<ROUND(C$2*B21, 3),C$2*C$16,ROUND(C$2*B21, 3)),ROUND(C$2*B21, 3)))) -> 0.014 | D21: =D20+ROUND(C21,2) -> 0.02 | F21: =IF(($A21<G$4),1,IF(AND($A21>G$15,G$15>0),F20,IF(AND($A21>=G$12,G$12>0),ROUND(F20+G$13,4),IF(AND($A21>=G$9,G$9>0),ROUND(F20+G$10,4),IF(AND($A21>=G$6,G$6>0),ROUND(F20+G$7,4),G$3))))) -> 1 | G21: =IF($A21<G$4, G$2, IF(G$1=0,IF(G$16>0,IF(G$2*G$16<ROUND(G20*F21, 3),G$2*G$16,ROUND(G20*F21, 3)),ROUND(G20*F21, 3)),IF(G$16>0,IF(G$2*G$16<ROUND(G$2*F21, 3),G$2*G$16,ROUND(G$2*F21, 3)),ROUND(G$2*F21, 3)))) -> 0.02 | H21: =H20+ROUND(G21,2) -> 0.04 | J21: =IF(($A21<K$4),1,IF(AND($A21>K$15,K$15>0),J20,IF(AND($A21>=K$12,K$12>0),ROUND(J20+K$13,4),IF(AND($A21>=K$9,K$9>0),ROUND(J20+K$10,4),IF(AND($A21>=K$6,K$6>0),ROUND(J20+K$7,4),K$3))))) -> 1 | K21: =IF($A21<K$4, K$2, IF(K$1=0,IF(K$16>0,IF(K$2*K$16<ROUND(K20*J21, 3),K$2*K$16,ROUND(K20*J21, 3)),ROUND(K20*J21, 3)),IF(K$16>0,IF(K$2*K$16<ROUND(K$2*J21, 3),K$2*K$16,ROUND(K$2*J21, 3)),ROUND(K$2*J21, 3)))) -> 0.03 | L21: =L20+ROUND(K21,2) -> 0.06 | N21: =IF(($A21<O$4),1,IF(AND($A21>O$15,O$15>0),N20,IF(AND($A21>=O$12,O$12>0),ROUND(N20+O$13,4),IF(AND($A21>=O$9,O$9>0),ROUND(N20+O$10,4),IF(AND($A21>=O$6,O$6>0),ROUND(N20+O$7,4),O$3))))) -> 3 | O21: =IF($A21<O$4, O$2, IF(O$1=0,IF(O$16>0,IF(O$2*O$16<ROUND(O20*N21, 3),O$2*O$16,ROUND(O20*N21, 3)),ROUND(O20*N21, 3)),IF(O$16>0,IF(O$2*O$16<ROUND(O$2*N21, 3),O$2*O$16,ROUND(O$2*N21, 3)),ROUND(O$2*N21, 3)))) -> 0.03 | P21: =P20+ROUND(O21,2) -> 0.04
A22: 3 | B22: =IF(($A22<C$4),1,IF(AND($A22>C$15,C$15>0),B21,IF(AND($A22>=C$12,C$12>0),ROUND(B21+C$13,4),IF(AND($A22>=C$9,C$9>0),ROUND(B21+C$10,4),IF(AND($A22>=C$6,C$6>0),ROUND(B21+C$7,4),C$3))))) -> 1.4 | C22: =IF($A22<C$4, C$2, IF(C$1=0,IF(C$16>0,IF(C$2*C$16<ROUND(C21*B22, 3),C$2*C$16,ROUND(C21*B22, 3)),ROUND(C21*B22, 3)),IF(C$16>0,IF(C$2*C$16<ROUND(C$2*B22, 3),C$2*C$16,ROUND(C$2*B22, 3)),ROUND(C$2*B22, 3)))) -> 0.02 | D22: =D21+ROUND(C22,2) -> 0.04 | F22: =IF(($A22<G$4),1,IF(AND($A22>G$15,G$15>0),F21,IF(AND($A22>=G$12,G$12>0),ROUND(F21+G$13,4),IF(AND($A22>=G$9,G$9>0),ROUND(F21+G$10,4),IF(AND($A22>=G$6,G$6>0),ROUND(F21+G$7,4),G$3))))) -> 1.4 | G22: =IF($A22<G$4, G$2, IF(G$1=0,IF(G$16>0,IF(G$2*G$16<ROUND(G21*F22, 3),G$2*G$16,ROUND(G21*F22, 3)),ROUND(G21*F22, 3)),IF(G$16>0,IF(G$2*G$16<ROUND(G$2*F22, 3),G$2*G$16,ROUND(G$2*F22, 3)),ROUND(G$2*F22, 3)))) -> 0.028 | H22: =H21+ROUND(G22,2) -> 0.07 | J22: =IF(($A22<K$4),1,IF(AND($A22>K$15,K$15>0),J21,IF(AND($A22>=K$12,K$12>0),ROUND(J21+K$13,4),IF(AND($A22>=K$9,K$9>0),ROUND(J21+K$10,4),IF(AND($A22>=K$6,K$6>0),ROUND(J21+K$7,4),K$3))))) -> 1 | K22: =IF($A22<K$4, K$2, IF(K$1=0,IF(K$16>0,IF(K$2*K$16<ROUND(K21*J22, 3),K$2*K$16,ROUND(K21*J22, 3)),ROUND(K21*J22, 3)),IF(K$16>0,IF(K$2*K$16<ROUND(K$2*J22, 3),K$2*K$16,ROUND(K$2*J22, 3)),ROUND(K$2*J22, 3)))) -> 0.03 | L22: =L21+ROUND(K22,2) -> 0.09 | N22: =IF(($A22<O$4),1,IF(AND($A22>O$15,O$15>0),N21,IF(AND($A22>=O$12,O$12>0),ROUND(N21+O$13,4),IF(AND($A22>=O$9,O$9>0),ROUND(N21+O$10,4),IF(AND($A22>=O$6,O$6>0),ROUND(N21+O$7,4),O$3))))) -> 3 | O22: =IF($A22<O$4, O$2, IF(O$1=0,IF(O$16>0,IF(O$2*O$16<ROUND(O21*N22, 3),O$2*O$16,ROUND(O21*N22, 3)),ROUND(O21*N22, 3)),IF(O$16>0,IF(O$2*O$16<ROUND(O$2*N22, 3),O$2*O$16,ROUND(O$2*N22, 3)),ROUND(O$2*N22, 3)))) -> 0.03 | P22: =P21+ROUND(O22,2) -> 0.07
A23: 4 | B23: =IF(($A23<C$4),1,IF(AND($A23>C$15,C$15>0),B22,IF(AND($A23>=C$12,C$12>0),ROUND(B22+C$13,4),IF(AND($A23>=C$9,C$9>0),ROUND(B22+C$10,4),IF(AND($A23>=C$6,C$6>0),ROUND(B22+C$7,4),C$3))))) -> 1.4 | C23: =IF($A23<C$4, C$2, IF(C$1=0,IF(C$16>0,IF(C$2*C$16<ROUND(C22*B23, 3),C$2*C$16,ROUND(C22*B23, 3)),ROUND(C22*B23, 3)),IF(C$16>0,IF(C$2*C$16<ROUND(C$2*B23, 3),C$2*C$16,ROUND(C$2*B23, 3)),ROUND(C$2*B23, 3)))) -> 0.028 | D23: =D22+ROUND(C23,2) -> 0.07 | F23: =IF(($A23<G$4),1,IF(AND($A23>G$15,G$15>0),F22,IF(AND($A23>=G$12,G$12>0),ROUND(F22+G$13,4),IF(AND($A23>=G$9,G$9>0),ROUND(F22+G$10,4),IF(AND($A23>=G$6,G$6>0),ROUND(F22+G$7,4),G$3))))) -> 1.4 | G23: =IF($A23<G$4, G$2, IF(G$1=0,IF(G$16>0,IF(G$2*G$16<ROUND(G22*F23, 3),G$2*G$16,ROUND(G22*F23, 3)),ROUND(G22*F23, 3)),IF(G$16>0,IF(G$2*G$16<ROUND(G$2*F23, 3),G$2*G$16,ROUND(G$2*F23, 3)),ROUND(G$2*F23, 3)))) -> 0.039 | H23: =H22+ROUND(G23,2) -> 0.11 | J23: =IF(($A23<K$4),1,IF(AND($A23>K$15,K$15>0),J22,IF(AND($A23>=K$12,K$12>0),ROUND(J22+K$13,4),IF(AND($A23>=K$9,K$9>0),ROUND(J22+K$10,4),IF(AND($A23>=K$6,K$6>0),ROUND(J22+K$7,4),K$3))))) -> 1.4 | K23: =IF($A23<K$4, K$2, IF(K$1=0,IF(K$16>0,IF(K$2*K$16<ROUND(K22*J23, 3),K$2*K$16,ROUND(K22*J23, 3)),ROUND(K22*J23, 3)),IF(K$16>0,IF(K$2*K$16<ROUND(K$2*J23, 3),K$2*K$16,ROUND(K$2*J23, 3)),ROUND(K$2*J23, 3)))) -> 0.042 | L23: =L22+ROUND(K23,2) -> 0.13 | N23: =IF(($A23<O$4),1,IF(AND($A23>O$15,O$15>0),N22,IF(AND($A23>=O$12,O$12>0),ROUND(N22+O$13,4),IF(AND($A23>=O$9,O$9>0),ROUND(N22+O$10,4),IF(AND($A23>=O$6,O$6>0),ROUND(N22+O$7,4),O$3))))) -> 6 | O23: =IF($A23<O$4, O$2, IF(O$1=0,IF(O$16>0,IF(O$2*O$16<ROUND(O22*N23, 3),O$2*O$16,ROUND(O22*N23, 3)),ROUND(O22*N23, 3)),IF(O$16>0,IF(O$2*O$16<ROUND(O$2*N23, 3),O$2*O$16,ROUND(O$2*N23, 3)),ROUND(O$2*N23, 3)))) -> 0.06 | P23: =P22+ROUND(O23,2) -> 0.13
A24: 5 | B24: =IF(($A24<C$4),1,IF(AND($A24>C$15,C$15>0),B23,IF(AND($A24>=C$12,C$12>0),ROUND(B23+C$13,4),IF(AND($A24>=C$9,C$9>0),ROUND(B23+C$10,4),IF(AND($A24>=C$6,C$6>0),ROUND(B23+C$7,4),C$3))))) -> 1.4 | C24: =IF($A24<C$4, C$2, IF(C$1=0,IF(C$16>0,IF(C$2*C$16<ROUND(C23*B24, 3),C$2*C$16,ROUND(C23*B24, 3)),ROUND(C23*B24, 3)),IF(C$16>0,IF(C$2*C$16<ROUND(C$2*B24, 3),C$2*C$16,ROUND(C$2*B24, 3)),ROUND(C$2*B24, 3)))) -> 0.039 | D24: =D23+ROUND(C24,2) -> 0.11 | F24: =IF(($A24<G$4),1,IF(AND($A24>G$15,G$15>0),F23,IF(AND($A24>=G$12,G$12>0),ROUND(F23+G$13,4),IF(AND($A24>=G$9,G$9>0),ROUND(F23+G$10,4),IF(AND($A24>=G$6,G$6>0),ROUND(F23+G$7,4),G$3))))) -> 1.4 | G24: =IF($A24<G$4, G$2, IF(G$1=0,IF(G$16>0,IF(G$2*G$16<ROUND(G23*F24, 3),G$2*G$16,ROUND(G23*F24, 3)),ROUND(G23*F24, 3)),IF(G$16>0,IF(G$2*G$16<ROUND(G$2*F24, 3),G$2*G$16,ROUND(G$2*F24, 3)),ROUND(G$2*F24, 3)))) -> 0.055 | H24: =H23+ROUND(G24,2) -> 0.17 | J24: =IF(($A24<K$4),1,IF(AND($A24>K$15,K$15>0),J23,IF(AND($A24>=K$12,K$12>0),ROUND(J23+K$13,4),IF(AND($A24>=K$9,K$9>0),ROUND(J23+K$10,4),IF(AND($A24>=K$6,K$6>0),ROUND(J23+K$7,4),K$3))))) -> 1.4 | K24: =IF($A24<K$4, K$2, IF(K$1=0,IF(K$16>0,IF(K$2*K$16<ROUND(K23*J24, 3),K$2*K$16,ROUND(K23*J24, 3)),ROUND(K23*J24, 3)),IF(K$16>0,IF(K$2*K$16<ROUND(K$2*J24, 3),K$2*K$16,ROUND(K$2*J24, 3)),ROUND(K$2*J24, 3)))) -> 0.059 | L24: =L23+ROUND(K24,2) -> 0.19 | N24: =IF(($A24<O$4),1,IF(AND($A24>O$15,O$15>0),N23,IF(AND($A24>=O$12,O$12>0),ROUND(N23+O$13,4),IF(AND($A24>=O$9,O$9>0),ROUND(N23+O$10,4),IF(AND($A24>=O$6,O$6>0),ROUND(N23+O$7,4),O$3))))) -> 9 | O24: =IF($A24<O$4, O$2, IF(O$1=0,IF(O$16>0,IF(O$2*O$16<ROUND(O23*N24, 3),O$2*O$16,ROUND(O23*N24, 3)),ROUND(O23*N24, 3)),IF(O$16>0,IF(O$2*O$16<ROUND(O$2*N24, 3),O$2*O$16,ROUND(O$2*N24, 3)),ROUND(O$2*N24, 3)))) -> 0.09 | P24: =P23+ROUND(O24,2) -> 0.22
A25: 6 | B25: =IF(($A25<C$4),1,IF(AND($A25>C$15,C$15>0),B24,IF(AND($A25>=C$12,C$12>0),ROUND(B24+C$13,4),IF(AND($A25>=C$9,C$9>0),ROUND(B24+C$10,4),IF(AND($A25>=C$6,C$6>0),ROUND(B24+C$7,4),C$3))))) -> 1.41 | C25: =IF($A25<C$4, C$2, IF(C$1=0,IF(C$16>0,IF(C$2*C$16<ROUND(C24*B25, 3),C$2*C$16,ROUND(C24*B25, 3)),ROUND(C24*B25, 3)),IF(C$16>0,IF(C$2*C$16<ROUND(C$2*B25, 3),C$2*C$16,ROUND(C$2*B25, 3)),ROUND(C$2*B25, 3)))) -> 0.055 | D25: =D24+ROUND(C25,2) -> 0.17 | F25: =IF(($A25<G$4),1,IF(AND($A25>G$15,G$15>0),F24,IF(AND($A25>=G$12,G$12>0),ROUND(F24+G$13,4),IF(AND($A25>=G$9,G$9>0),ROUND(F24+G$10,4),IF(AND($A25>=G$6,G$6>0),ROUND(F24+G$7,4),G$3))))) -> 1.41 | G25: =IF($A25<G$4, G$2, IF(G$1=0,IF(G$16>0,IF(G$2*G$16<ROUND(G24*F25, 3),G$2*G$16,ROUND(G24*F25, 3)),ROUND(G24*F25, 3)),IF(G$16>0,IF(G$2*G$16<ROUND(G$2*F25, 3),G$2*G$16,ROUND(G$2*F25, 3)),ROUND(G$2*F25, 3)))) -> 0.078 | H25: =H24+ROUND(G25,2) -> 0.25 | J25: =IF(($A25<K$4),1,IF(AND($A25>K$15,K$15>0),J24,IF(AND($A25>=K$12,K$12>0),ROUND(J24+K$13,4),IF(AND($A25>=K$9,K$9>0),ROUND(J24+K$10,4),IF(AND($A25>=K$6,K$6>0),ROUND(J24+K$7,4),K$3))))) -> 1.41 | K25: =IF($A25<K$4, K$2, IF(K$1=0,IF(K$16>0,IF(K$2*K$16<ROUND(K24*J25, 3),K$2*K$16,ROUND(K24*J25, 3)),ROUND(K24*J25, 3)),IF(K$16>0,IF(K$2*K$16<ROUND(K$2*J25, 3),K$2*K$16,ROUND(K$2*J25, 3)),ROUND(K$2*J25, 3)))) -> 0.083 | L25: =L24+ROUND(K25,2) -> 0.27 | N25: =IF(($A25<O$4),1,IF(AND($A25>O$15,O$15>0),N24,IF(AND($A25>=O$12,O$12>0),ROUND(N24+O$13,4),IF(AND($A25>=O$9,O$9>0),ROUND(N24+O$10,4),IF(AND($A25>=O$6,O$6>0),ROUND(N24+O$7,4),O$3))))) -> 12 | O25: =IF($A25<O$4, O$2, IF(O$1=0,IF(O$16>0,IF(O$2*O$16<ROUND(O24*N25, 3),O$2*O$16,ROUND(O24*N25, 3)),ROUND(O24*N25, 3)),IF(O$16>0,IF(O$2*O$16<ROUND(O$2*N25, 3),O$2*O$16,ROUND(O$2*N25, 3)),ROUND(O$2*N25, 3)))) -> 0.12 | P25: =P24+ROUND(O25,2) -> 0.34
A26: 7 | B26: =IF(($A26<C$4),1,IF(AND($A26>C$15,C$15>0),B25,IF(AND($A26>=C$12,C$12>0),ROUND(B25+C$13,4),IF(AND($A26>=C$9,C$9>0),ROUND(B25+C$10,4),IF(AND($A26>=C$6,C$6>0),ROUND(B25+C$7,4),C$3))))) -> 1.42 | C26: =IF($A26<C$4, C$2, IF(C$1=0,IF(C$16>0,IF(C$2*C$16<ROUND(C25*B26, 3),C$2*C$16,ROUND(C25*B26, 3)),ROUND(C25*B26, 3)),IF(C$16>0,IF(C$2*C$16<ROUND(C$2*B26, 3),C$2*C$16,ROUND(C$2*B26, 3)),ROUND(C$2*B26, 3)))) -> 0.078 | D26: =D25+ROUND(C26,2) -> 0.25 | F26: =IF(($A26<G$4),1,IF(AND($A26>G$15,G$15>0),F25,IF(AND($A26>=G$12,G$12>0),ROUND(F25+G$13,4),IF(AND($A26>=G$9,G$9>0),ROUND(F25+G$10,4),IF(AND($A26>=G$6,G$6>0),ROUND(F25+G$7,4),G$3))))) -> 1.42 | G26: =IF($A26<G$4, G$2, IF(G$1=0,IF(G$16>0,IF(G$2*G$16<ROUND(G25*F26, 3),G$2*G$16,ROUND(G25*F26, 3)),ROUND(G25*F26, 3)),IF(G$16>0,IF(G$2*G$16<ROUND(G$2*F26, 3),G$2*G$16,ROUND(G$2*F26, 3)),ROUND(G$2*F26, 3)))) -> 0.111 | H26: =H25+ROUND(G26,2) -> 0.36 | J26: =IF(($A26<K$4),1,IF(AND($A26>K$15,K$15>0),J25,IF(AND($A26>=K$12,K$12>0),ROUND(J25+K$13,4),IF(AND($A26>=K$9,K$9>0),ROUND(J25+K$10,4),IF(AND($A26>=K$6,K$6>0),ROUND(J25+K$7,4),K$3))))) -> 1.42 | K26: =IF($A26<K$4, K$2, IF(K$1=0,IF(K$16>0,IF(K$2*K$16<ROUND(K25*J26, 3),K$2*K$16,ROUND(K25*J26, 3)),ROUND(K25*J26, 3)),IF(K$16>0,IF(K$2*K$16<ROUND(K$2*J26, 3),K$2*K$16,ROUND(K$2*J26, 3)),ROUND(K$2*J26, 3)))) -> 0.118 | L26: =L25+ROUND(K26,2) -> 0.39 | N26: =IF(($A26<O$4),1,IF(AND($A26>O$15,O$15>0),N25,IF(AND($A26>=O$12,O$12>0),ROUND(N25+O$13,4),IF(AND($A26>=O$9,O$9>0),ROUND(N25+O$10,4),IF(AND($A26>=O$6,O$6>0),ROUND(N25+O$7,4),O$3))))) -> 15 | O26: =IF($A26<O$4, O$2, IF(O$1=0,IF(O$16>0,IF(O$2*O$16<ROUND(O25*N26, 3),O$2*O$16,ROUND(O25*N26, 3)),ROUND(O25*N26, 3)),IF(O$16>0,IF(O$2*O$16<ROUND(O$2*N26, 3),O$2*O$16,ROUND(O$2*N26, 3)),ROUND(O$2*N26, 3)))) -> 0.15 | P26: =P25+ROUND(O26,2) -> 0.49
A27: 8 | B27: =IF(($A27<C$4),1,IF(AND($A27>C$15,C$15>0),B26,IF(AND($A27>=C$12,C$12>0),ROUND(B26+C$13,4),IF(AND($A27>=C$9,C$9>0),ROUND(B26+C$10,4),IF(AND($A27>=C$6,C$6>0),ROUND(B26+C$7,4),C$3))))) -> 1.43 | C27: =IF($A27<C$4, C$2, IF(C$1=0,IF(C$16>0,IF(C$2*C$16<ROUND(C26*B27, 3),C$2*C$16,ROUND(C26*B27, 3)),ROUND(C26*B27, 3)),IF(C$16>0,IF(C$2*C$16<ROUND(C$2*B27, 3),C$2*C$16,ROUND(C$2*B27, 3)),ROUND(C$2*B27, 3)))) -> 0.112 | D27: =D26+ROUND(C27,2) -> 0.36 | F27: =IF(($A27<G$4),1,IF(AND($A27>G$15,G$15>0),F26,IF(AND($A27>=G$12,G$12>0),ROUND(F26+G$13,4),IF(AND($A27>=G$9,G$9>0),ROUND(F26+G$10,4),IF(AND($A27>=G$6,G$6>0),ROUND(F26+G$7,4),G$3))))) -> 1.43 | G27: =IF($A27<G$4, G$2, IF(G$1=0,IF(G$16>0,IF(G$2*G$16<ROUND(G26*F27, 3),G$2*G$16,ROUND(G26*F27, 3)),ROUND(G26*F27, 3)),IF(G$16>0,IF(G$2*G$16<ROUND(G$2*F27, 3),G$2*G$16,ROUND(G$2*F27, 3)),ROUND(G$2*F27, 3)))) -> 0.159 | H27: =H26+ROUND(G27,2) -> 0.52 | J27: =IF(($A27<K$4),1,IF(AND($A27>K$15,K$15>0),J26,IF(AND($A27>=K$12,K$12>0),ROUND(J26+K$13,4),IF(AND($A27>=K$9,K$9>0),ROUND(J26+K$10,4),IF(AND($A27>=K$6,K$6>0),ROUND(J26+K$7,4),K$3))))) -> 1.43 | K27: =IF($A27<K$4, K$2, IF(K$1=0,IF(K$16>0,IF(K$2*K$16<ROUND(K26*J27, 3),K$2*K$16,ROUND(K26*J27, 3)),ROUND(K26*J27, 3)),IF(K$16>0,IF(K$2*K$16<ROUND(K$2*J27, 3),K$2*K$16,ROUND(K$2*J27, 3)),ROUND(K$2*J27, 3)))) -> 0.169 | L27: =L26+ROUND(K27,2) -> 0.56 | N27: =IF(($A27<O$4),1,IF(AND($A27>O$15,O$15>0),N26,IF(AND($A27>=O$12,O$12>0),ROUND(N26+O$13,4),IF(AND($A27>=O$9,O$9>0),ROUND(N26+O$10,4),IF(AND($A27>=O$6,O$6>0),ROUND(N26+O$7,4),O$3))))) -> 18 | O27: =IF($A27<O$4, O$2, IF(O$1=0,IF(O$16>0,IF(O$2*O$16<ROUND(O26*N27, 3),O$2*O$16,ROUND(O26*N27, 3)),ROUND(O26*N27, 3)),IF(O$16>0,IF(O$2*O$16<ROUND(O$2*N27, 3),O$2*O$16,ROUND(O$2*N27, 3)),ROUND(O$2*N27, 3)))) -> 0.18 | P27: =P26+ROUND(O27,2) -> 0.67
A28: 9 | B28: =IF(($A28<C$4),1,IF(AND($A28>C$15,C$15>0),B27,IF(AND($A28>=C$12,C$12>0),ROUND(B27+C$13,4),IF(AND($A28>=C$9,C$9>0),ROUND(B27+C$10,4),IF(AND($A28>=C$6,C$6>0),ROUND(B27+C$7,4),C$3))))) -> 1.44 | C28: =IF($A28<C$4, C$2, IF(C$1=0,IF(C$16>0,IF(C$2*C$16<ROUND(C27*B28, 3),C$2*C$16,ROUND(C27*B28, 3)),ROUND(C27*B28, 3)),IF(C$16>0,IF(C$2*C$16<ROUND(C$2*B28, 3),C$2*C$16,ROUND(C$2*B28, 3)),ROUND(C$2*B28, 3)))) -> 0.161 | D28: =D27+ROUND(C28,2) -> 0.52 | F28: =IF(($A28<G$4),1,IF(AND($A28>G$15,G$15>0),F27,IF(AND($A28>=G$12,G$12>0),ROUND(F27+G$13,4),IF(AND($A28>=G$9,G$9>0),ROUND(F27+G$10,4),IF(AND($A28>=G$6,G$6>0),ROUND(F27+G$7,4),G$3))))) -> 1.44 | G28: =IF($A28<G$4, G$2, IF(G$1=0,IF(G$16>0,IF(G$2*G$16<ROUND(G27*F28, 3),G$2*G$16,ROUND(G27*F28, 3)),ROUND(G27*F28, 3)),IF(G$16>0,IF(G$2*G$16<ROUND(G$2*F28, 3),G$2*G$16,ROUND(G$2*F28, 3)),ROUND(G$2*F28, 3)))) -> 0.229 | H28: =H27+ROUND(G28,2) -> 0.75 | J28: =IF(($A28<K$4),1,IF(AND($A28>K$15,K$15>0),J27,IF(AND($A28>=K$12,K$12>0),ROUND(J27+K$13,4),IF(AND($A28>=K$9,K$9>0),ROUND(J27+K$10,4),IF(AND($A28>=K$6,K$6>0),ROUND(J27+K$7,4),K$3))))) -> 1.44 | K28: =IF($A28<K$4, K$2, IF(K$1=0,IF(K$16>0,IF(K$2*K$16<ROUND(K27*J28, 3),K$2*K$16,ROUND(K27*J28, 3)),ROUND(K27*J28, 3)),IF(K$16>0,IF(K$2*K$16<ROUND(K$2*J28, 3),K$2*K$16,ROUND(K$2*J28, 3)),ROUND(K$2*J28, 3)))) -> 0.243 | L28: =L27+ROUND(K28,2) -> 0.8 | N28: =IF(($A28<O$4),1,IF(AND($A28>O$15,O$15>0),N27,IF(AND($A28>=O$12,O$12>0),ROUND(N27+O$13,4),IF(AND($A28>=O$9,O$9>0),ROUND(N27+O$10,4),IF(AND($A28>=O$6,O$6>0),ROUND(N27+O$7,4),O$3))))) -> 21 | O28: =IF($A28<O$4, O$2, IF(O$1=0,IF(O$16>0,IF(O$2*O$16<ROUND(O27*N28, 3),O$2*O$16,ROUND(O27*N28, 3)),ROUND(O27*N28, 3)),IF(O$16>0,IF(O$2*O$16<ROUND(O$2*N28, 3),O$2*O$16,ROUND(O$2*N28, 3)),ROUND(O$2*N28, 3)))) -> 0.21 | P28: =P27+ROUND(O28,2) -> 0.88
A29: 10 | B29: =IF(($A29<C$4),1,IF(AND($A29>C$15,C$15>0),B28,IF(AND($A29>=C$12,C$12>0),ROUND(B28+C$13,4),IF(AND($A29>=C$9,C$9>0),ROUND(B28+C$10,4),IF(AND($A29>=C$6,C$6>0),ROUND(B28+C$7,4),C$3))))) -> 1.45 | C29: =IF($A29<C$4, C$2, IF(C$1=0,IF(C$16>0,IF(C$2*C$16<ROUND(C28*B29, 3),C$2*C$16,ROUND(C28*B29, 3)),ROUND(C28*B29, 3)),IF(C$16>0,IF(C$2*C$16<ROUND(C$2*B29, 3),C$2*C$16,ROUND(C$2*B29, 3)),ROUND(C$2*B29, 3)))) -> 0.233 | D29: =D28+ROUND(C29,2) -> 0.75 | F29: =IF(($A29<G$4),1,IF(AND($A29>G$15,G$15>0),F28,IF(AND($A29>=G$12,G$12>0),ROUND(F28+G$13,4),IF(AND($A29>=G$9,G$9>0),ROUND(F28+G$10,4),IF(AND($A29>=G$6,G$6>0),ROUND(F28+G$7,4),G$3))))) -> 1.45 | G29: =IF($A29<G$4, G$2, IF(G$1=0,IF(G$16>0,IF(G$2*G$16<ROUND(G28*F29, 3),G$2*G$16,ROUND(G28*F29, 3)),ROUND(G28*F29, 3)),IF(G$16>0,IF(G$2*G$16<ROUND(G$2*F29, 3),G$2*G$16,ROUND(G$2*F29, 3)),ROUND(G$2*F29, 3)))) -> 0.332 | H29: =H28+ROUND(G29,2) -> 1.08 | J29: =IF(($A29<K$4),1,IF(AND($A29>K$15,K$15>0),J28,IF(AND($A29>=K$12,K$12>0),ROUND(J28+K$13,4),IF(AND($A29>=K$9,K$9>0),ROUND(J28+K$10,4),IF(AND($A29>=K$6,K$6>0),ROUND(J28+K$7,4),K$3))))) -> 1.45 | K29: =IF($A29<K$4, K$2, IF(K$1=0,IF(K$16>0,IF(K$2*K$16<ROUND(K28*J29, 3),K$2*K$16,ROUND(K28*J29, 3)),ROUND(K28*J29, 3)),IF(K$16>0,IF(K$2*K$16<ROUND(K$2*J29, 3),K$2*K$16,ROUND(K$2*J29, 3)),ROUND(K$2*J29, 3)))) -> 0.352 | L29: =L28+ROUND(K29,2) -> 1.15 | N29: =IF(($A29<O$4),1,IF(AND($A29>O$15,O$15>0),N28,IF(AND($A29>=O$12,O$12>0),ROUND(N28+O$13,4),IF(AND($A29>=O$9,O$9>0),ROUND(N28+O$10,4),IF(AND($A29>=O$6,O$6>0),ROUND(N28+O$7,4),O$3))))) -> 26 | O29: =IF($A29<O$4, O$2, IF(O$1=0,IF(O$16>0,IF(O$2*O$16<ROUND(O28*N29, 3),O$2*O$16,ROUND(O28*N29, 3)),ROUND(O28*N29, 3)),IF(O$16>0,IF(O$2*O$16<ROUND(O$2*N29, 3),O$2*O$16,ROUND(O$2*N29, 3)),ROUND(O$2*N29, 3)))) -> 0.26 | P29: =P28+ROUND(O29,2) -> 1.14
A30: 11 | B30: =IF(($A30<C$4),1,IF(AND($A30>C$15,C$15>0),B29,IF(AND($A30>=C$12,C$12>0),ROUND(B29+C$13,4),IF(AND($A30>=C$9,C$9>0),ROUND(B29+C$10,4),IF(AND($A30>=C$6,C$6>0),ROUND(B29+C$7,4),C$3))))) -> 1.46 | C30: =IF($A30<C$4, C$2, IF(C$1=0,IF(C$16>0,IF(C$2*C$16<ROUND(C29*B30, 3),C$2*C$16,ROUND(C29*B30, 3)),ROUND(C29*B30, 3)),IF(C$16>0,IF(C$2*C$16<ROUND(C$2*B30, 3),C$2*C$16,ROUND(C$2*B30, 3)),ROUND(C$2*B30, 3)))) -> 0.34 | D30: =D29+ROUND(C30,2) -> 1.09 | F30: =IF(($A30<G$4),1,IF(AND($A30>G$15,G$15>0),F29,IF(AND($A30>=G$12,G$12>0),ROUND(F29+G$13,4),IF(AND($A30>=G$9,G$9>0),ROUND(F29+G$10,4),IF(AND($A30>=G$6,G$6>0),ROUND(F29+G$7,4),G$3))))) -> 1.46 | G30: =IF($A30<G$4, G$2, IF(G$1=0,IF(G$16>0,IF(G$2*G$16<ROUND(G29*F30, 3),G$2*G$16,ROUND(G29*F30, 3)),ROUND(G29*F30, 3)),IF(G$16>0,IF(G$2*G$16<ROUND(G$2*F30, 3),G$2*G$16,ROUND(G$2*F30, 3)),ROUND(G$2*F30, 3)))) -> 0.485 | H30: =H29+ROUND(G30,2) -> 1.57 | J30: =IF(($A30<K$4),1,IF(AND($A30>K$15,K$15>0),J29,IF(AND($A30>=K$12,K$12>0),ROUND(J29+K$13,4),IF(AND($A30>=K$9,K$9>0),ROUND(J29+K$10,4),IF(AND($A30>=K$6,K$6>0),ROUND(J29+K$7,4),K$3))))) -> 1.46 | K30: =IF($A30<K$4, K$2, IF(K$1=0,IF(K$16>0,IF(K$2*K$16<ROUND(K29*J30, 3),K$2*K$16,ROUND(K29*J30, 3)),ROUND(K29*J30, 3)),IF(K$16>0,IF(K$2*K$16<ROUND(K$2*J30, 3),K$2*K$16,ROUND(K$2*J30, 3)),ROUND(K$2*J30, 3)))) -> 0.514 | L30: =L29+ROUND(K30,2) -> 1.66 | N30: =IF(($A30<O$4),1,IF(AND($A30>O$15,O$15>0),N29,IF(AND($A30>=O$12,O$12>0),ROUND(N29+O$13,4),IF(AND($A30>=O$9,O$9>0),ROUND(N29+O$10,4),IF(AND($A30>=O$6,O$6>0),ROUND(N29+O$7,4),O$3))))) -> 31 | O30: =IF($A30<O$4, O$2, IF(O$1=0,IF(O$16>0,IF(O$2*O$16<ROUND(O29*N30, 3),O$2*O$16,ROUND(O29*N30, 3)),ROUND(O29*N30, 3)),IF(O$16>0,IF(O$2*O$16<ROUND(O$2*N30, 3),O$2*O$16,ROUND(O$2*N30, 3)),ROUND(O$2*N30, 3)))) -> 0.31 | P30: =P29+ROUND(O30,2) -> 1.45
A31: 12 | B31: =IF(($A31<C$4),1,IF(AND($A31>C$15,C$15>0),B30,IF(AND($A31>=C$12,C$12>0),ROUND(B30+C$13,4),IF(AND($A31>=C$9,C$9>0),ROUND(B30+C$10,4),IF(AND($A31>=C$6,C$6>0),ROUND(B30+C$7,4),C$3))))) -> 1.47 | C31: =IF($A31<C$4, C$2, IF(C$1=0,IF(C$16>0,IF(C$2*C$16<ROUND(C30*B31, 3),C$2*C$16,ROUND(C30*B31, 3)),ROUND(C30*B31, 3)),IF(C$16>0,IF(C$2*C$16<ROUND(C$2*B31, 3),C$2*C$16,ROUND(C$2*B31, 3)),ROUND(C$2*B31, 3)))) -> 0.5 | D31: =D30+ROUND(C31,2) -> 1.59 | F31: =IF(($A31<G$4),1,IF(AND($A31>G$15,G$15>0),F30,IF(AND($A31>=G$12,G$12>0),ROUND(F30+G$13,4),IF(AND($A31>=G$9,G$9>0),ROUND(F30+G$10,4),IF(AND($A31>=G$6,G$6>0),ROUND(F30+G$7,4),G$3))))) -> 1.47 | G31: =IF($A31<G$4, G$2, IF(G$1=0,IF(G$16>0,IF(G$2*G$16<ROUND(G30*F31, 3),G$2*G$16,ROUND(G30*F31, 3)),ROUND(G30*F31, 3)),IF(G$16>0,IF(G$2*G$16<ROUND(G$2*F31, 3),G$2*G$16,ROUND(G$2*F31, 3)),ROUND(G$2*F31, 3)))) -> 0.713 | H31: =H30+ROUND(G31,2) -> 2.28 | J31: =IF(($A31<K$4),1,IF(AND($A31>K$15,K$15>0),J30,IF(AND($A31>=K$12,K$12>0),ROUND(J30+K$13,4),IF(AND($A31>=K$9,K$9>0),ROUND(J30+K$10,4),IF(AND($A31>=K$6,K$6>0),ROUND(J30+K$7,4),K$3))))) -> 1.47 | K31: =IF($A31<K$4, K$2, IF(K$1=0,IF(K$16>0,IF(K$2*K$16<ROUND(K30*J31, 3),K$2*K$16,ROUND(K30*J31, 3)),ROUND(K30*J31, 3)),IF(K$16>0,IF(K$2*K$16<ROUND(K$2*J31, 3),K$2*K$16,ROUND(K$2*J31, 3)),ROUND(K$2*J31, 3)))) -> 0.756 | L31: =L30+ROUND(K31,2) -> 2.42 | N31: =IF(($A31<O$4),1,IF(AND($A31>O$15,O$15>0),N30,IF(AND($A31>=O$12,O$12>0),ROUND(N30+O$13,4),IF(AND($A31>=O$9,O$9>0),ROUND(N30+O$10,4),IF(AND($A31>=O$6,O$6>0),ROUND(N30+O$7,4),O$3))))) -> 36 | O31: =IF($A31<O$4, O$2, IF(O$1=0,IF(O$16>0,IF(O$2*O$16<ROUND(O30*N31, 3),O$2*O$16,ROUND(O30*N31, 3)),ROUND(O30*N31, 3)),IF(O$16>0,IF(O$2*O$16<ROUND(O$2*N31, 3),O$2*O$16,ROUND(O$2*N31, 3)),ROUND(O$2*N31, 3)))) -> 0.36 | P31: =P30+ROUND(O31,2) -> 1.81
A32: 13 | B32: =IF(($A32<C$4),1,IF(AND($A32>C$15,C$15>0),B31,IF(AND($A32>=C$12,C$12>0),ROUND(B31+C$13,4),IF(AND($A32>=C$9,C$9>0),ROUND(B31+C$10,4),IF(AND($A32>=C$6,C$6>0),ROUND(B31+C$7,4),C$3))))) -> 1.47 | C32: =IF($A32<C$4, C$2, IF(C$1=0,IF(C$16>0,IF(C$2*C$16<ROUND(C31*B32, 3),C$2*C$16,ROUND(C31*B32, 3)),ROUND(C31*B32, 3)),IF(C$16>0,IF(C$2*C$16<ROUND(C$2*B32, 3),C$2*C$16,ROUND(C$2*B32, 3)),ROUND(C$2*B32, 3)))) -> 0.735 | D32: =D31+ROUND(C32,2) -> 2.33 | F32: =IF(($A32<G$4),1,IF(AND($A32>G$15,G$15>0),F31,IF(AND($A32>=G$12,G$12>0),ROUND(F31+G$13,4),IF(AND($A32>=G$9,G$9>0),ROUND(F31+G$10,4),IF(AND($A32>=G$6,G$6>0),ROUND(F31+G$7,4),G$3))))) -> 1.48 | G32: =IF($A32<G$4, G$2, IF(G$1=0,IF(G$16>0,IF(G$2*G$16<ROUND(G31*F32, 3),G$2*G$16,ROUND(G31*F32, 3)),ROUND(G31*F32, 3)),IF(G$16>0,IF(G$2*G$16<ROUND(G$2*F32, 3),G$2*G$16,ROUND(G$2*F32, 3)),ROUND(G$2*F32, 3)))) -> 1.055 | H32: =H31+ROUND(G32,2) -> 3.34 | J32: =IF(($A32<K$4),1,IF(AND($A32>K$15,K$15>0),J31,IF(AND($A32>=K$12,K$12>0),ROUND(J31+K$13,4),IF(AND($A32>=K$9,K$9>0),ROUND(J31+K$10,4),IF(AND($A32>=K$6,K$6>0),ROUND(J31+K$7,4),K$3))))) -> 1.48 | K32: =IF($A32<K$4, K$2, IF(K$1=0,IF(K$16>0,IF(K$2*K$16<ROUND(K31*J32, 3),K$2*K$16,ROUND(K31*J32, 3)),ROUND(K31*J32, 3)),IF(K$16>0,IF(K$2*K$16<ROUND(K$2*J32, 3),K$2*K$16,ROUND(K$2*J32, 3)),ROUND(K$2*J32, 3)))) -> 1.119 | L32: =L31+ROUND(K32,2) -> 3.54 | N32: =IF(($A32<O$4),1,IF(AND($A32>O$15,O$15>0),N31,IF(AND($A32>=O$12,O$12>0),ROUND(N31+O$13,4),IF(AND($A32>=O$9,O$9>0),ROUND(N31+O$10,4),IF(AND($A32>=O$6,O$6>0),ROUND(N31+O$7,4),O$3))))) -> 41 | O32: =IF($A32<O$4, O$2, IF(O$1=0,IF(O$16>0,IF(O$2*O$16<ROUND(O31*N32, 3),O$2*O$16,ROUND(O31*N32, 3)),ROUND(O31*N32, 3)),IF(O$16>0,IF(O$2*O$16<ROUND(O$2*N32, 3),O$2*O$16,ROUND(O$2*N32, 3)),ROUND(O$2*N32, 3)))) -> 0.4 | P32: =P31+ROUND(O32,2) -> 2.21
... A39: 20 | B39: =IF(($A39<C$4),1,IF(AND($A39>C$15,C$15>0),B38,IF(AND($A39>=C$12,C$12>0),ROUND(B38+C$13,4),IF(AND($A39>=C$9,C$9>0),ROUND(B38+C$10,4),IF(AND($A39>=C$6,C$6>0),ROUND(B38+C$7,4),C$3))))) -> 1.47 | C39: =IF($A39<C$4, C$2, IF(C$1=0,IF(C$16>0,IF(C$2*C$16<ROUND(C38*B39, 3),C$2*C$16,ROUND(C38*B39, 3)),ROUND(C38*B39, 3)),IF(C$16>0,IF(C$2*C$16<ROUND(C$2*B39, 3),C$2*C$16,ROUND(C$2*B39, 3)),ROUND(C$2*B39, 3)))) -> 4 | D39: =D38+ROUND(C39,2) -> 22.76 | F39: =IF(($A39<G$4),1,IF(AND($A39>G$15,G$15>0),F38,IF(AND($A39>=G$12,G$12>0),ROUND(F38+G$13,4),IF(AND($A39>=G$9,G$9>0),ROUND(F38+G$10,4),IF(AND($A39>=G$6,G$6>0),ROUND(F38+G$7,4),G$3))))) -> 1.5 | G39: =IF($A39<G$4, G$2, IF(G$1=0,IF(G$16>0,IF(G$2*G$16<ROUND(G38*F39, 3),G$2*G$16,ROUND(G38*F39, 3)),ROUND(G38*F39, 3)),IF(G$16>0,IF(G$2*G$16<ROUND(G$2*F39, 3),G$2*G$16,ROUND(G$2*F39, 3)),ROUND(G$2*F39, 3)))) -> 4 | H39: =H38+ROUND(G39,2) -> 26.81 | J39: =IF(($A39<K$4),1,IF(AND($A39>K$15,K$15>0),J38,IF(AND($A39>=K$12,K$12>0),ROUND(J38+K$13,4),IF(AND($A39>=K$9,K$9>0),ROUND(J38+K$10,4),IF(AND($A39>=K$6,K$6>0),ROUND(J38+K$7,4),K$3))))) -> 1.55 | K39: =IF($A39<K$4, K$2, IF(K$1=0,IF(K$16>0,IF(K$2*K$16<ROUND(K38*J39, 3),K$2*K$16,ROUND(K38*J39, 3)),ROUND(K38*J39, 3)),IF(K$16>0,IF(K$2*K$16<ROUND(K$2*J39, 3),K$2*K$16,ROUND(K$2*J39, 3)),ROUND(K$2*J39, 3)))) -> 6 | L39: =L38+ROUND(K39,2) -> 35.23 | N39: =IF(($A39<O$4),1,IF(AND($A39>O$15,O$15>0),N38,IF(AND($A39>=O$12,O$12>0),ROUND(N38+O$13,4),IF(AND($A39>=O$9,O$9>0),ROUND(N38+O$10,4),IF(AND($A39>=O$6,O$6>0),ROUND(N38+O$7,4),O$3))))) -> 46 | O39: =IF($A39<O$4, O$2, IF(O$1=0,IF(O$16>0,IF(O$2*O$16<ROUND(O38*N39, 3),O$2*O$16,ROUND(O38*N39, 3)),ROUND(O38*N39, 3)),IF(O$16>0,IF(O$2*O$16<ROUND(O$2*N39, 3),O$2*O$16,ROUND(O$2*N39, 3)),ROUND(O$2*N39, 3)))) -> 0.4 | P39: =P38+ROUND(O39,2) -> 5.01

Sheet Итого
B2: Колено | C2: MinLot | E2: 0.01 | F2: =E2+0.01 -> 0.02 | G2: =F2+0.01 -> 0.03 | H2: =G2+0.01 -> 0.04 | I2: =H2+0.01 -> 0.05 | J2: =I2+0.01 -> 0.06 | K2: =J2+0.01 -> 0.07 | L2: =K2+0.01 -> 0.08 | M2: =L2+0.01 -> 0.09 | N2: =M2+0.01 -> 0.1
B3: ='0.01'!A31 -> 12 | C3: Просадка+залог (Колонка Х) | E3: ='0.01'!$X31 -> 905.65 | F3: ='0.02'!$X31 -> 1795.06 | G3: ='0.03'!$X31 -> 3639.76 | H3: ='0.04'!$X31 -> 3639.76 | I3: ='0.05'!$X31 -> 4547.98 | J3: ='0.06'!$X31 -> 5482.75 | K3: ='0.07'!$X31 -> 6368.41 | L3: ='0.08'!$X31 -> 7285.04 | M3: ='0.09'!$X31 -> 8172.02 | N3: ='0.10'!$X31 -> 9080.27
C4: Отношение = Просадка тек MinLot / Просадка MinLot=0.01 | E4: =E3/$E$3 -> 1 | F4: =F3/$E$3 -> 1.9820681 | G4: =G3/$E$3 -> 4.0189477 | H4: =H3/$E$3 -> 4.0189477 | I4: =I3/$E$3 -> 5.0217855 | J4: =J3/$E$3 -> 6.0539392 | K4: =K3/$E$3 -> 7.0318666 | L4: =L3/$E$3 -> 8.0439905 | ... N4: =N3/$E$3 -> 10.026246
B6: ='0.01'!A34 -> 15 | C6: Просадка+залог (Колонка Х) | E6: ='0.01'!$X34 -> 4426.61 | F6: ='0.02'!$X34 -> 8765.69 | G6: ='0.03'!$X34 -> 17822.34 | H6: ='0.04'!$X34 -> 17822.34 | I6: ='0.05'!$X34 -> 22259.3 | J6: ='0.06'!$X34 -> 26876.94 | K6: ='0.07'!$X34 -> 31197.43 | L6: ='0.08'!$X34 -> 35680.04 | M6: ='0.09'!$X34 -> 40022.98 | N6: ='0.10'!$X34 -> 44453.7
C7: Отношение = Просадка тек MinLot / Просадка MinLot=0.01 | E7: =E6/$E$6 -> 1 | F7: =F6/$E$6 -> 1.9802264 | G7: =G6/$E$6 -> 4.0261826 | H7: =H6/$E$6 -> 4.0261826 | I7: =I6/$E$6 -> 5.0285207 | J7: =J6/$E$6 -> 6.0716756 | K7: =K6/$E$6 -> 7.0477024 | L7: =L6/$E$6 -> 8.0603532 | ... N7: =N6/$E$6 -> 10.04238
B9: ='0.01'!A37 -> 18 | C9: Просадка+залог (Колонка Х) | E9: ='0.01'!$X37 -> 24765.99 | F9: ='0.02'!$X37 -> 49048.54 | G9: ='0.03'!$X37 -> 99842.29 | H9: ='0.04'!$X37 -> 99842.29 | I9: ='0.05'!$X37 -> 124656.49 | J9: ='0.06'!$X37 -> 150575.88 | K9: ='0.07'!$X37 -> 174784.6 | L9: ='0.08'!$X37 -> 199867.95 | M9: ='0.09'!$X37 -> 224163.37 | N9: ='0.10'!$X37 -> 248990.36
C10: Отношение = Просадка тек MinLot / Просадка MinLot=0.01 | E10: =E9/$E$9 -> 1 | F10: =F9/$E$9 -> 1.9804797 | G10: =G9/$E$9 -> 4.0314274 | H10: =H9/$E$9 -> 4.0314274 | I10: =I9/$E$9 -> 5.033374 | J10: =J9/$E$9 -> 6.0799459 | K10: =K9/$E$9 -> 7.0574445 | L10: =L9/$E$9 -> 8.0702589 | ... N10: =N9/$E$9 -> 10.053721

Sheet 0.01
I1: CalcLotType | J1: =IF(K$1=0,"LastOrder",IF(K$1=1,"MinOrder","ОШИБКА")) -> LastOrder | K1: 0
A2: TakeProffit | B2: =IF(C$2<=0,"д.б. >0","") | C2: 18 | E2: GridStep | F2: =IF(G$2<2,"д.б. >1","") | G2: 19 | I2: MinLot | J2: =IF(K$2<0,"д.б. >0","") | K2: 0.01 | M2: Пара | O2: nzdcad
I3: Mult | J3: =IF(K$3<0,"д.б. >0","") | K3: 1.4 | M3: Значность | O3: 4
I4: MultStart | J4: =IF(K$4<2,"д.б. >1","") | K4: 4 | M4: Цена пипса, $ | O4: 7.4
AI5: 1
A6: TakeProffit_Level1 | C6: 4 | E6: GridLevel | F6: =IF(G$6<0,"д.б. >=0","") | G6: 3 | I6: MultLevel2 | J6: =IF(K$6<0,"д.б. >=0","") | K6: 6 | M6: Комиссия, $ | O6: 8.08
A7: TakeProffit_Level1Corr | C7: 1 | E7: GridStep_AddPips | G7: 4 | I7: MultCorr | J7: =IF(AND(K$6=0,K$7<>0),"д.б. =0","") | K7: 0.02 | M7: Залог 1 лот, $ | O7: 144
B8: =IF(OR(C$6=1,C$6<0,C$9=1,C$9<0,C$12=1,C$12<0,AND(C$6>1,C$9>1,C$6>=C$9),AND(C$6>1,C$12>1,C$6>=C$12),AND(C$9>1,C$12>1,C$9>=C$12)),"ОШИБКА в № колен","") | F8: =IF(OR(G$6=1,G$6<0,G$9=1,G$9<0,G$12=1,G$12<0,G$15<0,AND(G$6>1,G$9>1,G$6>=G$9),AND(G$6>1,G$12>1,G$6>=G$12),AND(G$9>1,G$12>1,G$9>=G$12),AND(G$6>1,G$15>0,G$6>G$15),AND(G$9>1,G$15>0,G$9>G$15),AND(G$12>1,G$15>0,G$12>G$15)),"ОШИБКА в №№ колен","") | J8: =IF(OR(K$6=1,K$6<0,K$9=1,K$9<0,K$12=1,K$12<0,K$15<0,AND(K$6>0,K$4>=K$6),AND(K$9>0,K$4>=K$9),AND(K$12>0,K$4>=K$12),AND(K$6>1,K$9>1,K$6>=K$9),AND(K$6>1,K$12>1,K$6>=K$12),AND(K$9>1,K$12>1,K$9>=K$12),AND(K$15>0,K$4>K$15),AND(K$6>1,K$15>0,K$6>K$15),AND(K$9>1,K$15>0,K$9>K$15),AND(K$12>1,K$15>0,K$12>K$15)),"ОШИБКА № колен","") | M8: StopOut, % | O8: 0.2
A9: TakeProffit_Level1_5 | C9: 0 | E9: GridStep_Level2 | G9: 11 | I9: MultLevel3 | J9: =IF(K$9<0,"д.б. >=0","") | K9: 9
A10: TakeProffit_Level1_5Corr | C10: 0 | E10: GridStep_Level2_AddPips | G10: 8 | I10: MultСorrLevel3 | J10: =IF(AND(K$9=0,K$10<>0),"д.б. =0","") | K10: 0.035 | M10: Депо, $ | O10: 100000
A12: TakeProffit_Level2 | C12: 0 | E12: Grid3 | F12: =IF(G$12<0,"д.б. >=0","") | G12: 0 | I12: Mult3 | J12: =IF(K$12<0,"д.б. >=0","") | K12: 0
A13: TakeProffit_Level2FixPips | C13: 0 | E13: Grid3Add | F13: =IF(AND(G$12=0,G$13<>0),"д.б. =0","") | G13: 0 | I13: Mult3Add | J13: =IF(AND(K$12=0,K$13<>0),"д.б. =0","") | K13: 0
E15: GridStop | F15: =IF(G$15<0,"д.б. >=0","") | G15: 0 | I15: MultStop | J15: =IF(K$15<0,"д.б. >=0","") | K15: 0
I16: MaxLotCoef | J16: =IF(K$16<0,"д.б. >=0","") | K16: 0
A18: №№ колен | B18: Кор-рект | C18: TP | E18: Коррект | F18: Шаг, пипсов | G18: Сетка пипсов от 1-го ордера | I18: Мульт | J18: Ордер | K18: Лотов сумма | M18: Прибыль | O18: $/пипс | P18: Просадка | R18: Безубыток | T18: ТР | W18: Залог, $ | X18: Просадка + залог, $ (включая комиссию) Min депо | Z18: Св.Маржа = Депо - просадка-залог, $ | AA18: Просадка + залог = %%депо | AB18: Max просадка до StopOut в пипсах от: | AD18: №№ ко-лен | AF18: Залог к просадке (включая комиссию) | AG18: Залог к депо, %
M19: $ | N19: % депо | P19: $ | Q19: % депо | R19: Пипсов | S19: %% | T19: Пипсов | U19: %% | AB19: Колена N | AC19: 1го ордера
A20: 1 | B20: 0 | C20: =C$2 -> 18 | E20: =IF(OR($A20<2,AND(G$15>0,$A20>G$15)),0,IF(AND($A20>=G$12,G$12>0),G$13,IF(AND($A20>=G$9,G$9>0),G$10,IF(AND($A20>=G$6,G$6>0),G$7,0)))) -> 0 | F20: 0 | G20: =F20 -> 0 | I20: =IF(($A20<K$4),1,IF(AND($A20>K$15,K$15>0),I19,IF(AND($A20>=K$12,K$12>0),ROUND(I19+K$13,4),IF(AND($A20>=K$9,K$9>0),ROUND(I19+K$10,4),IF(AND($A20>=K$6,K$6>0),ROUND(I19+K$7,4),K$3))))) -> 1 | J20: =IF($A20<K$4, K$2, IF(K$1=0,IF(K$16>0,IF(K$2*K$16<ROUND(J19*I20, 3),K$2*K$16,ROUND(J19*I20, 3)),ROUND(J19*I20, 3)),IF(K$16>0,IF(K$2*K$16<ROUND(K$2*I20, 3),K$2*K$16,ROUND(K$2*I20, 3)),ROUND(K$2*I20, 3)))) -> 0.01 | K20: =J20 -> 0.01 | M20: =ROUND(C20*O20-K20*$O$6,2) -> 1.18 | N20: =IF($O$10>0,M20/$O$10,0) -> 1.18e-05 | O20: =ROUND(ROUND(K20,2)*$O$4,2) -> 0.07 | P20: =ROUND(J20*$O$6,2) -> 0.08 | Q20: =P20/$O$10 -> 8e-07 | R20: =ROUND(P20/O20,0) -> 1 | S20: 0 | T20: =R20+C20 -> 19 | U20: 0 | W20: =ROUND(K20*$O$7,2) -> 1.44 | X20: =ROUND(P20+W20,2) -> 1.52 | Z20: =IF($O$10>0,ROUND($O$10-X20,2),0) -> 99998.48 | AA20: =IF($O$10>0,ROUND(X20/$O$10,2),0) -> 0 | AB20: =IF(AND(Z20>0,$O$4>0),($O$10-P20-W20*$O$8)/O20,0) -> 1428566.2 | AC20: =IF(AB20>0,AB20+G20,0) -> 1428566.2 | AD20: 1 | AF20: =IF(P20>0,ROUND(W20/P20,2),0) -> 18 | AG20: =IF($O$10>0,ROUND(W20/$O$10,2),0) -> 0
A21: 2 | B21: =IF(AND($A21>=C$12,C$12>0),0,IF(AND($A21>=C$9,C$9>0),C$10,IF(AND($A21>=C$6,C$6>0),C$7,0))) -> 0 | C21: =IF(AND($A21>=C$12,C$12>0),C$13,C20+B21) -> 18 | E21: =IF(OR($A21<2,AND(G$15>0,$A21>G$15)),0,IF(AND($A21>=G$12,G$12>0),G$13,IF(AND($A21>=G$9,G$9>0),G$10,IF(AND($A21>=G$6,G$6>0),G$7,0)))) -> 0 | F21: =G$2+E21 -> 19 | G21: =G20+F21 -> 19 | I21: =IF(($A21<K$4),1,IF(AND($A21>K$15,K$15>0),I20,IF(AND($A21>=K$12,K$12>0),ROUND(I20+K$13,4),IF(AND($A21>=K$9,K$9>0),ROUND(I20+K$10,4),IF(AND($A21>=K$6,K$6>0),ROUND(I20+K$7,4),K$3))))) -> 1 | J21: =IF($A21<K$4, K$2, IF(K$1=0,IF(K$16>0,IF(K$2*K$16<ROUND(J20*I21, 3),K$2*K$16,ROUND(J20*I21, 3)),ROUND(J20*I21, 3)),IF(K$16>0,IF(K$2*K$16<ROUND(K$2*I21, 3),K$2*K$16,ROUND(K$2*I21, 3)),ROUND(K$2*I21, 3)))) -> 0.01 | K21: =K20+ROUND(J21,3) -> 0.02 | M21: =ROUND(C21*O21-K21*$O$6,2) -> 2.54 | N21: =IF($O$10>0,M21/$O$10,0) -> 2.54e-05 | O21: =ROUND(ROUND(K21,2)*$O$4,2) -> 0.15 | P21: =ROUND((ROUND(K20,2)*(G21-G20)*$O$4+P20+J21*$O$6),2) -> 1.57 | Q21: =P21/$O$10 -> 1.57e-05 | R21: =ROUND(P21/O21,0) -> 10 | S21: =ROUND(R21/G21,2) -> 0.53 | T21: =R21+C21 -> 28 | U21: =ROUND(T21/G21,2) -> 1.47 | W21: =ROUND(K21*$O$7,2) -> 2.88 | X21: =ROUND(P21+W21,2) -> 4.45 | Z21: =IF($O$10>0,ROUND($O$10-X21,2),0) -> 99995.55 | AA21: =IF($O$10>0,ROUND(X21/$O$10,2),0) -> 0 | AB21: =IF(AND(Z21>0,$O$4>0),($O$10-P21-W21*$O$8)/O21,0) -> 666652.36 | AC21: =IF(AB21>0,AB21+G21,0) -> 666671.36 | AD21: 2 | AF21: =IF(P21>0,ROUND(W21/P21,2),0) -> 1.83 | AG21: =IF($O$10>0,ROUND(W21/$O$10,2),0) -> 0
A22: 3 | B22: =IF(AND($A22>=C$12,C$12>0),0,IF(AND($A22>=C$9,C$9>0),C$10,IF(AND($A22>=C$6,C$6>0),C$7,0))) -> 0 | C22: =IF(AND($A22>=C$12,C$12>0),C$13,C21+B22) -> 18 | E22: =IF(OR($A22<2,AND(G$15>0,$A22>G$15)),0,IF(AND($A22>=G$12,G$12>0),G$13,IF(AND($A22>=G$9,G$9>0),G$10,IF(AND($A22>=G$6,G$6>0),G$7,0)))) -> 4 | F22: =F21+E22 -> 23 | G22: =G21+F22 -> 42 | I22: =IF(($A22<K$4),1,IF(AND($A22>K$15,K$15>0),I21,IF(AND($A22>=K$12,K$12>0),ROUND(I21+K$13,4),IF(AND($A22>=K$9,K$9>0),ROUND(I21+K$10,4),IF(AND($A22>=K$6,K$6>0),ROUND(I21+K$7,4),K$3))))) -> 1 | J22: =IF($A22<K$4, K$2, IF(K$1=0,IF(K$16>0,IF(K$2*K$16<ROUND(J21*I22, 3),K$2*K$16,ROUND(J21*I22, 3)),ROUND(J21*I22, 3)),IF(K$16>0,IF(K$2*K$16<ROUND(K$2*I22, 3),K$2*K$16,ROUND(K$2*I22, 3)),ROUND(K$2*I22, 3)))) -> 0.01 | K22: =K21+ROUND(J22,3) -> 0.03 | M22: =ROUND(C22*O22-K22*$O$6,2) -> 3.72 | N22: =IF($O$10>0,M22/$O$10,0) -> 3.72e-05 | O22: =ROUND(ROUND(K22,2)*$O$4,2) -> 0.22 | P22: =ROUND((ROUND(K21,2)*(G22-G21)*$O$4+P21+J22*$O$6),2) -> 5.05 | Q22: =P22/$O$10 -> 5.05e-05 | R22: =ROUND(P22/O22,0) -> 23 | S22: =ROUND(R22/G22,2) -> 0.55 | T22: =R22+C22 -> 41 | U22: =ROUND(T22/G22,2) -> 0.98 | W22: =ROUND(K22*$O$7,2) -> 4.32 | X22: =ROUND(P22+W22,2) -> 9.37 | Z22: =IF($O$10>0,ROUND($O$10-X22,2),0) -> 99990.63 | AA22: =IF($O$10>0,ROUND(X22/$O$10,2),0) -> 0 | AB22: =IF(AND(Z22>0,$O$4>0),($O$10-P22-W22*$O$8)/O22,0) -> 454518.57 | AC22: =IF(AB22>0,AB22+G22,0) -> 454560.57 | AD22: 3 | AF22: =IF(P22>0,ROUND(W22/P22,2),0) -> 0.86 | AG22: =IF($O$10>0,ROUND(W22/$O$10,2),0) -> 0
A23: 4 | B23: =IF(AND($A23>=C$12,C$12>0),0,IF(AND($A23>=C$9,C$9>0),C$10,IF(AND($A23>=C$6,C$6>0),C$7,0))) -> 1 | C23: =IF(AND($A23>=C$12,C$12>0),C$13,C22+B23) -> 19 | E23: =IF(OR($A23<2,AND(G$15>0,$A23>G$15)),0,IF(AND($A23>=G$12,G$12>0),G$13,IF(AND($A23>=G$9,G$9>0),G$10,IF(AND($A23>=G$6,G$6>0),G$7,0)))) -> 4 | F23: =F22+E23 -> 27 | G23: =G22+F23 -> 69 | I23: =IF(($A23<K$4),1,IF(AND($A23>K$15,K$15>0),I22,IF(AND($A23>=K$12,K$12>0),ROUND(I22+K$13,4),IF(AND($A23>=K$9,K$9>0),ROUND(I22+K$10,4),IF(AND($A23>=K$6,K$6>0),ROUND(I22+K$7,4),K$3))))) -> 1.4 | J23: =IF($A23<K$4, K$2, IF(K$1=0,IF(K$16>0,IF(K$2*K$16<ROUND(J22*I23, 3),K$2*K$16,ROUND(J22*I23, 3)),ROUND(J22*I23, 3)),IF(K$16>0,IF(K$2*K$16<ROUND(K$2*I23, 3),K$2*K$16,ROUND(K$2*I23, 3)),ROUND(K$2*I23, 3)))) -> 0.014 | K23: =K22+ROUND(J23,3) -> 0.044 | M23: =ROUND(C23*O23-K23*$O$6,2) -> 5.34 | N23: =IF($O$10>0,M23/$O$10,0) -> 5.34e-05 | O23: =ROUND(ROUND(K23,2)*$O$4,2) -> 0.3 | P23: =ROUND((ROUND(K22,2)*(G23-G22)*$O$4+P22+J23*$O$6),2) -> 11.16 | Q23: =P23/$O$10 -> 0.0001116 | R23: =ROUND(P23/O23,0) -> 37 | S23: =ROUND(R23/G23,2) -> 0.54 | T23: =R23+C23 -> 56 | U23: =ROUND(T23/G23,2) -> 0.81 | W23: =ROUND(K23*$O$7,2) -> 6.34 | X23: =ROUND(P23+W23,2) -> 17.5 | Z23: =IF($O$10>0,ROUND($O$10-X23,2),0) -> 99982.5 | AA23: =IF($O$10>0,ROUND(X23/$O$10,2),0) -> 0 | AB23: =IF(AND(Z23>0,$O$4>0),($O$10-P23-W23*$O$8)/O23,0) -> 333291.91 | AC23: =IF(AB23>0,AB23+G23,0) -> 333360.91 | AD23: 4 | AF23: =IF(P23>0,ROUND(W23/P23,2),0) -> 0.57 | AG23: =IF($O$10>0,ROUND(W23/$O$10,2),0) -> 0
A24: 5 | B24: =IF(AND($A24>=C$12,C$12>0),0,IF(AND($A24>=C$9,C$9>0),C$10,IF(AND($A24>=C$6,C$6>0),C$7,0))) -> 1 | C24: =IF(AND($A24>=C$12,C$12>0),C$13,C23+B24) -> 20 | E24: =IF(OR($A24<2,AND(G$15>0,$A24>G$15)),0,IF(AND($A24>=G$12,G$12>0),G$13,IF(AND($A24>=G$9,G$9>0),G$10,IF(AND($A24>=G$6,G$6>0),G$7,0)))) -> 4 | F24: =F23+E24 -> 31 | G24: =G23+F24 -> 100 | I24: =IF(($A24<K$4),1,IF(AND($A24>K$15,K$15>0),I23,IF(AND($A24>=K$12,K$12>0),ROUND(I23+K$13,4),IF(AND($A24>=K$9,K$9>0),ROUND(I23+K$10,4),IF(AND($A24>=K$6,K$6>0),ROUND(I23+K$7,4),K$3))))) -> 1.4 | J24: =IF($A24<K$4, K$2, IF(K$1=0,IF(K$16>0,IF(K$2*K$16<ROUND(J23*I24, 3),K$2*K$16,ROUND(J23*I24, 3)),ROUND(J23*I24, 3)),IF(K$16>0,IF(K$2*K$16<ROUND(K$2*I24, 3),K$2*K$16,ROUND(K$2*I24, 3)),ROUND(K$2*I24, 3)))) -> 0.02 | K24: =K23+ROUND(J24,3) -> 0.064 | M24: =ROUND(C24*O24-K24*$O$6,2) -> 8.28 | N24: =IF($O$10>0,M24/$O$10,0) -> 8.28e-05 | O24: =ROUND(ROUND(K24,2)*$O$4,2) -> 0.44 | P24: =ROUND((ROUND(K23,2)*(G24-G23)*$O$4+P23+J24*$O$6),2) -> 20.5 | Q24: =P24/$O$10 -> 0.000205 | R24: =ROUND(P24/O24,0) -> 47 | S24: =ROUND(R24/G24,2) -> 0.47 | T24: =R24+C24 -> 67 | U24: =ROUND(T24/G24,2) -> 0.67 | W24: =ROUND(K24*$O$7,2) -> 9.22 | X24: =ROUND(P24+W24,2) -> 29.72 | Z24: =IF($O$10>0,ROUND($O$10-X24,2),0) -> 99970.28 | AA24: =IF($O$10>0,ROUND(X24/$O$10,2),0) -> 0 | AB24: =IF(AND(Z24>0,$O$4>0),($O$10-P24-W24*$O$8)/O24,0) -> 227221.95 | AC24: =IF(AB24>0,AB24+G24,0) -> 227321.95 | AD24: 5 | AF24: =IF(P24>0,ROUND(W24/P24,2),0) -> 0.45 | AG24: =IF($O$10>0,ROUND(W24/$O$10,2),0) -> 0
A25: 6 | B25: =IF(AND($A25>=C$12,C$12>0),0,IF(AND($A25>=C$9,C$9>0),C$10,IF(AND($A25>=C$6,C$6>0),C$7,0))) -> 1 | C25: =IF(AND($A25>=C$12,C$12>0),C$13,C24+B25) -> 21 | E25: =IF(OR($A25<2,AND(G$15>0,$A25>G$15)),0,IF(AND($A25>=G$12,G$12>0),G$13,IF(AND($A25>=G$9,G$9>0),G$10,IF(AND($A25>=G$6,G$6>0),G$7,0)))) -> 4 | F25: =F24+E25 -> 35 | G25: =G24+F25 -> 135 | I25: =IF(($A25<K$4),1,IF(AND($A25>K$15,K$15>0),I24,IF(AND($A25>=K$12,K$12>0),ROUND(I24+K$13,4),IF(AND($A25>=K$9,K$9>0),ROUND(I24+K$10,4),IF(AND($A25>=K$6,K$6>0),ROUND(I24+K$7,4),K$3))))) -> 1.42 | J25: =IF($A25<K$4, K$2, IF(K$1=0,IF(K$16>0,IF(K$2*K$16<ROUND(J24*I25, 3),K$2*K$16,ROUND(J24*I25, 3)),ROUND(J24*I25, 3)),IF(K$16>0,IF(K$2*K$16<ROUND(K$2*I25, 3),K$2*K$16,ROUND(K$2*I25, 3)),ROUND(K$2*I25, 3)))) -> 0.028 | K25: =K24+ROUND(J25,3) -> 0.092 | M25: =ROUND(C25*O25-K25*$O$6,2) -> 13.33 | N25: =IF($O$10>0,M25/$O$10,0) -> 0.0001333 | O25: =ROUND(ROUND(K25,2)*$O$4,2) -> 0.67 | P25: =ROUND((ROUND(K24,2)*(G25-G24)*$O$4+P24+J25*$O$6),2) -> 36.27 | Q25: =P25/$O$10 -> 0.0003627 | R25: =ROUND(P25/O25,0) -> 54 | S25: =ROUND(R25/G25,2) -> 0.4 | T25: =R25+C25 -> 75 | U25: =ROUND(T25/G25,2) -> 0.56 | W25: =ROUND(K25*$O$7,2) -> 13.25 | X25: =ROUND(P25+W25,2) -> 49.52 | Z25: =IF($O$10>0,ROUND($O$10-X25,2),0) -> 99950.48 | AA25: =IF($O$10>0,ROUND(X25/$O$10,2),0) -> 0 | AB25: =IF(AND(Z25>0,$O$4>0),($O$10-P25-W25*$O$8)/O25,0) -> 149195.64 | AC25: =IF(AB25>0,AB25+G25,0) -> 149330.64 | AD25: 6 | AF25: =IF(P25>0,ROUND(W25/P25,2),0) -> 0.37 | AG25: =IF($O$10>0,ROUND(W25/$O$10,2),0) -> 0
A26: 7 | B26: =IF(AND($A26>=C$12,C$12>0),0,IF(AND($A26>=C$9,C$9>0),C$10,IF(AND($A26>=C$6,C$6>0),C$7,0))) -> 1 | C26: =IF(AND($A26>=C$12,C$12>0),C$13,C25+B26) -> 22 | E26: =IF(OR($A26<2,AND(G$15>0,$A26>G$15)),0,IF(AND($A26>=G$12,G$12>0),G$13,IF(AND($A26>=G$9,G$9>0),G$10,IF(AND($A26>=G$6,G$6>0),G$7,0)))) -> 4 | F26: =F25+E26 -> 39 | G26: =G25+F26 -> 174 | I26: =IF(($A26<K$4),1,IF(AND($A26>K$15,K$15>0),I25,IF(AND($A26>=K$12,K$12>0),ROUND(I25+K$13,4),IF(AND($A26>=K$9,K$9>0),ROUND(I25+K$10,4),IF(AND($A26>=K$6,K$6>0),ROUND(I25+K$7,4),K$3))))) -> 1.44 | J26: =IF($A26<K$4, K$2, IF(K$1=0,IF(K$16>0,IF(K$2*K$16<ROUND(J25*I26, 3),K$2*K$16,ROUND(J25*I26, 3)),ROUND(J25*I26, 3)),IF(K$16>0,IF(K$2*K$16<ROUND(K$2*I26, 3),K$2*K$16,ROUND(K$2*I26, 3)),ROUND(K$2*I26, 3)))) -> 0.04 | K26: =K25+ROUND(J26,3) -> 0.132 | M26: =ROUND(C26*O26-K26*$O$6,2) -> 20.05 | N26: =IF($O$10>0,M26/$O$10,0) -> 0.0002005 | O26: =ROUND(ROUND(K26,2)*$O$4,2) -> 0.96 | P26: =ROUND((ROUND(K25,2)*(G26-G25)*$O$4+P25+J26*$O$6),2) -> 62.57 | Q26: =P26/$O$10 -> 0.0006257 | R26: =ROUND(P26/O26,0) -> 65 | S26: =ROUND(R26/G26,2) -> 0.37 | T26: =R26+C26 -> 87 | U26: =ROUND(T26/G26,2) -> 0.5 | W26: =ROUND(K26*$O$7,2) -> 19.01 | X26: =ROUND(P26+W26,2) -> 81.58 | Z26: =IF($O$10>0,ROUND($O$10-X26,2),0) -> 99918.42 | AA26: =IF($O$10>0,ROUND(X26/$O$10,2),0) -> 0 | AB26: =IF(AND(Z26>0,$O$4>0),($O$10-P26-W26*$O$8)/O26,0) -> 104097.53 | AC26: =IF(AB26>0,AB26+G26,0) -> 104271.53 | AD26: 7 | AF26: =IF(P26>0,ROUND(W26/P26,2),0) -> 0.3 | AG26: =IF($O$10>0,ROUND(W26/$O$10,2),0) -> 0 | AI26: 2
A27: 8 | B27: =IF(AND($A27>=C$12,C$12>0),0,IF(AND($A27>=C$9,C$9>0),C$10,IF(AND($A27>=C$6,C$6>0),C$7,0))) -> 1 | C27: =IF(AND($A27>=C$12,C$12>0),C$13,C26+B27) -> 23 | E27: =IF(OR($A27<2,AND(G$15>0,$A27>G$15)),0,IF(AND($A27>=G$12,G$12>0),G$13,IF(AND($A27>=G$9,G$9>0),G$10,IF(AND($A27>=G$6,G$6>0),G$7,0)))) -> 4 | F27: =F26+E27 -> 43 | G27: =G26+F27 -> 217 | I27: =IF(($A27<K$4),1,IF(AND($A27>K$15,K$15>0),I26,IF(AND($A27>=K$12,K$12>0),ROUND(I26+K$13,4),IF(AND($A27>=K$9,K$9>0),ROUND(I26+K$10,4),IF(AND($A27>=K$6,K$6>0),ROUND(I26+K$7,4),K$3))))) -> 1.46 | J27: =IF($A27<K$4, K$2, IF(K$1=0,IF(K$16>0,IF(K$2*K$16<ROUND(J26*I27, 3),K$2*K$16,ROUND(J26*I27, 3)),ROUND(J26*I27, 3)),IF(K$16>0,IF(K$2*K$16<ROUND(K$2*I27, 3),K$2*K$16,ROUND(K$2*I27, 3)),ROUND(K$2*I27, 3)))) -> 0.058 | K27: =K26+ROUND(J27,3) -> 0.19 | M27: =ROUND(C27*O27-K27*$O$6,2) -> 30.89 | N27: =IF($O$10>0,M27/$O$10,0) -> 0.0003089 | O27: =ROUND(ROUND(K27,2)*$O$4,2) -> 1.41 | P27: =ROUND((ROUND(K26,2)*(G27-G26)*$O$4+P26+J27*$O$6),2) -> 104.4 | Q27: =P27/$O$10 -> 0.001044 | R27: =ROUND(P27/O27,0) -> 74 | S27: =ROUND(R27/G27,2) -> 0.34 | T27: =R27+C27 -> 97 | U27: =ROUND(T27/G27,2) -> 0.45 | W27: =ROUND(K27*$O$7,2) -> 27.36 | X27: =ROUND(P27+W27,2) -> 131.76 | Z27: =IF($O$10>0,ROUND($O$10-X27,2),0) -> 99868.24 | AA27: =IF($O$10>0,ROUND(X27/$O$10,2),0) -> 0 | AB27: =IF(AND(Z27>0,$O$4>0),($O$10-P27-W27*$O$8)/O27,0) -> 70844.062 | AC27: =IF(AB27>0,AB27+G27,0) -> 71061.062 | AD27: 8 | AF27: =IF(P27>0,ROUND(W27/P27,2),0) -> 0.26 | AG27: =IF($O$10>0,ROUND(W27/$O$10,2),0) -> 0
A28: 9 | B28: =IF(AND($A28>=C$12,C$12>0),0,IF(AND($A28>=C$9,C$9>0),C$10,IF(AND($A28>=C$6,C$6>0),C$7,0))) -> 1 | C28: =IF(AND($A28>=C$12,C$12>0),C$13,C27+B28) -> 24 | E28: =IF(OR($A28<2,AND(G$15>0,$A28>G$15)),0,IF(AND($A28>=G$12,G$12>0),G$13,IF(AND($A28>=G$9,G$9>0),G$10,IF(AND($A28>=G$6,G$6>0),G$7,0)))) -> 4 | F28: =F27+E28 -> 47 | G28: =G27+F28 -> 264 | I28: =IF(($A28<K$4),1,IF(AND($A28>K$15,K$15>0),I27,IF(AND($A28>=K$12,K$12>0),ROUND(I27+K$13,4),IF(AND($A28>=K$9,K$9>0),ROUND(I27+K$10,4),IF(AND($A28>=K$6,K$6>0),ROUND(I27+K$7,4),K$3))))) -> 1.495 | J28: =IF($A28<K$4, K$2, IF(K$1=0,IF(K$16>0,IF(K$2*K$16<ROUND(J27*I28, 3),K$2*K$16,ROUND(J27*I28, 3)),ROUND(J27*I28, 3)),IF(K$16>0,IF(K$2*K$16<ROUND(K$2*I28, 3),K$2*K$16,ROUND(K$2*I28, 3)),ROUND(K$2*I28, 3)))) -> 0.087 | K28: =K27+ROUND(J28,3) -> 0.277 | M28: =ROUND(C28*O28-K28*$O$6,2) -> 47.44 | N28: =IF($O$10>0,M28/$O$10,0) -> 0.0004744 | O28: =ROUND(ROUND(K28,2)*$O$4,2) -> 2.07 | P28: =ROUND((ROUND(K27,2)*(G28-G27)*$O$4+P27+J28*$O$6),2) -> 171.18 | Q28: =P28/$O$10 -> 0.0017118 | R28: =ROUND(P28/O28,0) -> 83 | S28: =ROUND(R28/G28,2) -> 0.31 | T28: =R28+C28 -> 107 | U28: =ROUND(T28/G28,2) -> 0.41 | W28: =ROUND(K28*$O$7,2) -> 39.89 | X28: =ROUND(P28+W28,2) -> 211.07 | Z28: =IF($O$10>0,ROUND($O$10-X28,2),0) -> 99788.93 | AA28: =IF($O$10>0,ROUND(X28/$O$10,2),0) -> 0 | AB28: =IF(AND(Z28>0,$O$4>0),($O$10-P28-W28*$O$8)/O28,0) -> 48222.629 | AC28: =IF(AB28>0,AB28+G28,0) -> 48486.629 | AD28: 9 | AF28: =IF(P28>0,ROUND(W28/P28,2),0) -> 0.23 | AG28: =IF($O$10>0,ROUND(W28/$O$10,2),0) -> 0
A29: 10 | B29: =IF(AND($A29>=C$12,C$12>0),0,IF(AND($A29>=C$9,C$9>0),C$10,IF(AND($A29>=C$6,C$6>0),C$7,0))) -> 1 | C29: =IF(AND($A29>=C$12,C$12>0),C$13,C28+B29) -> 25 | E29: =IF(OR($A29<2,AND(G$15>0,$A29>G$15)),0,IF(AND($A29>=G$12,G$12>0),G$13,IF(AND($A29>=G$9,G$9>0),G$10,IF(AND($A29>=G$6,G$6>0),G$7,0)))) -> 4 | F29: =F28+E29 -> 51 | G29: =G28+F29 -> 315 | I29: =IF(($A29<K$4),1,IF(AND($A29>K$15,K$15>0),I28,IF(AND($A29>=K$12,K$12>0),ROUND(I28+K$13,4),IF(AND($A29>=K$9,K$9>0),ROUND(I28+K$10,4),IF(AND($A29>=K$6,K$6>0),ROUND(I28+K$7,4),K$3))))) -> 1.53 | J29: =IF($A29<K$4, K$2, IF(K$1=0,IF(K$16>0,IF(K$2*K$16<ROUND(J28*I29, 3),K$2*K$16,ROUND(J28*I29, 3)),ROUND(J28*I29, 3)),IF(K$16>0,IF(K$2*K$16<ROUND(K$2*I29, 3),K$2*K$16,ROUND(K$2*I29, 3)),ROUND(K$2*I29, 3)))) -> 0.133 | K29: =K28+ROUND(J29,3) -> 0.41 | M29: =ROUND(C29*O29-K29*$O$6,2) -> 72.44 | N29: =IF($O$10>0,M29/$O$10,0) -> 0.0007244 | O29: =ROUND(ROUND(K29,2)*$O$4,2) -> 3.03 | P29: =ROUND((ROUND(K28,2)*(G29-G28)*$O$4+P28+J29*$O$6),2) -> 277.93 | Q29: =P29/$O$10 -> 0.0027793 | R29: =ROUND(P29/O29,0) -> 92 | S29: =ROUND(R29/G29,2) -> 0.29 | T29: =R29+C29 -> 117 | U29: =ROUND(T29/G29,2) -> 0.37 | W29: =ROUND(K29*$O$7,2) -> 59.04 | X29: =ROUND(P29+W29,2) -> 336.97 | Z29: =IF($O$10>0,ROUND($O$10-X29,2),0) -> 99663.03 | AA29: =IF($O$10>0,ROUND(X29/$O$10,2),0) -> 0 | AB29: =IF(AND(Z29>0,$O$4>0),($O$10-P29-W29*$O$8)/O29,0) -> 32907.677 | AC29: =IF(AB29>0,AB29+G29,0) -> 33222.677 | AD29: 10 | AF29: =IF(P29>0,ROUND(W29/P29,2),0) -> 0.21 | AG29: =IF($O$10>0,ROUND(W29/$O$10,2),0) -> 0
A30: 11 | B30: =IF(AND($A30>=C$12,C$12>0),0,IF(AND($A30>=C$9,C$9>0),C$10,IF(AND($A30>=C$6,C$6>0),C$7,0))) -> 1 | C30: =IF(AND($A30>=C$12,C$12>0),C$13,C29+B30) -> 26 | E30: =IF(OR($A30<2,AND(G$15>0,$A30>G$15)),0,IF(AND($A30>=G$12,G$12>0),G$13,IF(AND($A30>=G$9,G$9>0),G$10,IF(AND($A30>=G$6,G$6>0),G$7,0)))) -> 8 | F30: =F29+E30 -> 59 | G30: =G29+F30 -> 374 | I30: =IF(($A30<K$4),1,IF(AND($A30>K$15,K$15>0),I29,IF(AND($A30>=K$12,K$12>0),ROUND(I29+K$13,4),IF(AND($A30>=K$9,K$9>0),ROUND(I29+K$10,4),IF(AND($A30>=K$6,K$6>0),ROUND(I29+K$7,4),K$3))))) -> 1.565 | J30: =IF($A30<K$4, K$2, IF(K$1=0,IF(K$16>0,IF(K$2*K$16<ROUND(J29*I30, 3),K$2*K$16,ROUND(J29*I30, 3)),ROUND(J29*I30, 3)),IF(K$16>0,IF(K$2*K$16<ROUND(K$2*I30, 3),K$2*K$16,ROUND(K$2*I30, 3)),ROUND(K$2*I30, 3)))) -> 0.208 | K30: =K29+ROUND(J30,3) -> 0.618 | M30: =ROUND(C30*O30-K30*$O$6,2) -> 114.35 | N30: =IF($O$10>0,M30/$O$10,0) -> 0.0011435 | O30: =ROUND(ROUND(K30,2)*$O$4,2) -> 4.59 | P30: =ROUND((ROUND(K29,2)*(G30-G29)*$O$4+P29+J30*$O$6),2) -> 458.62 | Q30: =P30/$O$10 -> 0.0045862 | R30: =ROUND(P30/O30,0) -> 100 | S30: =ROUND(R30/G30,2) -> 0.27 | T30: =R30+C30 -> 126 | U30: =ROUND(T30/G30,2) -> 0.34 | W30: =ROUND(K30*$O$7,2) -> 88.99 | X30: =ROUND(P30+W30,2) -> 547.61 | Z30: =IF($O$10>0,ROUND($O$10-X30,2),0) -> 99452.39 | AA30: =IF($O$10>0,ROUND(X30/$O$10,2),0) -> 0.01 | AB30: =IF(AND(Z30>0,$O$4>0),($O$10-P30-W30*$O$8)/O30,0) -> 21682.698 | AC30: =IF(AB30>0,AB30+G30,0) -> 22056.698 | AD30: 11 | AF30: =IF(P30>0,ROUND(W30/P30,2),0) -> 0.19 | AG30: =IF($O$10>0,ROUND(W30/$O$10,2),0) -> 0
A31: 12 | B31: =IF(AND($A31>=C$12,C$12>0),0,IF(AND($A31>=C$9,C$9>0),C$10,IF(AND($A31>=C$6,C$6>0),C$7,0))) -> 1 | C31: =IF(AND($A31>=C$12,C$12>0),C$13,C30+B31) -> 27 | E31: =IF(OR($A31<2,AND(G$15>0,$A31>G$15)),0,IF(AND($A31>=G$12,G$12>0),G$13,IF(AND($A31>=G$9,G$9>0),G$10,IF(AND($A31>=G$6,G$6>0),G$7,0)))) -> 8 | F31: =F30+E31 -> 67 | G31: =G30+F31 -> 441 | I31: =IF(($A31<K$4),1,IF(AND($A31>K$15,K$15>0),I30,IF(AND($A31>=K$12,K$12>0),ROUND(I30+K$13,4),IF(AND($A31>=K$9,K$9>0),ROUND(I30+K$10,4),IF(AND($A31>=K$6,K$6>0),ROUND(I30+K$7,4),K$3))))) -> 1.6 | J31: =IF($A31<K$4, K$2, IF(K$1=0,IF(K$16>0,IF(K$2*K$16<ROUND(J30*I31, 3),K$2*K$16,ROUND(J30*I31, 3)),ROUND(J30*I31, 3)),IF(K$16>0,IF(K$2*K$16<ROUND(K$2*I31, 3),K$2*K$16,ROUND(K$2*I31, 3)),ROUND(K$2*I31, 3)))) -> 0.333 | K31: =K30+ROUND(J31,3) -> 0.951 | M31: =ROUND(C31*O31-K31*$O$6,2) -> 182.13 | N31: =IF($O$10>0,M31/$O$10,0) -> 0.0018213 | O31: =ROUND(ROUND(K31,2)*$O$4,2) -> 7.03 | P31: =ROUND((ROUND(K30,2)*(G31-G30)*$O$4+P30+J31*$O$6),2) -> 768.71 | Q31: =P31/$O$10 -> 0.0076871 | R31: =ROUND(P31/O31,0) -> 109 | S31: =ROUND(R31/G31,2) -> 0.25 | T31: =R31+C31 -> 136 | U31: =ROUND(T31/G31,2) -> 0.31 | W31: =ROUND(K31*$O$7,2) -> 136.94 | X31: =ROUND(P31+W31,2) -> 905.65 | Z31: =IF($O$10>0,ROUND($O$10-X31,2),0) -> 99094.35 | AA31: =IF($O$10>0,ROUND(X31/$O$10,2),0) -> 0.01 | AB31: =IF(AND(Z31>0,$O$4>0),($O$10-P31-W31*$O$8)/O31,0) -> 14111.508 | AC31: =IF(AB31>0,AB31+G31,0) -> 14552.508 | AD31: 12 | AF31: =IF(P31>0,ROUND(W31/P31,2),0) -> 0.18 | AG31: =IF($O$10>0,ROUND(W31/$O$10,2),0) -> 0
A32: 13 | B32: =IF(AND($A32>=C$12,C$12>0),0,IF(AND($A32>=C$9,C$9>0),C$10,IF(AND($A32>=C$6,C$6>0),C$7,0))) -> 1 | C32: =IF(AND($A32>=C$12,C$12>0),C$13,C31+B32) -> 28 | E32: =IF(OR($A32<2,AND(G$15>0,$A32>G$15)),0,IF(AND($A32>=G$12,G$12>0),G$13,IF(AND($A32>=G$9,G$9>0),G$10,IF(AND($A32>=G$6,G$6>0),G$7,0)))) -> 8 | F32: =F31+E32 -> 75 | G32: =G31+F32 -> 516 | I32: =IF(($A32<K$4),1,IF(AND($A32>K$15,K$15>0),I31,IF(AND($A32>=K$12,K$12>0),ROUND(I31+K$13,4),IF(AND($A32>=K$9,K$9>0),ROUND(I31+K$10,4),IF(AND($A32>=K$6,K$6>0),ROUND(I31+K$7,4),K$3))))) -> 1.635 | J32: =IF($A32<K$4, K$2, IF(K$1=0,IF(K$16>0,IF(K$2*K$16<ROUND(J31*I32, 3),K$2*K$16,ROUND(J31*I32, 3)),ROUND(J31*I32, 3)),IF(K$16>0,IF(K$2*K$16<ROUND(K$2*I32, 3),K$2*K$16,ROUND(K$2*I32, 3)),ROUND(K$2*I32, 3)))) -> 0.544 | K32: =K31+ROUND(J32,3) -> 1.495 | M32: =ROUND(C32*O32-K32*$O$6,2) -> 298.72 | N32: =IF($O$10>0,M32/$O$10,0) -> 0.0029872 | O32: =ROUND(ROUND(K32,2)*$O$4,2) -> 11.1 | P32: =ROUND((ROUND(K31,2)*(G32-G31)*$O$4+P31+J32*$O$6),2) -> 1300.36 | Q32: =P32/$O$10 -> 0.0130036 | R32: =ROUND(P32/O32,0) -> 117 | S32: =ROUND(R32/G32,2) -> 0.23 | T32: =R32+C32 -> 145 | U32: =ROUND(T32/G32,2) -> 0.28 | W32: =ROUND(K32*$O$7,2) -> 215.28 | X32: =ROUND(P32+W32,2) -> 1515.64 | Z32: =IF($O$10>0,ROUND($O$10-X32,2),0) -> 98484.36 | AA32: =IF($O$10>0,ROUND(X32/$O$10,2),0) -> 0.02 | AB32: =IF(AND(Z32>0,$O$4>0),($O$10-P32-W32*$O$8)/O32,0) -> 8887.9805 | AC32: =IF(AB32>0,AB32+G32,0) -> 9403.9805 | AD32: 13 | AF32: =IF(P32>0,ROUND(W32/P32,2),0) -> 0.17 | AG32: =IF($O$10>0,ROUND(W32/$O$10,2),0) -> 0
A33: 14 | B33: =IF(AND($A33>=C$12,C$12>0),0,IF(AND($A33>=C$9,C$9>0),C$10,IF(AND($A33>=C$6,C$6>0),C$7,0))) -> 1 | C33: =IF(AND($A33>=C$12,C$12>0),C$13,C32+B33) -> 29 | E33: =IF(OR($A33<2,AND(G$15>0,$A33>G$15)),0,IF(AND($A33>=G$12,G$12>0),G$13,IF(AND($A33>=G$9,G$9>0),G$10,IF(AND($A33>=G$6,G$6>0),G$7,0)))) -> 8 | F33: =F32+E33 -> 83 | G33: =G32+F33 -> 599 | I33: =IF(($A33<K$4),1,IF(AND($A33>K$15,K$15>0),I32,IF(AND($A33>=K$12,K$12>0),ROUND(I32+K$13,4),IF(AND($A33>=K$9,K$9>0),ROUND(I32+K$10,4),IF(AND($A33>=K$6,K$6>0),ROUND(I32+K$7,4),K$3))))) -> 1.67 | J33: =IF($A33<K$4, K$2, IF(K$1=0,IF(K$16>0,IF(K$2*K$16<ROUND(J32*I33, 3),K$2*K$16,ROUND(J32*I33, 3)),ROUND(J32*I33, 3)),IF(K$16>0,IF(K$2*K$16<ROUND(K$2*I33, 3),K$2*K$16,ROUND(K$2*I33, 3)),ROUND(K$2*I33, 3)))) -> 0.908 | K33: =K32+ROUND(J33,3) -> 2.403 | M33: =ROUND(C33*O33-K33*$O$6,2) -> 495.62 | N33: =IF($O$10>0,M33/$O$10,0) -> 0.0049562 | O33: =ROUND(ROUND(K33,2)*$O$4,2) -> 17.76 | P33: =ROUND((ROUND(K32,2)*(G33-G32)*$O$4+P32+J33*$O$6),2) -> 2229 | Q33: =P33/$O$10 -> 0.02229 | R33: =ROUND(P33/O33,0) -> 126 | S33: =ROUND(R33/G33,2) -> 0.21 | T33: =R33+C33 -> 155 | U33: =ROUND(T33/G33,2) -> 0.26 | W33: =ROUND(K33*$O$7,2) -> 346.03 | X33: =ROUND(P33+W33,2) -> 2575.03 | Z33: =IF($O$10>0,ROUND($O$10-X33,2),0) -> 97424.97 | AA33: =IF($O$10>0,ROUND(X33/$O$10,2),0) -> 0.03 | AB33: =IF(AND(Z33>0,$O$4>0),($O$10-P33-W33*$O$8)/O33,0) -> 5501.2271 | AC33: =IF(AB33>0,AB33+G33,0) -> 6100.2271 | AD33: 14 | AF33: =IF(P33>0,ROUND(W33/P33,2),0) -> 0.16 | AG33: =IF($O$10>0,ROUND(W33/$O$10,2),0) -> 0
A34: 15 | B34: =IF(AND($A34>=C$12,C$12>0),0,IF(AND($A34>=C$9,C$9>0),C$10,IF(AND($A34>=C$6,C$6>0),C$7,0))) -> 1 | C34: =IF(AND($A34>=C$12,C$12>0),C$13,C33+B34) -> 30 | E34: =IF(OR($A34<2,AND(G$15>0,$A34>G$15)),0,IF(AND($A34>=G$12,G$12>0),G$13,IF(AND($A34>=G$9,G$9>0),G$10,IF(AND($A34>=G$6,G$6>0),G$7,0)))) -> 8 | F34: =F33+E34 -> 91 | G34: =G33+F34 -> 690 | I34: =IF(($A34<K$4),1,IF(AND($A34>K$15,K$15>0),I33,IF(AND($A34>=K$12,K$12>0),ROUND(I33+K$13,4),IF(AND($A34>=K$9,K$9>0),ROUND(I33+K$10,4),IF(AND($A34>=K$6,K$6>0),ROUND(I33+K$7,4),K$3))))) -> 1.705 | J34: =IF($A34<K$4, K$2, IF(K$1=0,IF(K$16>0,IF(K$2*K$16<ROUND(J33*I34, 3),K$2*K$16,ROUND(J33*I34, 3)),ROUND(J33*I34, 3)),IF(K$16>0,IF(K$2*K$16<ROUND(K$2*I34, 3),K$2*K$16,ROUND(K$2*I34, 3)),ROUND(K$2*I34, 3)))) -> 1.548 | K34: =K33+ROUND(J34,3) -> 3.951 | M34: =ROUND(C34*O34-K34*$O$6,2) -> 844.98 | N34: =IF($O$10>0,M34/$O$10,0) -> 0.0084498 | O34: =ROUND(ROUND(K34,2)*$O$4,2) -> 29.23 | P34: =ROUND((ROUND(K33,2)*(G34-G33)*$O$4+P33+J34*$O$6),2) -> 3857.67 | Q34: =P34/$O$10 -> 0.0385767 | R34: =ROUND(P34/O34,0) -> 132 | S34: =ROUND(R34/G34,2) -> 0.19 | T34: =R34+C34 -> 162 | U34: =ROUND(T34/G34,2) -> 0.23 | W34: =ROUND(K34*$O$7,2) -> 568.94 | X34: =ROUND(P34+W34,2) -> 4426.61 | Z34: =IF($O$10>0,ROUND($O$10-X34,2),0) -> 95573.39 | AA34: =IF($O$10>0,ROUND(X34/$O$10,2),0) -> 0.04 | AB34: =IF(AND(Z34>0,$O$4>0),($O$10-P34-W34*$O$8)/O34,0) -> 3285.2734 | AC34: =IF(AB34>0,AB34+G34,0) -> 3975.2734 | AD34: 15 | AF34: =IF(P34>0,ROUND(W34/P34,2),0) -> 0.15 | AG34: =IF($O$10>0,ROUND(W34/$O$10,2),0) -> 0.01
A35: 16 | B35: =IF(AND($A35>=C$12,C$12>0),0,IF(AND($A35>=C$9,C$9>0),C$10,IF(AND($A35>=C$6,C$6>0),C$7,0))) -> 1 | C35: =IF(AND($A35>=C$12,C$12>0),C$13,C34+B35) -> 31 | E35: =IF(OR($A35<2,AND(G$15>0,$A35>G$15)),0,IF(AND($A35>=G$12,G$12>0),G$13,IF(AND($A35>=G$9,G$9>0),G$10,IF(AND($A35>=G$6,G$6>0),G$7,0)))) -> 8 | F35: =F34+E35 -> 99 | G35: =G34+F35 -> 789 | I35: =IF(($A35<K$4),1,IF(AND($A35>K$15,K$15>0),I34,IF(AND($A35>=K$12,K$12>0),ROUND(I34+K$13,4),IF(AND($A35>=K$9,K$9>0),ROUND(I34+K$10,4),IF(AND($A35>=K$6,K$6>0),ROUND(I34+K$7,4),K$3))))) -> 1.74 | J35: =IF($A35<K$4, K$2, IF(K$1=0,IF(K$16>0,IF(K$2*K$16<ROUND(J34*I35, 3),K$2*K$16,ROUND(J34*I35, 3)),ROUND(J34*I35, 3)),IF(K$16>0,IF(K$2*K$16<ROUND(K$2*I35, 3),K$2*K$16,ROUND(K$2*I35, 3)),ROUND(K$2*I35, 3)))) -> 2.694 | K35: =K34+ROUND(J35,3) -> 6.645 | M35: =ROUND(C35*O35-K35*$O$6,2) -> 1471.82 | N35: =IF($O$10>0,M35/$O$10,0) -> 0.0147182 | O35: =ROUND(ROUND(K35,2)*$O$4,2) -> 49.21 | P35: =ROUND((ROUND(K34,2)*(G35-G34)*$O$4+P34+J35*$O$6),2) -> 6773.21 | Q35: =P35/$O$10 -> 0.0677321 | R35: =ROUND(P35/O35,0) -> 138 | S35: =ROUND(R35/G35,2) -> 0.17 | T35: =R35+C35 -> 169 | U35: =ROUND(T35/G35,2) -> 0.21 | W35: =ROUND(K35*$O$7,2) -> 956.88 | X35: =ROUND(P35+W35,2) -> 7730.09 | Z35: =IF($O$10>0,ROUND($O$10-X35,2),0) -> 92269.91 | AA35: =IF($O$10>0,ROUND(X35/$O$10,2),0) -> 0.08 | AB35: =IF(AND(Z35>0,$O$4>0),($O$10-P35-W35*$O$8)/O35,0) -> 1890.5794 | AC35: =IF(AB35>0,AB35+G35,0) -> 2679.5794 | AD35: 16 | AF35: =IF(P35>0,ROUND(W35/P35,2),0) -> 0.14 | AG35: =IF($O$10>0,ROUND(W35/$O$10,2),0) -> 0.01
A36: 17 | B36: =IF(AND($A36>=C$12,C$12>0),0,IF(AND($A36>=C$9,C$9>0),C$10,IF(AND($A36>=C$6,C$6>0),C$7,0))) -> 1 | C36: =IF(AND($A36>=C$12,C$12>0),C$13,C35+B36) -> 32 | E36: =IF(OR($A36<2,AND(G$15>0,$A36>G$15)),0,IF(AND($A36>=G$12,G$12>0),G$13,IF(AND($A36>=G$9,G$9>0),G$10,IF(AND($A36>=G$6,G$6>0),G$7,0)))) -> 8 | F36: =F35+E36 -> 107 | G36: =G35+F36 -> 896 | I36: =IF(($A36<K$4),1,IF(AND($A36>K$15,K$15>0),I35,IF(AND($A36>=K$12,K$12>0),ROUND(I35+K$13,4),IF(AND($A36>=K$9,K$9>0),ROUND(I35+K$10,4),IF(AND($A36>=K$6,K$6>0),ROUND(I35+K$7,4),K$3))))) -> 1.775 | J36: =IF($A36<K$4, K$2, IF(K$1=0,IF(K$16>0,IF(K$2*K$16<ROUND(J35*I36, 3),K$2*K$16,ROUND(J35*I36, 3)),ROUND(J35*I36, 3)),IF(K$16>0,IF(K$2*K$16<ROUND(K$2*I36, 3),K$2*K$16,ROUND(K$2*I36, 3)),ROUND(K$2*I36, 3)))) -> 4.782 | K36: =K35+ROUND(J36,3) -> 11.427 | M36: =ROUND(C36*O36-K36*$O$6,2) -> 2614.23 | N36: =IF($O$10>0,M36/$O$10,0) -> 0.0261423 | O36: =ROUND(ROUND(K36,2)*$O$4,2) -> 84.58 | P36: =ROUND((ROUND(K35,2)*(G36-G35)*$O$4+P35+J36*$O$6),2) -> 12077.32 | Q36: =P36/$O$10 -> 0.1207732 | R36: =ROUND(P36/O36,0) -> 143 | S36: =ROUND(R36/G36,2) -> 0.16 | T36: =R36+C36 -> 175 | U36: =ROUND(T36/G36,2) -> 0.2 | W36: =ROUND(K36*$O$7,2) -> 1645.49 | X36: =ROUND(P36+W36,2) -> 13722.81 | Z36: =IF($O$10>0,ROUND($O$10-X36,2),0) -> 86277.19 | AA36: =IF($O$10>0,ROUND(X36/$O$10,2),0) -> 0.14 | AB36: =IF(AND(Z36>0,$O$4>0),($O$10-P36-W36*$O$8)/O36,0) -> 1035.63 | AC36: =IF(AB36>0,AB36+G36,0) -> 1931.63 | AD36: 17 | AF36: =IF(P36>0,ROUND(W36/P36,2),0) -> 0.14 | AG36: =IF($O$10>0,ROUND(W36/$O$10,2),0) -> 0.02
A37: 18 | B37: =IF(AND($A37>=C$12,C$12>0),0,IF(AND($A37>=C$9,C$9>0),C$10,IF(AND($A37>=C$6,C$6>0),C$7,0))) -> 1 | C37: =IF(AND($A37>=C$12,C$12>0),C$13,C36+B37) -> 33 | E37: =IF(OR($A37<2,AND(G$15>0,$A37>G$15)),0,IF(AND($A37>=G$12,G$12>0),G$13,IF(AND($A37>=G$9,G$9>0),G$10,IF(AND($A37>=G$6,G$6>0),G$7,0)))) -> 8 | F37: =F36+E37 -> 115 | G37: =G36+F37 -> 1011 | I37: =IF(($A37<K$4),1,IF(AND($A37>K$15,K$15>0),I36,IF(AND($A37>=K$12,K$12>0),ROUND(I36+K$13,4),IF(AND($A37>=K$9,K$9>0),ROUND(I36+K$10,4),IF(AND($A37>=K$6,K$6>0),ROUND(I36+K$7,4),K$3))))) -> 1.81 | J37: =IF($A37<K$4, K$2, IF(K$1=0,IF(K$16>0,IF(K$2*K$16<ROUND(J36*I37, 3),K$2*K$16,ROUND(J36*I37, 3)),ROUND(J36*I37, 3)),IF(K$16>0,IF(K$2*K$16<ROUND(K$2*I37, 3),K$2*K$16,ROUND(K$2*I37, 3)),ROUND(K$2*I37, 3)))) -> 8.655 | K37: =K36+ROUND(J37,3) -> 20.082 | M37: =ROUND(C37*O37-K37*$O$6,2) -> 4741.21 | N37: =IF($O$10>0,M37/$O$10,0) -> 0.0474121 | O37: =ROUND(ROUND(K37,2)*$O$4,2) -> 148.59 | P37: =ROUND((ROUND(K36,2)*(G37-G36)*$O$4+P36+J37*$O$6),2) -> 21874.18 | Q37: =P37/$O$10 -> 0.2187418 | R37: =ROUND(P37/O37,0) -> 147 | S37: =ROUND(R37/G37,2) -> 0.15 | T37: =R37+C37 -> 180 | U37: =ROUND(T37/G37,2) -> 0.18 | W37: =ROUND(K37*$O$7,2) -> 2891.81 | X37: =ROUND(P37+W37,2) -> 24765.99 | Z37: =IF($O$10>0,ROUND($O$10-X37,2),0) -> 75234.01 | AA37: =IF($O$10>0,ROUND(X37/$O$10,2),0) -> 0.25 | AB37: =IF(AND(Z37>0,$O$4>0),($O$10-P37-W37*$O$8)/O37,0) -> 521.88881 | AC37: =IF(AB37>0,AB37+G37,0) -> 1532.8888 | AD37: 18 | AF37: =IF(P37>0,ROUND(W37/P37,2),0) -> 0.13 | AG37: =IF($O$10>0,ROUND(W37/$O$10,2),0) -> 0.03
A38: 19 | B38: =IF(AND($A38>=C$12,C$12>0),0,IF(AND($A38>=C$9,C$9>0),C$10,IF(AND($A38>=C$6,C$6>0),C$7,0))) -> 1 | C38: =IF(AND($A38>=C$12,C$12>0),C$13,C37+B38) -> 34 | E38: =IF(OR($A38<2,AND(G$15>0,$A38>G$15)),0,IF(AND($A38>=G$12,G$12>0),G$13,IF(AND($A38>=G$9,G$9>0),G$10,IF(AND($A38>=G$6,G$6>0),G$7,0)))) -> 8 | F38: =F37+E38 -> 123 | G38: =G37+F38 -> 1134 | I38: =IF(($A38<K$4),1,IF(AND($A38>K$15,K$15>0),I37,IF(AND($A38>=K$12,K$12>0),ROUND(I37+K$13,4),IF(AND($A38>=K$9,K$9>0),ROUND(I37+K$10,4),IF(AND($A38>=K$6,K$6>0),ROUND(I37+K$7,4),K$3))))) -> 1.845 | J38: =IF($A38<K$4, K$2, IF(K$1=0,IF(K$16>0,IF(K$2*K$16<ROUND(J37*I38, 3),K$2*K$16,ROUND(J37*I38, 3)),ROUND(J37*I38, 3)),IF(K$16>0,IF(K$2*K$16<ROUND(K$2*I38, 3),K$2*K$16,ROUND(K$2*I38, 3)),ROUND(K$2*I38, 3)))) -> 15.968 | K38: =K37+ROUND(J38,3) -> 36.05 | M38: =ROUND(C38*O38-K38*$O$6,2) -> 8778.9 | N38: =IF($O$10>0,M38/$O$10,0) -> 0.087789 | O38: =ROUND(ROUND(K38,2)*$O$4,2) -> 266.77 | P38: =ROUND((ROUND(K37,2)*(G38-G37)*$O$4+P37+J38*$O$6),2) -> 40280.02 | Q38: =P38/$O$10 -> 0.4028002 | R38: =ROUND(P38/O38,0) -> 151 | S38: =ROUND(R38/G38,2) -> 0.13 | T38: =R38+C38 -> 185 | U38: =ROUND(T38/G38,2) -> 0.16 | W38: =ROUND(K38*$O$7,2) -> 5191.2 | X38: =ROUND(P38+W38,2) -> 45471.22 | Z38: =IF($O$10>0,ROUND($O$10-X38,2),0) -> 54528.78 | AA38: =IF($O$10>0,ROUND(X38/$O$10,2),0) -> 0.45 | AB38: =IF(AND(Z38>0,$O$4>0),($O$10-P38-W38*$O$8)/O38,0) -> 219.97129 | AC38: =IF(AB38>0,AB38+G38,0) -> 1353.9713 | AD38: 19 | AF38: =IF(P38>0,ROUND(W38/P38,2),0) -> 0.13 | AG38: =IF($O$10>0,ROUND(W38/$O$10,2),0) -> 0.05
A39: 20 | B39: =IF(AND($A39>=C$12,C$12>0),0,IF(AND($A39>=C$9,C$9>0),C$10,IF(AND($A39>=C$6,C$6>0),C$7,0))) -> 1 | C39: =IF(AND($A39>=C$12,C$12>0),C$13,C38+B39) -> 35 | E39: =IF(OR($A39<2,AND(G$15>0,$A39>G$15)),0,IF(AND($A39>=G$12,G$12>0),G$13,IF(AND($A39>=G$9,G$9>0),G$10,IF(AND($A39>=G$6,G$6>0),G$7,0)))) -> 8 | F39: =F38+E39 -> 131 | G39: =G38+F39 -> 1265 | I39: =IF(($A39<K$4),1,IF(AND($A39>K$15,K$15>0),I38,IF(AND($A39>=K$12,K$12>0),ROUND(I38+K$13,4),IF(AND($A39>=K$9,K$9>0),ROUND(I38+K$10,4),IF(AND($A39>=K$6,K$6>0),ROUND(I38+K$7,4),K$3))))) -> 1.88 | J39: =IF($A39<K$4, K$2, IF(K$1=0,IF(K$16>0,IF(K$2*K$16<ROUND(J38*I39, 3),K$2*K$16,ROUND(J38*I39, 3)),ROUND(J38*I39, 3)),IF(K$16>0,IF(K$2*K$16<ROUND(K$2*I39, 3),K$2*K$16,ROUND(K$2*I39, 3)),ROUND(K$2*I39, 3)))) -> 30.02 | K39: =K38+ROUND(J39,3) -> 66.07 | M39: =ROUND(C39*O39-K39*$O$6,2) -> 16578.35 | N39: =IF($O$10>0,M39/$O$10,0) -> 0.1657835 | O39: =ROUND(ROUND(K39,2)*$O$4,2) -> 488.92 | P39: =ROUND((ROUND(K38,2)*(G39-G38)*$O$4+P38+J39*$O$6),2) -> 75469.45 | Q39: =P39/$O$10 -> 0.7546945 | R39: =ROUND(P39/O39,0) -> 154 | S39: =ROUND(R39/G39,2) -> 0.12 | T39: =R39+C39 -> 189 | U39: =ROUND(T39/G39,2) -> 0.15 | W39: =ROUND(K39*$O$7,2) -> 9514.08 | X39: =ROUND(P39+W39,2) -> 84983.53 | Z39: =IF($O$10>0,ROUND($O$10-X39,2),0) -> 15016.47 | AA39: =IF($O$10>0,ROUND(X39/$O$10,2),0) -> 0.85 | AB39: =IF(AND(Z39>0,$O$4>0),($O$10-P39-W39*$O$8)/O39,0) -> 46.281056 | AC39: =IF(AB39>0,AB39+G39,0) -> 1311.2811 | AD39: 20 | AF39: =IF(P39>0,ROUND(W39/P39,2),0) -> 0.13 | AG39: =IF($O$10>0,ROUND(W39/$O$10,2),0) -> 0.1
B43: 1 | F43: 2 | J43: 3 | M43: 4 | W43: 5 | AA43: 6 | AF43: 7

Sheet 0.02
I1: CalcLotType | J1: =IF(K$1=0,"LastOrder",IF(K$1=1,"MinOrder","ОШИБКА")) -> LastOrder | K1: ='0.01'!K1 -> 0
A2: TakeProffit | B2: =IF(C$2<=0,"д.б. >0","") | C2: ='0.01'!C2 -> 18 | E2: GridStep | F2: =IF(G$2<2,"д.б. >1","") | G2: ='0.01'!G2 -> 19 | I2: MinLot | J2: =IF(K$2<0,"д.б. >0","") | K2: 0.02 | M2: Пара | O2: ='0.01'!O2 -> nzdcad
I3: Mult | J3: =IF(K$3<0,"д.б. >0","") | K3: ='0.01'!K3 -> 1.4 | M3: Значность | O3: ='0.01'!O3 -> 4
I4: MultStart | J4: =IF(K$4<2,"д.б. >1","") | K4: ='0.01'!K4 -> 4 | M4: Цена пипса, $ | O4: ='0.01'!O4 -> 7.4
AI5: 1
A6: TakeProffit_Level1 | C6: ='0.01'!C6 -> 4 | E6: GridLevel | F6: =IF(G$6<0,"д.б. >=0","") | G6: ='0.01'!G6 -> 3 | I6: MultLevel2 | J6: =IF(K$6<0,"д.б. >=0","") | K6: ='0.01'!K6 -> 6 | M6: Комиссия, $ | O6: ='0.01'!O6 -> 8.08
A7: TakeProffit_Level1Corr | C7: ='0.01'!C7 -> 1 | E7: GridStep_AddPips | G7: ='0.01'!G7 -> 4 | I7: MultCorr | J7: =IF(AND(K$6=0,K$7<>0),"д.б. =0","") | K7: ='0.01'!K7 -> 0.02 | M7: Залог 1 лот, $ | O7: ='0.01'!O7 -> 144
B8: =IF(OR(C$6=1,C$6<0,C$9=1,C$9<0,C$12=1,C$12<0,AND(C$6>1,C$9>1,C$6>=C$9),AND(C$6>1,C$12>1,C$6>=C$12),AND(C$9>1,C$12>1,C$9>=C$12)),"ОШИБКА в № колен","") | F8: =IF(OR(G$6=1,G$6<0,G$9=1,G$9<0,G$12=1,G$12<0,G$15<0,AND(G$6>1,G$9>1,G$6>=G$9),AND(G$6>1,G$12>1,G$6>=G$12),AND(G$9>1,G$12>1,G$9>=G$12),AND(G$6>1,G$15>0,G$6>G$15),AND(G$9>1,G$15>0,G$9>G$15),AND(G$12>1,G$15>0,G$12>G$15)),"ОШИБКА в №№ колен","") | J8: =IF(OR(K$6=1,K$6<0,K$9=1,K$9<0,K$12=1,K$12<0,K$15<0,AND(K$6>0,K$4>=K$6),AND(K$9>0,K$4>=K$9),AND(K$12>0,K$4>=K$12),AND(K$6>1,K$9>1,K$6>=K$9),AND(K$6>1,K$12>1,K$6>=K$12),AND(K$9>1,K$12>1,K$9>=K$12),AND(K$15>0,K$4>K$15),AND(K$6>1,K$15>0,K$6>K$15),AND(K$9>1,K$15>0,K$9>K$15),AND(K$12>1,K$15>0,K$12>K$15)),"ОШИБКА № колен","") | M8: StopOut, % | O8: ='0.01'!O8 -> 0.2
A9: TakeProffit_Level1_5 | C9: ='0.01'!C9 -> 0 | E9: GridStep_Level2 | G9: ='0.01'!G9 -> 11 | I9: MultLevel3 | J9: =IF(K$9<0,"д.б. >=0","") | K9: ='0.01'!K9 -> 9
A10: TakeProffit_Level1_5Corr | C10: ='0.01'!C10 -> 0 | E10: GridStep_Level2_AddPips | G10: ='0.01'!G10 -> 8 | I10: MultСorrLevel3 | J10: =IF(AND(K$9=0,K$10<>0),"д.б. =0","") | K10: ='0.01'!K10 -> 0.035 | M10: Депо, $ | O10: ='0.01'!O10 -> 100000
A12: TakeProffit_Level2 | C12: ='0.01'!C12 -> 0 | E12: Grid3 | F12: =IF(G$12<0,"д.б. >=0","") | G12: ='0.01'!G12 -> 0 | I12: Mult3 | J12: =IF(K$12<0,"д.б. >=0","") | K12: ='0.01'!K12 -> 0
A13: TakeProffit_Level2FixPips | C13: ='0.01'!C13 -> 0 | E13: Grid3Add | F13: =IF(AND(G$12=0,G$13<>0),"д.б. =0","") | G13: ='0.01'!G13 -> 0 | I13: Mult3Add | J13: =IF(AND(K$12=0,K$13<>0),"д.б. =0","") | K13: ='0.01'!K13 -> 0
E15: GridStop | F15: =IF(G$15<0,"д.б. >=0","") | G15: ='0.01'!G15 -> 0 | I15: MultStop | J15: =IF(K$15<0,"д.б. >=0","") | K15: ='0.01'!K15 -> 0
I16: MaxLotCoef | J16: =IF(K$16<0,"д.б. >=0","") | K16: ='0.01'!K16 -> 0
A18: №№ колен | B18: Кор-рект | C18: TP | E18: Коррект | F18: Шаг, пипсов | G18: Сетка пипсов от 1-го ордера | I18: Мульт | J18: Ордер | K18: Лотов сумма | M18: Прибыль | O18: $/пипс | P18: Просадка | R18: Безубыток | T18: ТР | W18: Залог, $ | X18: Просадка + залог, $ (включая комиссию) Min депо | Z18: Св.Маржа = Депо - просадка-залог, $ | AA18: Просадка + залог = %%депо | AB18: Max просадка до StopOut в пипсах от: | AD18: №№ ко-лен | AF18: Залог к просадке (включая комиссию) | AG18: Залог к депо, %
M19: $ | N19: % депо | P19: $ | Q19: % депо | R19: Пипсов | S19: %% | T19: Пипсов | U19: %% | AB19: Колена N | AC19: 1го ордера
A20: 1 | B20: 0 | C20: =C$2 -> 18 | E20: =IF(OR($A20<2,AND(G$15>0,$A20>G$15)),0,IF(AND($A20>=G$12,G$12>0),G$13,IF(AND($A20>=G$9,G$9>0),G$10,IF(AND($A20>=G$6,G$6>0),G$7,0)))) -> 0 | F20: 0 | G20: =F20 -> 0 | I20: =IF(($A20<K$4),1,IF(AND($A20>K$15,K$15>0),I19,IF(AND($A20>=K$12,K$12>0),ROUND(I19+K$13,4),IF(AND($A20>=K$9,K$9>0),ROUND(I19+K$10,4),IF(AND($A20>=K$6,K$6>0),ROUND(I19+K$7,4),K$3))))) -> 1 | J20: =IF($A20<K$4, K$2, IF(K$1=0,IF(K$16>0,IF(K$2*K$16<ROUND(J19*I20, 3),K$2*K$16,ROUND(J19*I20, 3)),ROUND(J19*I20, 3)),IF(K$16>0,IF(K$2*K$16<ROUND(K$2*I20, 3),K$2*K$16,ROUND(K$2*I20, 3)),ROUND(K$2*I20, 3)))) -> 0.02 | K20: =J20 -> 0.02 | M20: =ROUND(C20*O20-K20*$O$6,2) -> 2.54 | N20: =IF($O$10>0,M20/$O$10,0) -> 2.54e-05 | O20: =ROUND(ROUND(K20,2)*$O$4,2) -> 0.15 | P20: =ROUND(J20*$O$6,2) -> 0.16 | Q20: =P20/$O$10 -> 1.6e-06 | R20: =ROUND(P20/O20,0) -> 1 | S20: 0 | T20: =R20+C20 -> 19 | U20: 0 | W20: =ROUND(K20*$O$7,2) -> 2.88 | X20: =ROUND(P20+W20,2) -> 3.04 | Z20: =IF($O$10>0,ROUND($O$10-X20,2),0) -> 99996.96 | AA20: =IF($O$10>0,ROUND(X20/$O$10,2),0) -> 0 | AB20: =IF(AND(Z20>0,$O$4>0),($O$10-P20-W20*$O$8)/O20,0) -> 666661.76 | AC20: =IF(AB20>0,AB20+G20,0) -> 666661.76 | AD20: 1 | AF20: =IF(P20>0,ROUND(W20/P20,2),0) -> 18 | AG20: =IF($O$10>0,ROUND(W20/$O$10,2),0) -> 0
A21: 2 | B21: =IF(AND($A21>=C$12,C$12>0),0,IF(AND($A21>=C$9,C$9>0),C$10,IF(AND($A21>=C$6,C$6>0),C$7,0))) -> 0 | C21: =IF(AND($A21>=C$12,C$12>0),C$13,C20+B21) -> 18 | E21: =IF(OR($A21<2,AND(G$15>0,$A21>G$15)),0,IF(AND($A21>=G$12,G$12>0),G$13,IF(AND($A21>=G$9,G$9>0),G$10,IF(AND($A21>=G$6,G$6>0),G$7,0)))) -> 0 | F21: =G$2+E21 -> 19 | G21: =G20+F21 -> 19 | I21: =IF(($A21<K$4),1,IF(AND($A21>K$15,K$15>0),I20,IF(AND($A21>=K$12,K$12>0),ROUND(I20+K$13,4),IF(AND($A21>=K$9,K$9>0),ROUND(I20+K$10,4),IF(AND($A21>=K$6,K$6>0),ROUND(I20+K$7,4),K$3))))) -> 1 | J21: =IF($A21<K$4, K$2, IF(K$1=0,IF(K$16>0,IF(K$2*K$16<ROUND(J20*I21, 3),K$2*K$16,ROUND(J20*I21, 3)),ROUND(J20*I21, 3)),IF(K$16>0,IF(K$2*K$16<ROUND(K$2*I21, 3),K$2*K$16,ROUND(K$2*I21, 3)),ROUND(K$2*I21, 3)))) -> 0.02 | K21: =K20+ROUND(J21,3) -> 0.04 | M21: =ROUND(C21*O21-K21*$O$6,2) -> 5.08 | N21: =IF($O$10>0,M21/$O$10,0) -> 5.08e-05 | O21: =ROUND(ROUND(K21,2)*$O$4,2) -> 0.3 | P21: =ROUND((ROUND(K20,2)*(G21-G20)*$O$4+P20+J21*$O$6),2) -> 3.13 | Q21: =P21/$O$10 -> 3.13e-05 | R21: =ROUND(P21/O21,0) -> 10 | S21: =ROUND(R21/G21,2) -> 0.53 | T21: =R21+C21 -> 28 | U21: =ROUND(T21/G21,2) -> 1.47 | W21: =ROUND(K21*$O$7,2) -> 5.76 | X21: =ROUND(P21+W21,2) -> 8.89 | Z21: =IF($O$10>0,ROUND($O$10-X21,2),0) -> 99991.11 | AA21: =IF($O$10>0,ROUND(X21/$O$10,2),0) -> 0 | AB21: =IF(AND(Z21>0,$O$4>0),($O$10-P21-W21*$O$8)/O21,0) -> 333319.06 | AC21: =IF(AB21>0,AB21+G21,0) -> 333338.06 | AD21: 2 | AF21: =IF(P21>0,ROUND(W21/P21,2),0) -> 1.84 | AG21: =IF($O$10>0,ROUND(W21/$O$10,2),0) -> 0
A22: 3 | B22: =IF(AND($A22>=C$12,C$12>0),0,IF(AND($A22>=C$9,C$9>0),C$10,IF(AND($A22>=C$6,C$6>0),C$7,0))) -> 0 | C22: =IF(AND($A22>=C$12,C$12>0),C$13,C21+B22) -> 18 | E22: =IF(OR($A22<2,AND(G$15>0,$A22>G$15)),0,IF(AND($A22>=G$12,G$12>0),G$13,IF(AND($A22>=G$9,G$9>0),G$10,IF(AND($A22>=G$6,G$6>0),G$7,0)))) -> 4 | F22: =F21+E22 -> 23 | G22: =G21+F22 -> 42 | I22: =IF(($A22<K$4),1,IF(AND($A22>K$15,K$15>0),I21,IF(AND($A22>=K$12,K$12>0),ROUND(I21+K$13,4),IF(AND($A22>=K$9,K$9>0),ROUND(I21+K$10,4),IF(AND($A22>=K$6,K$6>0),ROUND(I21+K$7,4),K$3))))) -> 1 | J22: =IF($A22<K$4, K$2, IF(K$1=0,IF(K$16>0,IF(K$2*K$16<ROUND(J21*I22, 3),K$2*K$16,ROUND(J21*I22, 3)),ROUND(J21*I22, 3)),IF(K$16>0,IF(K$2*K$16<ROUND(K$2*I22, 3),K$2*K$16,ROUND(K$2*I22, 3)),ROUND(K$2*I22, 3)))) -> 0.02 | K22: =K21+ROUND(J22,3) -> 0.06 | M22: =ROUND(C22*O22-K22*$O$6,2) -> 7.44 | N22: =IF($O$10>0,M22/$O$10,0) -> 7.44e-05 | O22: =ROUND(ROUND(K22,2)*$O$4,2) -> 0.44 | P22: =ROUND((ROUND(K21,2)*(G22-G21)*$O$4+P21+J22*$O$6),2) -> 10.1 | Q22: =P22/$O$10 -> 0.000101 | R22: =ROUND(P22/O22,0) -> 23 | S22: =ROUND(R22/G22,2) -> 0.55 | T22: =R22+C22 -> 41 | U22: =ROUND(T22/G22,2) -> 0.98 | W22: =ROUND(K22*$O$7,2) -> 8.64 | X22: =ROUND(P22+W22,2) -> 18.74 | Z22: =IF($O$10>0,ROUND($O$10-X22,2),0) -> 99981.26 | AA22: =IF($O$10>0,ROUND(X22/$O$10,2),0) -> 0 | AB22: =IF(AND(Z22>0,$O$4>0),($O$10-P22-W22*$O$8)/O22,0) -> 227245.85 | AC22: =IF(AB22>0,AB22+G22,0) -> 227287.85 | AD22: 3 | AF22: =IF(P22>0,ROUND(W22/P22,2),0) -> 0.86 | AG22: =IF($O$10>0,ROUND(W22/$O$10,2),0) -> 0
A23: 4 | B23: =IF(AND($A23>=C$12,C$12>0),0,IF(AND($A23>=C$9,C$9>0),C$10,IF(AND($A23>=C$6,C$6>0),C$7,0))) -> 1 | C23: =IF(AND($A23>=C$12,C$12>0),C$13,C22+B23) -> 19 | E23: =IF(OR($A23<2,AND(G$15>0,$A23>G$15)),0,IF(AND($A23>=G$12,G$12>0),G$13,IF(AND($A23>=G$9,G$9>0),G$10,IF(AND($A23>=G$6,G$6>0),G$7,0)))) -> 4 | F23: =F22+E23 -> 27 | G23: =G22+F23 -> 69 | I23: =IF(($A23<K$4),1,IF(AND($A23>K$15,K$15>0),I22,IF(AND($A23>=K$12,K$12>0),ROUND(I22+K$13,4),IF(AND($A23>=K$9,K$9>0),ROUND(I22+K$10,4),IF(AND($A23>=K$6,K$6>0),ROUND(I22+K$7,4),K$3))))) -> 1.4 | J23: =IF($A23<K$4, K$2, IF(K$1=0,IF(K$16>0,IF(K$2*K$16<ROUND(J22*I23, 3),K$2*K$16,ROUND(J22*I23, 3)),ROUND(J22*I23, 3)),IF(K$16>0,IF(K$2*K$16<ROUND(K$2*I23, 3),K$2*K$16,ROUND(K$2*I23, 3)),ROUND(K$2*I23, 3)))) -> 0.028 | K23: =K22+ROUND(J23,3) -> 0.088 | M23: =ROUND(C23*O23-K23*$O$6,2) -> 12.02 | N23: =IF($O$10>0,M23/$O$10,0) -> 0.0001202 | O23: =ROUND(ROUND(K23,2)*$O$4,2) -> 0.67 | P23: =ROUND((ROUND(K22,2)*(G23-G22)*$O$4+P22+J23*$O$6),2) -> 22.31 | Q23: =P23/$O$10 -> 0.0002231 | R23: =ROUND(P23/O23,0) -> 33 | S23: =ROUND(R23/G23,2) -> 0.48 | T23: =R23+C23 -> 52 | U23: =ROUND(T23/G23,2) -> 0.75 | W23: =ROUND(K23*$O$7,2) -> 12.67 | X23: =ROUND(P23+W23,2) -> 34.98 | Z23: =IF($O$10>0,ROUND($O$10-X23,2),0) -> 99965.02 | AA23: =IF($O$10>0,ROUND(X23/$O$10,2),0) -> 0 | AB23: =IF(AND(Z23>0,$O$4>0),($O$10-P23-W23*$O$8)/O23,0) -> 149216.65 | AC23: =IF(AB23>0,AB23+G23,0) -> 149285.65 | AD23: 4 | AF23: =IF(P23>0,ROUND(W23/P23,2),0) -> 0.57 | AG23: =IF($O$10>0,ROUND(W23/$O$10,2),0) -> 0
A24: 5 | B24: =IF(AND($A24>=C$12,C$12>0),0,IF(AND($A24>=C$9,C$9>0),C$10,IF(AND($A24>=C$6,C$6>0),C$7,0))) -> 1 | C24: =IF(AND($A24>=C$12,C$12>0),C$13,C23+B24) -> 20 | E24: =IF(OR($A24<2,AND(G$15>0,$A24>G$15)),0,IF(AND($A24>=G$12,G$12>0),G$13,IF(AND($A24>=G$9,G$9>0),G$10,IF(AND($A24>=G$6,G$6>0),G$7,0)))) -> 4 | F24: =F23+E24 -> 31 | G24: =G23+F24 -> 100 | I24: =IF(($A24<K$4),1,IF(AND($A24>K$15,K$15>0),I23,IF(AND($A24>=K$12,K$12>0),ROUND(I23+K$13,4),IF(AND($A24>=K$9,K$9>0),ROUND(I23+K$10,4),IF(AND($A24>=K$6,K$6>0),ROUND(I23+K$7,4),K$3))))) -> 1.4 | J24: =IF($A24<K$4, K$2, IF(K$1=0,IF(K$16>0,IF(K$2*K$16<ROUND(J23*I24, 3),K$2*K$16,ROUND(J23*I24, 3)),ROUND(J23*I24, 3)),IF(K$16>0,IF(K$2*K$16<ROUND(K$2*I24, 3),K$2*K$16,ROUND(K$2*I24, 3)),ROUND(K$2*I24, 3)))) -> 0.039 | K24: =K23+ROUND(J24,3) -> 0.127 | M24: =ROUND(C24*O24-K24*$O$6,2) -> 18.17 | N24: =IF($O$10>0,M24/$O$10,0) -> 0.0001817 | O24: =ROUND(ROUND(K24,2)*$O$4,2) -> 0.96 | P24: =ROUND((ROUND(K23,2)*(G24-G23)*$O$4+P23+J24*$O$6),2) -> 43.27 | Q24: =P24/$O$10 -> 0.0004327 | R24: =ROUND(P24/O24,0) -> 45 | S24: =ROUND(R24/G24,2) -> 0.45 | T24: =R24+C24 -> 65 | U24: =ROUND(T24/G24,2) -> 0.65 | W24: =ROUND(K24*$O$7,2) -> 18.29 | X24: =ROUND(P24+W24,2) -> 61.56 | Z24: =IF($O$10>0,ROUND($O$10-X24,2),0) -> 99938.44 | AA24: =IF($O$10>0,ROUND(X24/$O$10,2),0) -> 0 | AB24: =IF(AND(Z24>0,$O$4>0),($O$10-P24-W24*$O$8)/O24,0) -> 104117.78 | AC24: =IF(AB24>0,AB24+G24,0) -> 104217.78 | AD24: 5 | AF24: =IF(P24>0,ROUND(W24/P24,2),0) -> 0.42 | AG24: =IF($O$10>0,ROUND(W24/$O$10,2),0) -> 0
A25: 6 | B25: =IF(AND($A25>=C$12,C$12>0),0,IF(AND($A25>=C$9,C$9>0),C$10,IF(AND($A25>=C$6,C$6>0),C$7,0))) -> 1 | C25: =IF(AND($A25>=C$12,C$12>0),C$13,C24+B25) -> 21 | E25: =IF(OR($A25<2,AND(G$15>0,$A25>G$15)),0,IF(AND($A25>=G$12,G$12>0),G$13,IF(AND($A25>=G$9,G$9>0),G$10,IF(AND($A25>=G$6,G$6>0),G$7,0)))) -> 4 | F25: =F24+E25 -> 35 | G25: =G24+F25 -> 135 | I25: =IF(($A25<K$4),1,IF(AND($A25>K$15,K$15>0),I24,IF(AND($A25>=K$12,K$12>0),ROUND(I24+K$13,4),IF(AND($A25>=K$9,K$9>0),ROUND(I24+K$10,4),IF(AND($A25>=K$6,K$6>0),ROUND(I24+K$7,4),K$3))))) -> 1.42 | J25: =IF($A25<K$4, K$2, IF(K$1=0,IF(K$16>0,IF(K$2*K$16<ROUND(J24*I25, 3),K$2*K$16,ROUND(J24*I25, 3)),ROUND(J24*I25, 3)),IF(K$16>0,IF(K$2*K$16<ROUND(K$2*I25, 3),K$2*K$16,ROUND(K$2*I25, 3)),ROUND(K$2*I25, 3)))) -> 0.055 | K25: =K24+ROUND(J25,3) -> 0.182 | M25: =ROUND(C25*O25-K25*$O$6,2) -> 26.46 | N25: =IF($O$10>0,M25/$O$10,0) -> 0.0002646 | O25: =ROUND(ROUND(K25,2)*$O$4,2) -> 1.33 | P25: =ROUND((ROUND(K24,2)*(G25-G24)*$O$4+P24+J25*$O$6),2) -> 77.38 | Q25: =P25/$O$10 -> 0.0007738 | R25: =ROUND(P25/O25,0) -> 58 | S25: =ROUND(R25/G25,2) -> 0.43 | T25: =R25+C25 -> 79 | U25: =ROUND(T25/G25,2) -> 0.59 | W25: =ROUND(K25*$O$7,2) -> 26.21 | X25: =ROUND(P25+W25,2) -> 103.59 | Z25: =IF($O$10>0,ROUND($O$10-X25,2),0) -> 99896.41 | AA25: =IF($O$10>0,ROUND(X25/$O$10,2),0) -> 0 | AB25: =IF(AND(Z25>0,$O$4>0),($O$10-P25-W25*$O$8)/O25,0) -> 75125.848 | AC25: =IF(AB25>0,AB25+G25,0) -> 75260.848 | AD25: 6 | AF25: =IF(P25>0,ROUND(W25/P25,2),0) -> 0.34 | AG25: =IF($O$10>0,ROUND(W25/$O$10,2),0) -> 0
A26: 7 | B26: =IF(AND($A26>=C$12,C$12>0),0,IF(AND($A26>=C$9,C$9>0),C$10,IF(AND($A26>=C$6,C$6>0),C$7,0))) -> 1 | C26: =IF(AND($A26>=C$12,C$12>0),C$13,C25+B26) -> 22 | E26: =IF(OR($A26<2,AND(G$15>0,$A26>G$15)),0,IF(AND($A26>=G$12,G$12>0),G$13,IF(AND($A26>=G$9,G$9>0),G$10,IF(AND($A26>=G$6,G$6>0),G$7,0)))) -> 4 | F26: =F25+E26 -> 39 | G26: =G25+F26 -> 174 | I26: =IF(($A26<K$4),1,IF(AND($A26>K$15,K$15>0),I25,IF(AND($A26>=K$12,K$12>0),ROUND(I25+K$13,4),IF(AND($A26>=K$9,K$9>0),ROUND(I25+K$10,4),IF(AND($A26>=K$6,K$6>0),ROUND(I25+K$7,4),K$3))))) -> 1.44 | J26: =IF($A26<K$4, K$2, IF(K$1=0,IF(K$16>0,IF(K$2*K$16<ROUND(J25*I26, 3),K$2*K$16,ROUND(J25*I26, 3)),ROUND(J25*I26, 3)),IF(K$16>0,IF(K$2*K$16<ROUND(K$2*I26, 3),K$2*K$16,ROUND(K$2*I26, 3)),ROUND(K$2*I26, 3)))) -> 0.079 | K26: =K25+ROUND(J26,3) -> 0.261 | M26: =ROUND(C26*O26-K26*$O$6,2) -> 40.13 | N26: =IF($O$10>0,M26/$O$10,0) -> 0.0004013 | O26: =ROUND(ROUND(K26,2)*$O$4,2) -> 1.92 | P26: =ROUND((ROUND(K25,2)*(G26-G25)*$O$4+P25+J26*$O$6),2) -> 129.97 | Q26: =P26/$O$10 -> 0.0012997 | R26: =ROUND(P26/O26,0) -> 68 | S26: =ROUND(R26/G26,2) -> 0.39 | T26: =R26+C26 -> 90 | U26: =ROUND(T26/G26,2) -> 0.52 | W26: =ROUND(K26*$O$7,2) -> 37.58 | X26: =ROUND(P26+W26,2) -> 167.55 | Z26: =IF($O$10>0,ROUND($O$10-X26,2),0) -> 99832.45 | AA26: =IF($O$10>0,ROUND(X26/$O$10,2),0) -> 0 | AB26: =IF(AND(Z26>0,$O$4>0),($O$10-P26-W26*$O$8)/O26,0) -> 52011.726 | AC26: =IF(AB26>0,AB26+G26,0) -> 52185.726 | AD26: 7 | AF26: =IF(P26>0,ROUND(W26/P26,2),0) -> 0.29 | AG26: =IF($O$10>0,ROUND(W26/$O$10,2),0) -> 0 | AI26: 2
A27: 8 | B27: =IF(AND($A27>=C$12,C$12>0),0,IF(AND($A27>=C$9,C$9>0),C$10,IF(AND($A27>=C$6,C$6>0),C$7,0))) -> 1 | C27: =IF(AND($A27>=C$12,C$12>0),C$13,C26+B27) -> 23 | E27: =IF(OR($A27<2,AND(G$15>0,$A27>G$15)),0,IF(AND($A27>=G$12,G$12>0),G$13,IF(AND($A27>=G$9,G$9>0),G$10,IF(AND($A27>=G$6,G$6>0),G$7,0)))) -> 4 | F27: =F26+E27 -> 43 | G27: =G26+F27 -> 217 | I27: =IF(($A27<K$4),1,IF(AND($A27>K$15,K$15>0),I26,IF(AND($A27>=K$12,K$12>0),ROUND(I26+K$13,4),IF(AND($A27>=K$9,K$9>0),ROUND(I26+K$10,4),IF(AND($A27>=K$6,K$6>0),ROUND(I26+K$7,4),K$3))))) -> 1.46 | J27: =IF($A27<K$4, K$2, IF(K$1=0,IF(K$16>0,IF(K$2*K$16<ROUND(J26*I27, 3),K$2*K$16,ROUND(J26*I27, 3)),ROUND(J26*I27, 3)),IF(K$16>0,IF(K$2*K$16<ROUND(K$2*I27, 3),K$2*K$16,ROUND(K$2*I27, 3)),ROUND(K$2*I27, 3)))) -> 0.115 | K27: =K26+ROUND(J27,3) -> 0.376 | M27: =ROUND(C27*O27-K27*$O$6,2) -> 61.59 | N27: =IF($O$10>0,M27/$O$10,0) -> 0.0006159 | O27: =ROUND(ROUND(K27,2)*$O$4,2) -> 2.81 | P27: =ROUND((ROUND(K26,2)*(G27-G26)*$O$4+P26+J27*$O$6),2) -> 213.63 | Q27: =P27/$O$10 -> 0.0021363 | R27: =ROUND(P27/O27,0) -> 76 | S27: =ROUND(R27/G27,2) -> 0.35 | T27: =R27+C27 -> 99 | U27: =ROUND(T27/G27,2) -> 0.46 | W27: =ROUND(K27*$O$7,2) -> 54.14 | X27: =ROUND(P27+W27,2) -> 267.77 | Z27: =IF($O$10>0,ROUND($O$10-X27,2),0) -> 99732.23 | AA27: =IF($O$10>0,ROUND(X27/$O$10,2),0) -> 0 | AB27: =IF(AND(Z27>0,$O$4>0),($O$10-P27-W27*$O$8)/O27,0) -> 35507.31 | AC27: =IF(AB27>0,AB27+G27,0) -> 35724.31 | AD27: 8 | AF27: =IF(P27>0,ROUND(W27/P27,2),0) -> 0.25 | AG27: =IF($O$10>0,ROUND(W27/$O$10,2),0) -> 0
A28: 9 | B28: =IF(AND($A28>=C$12,C$12>0),0,IF(AND($A28>=C$9,C$9>0),C$10,IF(AND($A28>=C$6,C$6>0),C$7,0))) -> 1 | C28: =IF(AND($A28>=C$12,C$12>0),C$13,C27+B28) -> 24 | E28: =IF(OR($A28<2,AND(G$15>0,$A28>G$15)),0,IF(AND($A28>=G$12,G$12>0),G$13,IF(AND($A28>=G$9,G$9>0),G$10,IF(AND($A28>=G$6,G$6>0),G$7,0)))) -> 4 | F28: =F27+E28 -> 47 | G28: =G27+F28 -> 264 | I28: =IF(($A28<K$4),1,IF(AND($A28>K$15,K$15>0),I27,IF(AND($A28>=K$12,K$12>0),ROUND(I27+K$13,4),IF(AND($A28>=K$9,K$9>0),ROUND(I27+K$10,4),IF(AND($A28>=K$6,K$6>0),ROUND(I27+K$7,4),K$3))))) -> 1.495 | J28: =IF($A28<K$4, K$2, IF(K$1=0,IF(K$16>0,IF(K$2*K$16<ROUND(J27*I28, 3),K$2*K$16,ROUND(J27*I28, 3)),ROUND(J27*I28, 3)),IF(K$16>0,IF(K$2*K$16<ROUND(K$2*I28, 3),K$2*K$16,ROUND(K$2*I28, 3)),ROUND(K$2*I28, 3)))) -> 0.172 | K28: =K27+ROUND(J28,3) -> 0.548 | M28: =ROUND(C28*O28-K28*$O$6,2) -> 93.25 | N28: =IF($O$10>0,M28/$O$10,0) -> 0.0009325 | O28: =ROUND(ROUND(K28,2)*$O$4,2) -> 4.07 | P28: =ROUND((ROUND(K27,2)*(G28-G27)*$O$4+P27+J28*$O$6),2) -> 347.18 | Q28: =P28/$O$10 -> 0.0034718 | R28: =ROUND(P28/O28,0) -> 85 | S28: =ROUND(R28/G28,2) -> 0.32 | T28: =R28+C28 -> 109 | U28: =ROUND(T28/G28,2) -> 0.41 | W28: =ROUND(K28*$O$7,2) -> 78.91 | X28: =ROUND(P28+W28,2) -> 426.09 | Z28: =IF($O$10>0,ROUND($O$10-X28,2),0) -> 99573.91 | AA28: =IF($O$10>0,ROUND(X28/$O$10,2),0) -> 0 | AB28: =IF(AND(Z28>0,$O$4>0),($O$10-P28-W28*$O$8)/O28,0) -> 24480.845 | AC28: =IF(AB28>0,AB28+G28,0) -> 24744.845 | AD28: 9 | AF28: =IF(P28>0,ROUND(W28/P28,2),0) -> 0.23 | AG28: =IF($O$10>0,ROUND(W28/$O$10,2),0) -> 0
A29: 10 | B29: =IF(AND($A29>=C$12,C$12>0),0,IF(AND($A29>=C$9,C$9>0),C$10,IF(AND($A29>=C$6,C$6>0),C$7,0))) -> 1 | C29: =IF(AND($A29>=C$12,C$12>0),C$13,C28+B29) -> 25 | E29: =IF(OR($A29<2,AND(G$15>0,$A29>G$15)),0,IF(AND($A29>=G$12,G$12>0),G$13,IF(AND($A29>=G$9,G$9>0),G$10,IF(AND($A29>=G$6,G$6>0),G$7,0)))) -> 4 | F29: =F28+E29 -> 51 | G29: =G28+F29 -> 315 | I29: =IF(($A29<K$4),1,IF(AND($A29>K$15,K$15>0),I28,IF(AND($A29>=K$12,K$12>0),ROUND(I28+K$13,4),IF(AND($A29>=K$9,K$9>0),ROUND(I28+K$10,4),IF(AND($A29>=K$6,K$6>0),ROUND(I28+K$7,4),K$3))))) -> 1.53 | J29: =IF($A29<K$4, K$2, IF(K$1=0,IF(K$16>0,IF(K$2*K$16<ROUND(J28*I29, 3),K$2*K$16,ROUND(J28*I29, 3)),ROUND(J28*I29, 3)),IF(K$16>0,IF(K$2*K$16<ROUND(K$2*I29, 3),K$2*K$16,ROUND(K$2*I29, 3)),ROUND(K$2*I29, 3)))) -> 0.263 | K29: =K28+ROUND(J29,3) -> 0.811 | M29: =ROUND(C29*O29-K29*$O$6,2) -> 143.2 | N29: =IF($O$10>0,M29/$O$10,0) -> 0.001432 | O29: =ROUND(ROUND(K29,2)*$O$4,2) -> 5.99 | P29: =ROUND((ROUND(K28,2)*(G29-G28)*$O$4+P28+J29*$O$6),2) -> 556.88 | Q29: =P29/$O$10 -> 0.0055688 | R29: =ROUND(P29/O29,0) -> 93 | S29: =ROUND(R29/G29,2) -> 0.3 | T29: =R29+C29 -> 118 | U29: =ROUND(T29/G29,2) -> 0.37 | W29: =ROUND(K29*$O$7,2) -> 116.78 | X29: =ROUND(P29+W29,2) -> 673.66 | Z29: =IF($O$10>0,ROUND($O$10-X29,2),0) -> 99326.34 | AA29: =IF($O$10>0,ROUND(X29/$O$10,2),0) -> 0.01 | AB29: =IF(AND(Z29>0,$O$4>0),($O$10-P29-W29*$O$8)/O29,0) -> 16597.623 | AC29: =IF(AB29>0,AB29+G29,0) -> 16912.623 | AD29: 10 | AF29: =IF(P29>0,ROUND(W29/P29,2),0) -> 0.21 | AG29: =IF($O$10>0,ROUND(W29/$O$10,2),0) -> 0
A30: 11 | B30: =IF(AND($A30>=C$12,C$12>0),0,IF(AND($A30>=C$9,C$9>0),C$10,IF(AND($A30>=C$6,C$6>0),C$7,0))) -> 1 | C30: =IF(AND($A30>=C$12,C$12>0),C$13,C29+B30) -> 26 | E30: =IF(OR($A30<2,AND(G$15>0,$A30>G$15)),0,IF(AND($A30>=G$12,G$12>0),G$13,IF(AND($A30>=G$9,G$9>0),G$10,IF(AND($A30>=G$6,G$6>0),G$7,0)))) -> 8 | F30: =F29+E30 -> 59 | G30: =G29+F30 -> 374 | I30: =IF(($A30<K$4),1,IF(AND($A30>K$15,K$15>0),I29,IF(AND($A30>=K$12,K$12>0),ROUND(I29+K$13,4),IF(AND($A30>=K$9,K$9>0),ROUND(I29+K$10,4),IF(AND($A30>=K$6,K$6>0),ROUND(I29+K$7,4),K$3))))) -> 1.565 | J30: =IF($A30<K$4, K$2, IF(K$1=0,IF(K$16>0,IF(K$2*K$16<ROUND(J29*I30, 3),K$2*K$16,ROUND(J29*I30, 3)),ROUND(J29*I30, 3)),IF(K$16>0,IF(K$2*K$16<ROUND(K$2*I30, 3),K$2*K$16,ROUND(K$2*I30, 3)),ROUND(K$2*I30, 3)))) -> 0.412 | K30: =K29+ROUND(J30,3) -> 1.223 | M30: =ROUND(C30*O30-K30*$O$6,2) -> 224.9 | N30: =IF($O$10>0,M30/$O$10,0) -> 0.002249 | O30: =ROUND(ROUND(K30,2)*$O$4,2) -> 9.03 | P30: =ROUND((ROUND(K29,2)*(G30-G29)*$O$4+P29+J30*$O$6),2) -> 913.85 | Q30: =P30/$O$10 -> 0.0091385 | R30: =ROUND(P30/O30,0) -> 101 | S30: =ROUND(R30/G30,2) -> 0.27 | T30: =R30+C30 -> 127 | U30: =ROUND(T30/G30,2) -> 0.34 | W30: =ROUND(K30*$O$7,2) -> 176.11 | X30: =ROUND(P30+W30,2) -> 1089.96 | Z30: =IF($O$10>0,ROUND($O$10-X30,2),0) -> 98910.04 | AA30: =IF($O$10>0,ROUND(X30/$O$10,2),0) -> 0.01 | AB30: =IF(AND(Z30>0,$O$4>0),($O$10-P30-W30*$O$8)/O30,0) -> 10969.095 | AC30: =IF(AB30>0,AB30+G30,0) -> 11343.095 | AD30: 11 | AF30: =IF(P30>0,ROUND(W30/P30,2),0) -> 0.19 | AG30: =IF($O$10>0,ROUND(W30/$O$10,2),0) -> 0
A31: 12 | B31: =IF(AND($A31>=C$12,C$12>0),0,IF(AND($A31>=C$9,C$9>0),C$10,IF(AND($A31>=C$6,C$6>0),C$7,0))) -> 1 | C31: =IF(AND($A31>=C$12,C$12>0),C$13,C30+B31) -> 27 | E31: =IF(OR($A31<2,AND(G$15>0,$A31>G$15)),0,IF(AND($A31>=G$12,G$12>0),G$13,IF(AND($A31>=G$9,G$9>0),G$10,IF(AND($A31>=G$6,G$6>0),G$7,0)))) -> 8 | F31: =F30+E31 -> 67 | G31: =G30+F31 -> 441 | I31: =IF(($A31<K$4),1,IF(AND($A31>K$15,K$15>0),I30,IF(AND($A31>=K$12,K$12>0),ROUND(I30+K$13,4),IF(AND($A31>=K$9,K$9>0),ROUND(I30+K$10,4),IF(AND($A31>=K$6,K$6>0),ROUND(I30+K$7,4),K$3))))) -> 1.6 | J31: =IF($A31<K$4, K$2, IF(K$1=0,IF(K$16>0,IF(K$2*K$16<ROUND(J30*I31, 3),K$2*K$16,ROUND(J30*I31, 3)),ROUND(J30*I31, 3)),IF(K$16>0,IF(K$2*K$16<ROUND(K$2*I31, 3),K$2*K$16,ROUND(K$2*I31, 3)),ROUND(K$2*I31, 3)))) -> 0.659 | K31: =K30+ROUND(J31,3) -> 1.882 | M31: =ROUND(C31*O31-K31*$O$6,2) -> 360.36 | N31: =IF($O$10>0,M31/$O$10,0) -> 0.0036036 | O31: =ROUND(ROUND(K31,2)*$O$4,2) -> 13.91 | P31: =ROUND((ROUND(K30,2)*(G31-G30)*$O$4+P30+J31*$O$6),2) -> 1524.05 | Q31: =P31/$O$10 -> 0.0152405 | R31: =ROUND(P31/O31,0) -> 110 | S31: =ROUND(R31/G31,2) -> 0.25 | T31: =R31+C31 -> 137 | U31: =ROUND(T31/G31,2) -> 0.31 | W31: =ROUND(K31*$O$7,2) -> 271.01 | X31: =ROUND(P31+W31,2) -> 1795.06 | Z31: =IF($O$10>0,ROUND($O$10-X31,2),0) -> 98204.94 | AA31: =IF($O$10>0,ROUND(X31/$O$10,2),0) -> 0.02 | AB31: =IF(AND(Z31>0,$O$4>0),($O$10-P31-W31*$O$8)/O31,0) -> 7075.6109 | AC31: =IF(AB31>0,AB31+G31,0) -> 7516.6109 | AD31: 12 | AF31: =IF(P31>0,ROUND(W31/P31,2),0) -> 0.18 | AG31: =IF($O$10>0,ROUND(W31/$O$10,2),0) -> 0
A32: 13 | B32: =IF(AND($A32>=C$12,C$12>0),0,IF(AND($A32>=C$9,C$9>0),C$10,IF(AND($A32>=C$6,C$6>0),C$7,0))) -> 1 | C32: =IF(AND($A32>=C$12,C$12>0),C$13,C31+B32) -> 28 | E32: =IF(OR($A32<2,AND(G$15>0,$A32>G$15)),0,IF(AND($A32>=G$12,G$12>0),G$13,IF(AND($A32>=G$9,G$9>0),G$10,IF(AND($A32>=G$6,G$6>0),G$7,0)))) -> 8 | F32: =F31+E32 -> 75 | G32: =G31+F32 -> 516 | I32: =IF(($A32<K$4),1,IF(AND($A32>K$15,K$15>0),I31,IF(AND($A32>=K$12,K$12>0),ROUND(I31+K$13,4),IF(AND($A32>=K$9,K$9>0),ROUND(I31+K$10,4),IF(AND($A32>=K$6,K$6>0),ROUND(I31+K$7,4),K$3))))) -> 1.635 | J32: =IF($A32<K$4, K$2, IF(K$1=0,IF(K$16>0,IF(K$2*K$16<ROUND(J31*I32, 3),K$2*K$16,ROUND(J31*I32, 3)),ROUND(J31*I32, 3)),IF(K$16>0,IF(K$2*K$16<ROUND(K$2*I32, 3),K$2*K$16,ROUND(K$2*I32, 3)),ROUND(K$2*I32, 3)))) -> 1.077 | K32: =K31+ROUND(J32,3) -> 2.959 | M32: =ROUND(C32*O32-K32*$O$6,2) -> 589.29 | N32: =IF($O$10>0,M32/$O$10,0) -> 0.0058929 | O32: =ROUND(ROUND(K32,2)*$O$4,2) -> 21.9 | P32: =ROUND((ROUND(K31,2)*(G32-G31)*$O$4+P31+J32*$O$6),2) -> 2576.15 | Q32: =P32/$O$10 -> 0.0257615 | R32: =ROUND(P32/O32,0) -> 118 | S32: =ROUND(R32/G32,2) -> 0.23 | T32: =R32+C32 -> 146 | U32: =ROUND(T32/G32,2) -> 0.28 | W32: =ROUND(K32*$O$7,2) -> 426.1 | X32: =ROUND(P32+W32,2) -> 3002.25 | Z32: =IF($O$10>0,ROUND($O$10-X32,2),0) -> 96997.75 | AA32: =IF($O$10>0,ROUND(X32/$O$10,2),0) -> 0.03 | AB32: =IF(AND(Z32>0,$O$4>0),($O$10-P32-W32*$O$8)/O32,0) -> 4444.6863 | AC32: =IF(AB32>0,AB32+G32,0) -> 4960.6863 | AD32: 13 | AF32: =IF(P32>0,ROUND(W32/P32,2),0) -> 0.17 | AG32: =IF($O$10>0,ROUND(W32/$O$10,2),0) -> 0
A33: 14 | B33: =IF(AND($A33>=C$12,C$12>0),0,IF(AND($A33>=C$9,C$9>0),C$10,IF(AND($A33>=C$6,C$6>0),C$7,0))) -> 1 | C33: =IF(AND($A33>=C$12,C$12>0),C$13,C32+B33) -> 29 | E33: =IF(OR($A33<2,AND(G$15>0,$A33>G$15)),0,IF(AND($A33>=G$12,G$12>0),G$13,IF(AND($A33>=G$9,G$9>0),G$10,IF(AND($A33>=G$6,G$6>0),G$7,0)))) -> 8 | F33: =F32+E33 -> 83 | G33: =G32+F33 -> 599 | I33: =IF(($A33<K$4),1,IF(AND($A33>K$15,K$15>0),I32,IF(AND($A33>=K$12,K$12>0),ROUND(I32+K$13,4),IF(AND($A33>=K$9,K$9>0),ROUND(I32+K$10,4),IF(AND($A33>=K$6,K$6>0),ROUND(I32+K$7,4),K$3))))) -> 1.67 | J33: =IF($A33<K$4, K$2, IF(K$1=0,IF(K$16>0,IF(K$2*K$16<ROUND(J32*I33, 3),K$2*K$16,ROUND(J32*I33, 3)),ROUND(J32*I33, 3)),IF(K$16>0,IF(K$2*K$16<ROUND(K$2*I33, 3),K$2*K$16,ROUND(K$2*I33, 3)),ROUND(K$2*I33, 3)))) -> 1.799 | K33: =K32+ROUND(J33,3) -> 4.758 | M33: =ROUND(C33*O33-K33*$O$6,2) -> 982.94 | N33: =IF($O$10>0,M33/$O$10,0) -> 0.0098294 | O33: =ROUND(ROUND(K33,2)*$O$4,2) -> 35.22 | P33: =ROUND((ROUND(K32,2)*(G33-G32)*$O$4+P32+J33*$O$6),2) -> 4408.72 | Q33: =P33/$O$10 -> 0.0440872 | R33: =ROUND(P33/O33,0) -> 125 | S33: =ROUND(R33/G33,2) -> 0.21 | T33: =R33+C33 -> 154 | U33: =ROUND(T33/G33,2) -> 0.26 | W33: =ROUND(K33*$O$7,2) -> 685.15 | X33: =ROUND(P33+W33,2) -> 5093.87 | Z33: =IF($O$10>0,ROUND($O$10-X33,2),0) -> 94906.13 | AA33: =IF($O$10>0,ROUND(X33/$O$10,2),0) -> 0.05 | AB33: =IF(AND(Z33>0,$O$4>0),($O$10-P33-W33*$O$8)/O33,0) -> 2710.2286 | AC33: =IF(AB33>0,AB33+G33,0) -> 3309.2286 | AD33: 14 | AF33: =IF(P33>0,ROUND(W33/P33,2),0) -> 0.16 | AG33: =IF($O$10>0,ROUND(W33/$O$10,2),0) -> 0.01
A34: 15 | B34: =IF(AND($A34>=C$12,C$12>0),0,IF(AND($A34>=C$9,C$9>0),C$10,IF(AND($A34>=C$6,C$6>0),C$7,0))) -> 1 | C34: =IF(AND($A34>=C$12,C$12>0),C$13,C33+B34) -> 30 | E34: =IF(OR($A34<2,AND(G$15>0,$A34>G$15)),0,IF(AND($A34>=G$12,G$12>0),G$13,IF(AND($A34>=G$9,G$9>0),G$10,IF(AND($A34>=G$6,G$6>0),G$7,0)))) -> 8 | F34: =F33+E34 -> 91 | G34: =G33+F34 -> 690 | I34: =IF(($A34<K$4),1,IF(AND($A34>K$15,K$15>0),I33,IF(AND($A34>=K$12,K$12>0),ROUND(I33+K$13,4),IF(AND($A34>=K$9,K$9>0),ROUND(I33+K$10,4),IF(AND($A34>=K$6,K$6>0),ROUND(I33+K$7,4),K$3))))) -> 1.705 | J34: =IF($A34<K$4, K$2, IF(K$1=0,IF(K$16>0,IF(K$2*K$16<ROUND(J33*I34, 3),K$2*K$16,ROUND(J33*I34, 3)),ROUND(J33*I34, 3)),IF(K$16>0,IF(K$2*K$16<ROUND(K$2*I34, 3),K$2*K$16,ROUND(K$2*I34, 3)),ROUND(K$2*I34, 3)))) -> 3.067 | K34: =K33+ROUND(J34,3) -> 7.825 | M34: =ROUND(C34*O34-K34*$O$6,2) -> 1674.97 | N34: =IF($O$10>0,M34/$O$10,0) -> 0.0167497 | O34: =ROUND(ROUND(K34,2)*$O$4,2) -> 57.94 | P34: =ROUND((ROUND(K33,2)*(G34-G33)*$O$4+P33+J34*$O$6),2) -> 7638.89 | Q34: =P34/$O$10 -> 0.0763889 | R34: =ROUND(P34/O34,0) -> 132 | S34: =ROUND(R34/G34,2) -> 0.19 | T34: =R34+C34 -> 162 | U34: =ROUND(T34/G34,2) -> 0.23 | W34: =ROUND(K34*$O$7,2) -> 1126.8 | X34: =ROUND(P34+W34,2) -> 8765.69 | Z34: =IF($O$10>0,ROUND($O$10-X34,2),0) -> 91234.31 | AA34: =IF($O$10>0,ROUND(X34/$O$10,2),0) -> 0.09 | AB34: =IF(AND(Z34>0,$O$4>0),($O$10-P34-W34*$O$8)/O34,0) -> 1590.1924 | AC34: =IF(AB34>0,AB34+G34,0) -> 2280.1924 | AD34: 15 | AF34: =IF(P34>0,ROUND(W34/P34,2),0) -> 0.15 | AG34: =IF($O$10>0,ROUND(W34/$O$10,2),0) -> 0.01
A35: 16 | B35: =IF(AND($A35>=C$12,C$12>0),0,IF(AND($A35>=C$9,C$9>0),C$10,IF(AND($A35>=C$6,C$6>0),C$7,0))) -> 1 | C35: =IF(AND($A35>=C$12,C$12>0),C$13,C34+B35) -> 31 | E35: =IF(OR($A35<2,AND(G$15>0,$A35>G$15)),0,IF(AND($A35>=G$12,G$12>0),G$13,IF(AND($A35>=G$9,G$9>0),G$10,IF(AND($A35>=G$6,G$6>0),G$7,0)))) -> 8 | F35: =F34+E35 -> 99 | G35: =G34+F35 -> 789 | I35: =IF(($A35<K$4),1,IF(AND($A35>K$15,K$15>0),I34,IF(AND($A35>=K$12,K$12>0),ROUND(I34+K$13,4),IF(AND($A35>=K$9,K$9>0),ROUND(I34+K$10,4),IF(AND($A35>=K$6,K$6>0),ROUND(I34+K$7,4),K$3))))) -> 1.74 | J35: =IF($A35<K$4, K$2, IF(K$1=0,IF(K$16>0,IF(K$2*K$16<ROUND(J34*I35, 3),K$2*K$16,ROUND(J34*I35, 3)),ROUND(J34*I35, 3)),IF(K$16>0,IF(K$2*K$16<ROUND(K$2*I35, 3),K$2*K$16,ROUND(K$2*I35, 3)),ROUND(K$2*I35, 3)))) -> 5.337 | K35: =K34+ROUND(J35,3) -> 13.162 | M35: =ROUND(C35*O35-K35*$O$6,2) -> 2912.43 | N35: =IF($O$10>0,M35/$O$10,0) -> 0.0291243 | O35: =ROUND(ROUND(K35,2)*$O$4,2) -> 97.38 | P35: =ROUND((ROUND(K34,2)*(G35-G34)*$O$4+P34+J35*$O$6),2) -> 13418.27 | Q35: =P35/$O$10 -> 0.1341827 | R35: =ROUND(P35/O35,0) -> 138 | S35: =ROUND(R35/G35,2) -> 0.17 | T35: =R35+C35 -> 169 | U35: =ROUND(T35/G35,2) -> 0.21 | W35: =ROUND(K35*$O$7,2) -> 1895.33 | X35: =ROUND(P35+W35,2) -> 15313.6 | Z35: =IF($O$10>0,ROUND($O$10-X35,2),0) -> 84686.4 | AA35: =IF($O$10>0,ROUND(X35/$O$10,2),0) -> 0.15 | AB35: =IF(AND(Z35>0,$O$4>0),($O$10-P35-W35*$O$8)/O35,0) -> 885.21939 | AC35: =IF(AB35>0,AB35+G35,0) -> 1674.2194 | AD35: 16 | AF35: =IF(P35>0,ROUND(W35/P35,2),0) -> 0.14 | AG35: =IF($O$10>0,ROUND(W35/$O$10,2),0) -> 0.02
A36: 17 | B36: =IF(AND($A36>=C$12,C$12>0),0,IF(AND($A36>=C$9,C$9>0),C$10,IF(AND($A36>=C$6,C$6>0),C$7,0))) -> 1 | C36: =IF(AND($A36>=C$12,C$12>0),C$13,C35+B36) -> 32 | E36: =IF(OR($A36<2,AND(G$15>0,$A36>G$15)),0,IF(AND($A36>=G$12,G$12>0),G$13,IF(AND($A36>=G$9,G$9>0),G$10,IF(AND($A36>=G$6,G$6>0),G$7,0)))) -> 8 | F36: =F35+E36 -> 107 | G36: =G35+F36 -> 896 | I36: =IF(($A36<K$4),1,IF(AND($A36>K$15,K$15>0),I35,IF(AND($A36>=K$12,K$12>0),ROUND(I35+K$13,4),IF(AND($A36>=K$9,K$9>0),ROUND(I35+K$10,4),IF(AND($A36>=K$6,K$6>0),ROUND(I35+K$7,4),K$3))))) -> 1.775 | J36: =IF($A36<K$4, K$2, IF(K$1=0,IF(K$16>0,IF(K$2*K$16<ROUND(J35*I36, 3),K$2*K$16,ROUND(J35*I36, 3)),ROUND(J35*I36, 3)),IF(K$16>0,IF(K$2*K$16<ROUND(K$2*I36, 3),K$2*K$16,ROUND(K$2*I36, 3)),ROUND(K$2*I36, 3)))) -> 9.473 | K36: =K35+ROUND(J36,3) -> 22.635 | M36: =ROUND(C36*O36-K36*$O$6,2) -> 5178.39 | N36: =IF($O$10>0,M36/$O$10,0) -> 0.0517839 | O36: =ROUND(ROUND(K36,2)*$O$4,2) -> 167.54 | P36: =ROUND((ROUND(K35,2)*(G36-G35)*$O$4+P35+J36*$O$6),2) -> 23914.9 | Q36: =P36/$O$10 -> 0.239149 | R36: =ROUND(P36/O36,0) -> 143 | S36: =ROUND(R36/G36,2) -> 0.16 | T36: =R36+C36 -> 175 | U36: =ROUND(T36/G36,2) -> 0.2 | W36: =ROUND(K36*$O$7,2) -> 3259.44 | X36: =ROUND(P36+W36,2) -> 27174.34 | Z36: =IF($O$10>0,ROUND($O$10-X36,2),0) -> 72825.66 | AA36: =IF($O$10>0,ROUND(X36/$O$10,2),0) -> 0.27 | AB36: =IF(AND(Z36>0,$O$4>0),($O$10-P36-W36*$O$8)/O36,0) -> 450.24001 | AC36: =IF(AB36>0,AB36+G36,0) -> 1346.24 | AD36: 17 | AF36: =IF(P36>0,ROUND(W36/P36,2),0) -> 0.14 | AG36: =IF($O$10>0,ROUND(W36/$O$10,2),0) -> 0.03
A37: 18 | B37: =IF(AND($A37>=C$12,C$12>0),0,IF(AND($A37>=C$9,C$9>0),C$10,IF(AND($A37>=C$6,C$6>0),C$7,0))) -> 1 | C37: =IF(AND($A37>=C$12,C$12>0),C$13,C36+B37) -> 33 | E37: =IF(OR($A37<2,AND(G$15>0,$A37>G$15)),0,IF(AND($A37>=G$12,G$12>0),G$13,IF(AND($A37>=G$9,G$9>0),G$10,IF(AND($A37>=G$6,G$6>0),G$7,0)))) -> 8 | F37: =F36+E37 -> 115 | G37: =G36+F37 -> 1011 | I37: =IF(($A37<K$4),1,IF(AND($A37>K$15,K$15>0),I36,IF(AND($A37>=K$12,K$12>0),ROUND(I36+K$13,4),IF(AND($A37>=K$9,K$9>0),ROUND(I36+K$10,4),IF(AND($A37>=K$6,K$6>0),ROUND(I36+K$7,4),K$3))))) -> 1.81 | J37: =IF($A37<K$4, K$2, IF(K$1=0,IF(K$16>0,IF(K$2*K$16<ROUND(J36*I37, 3),K$2*K$16,ROUND(J36*I37, 3)),ROUND(J36*I37, 3)),IF(K$16>0,IF(K$2*K$16<ROUND(K$2*I37, 3),K$2*K$16,ROUND(K$2*I37, 3)),ROUND(K$2*I37, 3)))) -> 17.146 | K37: =K36+ROUND(J37,3) -> 39.781 | M37: =ROUND(C37*O37-K37*$O$6,2) -> 9392.78 | N37: =IF($O$10>0,M37/$O$10,0) -> 0.0939278 | O37: =ROUND(ROUND(K37,2)*$O$4,2) -> 294.37 | P37: =ROUND((ROUND(K36,2)*(G37-G36)*$O$4+P36+J37*$O$6),2) -> 43320.08 | Q37: =P37/$O$10 -> 0.4332008 | R37: =ROUND(P37/O37,0) -> 147 | S37: =ROUND(R37/G37,2) -> 0.15 | T37: =R37+C37 -> 180 | U37: =ROUND(T37/G37,2) -> 0.18 | W37: =ROUND(K37*$O$7,2) -> 5728.46 | X37: =ROUND(P37+W37,2) -> 49048.54 | Z37: =IF($O$10>0,ROUND($O$10-X37,2),0) -> 50951.46 | AA37: =IF($O$10>0,ROUND(X37/$O$10,2),0) -> 0.49 | AB37: =IF(AND(Z37>0,$O$4>0),($O$10-P37-W37*$O$8)/O37,0) -> 188.65451 | AC37: =IF(AB37>0,AB37+G37,0) -> 1199.6545 | AD37: 18 | AF37: =IF(P37>0,ROUND(W37/P37,2),0) -> 0.13 | AG37: =IF($O$10>0,ROUND(W37/$O$10,2),0) -> 0.06
A38: 19 | B38: =IF(AND($A38>=C$12,C$12>0),0,IF(AND($A38>=C$9,C$9>0),C$10,IF(AND($A38>=C$6,C$6>0),C$7,0))) -> 1 | C38: =IF(AND($A38>=C$12,C$12>0),C$13,C37+B38) -> 34 | E38: =IF(OR($A38<2,AND(G$15>0,$A38>G$15)),0,IF(AND($A38>=G$12,G$12>0),G$13,IF(AND($A38>=G$9,G$9>0),G$10,IF(AND($A38>=G$6,G$6>0),G$7,0)))) -> 8 | F38: =F37+E38 -> 123 | G38: =G37+F38 -> 1134 | I38: =IF(($A38<K$4),1,IF(AND($A38>K$15,K$15>0),I37,IF(AND($A38>=K$12,K$12>0),ROUND(I37+K$13,4),IF(AND($A38>=K$9,K$9>0),ROUND(I37+K$10,4),IF(AND($A38>=K$6,K$6>0),ROUND(I37+K$7,4),K$3))))) -> 1.845 | J38: =IF($A38<K$4, K$2, IF(K$1=0,IF(K$16>0,IF(K$2*K$16<ROUND(J37*I38, 3),K$2*K$16,ROUND(J37*I38, 3)),ROUND(J37*I38, 3)),IF(K$16>0,IF(K$2*K$16<ROUND(K$2*I38, 3),K$2*K$16,ROUND(K$2*I38, 3)),ROUND(K$2*I38, 3)))) -> 31.634 | K38: =K37+ROUND(J38,3) -> 71.415 | M38: =ROUND(C38*O38-K38*$O$6,2) -> 17392.31 | N38: =IF($O$10>0,M38/$O$10,0) -> 0.1739231 | O38: =ROUND(ROUND(K38,2)*$O$4,2) -> 528.51 | P38: =ROUND((ROUND(K37,2)*(G38-G37)*$O$4+P37+J38*$O$6),2) -> 79783.44 | Q38: =P38/$O$10 -> 0.7978344 | R38: =ROUND(P38/O38,0) -> 151 | S38: =ROUND(R38/G38,2) -> 0.13 | T38: =R38+C38 -> 185 | U38: =ROUND(T38/G38,2) -> 0.16 | W38: =ROUND(K38*$O$7,2) -> 10283.76 | X38: =ROUND(P38+W38,2) -> 90067.2 | Z38: =IF($O$10>0,ROUND($O$10-X38,2),0) -> 9932.8 | AA38: =IF($O$10>0,ROUND(X38/$O$10,2),0) -> 0.9 | AB38: =IF(AND(Z38>0,$O$4>0),($O$10-P38-W38*$O$8)/O38,0) -> 34.360387 | AC38: =IF(AB38>0,AB38+G38,0) -> 1168.3604 | AD38: 19 | AF38: =IF(P38>0,ROUND(W38/P38,2),0) -> 0.13 | AG38: =IF($O$10>0,ROUND(W38/$O$10,2),0) -> 0.1
A39: 20 | B39: =IF(AND($A39>=C$12,C$12>0),0,IF(AND($A39>=C$9,C$9>0),C$10,IF(AND($A39>=C$6,C$6>0),C$7,0))) -> 1 | C39: =IF(AND($A39>=C$12,C$12>0),C$13,C38+B39) -> 35 | E39: =IF(OR($A39<2,AND(G$15>0,$A39>G$15)),0,IF(AND($A39>=G$12,G$12>0),G$13,IF(AND($A39>=G$9,G$9>0),G$10,IF(AND($A39>=G$6,G$6>0),G$7,0)))) -> 8 | F39: =F38+E39 -> 131 | G39: =G38+F39 -> 1265 | I39: =IF(($A39<K$4),1,IF(AND($A39>K$15,K$15>0),I38,IF(AND($A39>=K$12,K$12>0),ROUND(I38+K$13,4),IF(AND($A39>=K$9,K$9>0),ROUND(I38+K$10,4),IF(AND($A39>=K$6,K$6>0),ROUND(I38+K$7,4),K$3))))) -> 1.88 | J39: =IF($A39<K$4, K$2, IF(K$1=0,IF(K$16>0,IF(K$2*K$16<ROUND(J38*I39, 3),K$2*K$16,ROUND(J38*I39, 3)),ROUND(J38*I39, 3)),IF(K$16>0,IF(K$2*K$16<ROUND(K$2*I39, 3),K$2*K$16,ROUND(K$2*I39, 3)),ROUND(K$2*I39, 3)))) -> 59.472 | K39: =K38+ROUND(J39,3) -> 130.887 | M39: =ROUND(C39*O39-K39*$O$6,2) -> 32843.08 | N39: =IF($O$10>0,M39/$O$10,0) -> 0.3284308 | O39: =ROUND(ROUND(K39,2)*$O$4,2) -> 968.59 | P39: =ROUND((ROUND(K38,2)*(G39-G38)*$O$4+P38+J39*$O$6),2) -> 149498.52 | Q39: =P39/$O$10 -> 1.4949852 | R39: =ROUND(P39/O39,0) -> 154 | S39: =ROUND(R39/G39,2) -> 0.12 | T39: =R39+C39 -> 189 | U39: =ROUND(T39/G39,2) -> 0.15 | W39: =ROUND(K39*$O$7,2) -> 18847.73 | X39: =ROUND(P39+W39,2) -> 168346.25 | Z39: =IF($O$10>0,ROUND($O$10-X39,2),0) -> -68346.25 | AA39: =IF($O$10>0,ROUND(X39/$O$10,2),0) -> 1.68 | AB39: =IF(AND(Z39>0,$O$4>0),($O$10-P39-W39*$O$8)/O39,0) -> 0 | AC39: =IF(AB39>0,AB39+G39,0) -> 0 | AD39: 20 | AF39: =IF(P39>0,ROUND(W39/P39,2),0) -> 0.13 | AG39: =IF($O$10>0,ROUND(W39/$O$10,2),0) -> 0.19
B43: 1 | F43: 2 | J43: 3 | M43: 4 | W43: 5 | AA43: 6 | AF43: 7

Sheet 0.03
I1: CalcLotType | J1: =IF(K$1=0,"LastOrder",IF(K$1=1,"MinOrder","ОШИБКА")) -> LastOrder | K1: ='0.01'!K1 -> 0
A2: TakeProffit | B2: =IF(C$2<=0,"д.б. >0","") | C2: ='0.01'!C2 -> 18 | E2: GridStep | F2: =IF(G$2<2,"д.б. >1","") | G2: ='0.01'!G2 -> 19 | I2: MinLot | J2: =IF(K$2<0,"д.б. >0","") | K2: 0.04 | M2: Пара | O2: ='0.01'!O2 -> nzdcad
I3: Mult | J3: =IF(K$3<0,"д.б. >0","") | K3: ='0.01'!K3 -> 1.4 | M3: Значность | O3: ='0.01'!O3 -> 4
I4: MultStart | J4: =IF(K$4<2,"д.б. >1","") | K4: ='0.01'!K4 -> 4 | M4: Цена пипса, $ | O4: ='0.01'!O4 -> 7.4
AI5: 1
A6: TakeProffit_Level1 | C6: ='0.01'!C6 -> 4 | E6: GridLevel | F6: =IF(G$6<0,"д.б. >=0","") | G6: ='0.01'!G6 -> 3 | I6: MultLevel2 | J6: =IF(K$6<0,"д.б. >=0","") | K6: ='0.01'!K6 -> 6 | M6: Комиссия, $ | O6: ='0.01'!O6 -> 8.08
A7: TakeProffit_Level1Corr | C7: ='0.01'!C7 -> 1 | E7: GridStep_AddPips | G7: ='0.01'!G7 -> 4 | I7: MultCorr | J7: =IF(AND(K$6=0,K$7<>0),"д.б. =0","") | K7: ='0.01'!K7 -> 0.02 | M7: Залог 1 лот, $ | O7: ='0.01'!O7 -> 144
B8: =IF(OR(C$6=1,C$6<0,C$9=1,C$9<0,C$12=1,C$12<0,AND(C$6>1,C$9>1,C$6>=C$9),AND(C$6>1,C$12>1,C$6>=C$12),AND(C$9>1,C$12>1,C$9>=C$12)),"ОШИБКА в № колен","") | F8: =IF(OR(G$6=1,G$6<0,G$9=1,G$9<0,G$12=1,G$12<0,G$15<0,AND(G$6>1,G$9>1,G$6>=G$9),AND(G$6>1,G$12>1,G$6>=G$12),AND(G$9>1,G$12>1,G$9>=G$12),AND(G$6>1,G$15>0,G$6>G$15),AND(G$9>1,G$15>0,G$9>G$15),AND(G$12>1,G$15>0,G$12>G$15)),"ОШИБКА в №№ колен","") | J8: =IF(OR(K$6=1,K$6<0,K$9=1,K$9<0,K$12=1,K$12<0,K$15<0,AND(K$6>0,K$4>=K$6),AND(K$9>0,K$4>=K$9),AND(K$12>0,K$4>=K$12),AND(K$6>1,K$9>1,K$6>=K$9),AND(K$6>1,K$12>1,K$6>=K$12),AND(K$9>1,K$12>1,K$9>=K$12),AND(K$15>0,K$4>K$15),AND(K$6>1,K$15>0,K$6>K$15),AND(K$9>1,K$15>0,K$9>K$15),AND(K$12>1,K$15>0,K$12>K$15)),"ОШИБКА № колен","") | M8: StopOut, % | O8: ='0.01'!O8 -> 0.2
A9: TakeProffit_Level1_5 | C9: ='0.01'!C9 -> 0 | E9: GridStep_Level2 | G9: ='0.01'!G9 -> 11 | I9: MultLevel3 | J9: =IF(K$9<0,"д.б. >=0","") | K9: ='0.01'!K9 -> 9
A10: TakeProffit_Level1_5Corr | C10: ='0.01'!C10 -> 0 | E10: GridStep_Level2_AddPips | G10: ='0.01'!G10 -> 8 | I10: MultСorrLevel3 | J10: =IF(AND(K$9=0,K$10<>0),"д.б. =0","") | K10: ='0.01'!K10 -> 0.035 | M10: Депо, $ | O10: ='0.01'!O10 -> 100000
A12: TakeProffit_Level2 | C12: ='0.01'!C12 -> 0 | E12: Grid3 | F12: =IF(G$12<0,"д.б. >=0","") | G12: ='0.01'!G12 -> 0 | I12: Mult3 | J12: =IF(K$12<0,"д.б. >=0","") | K12: ='0.01'!K12 -> 0
A13: TakeProffit_Level2FixPips | C13: ='0.01'!C13 -> 0 | E13: Grid3Add | F13: =IF(AND(G$12=0,G$13<>0),"д.б. =0","") | G13: ='0.01'!G13 -> 0 | I13: Mult3Add | J13: =IF(AND(K$12=0,K$13<>0),"д.б. =0","") | K13: ='0.01'!K13 -> 0
E15: GridStop | F15: =IF(G$15<0,"д.б. >=0","") | G15: ='0.01'!G15 -> 0 | I15: MultStop | J15: =IF(K$15<0,"д.б. >=0","") | K15: ='0.01'!K15 -> 0
I16: MaxLotCoef | J16: =IF(K$16<0,"д.б. >=0","") | K16: ='0.01'!K16 -> 0
A18: №№ колен | B18: Кор-рект | C18: TP | E18: Коррект | F18: Шаг, пипсов | G18: Сетка пипсов от 1-го ордера | I18: Мульт | J18: Ордер | K18: Лотов сумма | M18: Прибыль | O18: $/пипс | P18: Просадка | R18: Безубыток | T18: ТР | W18: Залог, $ | X18: Просадка + залог, $ (включая комиссию) Min депо | Z18: Св.Маржа = Депо - просадка-залог, $ | AA18: Просадка + залог = %%депо | AB18: Max просадка до StopOut в пипсах от: | AD18: №№ ко-лен | AF18: Залог к просадке (включая комиссию) | AG18: Залог к депо, %
M19: $ | N19: % депо | P19: $ | Q19: % депо | R19: Пипсов | S19: %% | T19: Пипсов | U19: %% | AB19: Колена N | AC19: 1го ордера
A20: 1 | B20: 0 | C20: =C$2 -> 18 | E20: =IF(OR($A20<2,AND(G$15>0,$A20>G$15)),0,IF(AND($A20>=G$12,G$12>0),G$13,IF(AND($A20>=G$9,G$9>0),G$10,IF(AND($A20>=G$6,G$6>0),G$7,0)))) -> 0 | F20: 0 | G20: =F20 -> 0 | I20: =IF(($A20<K$4),1,IF(AND($A20>K$15,K$15>0),I19,IF(AND($A20>=K$12,K$12>0),ROUND(I19+K$13,4),IF(AND($A20>=K$9,K$9>0),ROUND(I19+K$10,4),IF(AND($A20>=K$6,K$6>0),ROUND(I19+K$7,4),K$3))))) -> 1 | J20: =IF($A20<K$4, K$2, IF(K$1=0,IF(K$16>0,IF(K$2*K$16<ROUND(J19*I20, 3),K$2*K$16,ROUND(J19*I20, 3)),ROUND(J19*I20, 3)),IF(K$16>0,IF(K$2*K$16<ROUND(K$2*I20, 3),K$2*K$16,ROUND(K$2*I20, 3)),ROUND(K$2*I20, 3)))) -> 0.04 | K20: =J20 -> 0.04 | M20: =ROUND(C20*O20-K20*$O$6,2) -> 5.08 | N20: =IF($O$10>0,M20/$O$10,0) -> 5.08e-05 | O20: =ROUND(ROUND(K20,2)*$O$4,2) -> 0.3 | P20: =ROUND(J20*$O$6,2) -> 0.32 | Q20: =P20/$O$10 -> 3.2e-06 | R20: =ROUND(P20/O20,0) -> 1 | S20: 0 | T20: =R20+C20 -> 19 | U20: 0 | W20: =ROUND(K20*$O$7,2) -> 5.76 | X20: =ROUND(P20+W20,2) -> 6.08 | Z20: =IF($O$10>0,ROUND($O$10-X20,2),0) -> 99993.92 | AA20: =IF($O$10>0,ROUND(X20/$O$10,2),0) -> 0 | AB20: =IF(AND(Z20>0,$O$4>0),($O$10-P20-W20*$O$8)/O20,0) -> 333328.43 | AC20: =IF(AB20>0,AB20+G20,0) -> 333328.43 | AD20: 1 | AF20: =IF(P20>0,ROUND(W20/P20,2),0) -> 18 | AG20: =IF($O$10>0,ROUND(W20/$O$10,2),0) -> 0
A21: 2 | B21: =IF(AND($A21>=C$12,C$12>0),0,IF(AND($A21>=C$9,C$9>0),C$10,IF(AND($A21>=C$6,C$6>0),C$7,0))) -> 0 | C21: =IF(AND($A21>=C$12,C$12>0),C$13,C20+B21) -> 18 | E21: =IF(OR($A21<2,AND(G$15>0,$A21>G$15)),0,IF(AND($A21>=G$12,G$12>0),G$13,IF(AND($A21>=G$9,G$9>0),G$10,IF(AND($A21>=G$6,G$6>0),G$7,0)))) -> 0 | F21: =G$2+E21 -> 19 | G21: =G20+F21 -> 19 | I21: =IF(($A21<K$4),1,IF(AND($A21>K$15,K$15>0),I20,IF(AND($A21>=K$12,K$12>0),ROUND(I20+K$13,4),IF(AND($A21>=K$9,K$9>0),ROUND(I20+K$10,4),IF(AND($A21>=K$6,K$6>0),ROUND(I20+K$7,4),K$3))))) -> 1 | J21: =IF($A21<K$4, K$2, IF(K$1=0,IF(K$16>0,IF(K$2*K$16<ROUND(J20*I21, 3),K$2*K$16,ROUND(J20*I21, 3)),ROUND(J20*I21, 3)),IF(K$16>0,IF(K$2*K$16<ROUND(K$2*I21, 3),K$2*K$16,ROUND(K$2*I21, 3)),ROUND(K$2*I21, 3)))) -> 0.04 | K21: =K20+ROUND(J21,3) -> 0.08 | M21: =ROUND(C21*O21-K21*$O$6,2) -> 9.97 | N21: =IF($O$10>0,M21/$O$10,0) -> 9.97e-05 | O21: =ROUND(ROUND(K21,2)*$O$4,2) -> 0.59 | P21: =ROUND((ROUND(K20,2)*(G21-G20)*$O$4+P20+J21*$O$6),2) -> 6.27 | Q21: =P21/$O$10 -> 6.27e-05 | R21: =ROUND(P21/O21,0) -> 11 | S21: =ROUND(R21/G21,2) -> 0.58 | T21: =R21+C21 -> 29 | U21: =ROUND(T21/G21,2) -> 1.53 | W21: =ROUND(K21*$O$7,2) -> 11.52 | X21: =ROUND(P21+W21,2) -> 17.79 | Z21: =IF($O$10>0,ROUND($O$10-X21,2),0) -> 99982.21 | AA21: =IF($O$10>0,ROUND(X21/$O$10,2),0) -> 0 | AB21: =IF(AND(Z21>0,$O$4>0),($O$10-P21-W21*$O$8)/O21,0) -> 169476.99 | AC21: =IF(AB21>0,AB21+G21,0) -> 169495.99 | AD21: 2 | AF21: =IF(P21>0,ROUND(W21/P21,2),0) -> 1.84 | AG21: =IF($O$10>0,ROUND(W21/$O$10,2),0) -> 0
A22: 3 | B22: =IF(AND($A22>=C$12,C$12>0),0,IF(AND($A22>=C$9,C$9>0),C$10,IF(AND($A22>=C$6,C$6>0),C$7,0))) -> 0 | C22: =IF(AND($A22>=C$12,C$12>0),C$13,C21+B22) -> 18 | E22: =IF(OR($A22<2,AND(G$15>0,$A22>G$15)),0,IF(AND($A22>=G$12,G$12>0),G$13,IF(AND($A22>=G$9,G$9>0),G$10,IF(AND($A22>=G$6,G$6>0),G$7,0)))) -> 4 | F22: =F21+E22 -> 23 | G22: =G21+F22 -> 42 | I22: =IF(($A22<K$4),1,IF(AND($A22>K$15,K$15>0),I21,IF(AND($A22>=K$12,K$12>0),ROUND(I21+K$13,4),IF(AND($A22>=K$9,K$9>0),ROUND(I21+K$10,4),IF(AND($A22>=K$6,K$6>0),ROUND(I21+K$7,4),K$3))))) -> 1 | J22: =IF($A22<K$4, K$2, IF(K$1=0,IF(K$16>0,IF(K$2*K$16<ROUND(J21*I22, 3),K$2*K$16,ROUND(J21*I22, 3)),ROUND(J21*I22, 3)),IF(K$16>0,IF(K$2*K$16<ROUND(K$2*I22, 3),K$2*K$16,ROUND(K$2*I22, 3)),ROUND(K$2*I22, 3)))) -> 0.04 | K22: =K21+ROUND(J22,3) -> 0.12 | M22: =ROUND(C22*O22-K22*$O$6,2) -> 15.05 | N22: =IF($O$10>0,M22/$O$10,0) -> 0.0001505 | O22: =ROUND(ROUND(K22,2)*$O$4,2) -> 0.89 | P22: =ROUND((ROUND(K21,2)*(G22-G21)*$O$4+P21+J22*$O$6),2) -> 20.21 | Q22: =P22/$O$10 -> 0.0002021 | R22: =ROUND(P22/O22,0) -> 23 | S22: =ROUND(R22/G22,2) -> 0.55 | T22: =R22+C22 -> 41 | U22: =ROUND(T22/G22,2) -> 0.98 | W22: =ROUND(K22*$O$7,2) -> 17.28 | X22: =ROUND(P22+W22,2) -> 37.49 | Z22: =IF($O$10>0,ROUND($O$10-X22,2),0) -> 99962.51 | AA22: =IF($O$10>0,ROUND(X22/$O$10,2),0) -> 0 | AB22: =IF(AND(Z22>0,$O$4>0),($O$10-P22-W22*$O$8)/O22,0) -> 112332.96 | AC22: =IF(AB22>0,AB22+G22,0) -> 112374.96 | AD22: 3 | AF22: =IF(P22>0,ROUND(W22/P22,2),0) -> 0.86 | AG22: =IF($O$10>0,ROUND(W22/$O$10,2),0) -> 0
A23: 4 | B23: =IF(AND($A23>=C$12,C$12>0),0,IF(AND($A23>=C$9,C$9>0),C$10,IF(AND($A23>=C$6,C$6>0),C$7,0))) -> 1 | C23: =IF(AND($A23>=C$12,C$12>0),C$13,C22+B23) -> 19 | E23: =IF(OR($A23<2,AND(G$15>0,$A23>G$15)),0,IF(AND($A23>=G$12,G$12>0),G$13,IF(AND($A23>=G$9,G$9>0),G$10,IF(AND($A23>=G$6,G$6>0),G$7,0)))) -> 4 | F23: =F22+E23 -> 27 | G23: =G22+F23 -> 69 | I23: =IF(($A23<K$4),1,IF(AND($A23>K$15,K$15>0),I22,IF(AND($A23>=K$12,K$12>0),ROUND(I22+K$13,4),IF(AND($A23>=K$9,K$9>0),ROUND(I22+K$10,4),IF(AND($A23>=K$6,K$6>0),ROUND(I22+K$7,4),K$3))))) -> 1.4 | J23: =IF($A23<K$4, K$2, IF(K$1=0,IF(K$16>0,IF(K$2*K$16<ROUND(J22*I23, 3),K$2*K$16,ROUND(J22*I23, 3)),ROUND(J22*I23, 3)),IF(K$16>0,IF(K$2*K$16<ROUND(K$2*I23, 3),K$2*K$16,ROUND(K$2*I23, 3)),ROUND(K$2*I23, 3)))) -> 0.056 | K23: =K22+ROUND(J23,3) -> 0.176 | M23: =ROUND(C23*O23-K23*$O$6,2) -> 23.85 | N23: =IF($O$10>0,M23/$O$10,0) -> 0.0002385 | O23: =ROUND(ROUND(K23,2)*$O$4,2) -> 1.33 | P23: =ROUND((ROUND(K22,2)*(G23-G22)*$O$4+P22+J23*$O$6),2) -> 44.64 | Q23: =P23/$O$10 -> 0.0004464 | R23: =ROUND(P23/O23,0) -> 34 | S23: =ROUND(R23/G23,2) -> 0.49 | T23: =R23+C23 -> 53 | U23: =ROUND(T23/G23,2) -> 0.77 | W23: =ROUND(K23*$O$7,2) -> 25.34 | X23: =ROUND(P23+W23,2) -> 69.98 | Z23: =IF($O$10>0,ROUND($O$10-X23,2),0) -> 99930.02 | AA23: =IF($O$10>0,ROUND(X23/$O$10,2),0) -> 0 | AB23: =IF(AND(Z23>0,$O$4>0),($O$10-P23-W23*$O$8)/O23,0) -> 75150.595 | AC23: =IF(AB23>0,AB23+G23,0) -> 75219.595 | AD23: 4 | AF23: =IF(P23>0,ROUND(W23/P23,2),0) -> 0.57 | AG23: =IF($O$10>0,ROUND(W23/$O$10,2),0) -> 0
A24: 5 | B24: =IF(AND($A24>=C$12,C$12>0),0,IF(AND($A24>=C$9,C$9>0),C$10,IF(AND($A24>=C$6,C$6>0),C$7,0))) -> 1 | C24: =IF(AND($A24>=C$12,C$12>0),C$13,C23+B24) -> 20 | E24: =IF(OR($A24<2,AND(G$15>0,$A24>G$15)),0,IF(AND($A24>=G$12,G$12>0),G$13,IF(AND($A24>=G$9,G$9>0),G$10,IF(AND($A24>=G$6,G$6>0),G$7,0)))) -> 4 | F24: =F23+E24 -> 31 | G24: =G23+F24 -> 100 | I24: =IF(($A24<K$4),1,IF(AND($A24>K$15,K$15>0),I23,IF(AND($A24>=K$12,K$12>0),ROUND(I23+K$13,4),IF(AND($A24>=K$9,K$9>0),ROUND(I23+K$10,4),IF(AND($A24>=K$6,K$6>0),ROUND(I23+K$7,4),K$3))))) -> 1.4 | J24: =IF($A24<K$4, K$2, IF(K$1=0,IF(K$16>0,IF(K$2*K$16<ROUND(J23*I24, 3),K$2*K$16,ROUND(J23*I24, 3)),ROUND(J23*I24, 3)),IF(K$16>0,IF(K$2*K$16<ROUND(K$2*I24, 3),K$2*K$16,ROUND(K$2*I24, 3)),ROUND(K$2*I24, 3)))) -> 0.078 | K24: =K23+ROUND(J24,3) -> 0.254 | M24: =ROUND(C24*O24-K24*$O$6,2) -> 34.95 | N24: =IF($O$10>0,M24/$O$10,0) -> 0.0003495 | O24: =ROUND(ROUND(K24,2)*$O$4,2) -> 1.85 | P24: =ROUND((ROUND(K23,2)*(G24-G23)*$O$4+P23+J24*$O$6),2) -> 86.56 | Q24: =P24/$O$10 -> 0.0008656 | R24: =ROUND(P24/O24,0) -> 47 | S24: =ROUND(R24/G24,2) -> 0.47 | T24: =R24+C24 -> 67 | U24: =ROUND(T24/G24,2) -> 0.67 | W24: =ROUND(K24*$O$7,2) -> 36.58 | X24: =ROUND(P24+W24,2) -> 123.14 | Z24: =IF($O$10>0,ROUND($O$10-X24,2),0) -> 99876.86 | AA24: =IF($O$10>0,ROUND(X24/$O$10,2),0) -> 0 | AB24: =IF(AND(Z24>0,$O$4>0),($O$10-P24-W24*$O$8)/O24,0) -> 54003.31 | AC24: =IF(AB24>0,AB24+G24,0) -> 54103.31 | AD24: 5 | AF24: =IF(P24>0,ROUND(W24/P24,2),0) -> 0.42 | AG24: =IF($O$10>0,ROUND(W24/$O$10,2),0) -> 0
A25: 6 | B25: =IF(AND($A25>=C$12,C$12>0),0,IF(AND($A25>=C$9,C$9>0),C$10,IF(AND($A25>=C$6,C$6>0),C$7,0))) -> 1 | C25: =IF(AND($A25>=C$12,C$12>0),C$13,C24+B25) -> 21 | E25: =IF(OR($A25<2,AND(G$15>0,$A25>G$15)),0,IF(AND($A25>=G$12,G$12>0),G$13,IF(AND($A25>=G$9,G$9>0),G$10,IF(AND($A25>=G$6,G$6>0),G$7,0)))) -> 4 | F25: =F24+E25 -> 35 | G25: =G24+F25 -> 135 | I25: =IF(($A25<K$4),1,IF(AND($A25>K$15,K$15>0),I24,IF(AND($A25>=K$12,K$12>0),ROUND(I24+K$13,4),IF(AND($A25>=K$9,K$9>0),ROUND(I24+K$10,4),IF(AND($A25>=K$6,K$6>0),ROUND(I24+K$7,4),K$3))))) -> 1.42 | J25: =IF($A25<K$4, K$2, IF(K$1=0,IF(K$16>0,IF(K$2*K$16<ROUND(J24*I25, 3),K$2*K$16,ROUND(J24*I25, 3)),ROUND(J24*I25, 3)),IF(K$16>0,IF(K$2*K$16<ROUND(K$2*I25, 3),K$2*K$16,ROUND(K$2*I25, 3)),ROUND(K$2*I25, 3)))) -> 0.111 | K25: =K24+ROUND(J25,3) -> 0.365 | M25: =ROUND(C25*O25-K25*$O$6,2) -> 54.59 | N25: =IF($O$10>0,M25/$O$10,0) -> 0.0005459 | O25: =ROUND(ROUND(K25,2)*$O$4,2) -> 2.74 | P25: =ROUND((ROUND(K24,2)*(G25-G24)*$O$4+P24+J25*$O$6),2) -> 152.21 | Q25: =P25/$O$10 -> 0.0015221 | R25: =ROUND(P25/O25,0) -> 56 | S25: =ROUND(R25/G25,2) -> 0.41 | T25: =R25+C25 -> 77 | U25: =ROUND(T25/G25,2) -> 0.57 | W25: =ROUND(K25*$O$7,2) -> 52.56 | X25: =ROUND(P25+W25,2) -> 204.77 | Z25: =IF($O$10>0,ROUND($O$10-X25,2),0) -> 99795.23 | AA25: =IF($O$10>0,ROUND(X25/$O$10,2),0) -> 0 | AB25: =IF(AND(Z25>0,$O$4>0),($O$10-P25-W25*$O$8)/O25,0) -> 36436.963 | AC25: =IF(AB25>0,AB25+G25,0) -> 36571.963 | AD25: 6 | AF25: =IF(P25>0,ROUND(W25/P25,2),0) -> 0.35 | AG25: =IF($O$10>0,ROUND(W25/$O$10,2),0) -> 0
A26: 7 | B26: =IF(AND($A26>=C$12,C$12>0),0,IF(AND($A26>=C$9,C$9>0),C$10,IF(AND($A26>=C$6,C$6>0),C$7,0))) -> 1 | C26: =IF(AND($A26>=C$12,C$12>0),C$13,C25+B26) -> 22 | E26: =IF(OR($A26<2,AND(G$15>0,$A26>G$15)),0,IF(AND($A26>=G$12,G$12>0),G$13,IF(AND($A26>=G$9,G$9>0),G$10,IF(AND($A26>=G$6,G$6>0),G$7,0)))) -> 4 | F26: =F25+E26 -> 39 | G26: =G25+F26 -> 174 | I26: =IF(($A26<K$4),1,IF(AND($A26>K$15,K$15>0),I25,IF(AND($A26>=K$12,K$12>0),ROUND(I25+K$13,4),IF(AND($A26>=K$9,K$9>0),ROUND(I25+K$10,4),IF(AND($A26>=K$6,K$6>0),ROUND(I25+K$7,4),K$3))))) -> 1.44 | J26: =IF($A26<K$4, K$2, IF(K$1=0,IF(K$16>0,IF(K$2*K$16<ROUND(J25*I26, 3),K$2*K$16,ROUND(J25*I26, 3)),ROUND(J25*I26, 3)),IF(K$16>0,IF(K$2*K$16<ROUND(K$2*I26, 3),K$2*K$16,ROUND(K$2*I26, 3)),ROUND(K$2*I26, 3)))) -> 0.16 | K26: =K25+ROUND(J26,3) -> 0.525 | M26: =ROUND(C26*O26-K26*$O$6,2) -> 82 | N26: =IF($O$10>0,M26/$O$10,0) -> 0.00082 | O26: =ROUND(ROUND(K26,2)*$O$4,2) -> 3.92 | P26: =ROUND((ROUND(K25,2)*(G26-G25)*$O$4+P25+J26*$O$6),2) -> 260.28 | Q26: =P26/$O$10 -> 0.0026028 | R26: =ROUND(P26/O26,0) -> 66 | S26: =ROUND(R26/G26,2) -> 0.38 | T26: =R26+C26 -> 88 | U26: =ROUND(T26/G26,2) -> 0.51 | W26: =ROUND(K26*$O$7,2) -> 75.6 | X26: =ROUND(P26+W26,2) -> 335.88 | Z26: =IF($O$10>0,ROUND($O$10-X26,2),0) -> 99664.12 | AA26: =IF($O$10>0,ROUND(X26/$O$10,2),0) -> 0 | AB26: =IF(AND(Z26>0,$O$4>0),($O$10-P26-W26*$O$8)/O26,0) -> 25439.949 | AC26: =IF(AB26>0,AB26+G26,0) -> 25613.949 | AD26: 7 | AF26: =IF(P26>0,ROUND(W26/P26,2),0) -> 0.29 | AG26: =IF($O$10>0,ROUND(W26/$O$10,2),0) -> 0 | AI26: 2
A27: 8 | B27: =IF(AND($A27>=C$12,C$12>0),0,IF(AND($A27>=C$9,C$9>0),C$10,IF(AND($A27>=C$6,C$6>0),C$7,0))) -> 1 | C27: =IF(AND($A27>=C$12,C$12>0),C$13,C26+B27) -> 23 | E27: =IF(OR($A27<2,AND(G$15>0,$A27>G$15)),0,IF(AND($A27>=G$12,G$12>0),G$13,IF(AND($A27>=G$9,G$9>0),G$10,IF(AND($A27>=G$6,G$6>0),G$7,0)))) -> 4 | F27: =F26+E27 -> 43 | G27: =G26+F27 -> 217 | I27: =IF(($A27<K$4),1,IF(AND($A27>K$15,K$15>0),I26,IF(AND($A27>=K$12,K$12>0),ROUND(I26+K$13,4),IF(AND($A27>=K$9,K$9>0),ROUND(I26+K$10,4),IF(AND($A27>=K$6,K$6>0),ROUND(I26+K$7,4),K$3))))) -> 1.46 | J27: =IF($A27<K$4, K$2, IF(K$1=0,IF(K$16>0,IF(K$2*K$16<ROUND(J26*I27, 3),K$2*K$16,ROUND(J26*I27, 3)),ROUND(J26*I27, 3)),IF(K$16>0,IF(K$2*K$16<ROUND(K$2*I27, 3),K$2*K$16,ROUND(K$2*I27, 3)),ROUND(K$2*I27, 3)))) -> 0.234 | K27: =K26+ROUND(J27,3) -> 0.759 | M27: =ROUND(C27*O27-K27*$O$6,2) -> 123.13 | N27: =IF($O$10>0,M27/$O$10,0) -> 0.0012313 | O27: =ROUND(ROUND(K27,2)*$O$4,2) -> 5.62 | P27: =ROUND((ROUND(K26,2)*(G27-G26)*$O$4+P26+J27*$O$6),2) -> 430.82 | Q27: =P27/$O$10 -> 0.0043082 | R27: =ROUND(P27/O27,0) -> 77 | S27: =ROUND(R27/G27,2) -> 0.35 | T27: =R27+C27 -> 100 | U27: =ROUND(T27/G27,2) -> 0.46 | W27: =ROUND(K27*$O$7,2) -> 109.3 | X27: =ROUND(P27+W27,2) -> 540.12 | Z27: =IF($O$10>0,ROUND($O$10-X27,2),0) -> 99459.88 | AA27: =IF($O$10>0,ROUND(X27/$O$10,2),0) -> 0.01 | AB27: =IF(AND(Z27>0,$O$4>0),($O$10-P27-W27*$O$8)/O27,0) -> 17713.046 | AC27: =IF(AB27>0,AB27+G27,0) -> 17930.046 | AD27: 8 | AF27: =IF(P27>0,ROUND(W27/P27,2),0) -> 0.25 | AG27: =IF($O$10>0,ROUND(W27/$O$10,2),0) -> 0
A28: 9 | B28: =IF(AND($A28>=C$12,C$12>0),0,IF(AND($A28>=C$9,C$9>0),C$10,IF(AND($A28>=C$6,C$6>0),C$7,0))) -> 1 | C28: =IF(AND($A28>=C$12,C$12>0),C$13,C27+B28) -> 24 | E28: =IF(OR($A28<2,AND(G$15>0,$A28>G$15)),0,IF(AND($A28>=G$12,G$12>0),G$13,IF(AND($A28>=G$9,G$9>0),G$10,IF(AND($A28>=G$6,G$6>0),G$7,0)))) -> 4 | F28: =F27+E28 -> 47 | G28: =G27+F28 -> 264 | I28: =IF(($A28<K$4),1,IF(AND($A28>K$15,K$15>0),I27,IF(AND($A28>=K$12,K$12>0),ROUND(I27+K$13,4),IF(AND($A28>=K$9,K$9>0),ROUND(I27+K$10,4),IF(AND($A28>=K$6,K$6>0),ROUND(I27+K$7,4),K$3))))) -> 1.495 | J28: =IF($A28<K$4, K$2, IF(K$1=0,IF(K$16>0,IF(K$2*K$16<ROUND(J27*I28, 3),K$2*K$16,ROUND(J27*I28, 3)),ROUND(J27*I28, 3)),IF(K$16>0,IF(K$2*K$16<ROUND(K$2*I28, 3),K$2*K$16,ROUND(K$2*I28, 3)),ROUND(K$2*I28, 3)))) -> 0.35 | K28: =K27+ROUND(J28,3) -> 1.109 | M28: =ROUND(C28*O28-K28*$O$6,2) -> 188.08 | N28: =IF($O$10>0,M28/$O$10,0) -> 0.0018808 | O28: =ROUND(ROUND(K28,2)*$O$4,2) -> 8.21 | P28: =ROUND((ROUND(K27,2)*(G28-G27)*$O$4+P27+J28*$O$6),2) -> 697.98 | Q28: =P28/$O$10 -> 0.0069798 | R28: =ROUND(P28/O28,0) -> 85 | S28: =ROUND(R28/G28,2) -> 0.32 | T28: =R28+C28 -> 109 | U28: =ROUND(T28/G28,2) -> 0.41 | W28: =ROUND(K28*$O$7,2) -> 159.7 | X28: =ROUND(P28+W28,2) -> 857.68 | Z28: =IF($O$10>0,ROUND($O$10-X28,2),0) -> 99142.32 | AA28: =IF($O$10>0,ROUND(X28/$O$10,2),0) -> 0.01 | AB28: =IF(AND(Z28>0,$O$4>0),($O$10-P28-W28*$O$8)/O28,0) -> 12091.362 | AC28: =IF(AB28>0,AB28+G28,0) -> 12355.362 | AD28: 9 | AF28: =IF(P28>0,ROUND(W28/P28,2),0) -> 0.23 | AG28: =IF($O$10>0,ROUND(W28/$O$10,2),0) -> 0
A29: 10 | B29: =IF(AND($A29>=C$12,C$12>0),0,IF(AND($A29>=C$9,C$9>0),C$10,IF(AND($A29>=C$6,C$6>0),C$7,0))) -> 1 | C29: =IF(AND($A29>=C$12,C$12>0),C$13,C28+B29) -> 25 | E29: =IF(OR($A29<2,AND(G$15>0,$A29>G$15)),0,IF(AND($A29>=G$12,G$12>0),G$13,IF(AND($A29>=G$9,G$9>0),G$10,IF(AND($A29>=G$6,G$6>0),G$7,0)))) -> 4 | F29: =F28+E29 -> 51 | G29: =G28+F29 -> 315 | I29: =IF(($A29<K$4),1,IF(AND($A29>K$15,K$15>0),I28,IF(AND($A29>=K$12,K$12>0),ROUND(I28+K$13,4),IF(AND($A29>=K$9,K$9>0),ROUND(I28+K$10,4),IF(AND($A29>=K$6,K$6>0),ROUND(I28+K$7,4),K$3))))) -> 1.53 | J29: =IF($A29<K$4, K$2, IF(K$1=0,IF(K$16>0,IF(K$2*K$16<ROUND(J28*I29, 3),K$2*K$16,ROUND(J28*I29, 3)),ROUND(J28*I29, 3)),IF(K$16>0,IF(K$2*K$16<ROUND(K$2*I29, 3),K$2*K$16,ROUND(K$2*I29, 3)),ROUND(K$2*I29, 3)))) -> 0.536 | K29: =K28+ROUND(J29,3) -> 1.645 | M29: =ROUND(C29*O29-K29*$O$6,2) -> 291.96 | N29: =IF($O$10>0,M29/$O$10,0) -> 0.0029196 | O29: =ROUND(ROUND(K29,2)*$O$4,2) -> 12.21 | P29: =ROUND((ROUND(K28,2)*(G29-G28)*$O$4+P28+J29*$O$6),2) -> 1121.22 | Q29: =P29/$O$10 -> 0.0112122 | R29: =ROUND(P29/O29,0) -> 92 | S29: =ROUND(R29/G29,2) -> 0.29 | T29: =R29+C29 -> 117 | U29: =ROUND(T29/G29,2) -> 0.37 | W29: =ROUND(K29*$O$7,2) -> 236.88 | X29: =ROUND(P29+W29,2) -> 1358.1 | Z29: =IF($O$10>0,ROUND($O$10-X29,2),0) -> 98641.9 | AA29: =IF($O$10>0,ROUND(X29/$O$10,2),0) -> 0.01 | AB29: =IF(AND(Z29>0,$O$4>0),($O$10-P29-W29*$O$8)/O29,0) -> 8094.3001 | AC29: =IF(AB29>0,AB29+G29,0) -> 8409.3001 | AD29: 10 | AF29: =IF(P29>0,ROUND(W29/P29,2),0) -> 0.21 | AG29: =IF($O$10>0,ROUND(W29/$O$10,2),0) -> 0
A30: 11 | B30: =IF(AND($A30>=C$12,C$12>0),0,IF(AND($A30>=C$9,C$9>0),C$10,IF(AND($A30>=C$6,C$6>0),C$7,0))) -> 1 | C30: =IF(AND($A30>=C$12,C$12>0),C$13,C29+B30) -> 26 | E30: =IF(OR($A30<2,AND(G$15>0,$A30>G$15)),0,IF(AND($A30>=G$12,G$12>0),G$13,IF(AND($A30>=G$9,G$9>0),G$10,IF(AND($A30>=G$6,G$6>0),G$7,0)))) -> 8 | F30: =F29+E30 -> 59 | G30: =G29+F30 -> 374 | I30: =IF(($A30<K$4),1,IF(AND($A30>K$15,K$15>0),I29,IF(AND($A30>=K$12,K$12>0),ROUND(I29+K$13,4),IF(AND($A30>=K$9,K$9>0),ROUND(I29+K$10,4),IF(AND($A30>=K$6,K$6>0),ROUND(I29+K$7,4),K$3))))) -> 1.565 | J30: =IF($A30<K$4, K$2, IF(K$1=0,IF(K$16>0,IF(K$2*K$16<ROUND(J29*I30, 3),K$2*K$16,ROUND(J29*I30, 3)),ROUND(J29*I30, 3)),IF(K$16>0,IF(K$2*K$16<ROUND(K$2*I30, 3),K$2*K$16,ROUND(K$2*I30, 3)),ROUND(K$2*I30, 3)))) -> 0.839 | K30: =K29+ROUND(J30,3) -> 2.484 | M30: =ROUND(C30*O30-K30*$O$6,2) -> 457.03 | N30: =IF($O$10>0,M30/$O$10,0) -> 0.0045703 | O30: =ROUND(ROUND(K30,2)*$O$4,2) -> 18.35 | P30: =ROUND((ROUND(K29,2)*(G30-G29)*$O$4+P29+J30*$O$6),2) -> 1848.39 | Q30: =P30/$O$10 -> 0.0184839 | R30: =ROUND(P30/O30,0) -> 101 | S30: =ROUND(R30/G30,2) -> 0.27 | T30: =R30+C30 -> 127 | U30: =ROUND(T30/G30,2) -> 0.34 | W30: =ROUND(K30*$O$7,2) -> 357.7 | X30: =ROUND(P30+W30,2) -> 2206.09 | Z30: =IF($O$10>0,ROUND($O$10-X30,2),0) -> 97793.91 | AA30: =IF($O$10>0,ROUND(X30/$O$10,2),0) -> 0.02 | AB30: =IF(AND(Z30>0,$O$4>0),($O$10-P30-W30*$O$8)/O30,0) -> 5344.9629 | AC30: =IF(AB30>0,AB30+G30,0) -> 5718.9629 | AD30: 11 | AF30: =IF(P30>0,ROUND(W30/P30,2),0) -> 0.19 | AG30: =IF($O$10>0,ROUND(W30/$O$10,2),0) -> 0
A31: 12 | B31: =IF(AND($A31>=C$12,C$12>0),0,IF(AND($A31>=C$9,C$9>0),C$10,IF(AND($A31>=C$6,C$6>0),C$7,0))) -> 1 | C31: =IF(AND($A31>=C$12,C$12>0),C$13,C30+B31) -> 27 | E31: =IF(OR($A31<2,AND(G$15>0,$A31>G$15)),0,IF(AND($A31>=G$12,G$12>0),G$13,IF(AND($A31>=G$9,G$9>0),G$10,IF(AND($A31>=G$6,G$6>0),G$7,0)))) -> 8 | F31: =F30+E31 -> 67 | G31: =G30+F31 -> 441 | I31: =IF(($A31<K$4),1,IF(AND($A31>K$15,K$15>0),I30,IF(AND($A31>=K$12,K$12>0),ROUND(I30+K$13,4),IF(AND($A31>=K$9,K$9>0),ROUND(I30+K$10,4),IF(AND($A31>=K$6,K$6>0),ROUND(I30+K$7,4),K$3))))) -> 1.6 | J31: =IF($A31<K$4, K$2, IF(K$1=0,IF(K$16>0,IF(K$2*K$16<ROUND(J30*I31, 3),K$2*K$16,ROUND(J30*I31, 3)),ROUND(J30*I31, 3)),IF(K$16>0,IF(K$2*K$16<ROUND(K$2*I31, 3),K$2*K$16,ROUND(K$2*I31, 3)),ROUND(K$2*I31, 3)))) -> 1.342 | K31: =K30+ROUND(J31,3) -> 3.826 | M31: =ROUND(C31*O31-K31*$O$6,2) -> 734.27 | N31: =IF($O$10>0,M31/$O$10,0) -> 0.0073427 | O31: =ROUND(ROUND(K31,2)*$O$4,2) -> 28.34 | P31: =ROUND((ROUND(K30,2)*(G31-G30)*$O$4+P30+J31*$O$6),2) -> 3088.82 | Q31: =P31/$O$10 -> 0.0308882 | R31: =ROUND(P31/O31,0) -> 109 | S31: =ROUND(R31/G31,2) -> 0.25 | T31: =R31+C31 -> 136 | U31: =ROUND(T31/G31,2) -> 0.31 | W31: =ROUND(K31*$O$7,2) -> 550.94 | X31: =ROUND(P31+W31,2) -> 3639.76 | Z31: =IF($O$10>0,ROUND($O$10-X31,2),0) -> 96360.24 | AA31: =IF($O$10>0,ROUND(X31/$O$10,2),0) -> 0.04 | AB31: =IF(AND(Z31>0,$O$4>0),($O$10-P31-W31*$O$8)/O31,0) -> 3415.7019 | AC31: =IF(AB31>0,AB31+G31,0) -> 3856.7019 | AD31: 12 | AF31: =IF(P31>0,ROUND(W31/P31,2),0) -> 0.18 | AG31: =IF($O$10>0,ROUND(W31/$O$10,2),0) -> 0.01
A32: 13 | B32: =IF(AND($A32>=C$12,C$12>0),0,IF(AND($A32>=C$9,C$9>0),C$10,IF(AND($A32>=C$6,C$6>0),C$7,0))) -> 1 | C32: =IF(AND($A32>=C$12,C$12>0),C$13,C31+B32) -> 28 | E32: =IF(OR($A32<2,AND(G$15>0,$A32>G$15)),0,IF(AND($A32>=G$12,G$12>0),G$13,IF(AND($A32>=G$9,G$9>0),G$10,IF(AND($A32>=G$6,G$6>0),G$7,0)))) -> 8 | F32: =F31+E32 -> 75 | G32: =G31+F32 -> 516 | I32: =IF(($A32<K$4),1,IF(AND($A32>K$15,K$15>0),I31,IF(AND($A32>=K$12,K$12>0),ROUND(I31+K$13,4),IF(AND($A32>=K$9,K$9>0),ROUND(I31+K$10,4),IF(AND($A32>=K$6,K$6>0),ROUND(I31+K$7,4),K$3))))) -> 1.635 | J32: =IF($A32<K$4, K$2, IF(K$1=0,IF(K$16>0,IF(K$2*K$16<ROUND(J31*I32, 3),K$2*K$16,ROUND(J31*I32, 3)),ROUND(J31*I32, 3)),IF(K$16>0,IF(K$2*K$16<ROUND(K$2*I32, 3),K$2*K$16,ROUND(K$2*I32, 3)),ROUND(K$2*I32, 3)))) -> 2.194 | K32: =K31+ROUND(J32,3) -> 6.02 | M32: =ROUND(C32*O32-K32*$O$6,2) -> 1198.76 | N32: =IF($O$10>0,M32/$O$10,0) -> 0.0119876 | O32: =ROUND(ROUND(K32,2)*$O$4,2) -> 44.55 | P32: =ROUND((ROUND(K31,2)*(G32-G31)*$O$4+P31+J32*$O$6),2) -> 5232.2 | Q32: =P32/$O$10 -> 0.052322 | R32: =ROUND(P32/O32,0) -> 117 | S32: =ROUND(R32/G32,2) -> 0.23 | T32: =R32+C32 -> 145 | U32: =ROUND(T32/G32,2) -> 0.28 | W32: =ROUND(K32*$O$7,2) -> 866.88 | X32: =ROUND(P32+W32,2) -> 6099.08 | Z32: =IF($O$10>0,ROUND($O$10-X32,2),0) -> 93900.92 | AA32: =IF($O$10>0,ROUND(X32/$O$10,2),0) -> 0.06 | AB32: =IF(AND(Z32>0,$O$4>0),($O$10-P32-W32*$O$8)/O32,0) -> 2123.3316 | AC32: =IF(AB32>0,AB32+G32,0) -> 2639.3316 | AD32: 13 | AF32: =IF(P32>0,ROUND(W32/P32,2),0) -> 0.17 | AG32: =IF($O$10>0,ROUND(W32/$O$10,2),0) -> 0.01
A33: 14 | B33: =IF(AND($A33>=C$12,C$12>0),0,IF(AND($A33>=C$9,C$9>0),C$10,IF(AND($A33>=C$6,C$6>0),C$7,0))) -> 1 | C33: =IF(AND($A33>=C$12,C$12>0),C$13,C32+B33) -> 29 | E33: =IF(OR($A33<2,AND(G$15>0,$A33>G$15)),0,IF(AND($A33>=G$12,G$12>0),G$13,IF(AND($A33>=G$9,G$9>0),G$10,IF(AND($A33>=G$6,G$6>0),G$7,0)))) -> 8 | F33: =F32+E33 -> 83 | G33: =G32+F33 -> 599 | I33: =IF(($A33<K$4),1,IF(AND($A33>K$15,K$15>0),I32,IF(AND($A33>=K$12,K$12>0),ROUND(I32+K$13,4),IF(AND($A33>=K$9,K$9>0),ROUND(I32+K$10,4),IF(AND($A33>=K$6,K$6>0),ROUND(I32+K$7,4),K$3))))) -> 1.67 | J33: =IF($A33<K$4, K$2, IF(K$1=0,IF(K$16>0,IF(K$2*K$16<ROUND(J32*I33, 3),K$2*K$16,ROUND(J32*I33, 3)),ROUND(J32*I33, 3)),IF(K$16>0,IF(K$2*K$16<ROUND(K$2*I33, 3),K$2*K$16,ROUND(K$2*I33, 3)),ROUND(K$2*I33, 3)))) -> 3.664 | K33: =K32+ROUND(J33,3) -> 9.684 | M33: =ROUND(C33*O33-K33*$O$6,2) -> 1999.02 | N33: =IF($O$10>0,M33/$O$10,0) -> 0.0199902 | O33: =ROUND(ROUND(K33,2)*$O$4,2) -> 71.63 | P33: =ROUND((ROUND(K32,2)*(G33-G32)*$O$4+P32+J33*$O$6),2) -> 8959.29 | Q33: =P33/$O$10 -> 0.0895929 | R33: =ROUND(P33/O33,0) -> 125 | S33: =ROUND(R33/G33,2) -> 0.21 | T33: =R33+C33 -> 154 | U33: =ROUND(T33/G33,2) -> 0.26 | W33: =ROUND(K33*$O$7,2) -> 1394.5 | X33: =ROUND(P33+W33,2) -> 10353.79 | Z33: =IF($O$10>0,ROUND($O$10-X33,2),0) -> 89646.21 | AA33: =IF($O$10>0,ROUND(X33/$O$10,2),0) -> 0.1 | AB33: =IF(AND(Z33>0,$O$4>0),($O$10-P33-W33*$O$8)/O33,0) -> 1267.0921 | AC33: =IF(AB33>0,AB33+G33,0) -> 1866.0921 | AD33: 14 | AF33: =IF(P33>0,ROUND(W33/P33,2),0) -> 0.16 | AG33: =IF($O$10>0,ROUND(W33/$O$10,2),0) -> 0.01
A34: 15 | B34: =IF(AND($A34>=C$12,C$12>0),0,IF(AND($A34>=C$9,C$9>0),C$10,IF(AND($A34>=C$6,C$6>0),C$7,0))) -> 1 | C34: =IF(AND($A34>=C$12,C$12>0),C$13,C33+B34) -> 30 | E34: =IF(OR($A34<2,AND(G$15>0,$A34>G$15)),0,IF(AND($A34>=G$12,G$12>0),G$13,IF(AND($A34>=G$9,G$9>0),G$10,IF(AND($A34>=G$6,G$6>0),G$7,0)))) -> 8 | F34: =F33+E34 -> 91 | G34: =G33+F34 -> 690 | I34: =IF(($A34<K$4),1,IF(AND($A34>K$15,K$15>0),I33,IF(AND($A34>=K$12,K$12>0),ROUND(I33+K$13,4),IF(AND($A34>=K$9,K$9>0),ROUND(I33+K$10,4),IF(AND($A34>=K$6,K$6>0),ROUND(I33+K$7,4),K$3))))) -> 1.705 | J34: =IF($A34<K$4, K$2, IF(K$1=0,IF(K$16>0,IF(K$2*K$16<ROUND(J33*I34, 3),K$2*K$16,ROUND(J33*I34, 3)),ROUND(J33*I34, 3)),IF(K$16>0,IF(K$2*K$16<ROUND(K$2*I34, 3),K$2*K$16,ROUND(K$2*I34, 3)),ROUND(K$2*I34, 3)))) -> 6.247 | K34: =K33+ROUND(J34,3) -> 15.931 | M34: =ROUND(C34*O34-K34*$O$6,2) -> 3407.68 | N34: =IF($O$10>0,M34/$O$10,0) -> 0.0340768 | O34: =ROUND(ROUND(K34,2)*$O$4,2) -> 117.88 | P34: =ROUND((ROUND(K33,2)*(G34-G33)*$O$4+P33+J34*$O$6),2) -> 15528.28 | Q34: =P34/$O$10 -> 0.1552828 | R34: =ROUND(P34/O34,0) -> 132 | S34: =ROUND(R34/G34,2) -> 0.19 | T34: =R34+C34 -> 162 | U34: =ROUND(T34/G34,2) -> 0.23 | W34: =ROUND(K34*$O$7,2) -> 2294.06 | X34: =ROUND(P34+W34,2) -> 17822.34 | Z34: =IF($O$10>0,ROUND($O$10-X34,2),0) -> 82177.66 | AA34: =IF($O$10>0,ROUND(X34/$O$10,2),0) -> 0.18 | AB34: =IF(AND(Z34>0,$O$4>0),($O$10-P34-W34*$O$8)/O34,0) -> 712.69857 | AC34: =IF(AB34>0,AB34+G34,0) -> 1402.6986 | AD34: 15 | AF34: =IF(P34>0,ROUND(W34/P34,2),0) -> 0.15 | AG34: =IF($O$10>0,ROUND(W34/$O$10,2),0) -> 0.02
A35: 16 | B35: =IF(AND($A35>=C$12,C$12>0),0,IF(AND($A35>=C$9,C$9>0),C$10,IF(AND($A35>=C$6,C$6>0),C$7,0))) -> 1 | C35: =IF(AND($A35>=C$12,C$12>0),C$13,C34+B35) -> 31 | E35: =IF(OR($A35<2,AND(G$15>0,$A35>G$15)),0,IF(AND($A35>=G$12,G$12>0),G$13,IF(AND($A35>=G$9,G$9>0),G$10,IF(AND($A35>=G$6,G$6>0),G$7,0)))) -> 8 | F35: =F34+E35 -> 99 | G35: =G34+F35 -> 789 | I35: =IF(($A35<K$4),1,IF(AND($A35>K$15,K$15>0),I34,IF(AND($A35>=K$12,K$12>0),ROUND(I34+K$13,4),IF(AND($A35>=K$9,K$9>0),ROUND(I34+K$10,4),IF(AND($A35>=K$6,K$6>0),ROUND(I34+K$7,4),K$3))))) -> 1.74 | J35: =IF($A35<K$4, K$2, IF(K$1=0,IF(K$16>0,IF(K$2*K$16<ROUND(J34*I35, 3),K$2*K$16,ROUND(J34*I35, 3)),ROUND(J34*I35, 3)),IF(K$16>0,IF(K$2*K$16<ROUND(K$2*I35, 3),K$2*K$16,ROUND(K$2*I35, 3)),ROUND(K$2*I35, 3)))) -> 10.87 | K35: =K34+ROUND(J35,3) -> 26.801 | M35: =ROUND(C35*O35-K35*$O$6,2) -> 5931.37 | N35: =IF($O$10>0,M35/$O$10,0) -> 0.0593137 | O35: =ROUND(ROUND(K35,2)*$O$4,2) -> 198.32 | P35: =ROUND((ROUND(K34,2)*(G35-G34)*$O$4+P34+J35*$O$6),2) -> 27286.43 | Q35: =P35/$O$10 -> 0.2728643 | R35: =ROUND(P35/O35,0) -> 138 | S35: =ROUND(R35/G35,2) -> 0.17 | T35: =R35+C35 -> 169 | U35: =ROUND(T35/G35,2) -> 0.21 | W35: =ROUND(K35*$O$7,2) -> 3859.34 | X35: =ROUND(P35+W35,2) -> 31145.77 | Z35: =IF($O$10>0,ROUND($O$10-X35,2),0) -> 68854.23 | AA35: =IF($O$10>0,ROUND(X35/$O$10,2),0) -> 0.31 | AB35: =IF(AND(Z35>0,$O$4>0),($O$10-P35-W35*$O$8)/O35,0) -> 362.75566 | AC35: =IF(AB35>0,AB35+G35,0) -> 1151.7557 | AD35: 16 | AF35: =IF(P35>0,ROUND(W35/P35,2),0) -> 0.14 | AG35: =IF($O$10>0,ROUND(W35/$O$10,2),0) -> 0.04
A36: 17 | B36: =IF(AND($A36>=C$12,C$12>0),0,IF(AND($A36>=C$9,C$9>0),C$10,IF(AND($A36>=C$6,C$6>0),C$7,0))) -> 1 | C36: =IF(AND($A36>=C$12,C$12>0),C$13,C35+B36) -> 32 | E36: =IF(OR($A36<2,AND(G$15>0,$A36>G$15)),0,IF(AND($A36>=G$12,G$12>0),G$13,IF(AND($A36>=G$9,G$9>0),G$10,IF(AND($A36>=G$6,G$6>0),G$7,0)))) -> 8 | F36: =F35+E36 -> 107 | G36: =G35+F36 -> 896 | I36: =IF(($A36<K$4),1,IF(AND($A36>K$15,K$15>0),I35,IF(AND($A36>=K$12,K$12>0),ROUND(I35+K$13,4),IF(AND($A36>=K$9,K$9>0),ROUND(I35+K$10,4),IF(AND($A36>=K$6,K$6>0),ROUND(I35+K$7,4),K$3))))) -> 1.775 | J36: =IF($A36<K$4, K$2, IF(K$1=0,IF(K$16>0,IF(K$2*K$16<ROUND(J35*I36, 3),K$2*K$16,ROUND(J35*I36, 3)),ROUND(J35*I36, 3)),IF(K$16>0,IF(K$2*K$16<ROUND(K$2*I36, 3),K$2*K$16,ROUND(K$2*I36, 3)),ROUND(K$2*I36, 3)))) -> 19.294 | K36: =K35+ROUND(J36,3) -> 46.095 | M36: =ROUND(C36*O36-K36*$O$6,2) -> 10544.03 | N36: =IF($O$10>0,M36/$O$10,0) -> 0.1054403 | O36: =ROUND(ROUND(K36,2)*$O$4,2) -> 341.14 | P36: =ROUND((ROUND(K35,2)*(G36-G35)*$O$4+P35+J36*$O$6),2) -> 48662.57 | Q36: =P36/$O$10 -> 0.4866257 | R36: =ROUND(P36/O36,0) -> 143 | S36: =ROUND(R36/G36,2) -> 0.16 | T36: =R36+C36 -> 175 | U36: =ROUND(T36/G36,2) -> 0.2 | W36: =ROUND(K36*$O$7,2) -> 6637.68 | X36: =ROUND(P36+W36,2) -> 55300.25 | Z36: =IF($O$10>0,ROUND($O$10-X36,2),0) -> 44699.75 | AA36: =IF($O$10>0,ROUND(X36/$O$10,2),0) -> 0.55 | AB36: =IF(AND(Z36>0,$O$4>0),($O$10-P36-W36*$O$8)/O36,0) -> 146.59639 | AC36: =IF(AB36>0,AB36+G36,0) -> 1042.5964 | AD36: 17 | AF36: =IF(P36>0,ROUND(W36/P36,2),0) -> 0.14 | AG36: =IF($O$10>0,ROUND(W36/$O$10,2),0) -> 0.07
A37: 18 | B37: =IF(AND($A37>=C$12,C$12>0),0,IF(AND($A37>=C$9,C$9>0),C$10,IF(AND($A37>=C$6,C$6>0),C$7,0))) -> 1 | C37: =IF(AND($A37>=C$12,C$12>0),C$13,C36+B37) -> 33 | E37: =IF(OR($A37<2,AND(G$15>0,$A37>G$15)),0,IF(AND($A37>=G$12,G$12>0),G$13,IF(AND($A37>=G$9,G$9>0),G$10,IF(AND($A37>=G$6,G$6>0),G$7,0)))) -> 8 | F37: =F36+E37 -> 115 | G37: =G36+F37 -> 1011 | I37: =IF(($A37<K$4),1,IF(AND($A37>K$15,K$15>0),I36,IF(AND($A37>=K$12,K$12>0),ROUND(I36+K$13,4),IF(AND($A37>=K$9,K$9>0),ROUND(I36+K$10,4),IF(AND($A37>=K$6,K$6>0),ROUND(I36+K$7,4),K$3))))) -> 1.81 | J37: =IF($A37<K$4, K$2, IF(K$1=0,IF(K$16>0,IF(K$2*K$16<ROUND(J36*I37, 3),K$2*K$16,ROUND(J36*I37, 3)),ROUND(J36*I37, 3)),IF(K$16>0,IF(K$2*K$16<ROUND(K$2*I37, 3),K$2*K$16,ROUND(K$2*I37, 3)),ROUND(K$2*I37, 3)))) -> 34.922 | K37: =K36+ROUND(J37,3) -> 81.017 | M37: =ROUND(C37*O37-K37*$O$6,2) -> 19130.53 | N37: =IF($O$10>0,M37/$O$10,0) -> 0.1913053 | O37: =ROUND(ROUND(K37,2)*$O$4,2) -> 599.55 | P37: =ROUND((ROUND(K36,2)*(G37-G36)*$O$4+P36+J37*$O$6),2) -> 88175.84 | Q37: =P37/$O$10 -> 0.8817584 | R37: =ROUND(P37/O37,0) -> 147 | S37: =ROUND(R37/G37,2) -> 0.15 | T37: =R37+C37 -> 180 | U37: =ROUND(T37/G37,2) -> 0.18 | W37: =ROUND(K37*$O$7,2) -> 11666.45 | X37: =ROUND(P37+W37,2) -> 99842.29 | Z37: =IF($O$10>0,ROUND($O$10-X37,2),0) -> 157.71 | AA37: =IF($O$10>0,ROUND(X37/$O$10,2),0) -> 1 | AB37: =IF(AND(Z37>0,$O$4>0),($O$10-P37-W37*$O$8)/O37,0) -> 15.829989 | AC37: =IF(AB37>0,AB37+G37,0) -> 1026.83 | AD37: 18 | AF37: =IF(P37>0,ROUND(W37/P37,2),0) -> 0.13 | AG37: =IF($O$10>0,ROUND(W37/$O$10,2),0) -> 0.12
A38: 19 | B38: =IF(AND($A38>=C$12,C$12>0),0,IF(AND($A38>=C$9,C$9>0),C$10,IF(AND($A38>=C$6,C$6>0),C$7,0))) -> 1 | C38: =IF(AND($A38>=C$12,C$12>0),C$13,C37+B38) -> 34 | E38: =IF(OR($A38<2,AND(G$15>0,$A38>G$15)),0,IF(AND($A38>=G$12,G$12>0),G$13,IF(AND($A38>=G$9,G$9>0),G$10,IF(AND($A38>=G$6,G$6>0),G$7,0)))) -> 8 | F38: =F37+E38 -> 123 | G38: =G37+F38 -> 1134 | I38: =IF(($A38<K$4),1,IF(AND($A38>K$15,K$15>0),I37,IF(AND($A38>=K$12,K$12>0),ROUND(I37+K$13,4),IF(AND($A38>=K$9,K$9>0),ROUND(I37+K$10,4),IF(AND($A38>=K$6,K$6>0),ROUND(I37+K$7,4),K$3))))) -> 1.845 | J38: =IF($A38<K$4, K$2, IF(K$1=0,IF(K$16>0,IF(K$2*K$16<ROUND(J37*I38, 3),K$2*K$16,ROUND(J37*I38, 3)),ROUND(J37*I38, 3)),IF(K$16>0,IF(K$2*K$16<ROUND(K$2*I38, 3),K$2*K$16,ROUND(K$2*I38, 3)),ROUND(K$2*I38, 3)))) -> 64.431 | K38: =K37+ROUND(J38,3) -> 145.448 | M38: =ROUND(C38*O38-K38*$O$6,2) -> 35420 | N38: =IF($O$10>0,M38/$O$10,0) -> 0.3542 | O38: =ROUND(ROUND(K38,2)*$O$4,2) -> 1076.33 | P38: =ROUND((ROUND(K37,2)*(G38-G37)*$O$4+P37+J38*$O$6),2) -> 162440.85 | Q38: =P38/$O$10 -> 1.6244085 | R38: =ROUND(P38/O38,0) -> 151 | S38: =ROUND(R38/G38,2) -> 0.13 | T38: =R38+C38 -> 185 | U38: =ROUND(T38/G38,2) -> 0.16 | W38: =ROUND(K38*$O$7,2) -> 20944.51 | X38: =ROUND(P38+W38,2) -> 183385.36 | Z38: =IF($O$10>0,ROUND($O$10-X38,2),0) -> -83385.36 | AA38: =IF($O$10>0,ROUND(X38/$O$10,2),0) -> 1.83 | AB38: =IF(AND(Z38>0,$O$4>0),($O$10-P38-W38*$O$8)/O38,0) -> 0 | AC38: =IF(AB38>0,AB38+G38,0) -> 0 | AD38: 19 | AF38: =IF(P38>0,ROUND(W38/P38,2),0) -> 0.13 | AG38: =IF($O$10>0,ROUND(W38/$O$10,2),0) -> 0.21
A39: 20 | B39: =IF(AND($A39>=C$12,C$12>0),0,IF(AND($A39>=C$9,C$9>0),C$10,IF(AND($A39>=C$6,C$6>0),C$7,0))) -> 1 | C39: =IF(AND($A39>=C$12,C$12>0),C$13,C38+B39) -> 35 | E39: =IF(OR($A39<2,AND(G$15>0,$A39>G$15)),0,IF(AND($A39>=G$12,G$12>0),G$13,IF(AND($A39>=G$9,G$9>0),G$10,IF(AND($A39>=G$6,G$6>0),G$7,0)))) -> 8 | F39: =F38+E39 -> 131 | G39: =G38+F39 -> 1265 | I39: =IF(($A39<K$4),1,IF(AND($A39>K$15,K$15>0),I38,IF(AND($A39>=K$12,K$12>0),ROUND(I38+K$13,4),IF(AND($A39>=K$9,K$9>0),ROUND(I38+K$10,4),IF(AND($A39>=K$6,K$6>0),ROUND(I38+K$7,4),K$3))))) -> 1.88 | J39: =IF($A39<K$4, K$2, IF(K$1=0,IF(K$16>0,IF(K$2*K$16<ROUND(J38*I39, 3),K$2*K$16,ROUND(J38*I39, 3)),ROUND(J38*I39, 3)),IF(K$16>0,IF(K$2*K$16<ROUND(K$2*I39, 3),K$2*K$16,ROUND(K$2*I39, 3)),ROUND(K$2*I39, 3)))) -> 121.13 | K39: =K38+ROUND(J39,3) -> 266.578 | M39: =ROUND(C39*O39-K39*$O$6,2) -> 66890.2 | N39: =IF($O$10>0,M39/$O$10,0) -> 0.668902 | O39: =ROUND(ROUND(K39,2)*$O$4,2) -> 1972.69 | P39: =ROUND((ROUND(K38,2)*(G39-G38)*$O$4+P38+J39*$O$6),2) -> 304418.81 | Q39: =P39/$O$10 -> 3.0441881 | R39: =ROUND(P39/O39,0) -> 154 | S39: =ROUND(R39/G39,2) -> 0.12 | T39: =R39+C39 -> 189 | U39: =ROUND(T39/G39,2) -> 0.15 | W39: =ROUND(K39*$O$7,2) -> 38387.23 | X39: =ROUND(P39+W39,2) -> 342806.04 | Z39: =IF($O$10>0,ROUND($O$10-X39,2),0) -> -242806.04 | AA39: =IF($O$10>0,ROUND(X39/$O$10,2),0) -> 3.43 | AB39: =IF(AND(Z39>0,$O$4>0),($O$10-P39-W39*$O$8)/O39,0) -> 0 | AC39: =IF(AB39>0,AB39+G39,0) -> 0 | AD39: 20 | AF39: =IF(P39>0,ROUND(W39/P39,2),0) -> 0.13 | AG39: =IF($O$10>0,ROUND(W39/$O$10,2),0) -> 0.38
B43: 1 | F43: 2 | J43: 3 | M43: 4 | W43: 5 | AA43: 6 | AF43: 7

Sheet 0.04
I1: CalcLotType | J1: =IF(K$1=0,"LastOrder",IF(K$1=1,"MinOrder","ОШИБКА")) -> LastOrder | K1: ='0.01'!K1 -> 0
A2: TakeProffit | B2: =IF(C$2<=0,"д.б. >0","") | C2: ='0.01'!C2 -> 18 | E2: GridStep | F2: =IF(G$2<2,"д.б. >1","") | G2: ='0.01'!G2 -> 19 | I2: MinLot | J2: =IF(K$2<0,"д.б. >0","") | K2: 0.04 | M2: Пара | O2: ='0.01'!O2 -> nzdcad
I3: Mult | J3: =IF(K$3<0,"д.б. >0","") | K3: ='0.01'!K3 -> 1.4 | M3: Значность | O3: ='0.01'!O3 -> 4
I4: MultStart | J4: =IF(K$4<2,"д.б. >1","") | K4: ='0.01'!K4 -> 4 | M4: Цена пипса, $ | O4: ='0.01'!O4 -> 7.4
AI5: 1
A6: TakeProffit_Level1 | C6: ='0.01'!C6 -> 4 | E6: GridLevel | F6: =IF(G$6<0,"д.б. >=0","") | G6: ='0.01'!G6 -> 3 | I6: MultLevel2 | J6: =IF(K$6<0,"д.б. >=0","") | K6: ='0.01'!K6 -> 6 | M6: Комиссия, $ | O6: ='0.01'!O6 -> 8.08
A7: TakeProffit_Level1Corr | C7: ='0.01'!C7 -> 1 | E7: GridStep_AddPips | G7: ='0.01'!G7 -> 4 | I7: MultCorr | J7: =IF(AND(K$6=0,K$7<>0),"д.б. =0","") | K7: ='0.01'!K7 -> 0.02 | M7: Залог 1 лот, $ | O7: ='0.01'!O7 -> 144
B8: =IF(OR(C$6=1,C$6<0,C$9=1,C$9<0,C$12=1,C$12<0,AND(C$6>1,C$9>1,C$6>=C$9),AND(C$6>1,C$12>1,C$6>=C$12),AND(C$9>1,C$12>1,C$9>=C$12)),"ОШИБКА в № колен","") | F8: =IF(OR(G$6=1,G$6<0,G$9=1,G$9<0,G$12=1,G$12<0,G$15<0,AND(G$6>1,G$9>1,G$6>=G$9),AND(G$6>1,G$12>1,G$6>=G$12),AND(G$9>1,G$12>1,G$9>=G$12),AND(G$6>1,G$15>0,G$6>G$15),AND(G$9>1,G$15>0,G$9>G$15),AND(G$12>1,G$15>0,G$12>G$15)),"ОШИБКА в №№ колен","") | J8: =IF(OR(K$6=1,K$6<0,K$9=1,K$9<0,K$12=1,K$12<0,K$15<0,AND(K$6>0,K$4>=K$6),AND(K$9>0,K$4>=K$9),AND(K$12>0,K$4>=K$12),AND(K$6>1,K$9>1,K$6>=K$9),AND(K$6>1,K$12>1,K$6>=K$12),AND(K$9>1,K$12>1,K$9>=K$12),AND(K$15>0,K$4>K$15),AND(K$6>1,K$15>0,K$6>K$15),AND(K$9>1,K$15>0,K$9>K$15),AND(K$12>1,K$15>0,K$12>K$15)),"ОШИБКА № колен","") | M8: StopOut, % | O8: ='0.01'!O8 -> 0.2
A9: TakeProffit_Level1_5 | C9: ='0.01'!C9 -> 0 | E9: GridStep_Level2 | G9: ='0.01'!G9 -> 11 | I9: MultLevel3 | J9: =IF(K$9<0,"д.б. >=0","") | K9: ='0.01'!K9 -> 9
A10: TakeProffit_Level1_5Corr | C10: ='0.01'!C10 -> 0 | E10: GridStep_Level2_AddPips | G10: ='0.01'!G10 -> 8 | I10: MultСorrLevel3 | J10: =IF(AND(K$9=0,K$10<>0),"д.б. =0","") | K10: ='0.01'!K10 -> 0.035 | M10: Депо, $ | O10: ='0.01'!O10 -> 100000
A12: TakeProffit_Level2 | C12: ='0.01'!C12 -> 0 | E12: Grid3 | F12: =IF(G$12<0,"д.б. >=0","") | G12: ='0.01'!G12 -> 0 | I12: Mult3 | J12: =IF(K$12<0,"д.б. >=0","") | K12: ='0.01'!K12 -> 0
A13: TakeProffit_Level2FixPips | C13: ='0.01'!C13 -> 0 | E13: Grid3Add | F13: =IF(AND(G$12=0,G$13<>0),"д.б. =0","") | G13: ='0.01'!G13 -> 0 | I13: Mult3Add | J13: =IF(AND(K$12=0,K$13<>0),"д.б. =0","") | K13: ='0.01'!K13 -> 0
E15: GridStop | F15: =IF(G$15<0,"д.б. >=0","") | G15: ='0.01'!G15 -> 0 | I15: MultStop | J15: =IF(K$15<0,"д.б. >=0","") | K15: ='0.01'!K15 -> 0
I16: MaxLotCoef | J16: =IF(K$16<0,"д.б. >=0","") | K16: ='0.01'!K16 -> 0
A18: №№ колен | B18: Кор-рект | C18: TP | E18: Коррект | F18: Шаг, пипсов | G18: Сетка пипсов от 1-го ордера | I18: Мульт | J18: Ордер | K18: Лотов сумма | M18: Прибыль | O18: $/пипс | P18: Просадка | R18: Безубыток | T18: ТР | W18: Залог, $ | X18: Просадка + залог, $ (включая комиссию) Min депо | Z18: Св.Маржа = Депо - просадка-залог, $ | AA18: Просадка + залог = %%депо | AB18: Max просадка до StopOut в пипсах от: | AD18: №№ ко-лен | AF18: Залог к просадке (включая комиссию) | AG18: Залог к депо, %
M19: $ | N19: % депо | P19: $ | Q19: % депо | R19: Пипсов | S19: %% | T19: Пипсов | U19: %% | AB19: Колена N | AC19: 1го ордера
A20: 1 | B20: 0 | C20: =C$2 -> 18 | E20: =IF(OR($A20<2,AND(G$15>0,$A20>G$15)),0,IF(AND($A20>=G$12,G$12>0),G$13,IF(AND($A20>=G$9,G$9>0),G$10,IF(AND($A20>=G$6,G$6>0),G$7,0)))) -> 0 | F20: 0 | G20: =F20 -> 0 | I20: =IF(($A20<K$4),1,IF(AND($A20>K$15,K$15>0),I19,IF(AND($A20>=K$12,K$12>0),ROUND(I19+K$13,4),IF(AND($A20>=K$9,K$9>0),ROUND(I19+K$10,4),IF(AND($A20>=K$6,K$6>0),ROUND(I19+K$7,4),K$3))))) -> 1 | J20: =IF($A20<K$4, K$2, IF(K$1=0,IF(K$16>0,IF(K$2*K$16<ROUND(J19*I20, 3),K$2*K$16,ROUND(J19*I20, 3)),ROUND(J19*I20, 3)),IF(K$16>0,IF(K$2*K$16<ROUND(K$2*I20, 3),K$2*K$16,ROUND(K$2*I20, 3)),ROUND(K$2*I20, 3)))) -> 0.04 | K20: =J20 -> 0.04 | M20: =ROUND(C20*O20-K20*$O$6,2) -> 5.08 | N20: =IF($O$10>0,M20/$O$10,0) -> 5.08e-05 | O20: =ROUND(ROUND(K20,2)*$O$4,2) -> 0.3 | P20: =ROUND(J20*$O$6,2) -> 0.32 | Q20: =P20/$O$10 -> 3.2e-06 | R20: =ROUND(P20/O20,0) -> 1 | S20: 0 | T20: =R20+C20 -> 19 | U20: 0 | W20: =ROUND(K20*$O$7,2) -> 5.76 | X20: =ROUND(P20+W20,2) -> 6.08 | Z20: =IF($O$10>0,ROUND($O$10-X20,2),0) -> 99993.92 | AA20: =IF($O$10>0,ROUND(X20/$O$10,2),0) -> 0 | AB20: =IF(AND(Z20>0,$O$4>0),($O$10-P20-W20*$O$8)/O20,0) -> 333328.43 | AC20: =IF(AB20>0,AB20+G20,0) -> 333328.43 | AD20: 1 | AF20: =IF(P20>0,ROUND(W20/P20,2),0) -> 18 | AG20: =IF($O$10>0,ROUND(W20/$O$10,2),0) -> 0
A21: 2 | B21: =IF(AND($A21>=C$12,C$12>0),0,IF(AND($A21>=C$9,C$9>0),C$10,IF(AND($A21>=C$6,C$6>0),C$7,0))) -> 0 | C21: =IF(AND($A21>=C$12,C$12>0),C$13,C20+B21) -> 18 | E21: =IF(OR($A21<2,AND(G$15>0,$A21>G$15)),0,IF(AND($A21>=G$12,G$12>0),G$13,IF(AND($A21>=G$9,G$9>0),G$10,IF(AND($A21>=G$6,G$6>0),G$7,0)))) -> 0 | F21: =G$2+E21 -> 19 | G21: =G20+F21 -> 19 | I21: =IF(($A21<K$4),1,IF(AND($A21>K$15,K$15>0),I20,IF(AND($A21>=K$12,K$12>0),ROUND(I20+K$13,4),IF(AND($A21>=K$9,K$9>0),ROUND(I20+K$10,4),IF(AND($A21>=K$6,K$6>0),ROUND(I20+K$7,4),K$3))))) -> 1 | J21: =IF($A21<K$4, K$2, IF(K$1=0,IF(K$16>0,IF(K$2*K$16<ROUND(J20*I21, 3),K$2*K$16,ROUND(J20*I21, 3)),ROUND(J20*I21, 3)),IF(K$16>0,IF(K$2*K$16<ROUND(K$2*I21, 3),K$2*K$16,ROUND(K$2*I21, 3)),ROUND(K$2*I21, 3)))) -> 0.04 | K21: =K20+ROUND(J21,3) -> 0.08 | M21: =ROUND(C21*O21-K21*$O$6,2) -> 9.97 | N21: =IF($O$10>0,M21/$O$10,0) -> 9.97e-05 | O21: =ROUND(ROUND(K21,2)*$O$4,2) -> 0.59 | P21: =ROUND((ROUND(K20,2)*(G21-G20)*$O$4+P20+J21*$O$6),2) -> 6.27 | Q21: =P21/$O$10 -> 6.27e-05 | R21: =ROUND(P21/O21,0) -> 11 | S21: =ROUND(R21/G21,2) -> 0.58 | T21: =R21+C21 -> 29 | U21: =ROUND(T21/G21,2) -> 1.53 | W21: =ROUND(K21*$O$7,2) -> 11.52 | X21: =ROUND(P21+W21,2) -> 17.79 | Z21: =IF($O$10>0,ROUND($O$10-X21,2),0) -> 99982.21 | AA21: =IF($O$10>0,ROUND(X21/$O$10,2),0) -> 0 | AB21: =IF(AND(Z21>0,$O$4>0),($O$10-P21-W21*$O$8)/O21,0) -> 169476.99 | AC21: =IF(AB21>0,AB21+G21,0) -> 169495.99 | AD21: 2 | AF21: =IF(P21>0,ROUND(W21/P21,2),0) -> 1.84 | AG21: =IF($O$10>0,ROUND(W21/$O$10,2),0) -> 0
A22: 3 | B22: =IF(AND($A22>=C$12,C$12>0),0,IF(AND($A22>=C$9,C$9>0),C$10,IF(AND($A22>=C$6,C$6>0),C$7,0))) -> 0 | C22: =IF(AND($A22>=C$12,C$12>0),C$13,C21+B22) -> 18 | E22: =IF(OR($A22<2,AND(G$15>0,$A22>G$15)),0,IF(AND($A22>=G$12,G$12>0),G$13,IF(AND($A22>=G$9,G$9>0),G$10,IF(AND($A22>=G$6,G$6>0),G$7,0)))) -> 4 | F22: =F21+E22 -> 23 | G22: =G21+F22 -> 42 | I22: =IF(($A22<K$4),1,IF(AND($A22>K$15,K$15>0),I21,IF(AND($A22>=K$12,K$12>0),ROUND(I21+K$13,4),IF(AND($A22>=K$9,K$9>0),ROUND(I21+K$10,4),IF(AND($A22>=K$6,K$6>0),ROUND(I21+K$7,4),K$3))))) -> 1 | J22: =IF($A22<K$4, K$2, IF(K$1=0,IF(K$16>0,IF(K$2*K$16<ROUND(J21*I22, 3),K$2*K$16,ROUND(J21*I22, 3)),ROUND(J21*I22, 3)),IF(K$16>0,IF(K$2*K$16<ROUND(K$2*I22, 3),K$2*K$16,ROUND(K$2*I22, 3)),ROUND(K$2*I22, 3)))) -> 0.04 | K22: =K21+ROUND(J22,3) -> 0.12 | M22: =ROUND(C22*O22-K22*$O$6,2) -> 15.05 | N22: =IF($O$10>0,M22/$O$10,0) -> 0.0001505 | O22: =ROUND(ROUND(K22,2)*$O$4,2) -> 0.89 | P22: =ROUND((ROUND(K21,2)*(G22-G21)*$O$4+P21+J22*$O$6),2) -> 20.21 | Q22: =P22/$O$10 -> 0.0002021 | R22: =ROUND(P22/O22,0) -> 23 | S22: =ROUND(R22/G22,2) -> 0.55 | T22: =R22+C22 -> 41 | U22: =ROUND(T22/G22,2) -> 0.98 | W22: =ROUND(K22*$O$7,2) -> 17.28 | X22: =ROUND(P22+W22,2) -> 37.49 | Z22: =IF($O$10>0,ROUND($O$10-X22,2),0) -> 99962.51 | AA22: =IF($O$10>0,ROUND(X22/$O$10,2),0) -> 0 | AB22: =IF(AND(Z22>0,$O$4>0),($O$10-P22-W22*$O$8)/O22,0) -> 112332.96 | AC22: =IF(AB22>0,AB22+G22,0) -> 112374.96 | AD22: 3 | AF22: =IF(P22>0,ROUND(W22/P22,2),0) -> 0.86 | AG22: =IF($O$10>0,ROUND(W22/$O$10,2),0) -> 0
A23: 4 | B23: =IF(AND($A23>=C$12,C$12>0),0,IF(AND($A23>=C$9,C$9>0),C$10,IF(AND($A23>=C$6,C$6>0),C$7,0))) -> 1 | C23: =IF(AND($A23>=C$12,C$12>0),C$13,C22+B23) -> 19 | E23: =IF(OR($A23<2,AND(G$15>0,$A23>G$15)),0,IF(AND($A23>=G$12,G$12>0),G$13,IF(AND($A23>=G$9,G$9>0),G$10,IF(AND($A23>=G$6,G$6>0),G$7,0)))) -> 4 | F23: =F22+E23 -> 27 | G23: =G22+F23 -> 69 | I23: =IF(($A23<K$4),1,IF(AND($A23>K$15,K$15>0),I22,IF(AND($A23>=K$12,K$12>0),ROUND(I22+K$13,4),IF(AND($A23>=K$9,K$9>0),ROUND(I22+K$10,4),IF(AND($A23>=K$6,K$6>0),ROUND(I22+K$7,4),K$3))))) -> 1.4 | J23: =IF($A23<K$4, K$2, IF(K$1=0,IF(K$16>0,IF(K$2*K$16<ROUND(J22*I23, 3),K$2*K$16,ROUND(J22*I23, 3)),ROUND(J22*I23, 3)),IF(K$16>0,IF(K$2*K$16<ROUND(K$2*I23, 3),K$2*K$16,ROUND(K$2*I23, 3)),ROUND(K$2*I23, 3)))) -> 0.056 | K23: =K22+ROUND(J23,3) -> 0.176 | M23: =ROUND(C23*O23-K23*$O$6,2) -> 23.85 | N23: =IF($O$10>0,M23/$O$10,0) -> 0.0002385 | O23: =ROUND(ROUND(K23,2)*$O$4,2) -> 1.33 | P23: =ROUND((ROUND(K22,2)*(G23-G22)*$O$4+P22+J23*$O$6),2) -> 44.64 | Q23: =P23/$O$10 -> 0.0004464 | R23: =ROUND(P23/O23,0) -> 34 | S23: =ROUND(R23/G23,2) -> 0.49 | T23: =R23+C23 -> 53 | U23: =ROUND(T23/G23,2) -> 0.77 | W23: =ROUND(K23*$O$7,2) -> 25.34 | X23: =ROUND(P23+W23,2) -> 69.98 | Z23: =IF($O$10>0,ROUND($O$10-X23,2),0) -> 99930.02 | AA23: =IF($O$10>0,ROUND(X23/$O$10,2),0) -> 0 | AB23: =IF(AND(Z23>0,$O$4>0),($O$10-P23-W23*$O$8)/O23,0) -> 75150.595 | AC23: =IF(AB23>0,AB23+G23,0) -> 75219.595 | AD23: 4 | AF23: =IF(P23>0,ROUND(W23/P23,2),0) -> 0.57 | AG23: =IF($O$10>0,ROUND(W23/$O$10,2),0) -> 0
A24: 5 | B24: =IF(AND($A24>=C$12,C$12>0),0,IF(AND($A24>=C$9,C$9>0),C$10,IF(AND($A24>=C$6,C$6>0),C$7,0))) -> 1 | C24: =IF(AND($A24>=C$12,C$12>0),C$13,C23+B24) -> 20 | E24: =IF(OR($A24<2,AND(G$15>0,$A24>G$15)),0,IF(AND($A24>=G$12,G$12>0),G$13,IF(AND($A24>=G$9,G$9>0),G$10,IF(AND($A24>=G$6,G$6>0),G$7,0)))) -> 4 | F24: =F23+E24 -> 31 | G24: =G23+F24 -> 100 | I24: =IF(($A24<K$4),1,IF(AND($A24>K$15,K$15>0),I23,IF(AND($A24>=K$12,K$12>0),ROUND(I23+K$13,4),IF(AND($A24>=K$9,K$9>0),ROUND(I23+K$10,4),IF(AND($A24>=K$6,K$6>0),ROUND(I23+K$7,4),K$3))))) -> 1.4 | J24: =IF($A24<K$4, K$2, IF(K$1=0,IF(K$16>0,IF(K$2*K$16<ROUND(J23*I24, 3),K$2*K$16,ROUND(J23*I24, 3)),ROUND(J23*I24, 3)),IF(K$16>0,IF(K$2*K$16<ROUND(K$2*I24, 3),K$2*K$16,ROUND(K$2*I24, 3)),ROUND(K$2*I24, 3)))) -> 0.078 | K24: =K23+ROUND(J24,3) -> 0.254 | M24: =ROUND(C24*O24-K24*$O$6,2) -> 34.95 | N24: =IF($O$10>0,M24/$O$10,0) -> 0.0003495 | O24: =ROUND(ROUND(K24,2)*$O$4,2) -> 1.85 | P24: =ROUND((ROUND(K23,2)*(G24-G23)*$O$4+P23+J24*$O$6),2) -> 86.56 | Q24: =P24/$O$10 -> 0.0008656 | R24: =ROUND(P24/O24,0) -> 47 | S24: =ROUND(R24/G24,2) -> 0.47 | T24: =R24+C24 -> 67 | U24: =ROUND(T24/G24,2) -> 0.67 | W24: =ROUND(K24*$O$7,2) -> 36.58 | X24: =ROUND(P24+W24,2) -> 123.14 | Z24: =IF($O$10>0,ROUND($O$10-X24,2),0) -> 99876.86 | AA24: =IF($O$10>0,ROUND(X24/$O$10,2),0) -> 0 | AB24: =IF(AND(Z24>0,$O$4>0),($O$10-P24-W24*$O$8)/O24,0) -> 54003.31 | AC24: =IF(AB24>0,AB24+G24,0) -> 54103.31 | AD24: 5 | AF24: =IF(P24>0,ROUND(W24/P24,2),0) -> 0.42 | AG24: =IF($O$10>0,ROUND(W24/$O$10,2),0) -> 0
A25: 6 | B25: =IF(AND($A25>=C$12,C$12>0),0,IF(AND($A25>=C$9,C$9>0),C$10,IF(AND($A25>=C$6,C$6>0),C$7,0))) -> 1 | C25: =IF(AND($A25>=C$12,C$12>0),C$13,C24+B25) -> 21 | E25: =IF(OR($A25<2,AND(G$15>0,$A25>G$15)),0,IF(AND($A25>=G$12,G$12>0),G$13,IF(AND($A25>=G$9,G$9>0),G$10,IF(AND($A25>=G$6,G$6>0),G$7,0)))) -> 4 | F25: =F24+E25 -> 35 | G25: =G24+F25 -> 135 | I25: =IF(($A25<K$4),1,IF(AND($A25>K$15,K$15>0),I24,IF(AND($A25>=K$12,K$12>0),ROUND(I24+K$13,4),IF(AND($A25>=K$9,K$9>0),ROUND(I24+K$10,4),IF(AND($A25>=K$6,K$6>0),ROUND(I24+K$7,4),K$3))))) -> 1.42 | J25: =IF($A25<K$4, K$2, IF(K$1=0,IF(K$16>0,IF(K$2*K$16<ROUND(J24*I25, 3),K$2*K$16,ROUND(J24*I25, 3)),ROUND(J24*I25, 3)),IF(K$16>0,IF(K$2*K$16<ROUND(K$2*I25, 3),K$2*K$16,ROUND(K$2*I25, 3)),ROUND(K$2*I25, 3)))) -> 0.111 | K25: =K24+ROUND(J25,3) -> 0.365 | M25: =ROUND(C25*O25-K25*$O$6,2) -> 54.59 | N25: =IF($O$10>0,M25/$O$10,0) -> 0.0005459 | O25: =ROUND(ROUND(K25,2)*$O$4,2) -> 2.74 | P25: =ROUND((ROUND(K24,2)*(G25-G24)*$O$4+P24+J25*$O$6),2) -> 152.21 | Q25: =P25/$O$10 -> 0.0015221 | R25: =ROUND(P25/O25,0) -> 56 | S25: =ROUND(R25/G25,2) -> 0.41 | T25: =R25+C25 -> 77 | U25: =ROUND(T25/G25,2) -> 0.57 | W25: =ROUND(K25*$O$7,2) -> 52.56 | X25: =ROUND(P25+W25,2) -> 204.77 | Z25: =IF($O$10>0,ROUND($O$10-X25,2),0) -> 99795.23 | AA25: =IF($O$10>0,ROUND(X25/$O$10,2),0) -> 0 | AB25: =IF(AND(Z25>0,$O$4>0),($O$10-P25-W25*$O$8)/O25,0) -> 36436.963 | AC25: =IF(AB25>0,AB25+G25,0) -> 36571.963 | AD25: 6 | AF25: =IF(P25>0,ROUND(W25/P25,2),0) -> 0.35 | AG25: =IF($O$10>0,ROUND(W25/$O$10,2),0) -> 0
A26: 7 | B26: =IF(AND($A26>=C$12,C$12>0),0,IF(AND($A26>=C$9,C$9>0),C$10,IF(AND($A26>=C$6,C$6>0),C$7,0))) -> 1 | C26: =IF(AND($A26>=C$12,C$12>0),C$13,C25+B26) -> 22 | E26: =IF(OR($A26<2,AND(G$15>0,$A26>G$15)),0,IF(AND($A26>=G$12,G$12>0),G$13,IF(AND($A26>=G$9,G$9>0),G$10,IF(AND($A26>=G$6,G$6>0),G$7,0)))) -> 4 | F26: =F25+E26 -> 39 | G26: =G25+F26 -> 174 | I26: =IF(($A26<K$4),1,IF(AND($A26>K$15,K$15>0),I25,IF(AND($A26>=K$12,K$12>0),ROUND(I25+K$13,4),IF(AND($A26>=K$9,K$9>0),ROUND(I25+K$10,4),IF(AND($A26>=K$6,K$6>0),ROUND(I25+K$7,4),K$3))))) -> 1.44 | J26: =IF($A26<K$4, K$2, IF(K$1=0,IF(K$16>0,IF(K$2*K$16<ROUND(J25*I26, 3),K$2*K$16,ROUND(J25*I26, 3)),ROUND(J25*I26, 3)),IF(K$16>0,IF(K$2*K$16<ROUND(K$2*I26, 3),K$2*K$16,ROUND(K$2*I26, 3)),ROUND(K$2*I26, 3)))) -> 0.16 | K26: =K25+ROUND(J26,3) -> 0.525 | M26: =ROUND(C26*O26-K26*$O$6,2) -> 82 | N26: =IF($O$10>0,M26/$O$10,0) -> 0.00082 | O26: =ROUND(ROUND(K26,2)*$O$4,2) -> 3.92 | P26: =ROUND((ROUND(K25,2)*(G26-G25)*$O$4+P25+J26*$O$6),2) -> 260.28 | Q26: =P26/$O$10 -> 0.0026028 | R26: =ROUND(P26/O26,0) -> 66 | S26: =ROUND(R26/G26,2) -> 0.38 | T26: =R26+C26 -> 88 | U26: =ROUND(T26/G26,2) -> 0.51 | W26: =ROUND(K26*$O$7,2) -> 75.6 | X26: =ROUND(P26+W26,2) -> 335.88 | Z26: =IF($O$10>0,ROUND($O$10-X26,2),0) -> 99664.12 | AA26: =IF($O$10>0,ROUND(X26/$O$10,2),0) -> 0 | AB26: =IF(AND(Z26>0,$O$4>0),($O$10-P26-W26*$O$8)/O26,0) -> 25439.949 | AC26: =IF(AB26>0,AB26+G26,0) -> 25613.949 | AD26: 7 | AF26: =IF(P26>0,ROUND(W26/P26,2),0) -> 0.29 | AG26: =IF($O$10>0,ROUND(W26/$O$10,2),0) -> 0 | AI26: 2
A27: 8 | B27: =IF(AND($A27>=C$12,C$12>0),0,IF(AND($A27>=C$9,C$9>0),C$10,IF(AND($A27>=C$6,C$6>0),C$7,0))) -> 1 | C27: =IF(AND($A27>=C$12,C$12>0),C$13,C26+B27) -> 23 | E27: =IF(OR($A27<2,AND(G$15>0,$A27>G$15)),0,IF(AND($A27>=G$12,G$12>0),G$13,IF(AND($A27>=G$9,G$9>0),G$10,IF(AND($A27>=G$6,G$6>0),G$7,0)))) -> 4 | F27: =F26+E27 -> 43 | G27: =G26+F27 -> 217 | I27: =IF(($A27<K$4),1,IF(AND($A27>K$15,K$15>0),I26,IF(AND($A27>=K$12,K$12>0),ROUND(I26+K$13,4),IF(AND($A27>=K$9,K$9>0),ROUND(I26+K$10,4),IF(AND($A27>=K$6,K$6>0),ROUND(I26+K$7,4),K$3))))) -> 1.46 | J27: =IF($A27<K$4, K$2, IF(K$1=0,IF(K$16>0,IF(K$2*K$16<ROUND(J26*I27, 3),K$2*K$16,ROUND(J26*I27, 3)),ROUND(J26*I27, 3)),IF(K$16>0,IF(K$2*K$16<ROUND(K$2*I27, 3),K$2*K$16,ROUND(K$2*I27, 3)),ROUND(K$2*I27, 3)))) -> 0.234 | K27: =K26+ROUND(J27,3) -> 0.759 | M27: =ROUND(C27*O27-K27*$O$6,2) -> 123.13 | N27: =IF($O$10>0,M27/$O$10,0) -> 0.0012313 | O27: =ROUND(ROUND(K27,2)*$O$4,2) -> 5.62 | P27: =ROUND((ROUND(K26,2)*(G27-G26)*$O$4+P26+J27*$O$6),2) -> 430.82 | Q27: =P27/$O$10 -> 0.0043082 | R27: =ROUND(P27/O27,0) -> 77 | S27: =ROUND(R27/G27,2) -> 0.35 | T27: =R27+C27 -> 100 | U27: =ROUND(T27/G27,2) -> 0.46 | W27: =ROUND(K27*$O$7,2) -> 109.3 | X27: =ROUND(P27+W27,2) -> 540.12 | Z27: =IF($O$10>0,ROUND($O$10-X27,2),0) -> 99459.88 | AA27: =IF($O$10>0,ROUND(X27/$O$10,2),0) -> 0.01 | AB27: =IF(AND(Z27>0,$O$4>0),($O$10-P27-W27*$O$8)/O27,0) -> 17713.046 | AC27: =IF(AB27>0,AB27+G27,0) -> 17930.046 | AD27: 8 | AF27: =IF(P27>0,ROUND(W27/P27,2),0) -> 0.25 | AG27: =IF($O$10>0,ROUND(W27/$O$10,2),0) -> 0
A28: 9 | B28: =IF(AND($A28>=C$12,C$12>0),0,IF(AND($A28>=C$9,C$9>0),C$10,IF(AND($A28>=C$6,C$6>0),C$7,0))) -> 1 | C28: =IF(AND($A28>=C$12,C$12>0),C$13,C27+B28) -> 24 | E28: =IF(OR($A28<2,AND(G$15>0,$A28>G$15)),0,IF(AND($A28>=G$12,G$12>0),G$13,IF(AND($A28>=G$9,G$9>0),G$10,IF(AND($A28>=G$6,G$6>0),G$7,0)))) -> 4 | F28: =F27+E28 -> 47 | G28: =G27+F28 -> 264 | I28: =IF(($A28<K$4),1,IF(AND($A28>K$15,K$15>0),I27,IF(AND($A28>=K$12,K$12>0),ROUND(I27+K$13,4),IF(AND($A28>=K$9,K$9>0),ROUND(I27+K$10,4),IF(AND($A28>=K$6,K$6>0),ROUND(I27+K$7,4),K$3))))) -> 1.495 | J28: =IF($A28<K$4, K$2, IF(K$1=0,IF(K$16>0,IF(K$2*K$16<ROUND(J27*I28, 3),K$2*K$16,ROUND(J27*I28, 3)),ROUND(J27*I28, 3)),IF(K$16>0,IF(K$2*K$16<ROUND(K$2*I28, 3),K$2*K$16,ROUND(K$2*I28, 3)),ROUND(K$2*I28, 3)))) -> 0.35 | K28: =K27+ROUND(J28,3) -> 1.109 | M28: =ROUND(C28*O28-K28*$O$6,2) -> 188.08 | N28: =IF($O$10>0,M28/$O$10,0) -> 0.0018808 | O28: =ROUND(ROUND(K28,2)*$O$4,2) -> 8.21 | P28: =ROUND((ROUND(K27,2)*(G28-G27)*$O$4+P27+J28*$O$6),2) -> 697.98 | Q28: =P28/$O$10 -> 0.0069798 | R28: =ROUND(P28/O28,0) -> 85 | S28: =ROUND(R28/G28,2) -> 0.32 | T28: =R28+C28 -> 109 | U28: =ROUND(T28/G28,2) -> 0.41 | W28: =ROUND(K28*$O$7,2) -> 159.7 | X28: =ROUND(P28+W28,2) -> 857.68 | Z28: =IF($O$10>0,ROUND($O$10-X28,2),0) -> 99142.32 | AA28: =IF($O$10>0,ROUND(X28/$O$10,2),0) -> 0.01 | AB28: =IF(AND(Z28>0,$O$4>0),($O$10-P28-W28*$O$8)/O28,0) -> 12091.362 | AC28: =IF(AB28>0,AB28+G28,0) -> 12355.362 | AD28: 9 | AF28: =IF(P28>0,ROUND(W28/P28,2),0) -> 0.23 | AG28: =IF($O$10>0,ROUND(W28/$O$10,2),0) -> 0
A29: 10 | B29: =IF(AND($A29>=C$12,C$12>0),0,IF(AND($A29>=C$9,C$9>0),C$10,IF(AND($A29>=C$6,C$6>0),C$7,0))) -> 1 | C29: =IF(AND($A29>=C$12,C$12>0),C$13,C28+B29) -> 25 | E29: =IF(OR($A29<2,AND(G$15>0,$A29>G$15)),0,IF(AND($A29>=G$12,G$12>0),G$13,IF(AND($A29>=G$9,G$9>0),G$10,IF(AND($A29>=G$6,G$6>0),G$7,0)))) -> 4 | F29: =F28+E29 -> 51 | G29: =G28+F29 -> 315 | I29: =IF(($A29<K$4),1,IF(AND($A29>K$15,K$15>0),I28,IF(AND($A29>=K$12,K$12>0),ROUND(I28+K$13,4),IF(AND($A29>=K$9,K$9>0),ROUND(I28+K$10,4),IF(AND($A29>=K$6,K$6>0),ROUND(I28+K$7,4),K$3))))) -> 1.53 | J29: =IF($A29<K$4, K$2, IF(K$1=0,IF(K$16>0,IF(K$2*K$16<ROUND(J28*I29, 3),K$2*K$16,ROUND(J28*I29, 3)),ROUND(J28*I29, 3)),IF(K$16>0,IF(K$2*K$16<ROUND(K$2*I29, 3),K$2*K$16,ROUND(K$2*I29, 3)),ROUND(K$2*I29, 3)))) -> 0.536 | K29: =K28+ROUND(J29,3) -> 1.645 | M29: =ROUND(C29*O29-K29*$O$6,2) -> 291.96 | N29: =IF($O$10>0,M29/$O$10,0) -> 0.0029196 | O29: =ROUND(ROUND(K29,2)*$O$4,2) -> 12.21 | P29: =ROUND((ROUND(K28,2)*(G29-G28)*$O$4+P28+J29*$O$6),2) -> 1121.22 | Q29: =P29/$O$10 -> 0.0112122 | R29: =ROUND(P29/O29,0) -> 92 | S29: =ROUND(R29/G29,2) -> 0.29 | T29: =R29+C29 -> 117 | U29: =ROUND(T29/G29,2) -> 0.37 | W29: =ROUND(K29*$O$7,2) -> 236.88 | X29: =ROUND(P29+W29,2) -> 1358.1 | Z29: =IF($O$10>0,ROUND($O$10-X29,2),0) -> 98641.9 | AA29: =IF($O$10>0,ROUND(X29/$O$10,2),0) -> 0.01 | AB29: =IF(AND(Z29>0,$O$4>0),($O$10-P29-W29*$O$8)/O29,0) -> 8094.3001 | AC29: =IF(AB29>0,AB29+G29,0) -> 8409.3001 | AD29: 10 | AF29: =IF(P29>0,ROUND(W29/P29,2),0) -> 0.21 | AG29: =IF($O$10>0,ROUND(W29/$O$10,2),0) -> 0
A30: 11 | B30: =IF(AND($A30>=C$12,C$12>0),0,IF(AND($A30>=C$9,C$9>0),C$10,IF(AND($A30>=C$6,C$6>0),C$7,0))) -> 1 | C30: =IF(AND($A30>=C$12,C$12>0),C$13,C29+B30) -> 26 | E30: =IF(OR($A30<2,AND(G$15>0,$A30>G$15)),0,IF(AND($A30>=G$12,G$12>0),G$13,IF(AND($A30>=G$9,G$9>0),G$10,IF(AND($A30>=G$6,G$6>0),G$7,0)))) -> 8 | F30: =F29+E30 -> 59 | G30: =G29+F30 -> 374 | I30: =IF(($A30<K$4),1,IF(AND($A30>K$15,K$15>0),I29,IF(AND($A30>=K$12,K$12>0),ROUND(I29+K$13,4),IF(AND($A30>=K$9,K$9>0),ROUND(I29+K$10,4),IF(AND($A30>=K$6,K$6>0),ROUND(I29+K$7,4),K$3))))) -> 1.565 | J30: =IF($A30<K$4, K$2, IF(K$1=0,IF(K$16>0,IF(K$2*K$16<ROUND(J29*I30, 3),K$2*K$16,ROUND(J29*I30, 3)),ROUND(J29*I30, 3)),IF(K$16>0,IF(K$2*K$16<ROUND(K$2*I30, 3),K$2*K$16,ROUND(K$2*I30, 3)),ROUND(K$2*I30, 3)))) -> 0.839 | K30: =K29+ROUND(J30,3) -> 2.484 | M30: =ROUND(C30*O30-K30*$O$6,2) -> 457.03 | N30: =IF($O$10>0,M30/$O$10,0) -> 0.0045703 | O30: =ROUND(ROUND(K30,2)*$O$4,2) -> 18.35 | P30: =ROUND((ROUND(K29,2)*(G30-G29)*$O$4+P29+J30*$O$6),2) -> 1848.39 | Q30: =P30/$O$10 -> 0.0184839 | R30: =ROUND(P30/O30,0) -> 101 | S30: =ROUND(R30/G30,2) -> 0.27 | T30: =R30+C30 -> 127 | U30: =ROUND(T30/G30,2) -> 0.34 | W30: =ROUND(K30*$O$7,2) -> 357.7 | X30: =ROUND(P30+W30,2) -> 2206.09 | Z30: =IF($O$10>0,ROUND($O$10-X30,2),0) -> 97793.91 | AA30: =IF($O$10>0,ROUND(X30/$O$10,2),0) -> 0.02 | AB30: =IF(AND(Z30>0,$O$4>0),($O$10-P30-W30*$O$8)/O30,0) -> 5344.9629 | AC30: =IF(AB30>0,AB30+G30,0) -> 5718.9629 | AD30: 11 | AF30: =IF(P30>0,ROUND(W30/P30,2),0) -> 0.19 | AG30: =IF($O$10>0,ROUND(W30/$O$10,2),0) -> 0
A31: 12 | B31: =IF(AND($A31>=C$12,C$12>0),0,IF(AND($A31>=C$9,C$9>0),C$10,IF(AND($A31>=C$6,C$6>0),C$7,0))) -> 1 | C31: =IF(AND($A31>=C$12,C$12>0),C$13,C30+B31) -> 27 | E31: =IF(OR($A31<2,AND(G$15>0,$A31>G$15)),0,IF(AND($A31>=G$12,G$12>0),G$13,IF(AND($A31>=G$9,G$9>0),G$10,IF(AND($A31>=G$6,G$6>0),G$7,0)))) -> 8 | F31: =F30+E31 -> 67 | G31: =G30+F31 -> 441 | I31: =IF(($A31<K$4),1,IF(AND($A31>K$15,K$15>0),I30,IF(AND($A31>=K$12,K$12>0),ROUND(I30+K$13,4),IF(AND($A31>=K$9,K$9>0),ROUND(I30+K$10,4),IF(AND($A31>=K$6,K$6>0),ROUND(I30+K$7,4),K$3))))) -> 1.6 | J31: =IF($A31<K$4, K$2, IF(K$1=0,IF(K$16>0,IF(K$2*K$16<ROUND(J30*I31, 3),K$2*K$16,ROUND(J30*I31, 3)),ROUND(J30*I31, 3)),IF(K$16>0,IF(K$2*K$16<ROUND(K$2*I31, 3),K$2*K$16,ROUND(K$2*I31, 3)),ROUND(K$2*I31, 3)))) -> 1.342 | K31: =K30+ROUND(J31,3) -> 3.826 | M31: =ROUND(C31*O31-K31*$O$6,2) -> 734.27 | N31: =IF($O$10>0,M31/$O$10,0) -> 0.0073427 | O31: =ROUND(ROUND(K31,2)*$O$4,2) -> 28.34 | P31: =ROUND((ROUND(K30,2)*(G31-G30)*$O$4+P30+J31*$O$6),2) -> 3088.82 | Q31: =P31/$O$10 -> 0.0308882 | R31: =ROUND(P31/O31,0) -> 109 | S31: =ROUND(R31/G31,2) -> 0.25 | T31: =R31+C31 -> 136 | U31: =ROUND(T31/G31,2) -> 0.31 | W31: =ROUND(K31*$O$7,2) -> 550.94 | X31: =ROUND(P31+W31,2) -> 3639.76 | Z31: =IF($O$10>0,ROUND($O$10-X31,2),0) -> 96360.24 | AA31: =IF($O$10>0,ROUND(X31/$O$10,2),0) -> 0.04 | AB31: =IF(AND(Z31>0,$O$4>0),($O$10-P31-W31*$O$8)/O31,0) -> 3415.7019 | AC31: =IF(AB31>0,AB31+G31,0) -> 3856.7019 | AD31: 12 | AF31: =IF(P31>0,ROUND(W31/P31,2),0) -> 0.18 | AG31: =IF($O$10>0,ROUND(W31/$O$10,2),0) -> 0.01
A32: 13 | B32: =IF(AND($A32>=C$12,C$12>0),0,IF(AND($A32>=C$9,C$9>0),C$10,IF(AND($A32>=C$6,C$6>0),C$7,0))) -> 1 | C32: =IF(AND($A32>=C$12,C$12>0),C$13,C31+B32) -> 28 | E32: =IF(OR($A32<2,AND(G$15>0,$A32>G$15)),0,IF(AND($A32>=G$12,G$12>0),G$13,IF(AND($A32>=G$9,G$9>0),G$10,IF(AND($A32>=G$6,G$6>0),G$7,0)))) -> 8 | F32: =F31+E32 -> 75 | G32: =G31+F32 -> 516 | I32: =IF(($A32<K$4),1,IF(AND($A32>K$15,K$15>0),I31,IF(AND($A32>=K$12,K$12>0),ROUND(I31+K$13,4),IF(AND($A32>=K$9,K$9>0),ROUND(I31+K$10,4),IF(AND($A32>=K$6,K$6>0),ROUND(I31+K$7,4),K$3))))) -> 1.635 | J32: =IF($A32<K$4, K$2, IF(K$1=0,IF(K$16>0,IF(K$2*K$16<ROUND(J31*I32, 3),K$2*K$16,ROUND(J31*I32, 3)),ROUND(J31*I32, 3)),IF(K$16>0,IF(K$2*K$16<ROUND(K$2*I32, 3),K$2*K$16,ROUND(K$2*I32, 3)),ROUND(K$2*I32, 3)))) -> 2.194 | K32: =K31+ROUND(J32,3) -> 6.02 | M32: =ROUND(C32*O32-K32*$O$6,2) -> 1198.76 | N32: =IF($O$10>0,M32/$O$10,0) -> 0.0119876 | O32: =ROUND(ROUND(K32,2)*$O$4,2) -> 44.55 | P32: =ROUND((ROUND(K31,2)*(G32-G31)*$O$4+P31+J32*$O$6),2) -> 5232.2 | Q32: =P32/$O$10 -> 0.052322 | R32: =ROUND(P32/O32,0) -> 117 | S32: =ROUND(R32/G32,2) -> 0.23 | T32: =R32+C32 -> 145 | U32: =ROUND(T32/G32,2) -> 0.28 | W32: =ROUND(K32*$O$7,2) -> 866.88 | X32: =ROUND(P32+W32,2) -> 6099.08 | Z32: =IF($O$10>0,ROUND($O$10-X32,2),0) -> 93900.92 | AA32: =IF($O$10>0,ROUND(X32/$O$10,2),0) -> 0.06 | AB32: =IF(AND(Z32>0,$O$4>0),($O$10-P32-W32*$O$8)/O32,0) -> 2123.3316 | AC32: =IF(AB32>0,AB32+G32,0) -> 2639.3316 | AD32: 13 | AF32: =IF(P32>0,ROUND(W32/P32,2),0) -> 0.17 | AG32: =IF($O$10>0,ROUND(W32/$O$10,2),0) -> 0.01
A33: 14 | B33: =IF(AND($A33>=C$12,C$12>0),0,IF(AND($A33>=C$9,C$9>0),C$10,IF(AND($A33>=C$6,C$6>0),C$7,0))) -> 1 | C33: =IF(AND($A33>=C$12,C$12>0),C$13,C32+B33) -> 29 | E33: =IF(OR($A33<2,AND(G$15>0,$A33>G$15)),0,IF(AND($A33>=G$12,G$12>0),G$13,IF(AND($A33>=G$9,G$9>0),G$10,IF(AND($A33>=G$6,G$6>0),G$7,0)))) -> 8 | F33: =F32+E33 -> 83 | G33: =G32+F33 -> 599 | I33: =IF(($A33<K$4),1,IF(AND($A33>K$15,K$15>0),I32,IF(AND($A33>=K$12,K$12>0),ROUND(I32+K$13,4),IF(AND($A33>=K$9,K$9>0),ROUND(I32+K$10,4),IF(AND($A33>=K$6,K$6>0),ROUND(I32+K$7,4),K$3))))) -> 1.67 | J33: =IF($A33<K$4, K$2, IF(K$1=0,IF(K$16>0,IF(K$2*K$16<ROUND(J32*I33, 3),K$2*K$16,ROUND(J32*I33, 3)),ROUND(J32*I33, 3)),IF(K$16>0,IF(K$2*K$16<ROUND(K$2*I33, 3),K$2*K$16,ROUND(K$2*I33, 3)),ROUND(K$2*I33, 3)))) -> 3.664 | K33: =K32+ROUND(J33,3) -> 9.684 | M33: =ROUND(C33*O33-K33*$O$6,2) -> 1999.02 | N33: =IF($O$10>0,M33/$O$10,0) -> 0.0199902 | O33: =ROUND(ROUND(K33,2)*$O$4,2) -> 71.63 | P33: =ROUND((ROUND(K32,2)*(G33-G32)*$O$4+P32+J33*$O$6),2) -> 8959.29 | Q33: =P33/$O$10 -> 0.0895929 | R33: =ROUND(P33/O33,0) -> 125 | S33: =ROUND(R33/G33,2) -> 0.21 | T33: =R33+C33 -> 154 | U33: =ROUND(T33/G33,2) -> 0.26 | W33: =ROUND(K33*$O$7,2) -> 1394.5 | X33: =ROUND(P33+W33,2) -> 10353.79 | Z33: =IF($O$10>0,ROUND($O$10-X33,2),0) -> 89646.21 | AA33: =IF($O$10>0,ROUND(X33/$O$10,2),0) -> 0.1 | AB33: =IF(AND(Z33>0,$O$4>0),($O$10-P33-W33*$O$8)/O33,0) -> 1267.0921 | AC33: =IF(AB33>0,AB33+G33,0) -> 1866.0921 | AD33: 14 | AF33: =IF(P33>0,ROUND(W33/P33,2),0) -> 0.16 | AG33: =IF($O$10>0,ROUND(W33/$O$10,2),0) -> 0.01
A34: 15 | B34: =IF(AND($A34>=C$12,C$12>0),0,IF(AND($A34>=C$9,C$9>0),C$10,IF(AND($A34>=C$6,C$6>0),C$7,0))) -> 1 | C34: =IF(AND($A34>=C$12,C$12>0),C$13,C33+B34) -> 30 | E34: =IF(OR($A34<2,AND(G$15>0,$A34>G$15)),0,IF(AND($A34>=G$12,G$12>0),G$13,IF(AND($A34>=G$9,G$9>0),G$10,IF(AND($A34>=G$6,G$6>0),G$7,0)))) -> 8 | F34: =F33+E34 -> 91 | G34: =G33+F34 -> 690 | I34: =IF(($A34<K$4),1,IF(AND($A34>K$15,K$15>0),I33,IF(AND($A34>=K$12,K$12>0),ROUND(I33+K$13,4),IF(AND($A34>=K$9,K$9>0),ROUND(I33+K$10,4),IF(AND($A34>=K$6,K$6>0),ROUND(I33+K$7,4),K$3))))) -> 1.705 | J34: =IF($A34<K$4, K$2, IF(K$1=0,IF(K$16>0,IF(K$2*K$16<ROUND(J33*I34, 3),K$2*K$16,ROUND(J33*I34, 3)),ROUND(J33*I34, 3)),IF(K$16>0,IF(K$2*K$16<ROUND(K$2*I34, 3),K$2*K$16,ROUND(K$2*I34, 3)),ROUND(K$2*I34, 3)))) -> 6.247 | K34: =K33+ROUND(J34,3) -> 15.931 | M34: =ROUND(C34*O34-K34*$O$6,2) -> 3407.68 | N34: =IF($O$10>0,M34/$O$10,0) -> 0.0340768 | O34: =ROUND(ROUND(K34,2)*$O$4,2) -> 117.88 | P34: =ROUND((ROUND(K33,2)*(G34-G33)*$O$4+P33+J34*$O$6),2) -> 15528.28 | Q34: =P34/$O$10 -> 0.1552828 | R34: =ROUND(P34/O34,0) -> 132 | S34: =ROUND(R34/G34,2) -> 0.19 | T34: =R34+C34 -> 162 | U34: =ROUND(T34/G34,2) -> 0.23 | W34: =ROUND(K34*$O$7,2) -> 2294.06 | X34: =ROUND(P34+W34,2) -> 17822.34 | Z34: =IF($O$10>0,ROUND($O$10-X34,2),0) -> 82177.66 | AA34: =IF($O$10>0,ROUND(X34/$O$10,2),0) -> 0.18 | AB34: =IF(AND(Z34>0,$O$4>0),($O$10-P34-W34*$O$8)/O34,0) -> 712.69857 | AC34: =IF(AB34>0,AB34+G34,0) -> 1402.6986 | AD34: 15 | AF34: =IF(P34>0,ROUND(W34/P34,2),0) -> 0.15 | AG34: =IF($O$10>0,ROUND(W34/$O$10,2),0) -> 0.02
A35: 16 | B35: =IF(AND($A35>=C$12,C$12>0),0,IF(AND($A35>=C$9,C$9>0),C$10,IF(AND($A35>=C$6,C$6>0),C$7,0))) -> 1 | C35: =IF(AND($A35>=C$12,C$12>0),C$13,C34+B35) -> 31 | E35: =IF(OR($A35<2,AND(G$15>0,$A35>G$15)),0,IF(AND($A35>=G$12,G$12>0),G$13,IF(AND($A35>=G$9,G$9>0),G$10,IF(AND($A35>=G$6,G$6>0),G$7,0)))) -> 8 | F35: =F34+E35 -> 99 | G35: =G34+F35 -> 789 | I35: =IF(($A35<K$4),1,IF(AND($A35>K$15,K$15>0),I34,IF(AND($A35>=K$12,K$12>0),ROUND(I34+K$13,4),IF(AND($A35>=K$9,K$9>0),ROUND(I34+K$10,4),IF(AND($A35>=K$6,K$6>0),ROUND(I34+K$7,4),K$3))))) -> 1.74 | J35: =IF($A35<K$4, K$2, IF(K$1=0,IF(K$16>0,IF(K$2*K$16<ROUND(J34*I35, 3),K$2*K$16,ROUND(J34*I35, 3)),ROUND(J34*I35, 3)),IF(K$16>0,IF(K$2*K$16<ROUND(K$2*I35, 3),K$2*K$16,ROUND(K$2*I35, 3)),ROUND(K$2*I35, 3)))) -> 10.87 | K35: =K34+ROUND(J35,3) -> 26.801 | M35: =ROUND(C35*O35-K35*$O$6,2) -> 5931.37 | N35: =IF($O$10>0,M35/$O$10,0) -> 0.0593137 | O35: =ROUND(ROUND(K35,2)*$O$4,2) -> 198.32 | P35: =ROUND((ROUND(K34,2)*(G35-G34)*$O$4+P34+J35*$O$6),2) -> 27286.43 | Q35: =P35/$O$10 -> 0.2728643 | R35: =ROUND(P35/O35,0) -> 138 | S35: =ROUND(R35/G35,2) -> 0.17 | T35: =R35+C35 -> 169 | U35: =ROUND(T35/G35,2) -> 0.21 | W35: =ROUND(K35*$O$7,2) -> 3859.34 | X35: =ROUND(P35+W35,2) -> 31145.77 | Z35: =IF($O$10>0,ROUND($O$10-X35,2),0) -> 68854.23 | AA35: =IF($O$10>0,ROUND(X35/$O$10,2),0) -> 0.31 | AB35: =IF(AND(Z35>0,$O$4>0),($O$10-P35-W35*$O$8)/O35,0) -> 362.75566 | AC35: =IF(AB35>0,AB35+G35,0) -> 1151.7557 | AD35: 16 | AF35: =IF(P35>0,ROUND(W35/P35,2),0) -> 0.14 | AG35: =IF($O$10>0,ROUND(W35/$O$10,2),0) -> 0.04
A36: 17 | B36: =IF(AND($A36>=C$12,C$12>0),0,IF(AND($A36>=C$9,C$9>0),C$10,IF(AND($A36>=C$6,C$6>0),C$7,0))) -> 1 | C36: =IF(AND($A36>=C$12,C$12>0),C$13,C35+B36) -> 32 | E36: =IF(OR($A36<2,AND(G$15>0,$A36>G$15)),0,IF(AND($A36>=G$12,G$12>0),G$13,IF(AND($A36>=G$9,G$9>0),G$10,IF(AND($A36>=G$6,G$6>0),G$7,0)))) -> 8 | F36: =F35+E36 -> 107 | G36: =G35+F36 -> 896 | I36: =IF(($A36<K$4),1,IF(AND($A36>K$15,K$15>0),I35,IF(AND($A36>=K$12,K$12>0),ROUND(I35+K$13,4),IF(AND($A36>=K$9,K$9>0),ROUND(I35+K$10,4),IF(AND($A36>=K$6,K$6>0),ROUND(I35+K$7,4),K$3))))) -> 1.775 | J36: =IF($A36<K$4, K$2, IF(K$1=0,IF(K$16>0,IF(K$2*K$16<ROUND(J35*I36, 3),K$2*K$16,ROUND(J35*I36, 3)),ROUND(J35*I36, 3)),IF(K$16>0,IF(K$2*K$16<ROUND(K$2*I36, 3),K$2*K$16,ROUND(K$2*I36, 3)),ROUND(K$2*I36, 3)))) -> 19.294 | K36: =K35+ROUND(J36,3) -> 46.095 | M36: =ROUND(C36*O36-K36*$O$6,2) -> 10544.03 | N36: =IF($O$10>0,M36/$O$10,0) -> 0.1054403 | O36: =ROUND(ROUND(K36,2)*$O$4,2) -> 341.14 | P36: =ROUND((ROUND(K35,2)*(G36-G35)*$O$4+P35+J36*$O$6),2) -> 48662.57 | Q36: =P36/$O$10 -> 0.4866257 | R36: =ROUND(P36/O36,0) -> 143 | S36: =ROUND(R36/G36,2) -> 0.16 | T36: =R36+C36 -> 175 | U36: =ROUND(T36/G36,2) -> 0.2 | W36: =ROUND(K36*$O$7,2) -> 6637.68 | X36: =ROUND(P36+W36,2) -> 55300.25 | Z36: =IF($O$10>0,ROUND($O$10-X36,2),0) -> 44699.75 | AA36: =IF($O$10>0,ROUND(X36/$O$10,2),0) -> 0.55 | AB36: =IF(AND(Z36>0,$O$4>0),($O$10-P36-W36*$O$8)/O36,0) -> 146.59639 | AC36: =IF(AB36>0,AB36+G36,0) -> 1042.5964 | AD36: 17 | AF36: =IF(P36>0,ROUND(W36/P36,2),0) -> 0.14 | AG36: =IF($O$10>0,ROUND(W36/$O$10,2),0) -> 0.07
A37: 18 | B37: =IF(AND($A37>=C$12,C$12>0),0,IF(AND($A37>=C$9,C$9>0),C$10,IF(AND($A37>=C$6,C$6>0),C$7,0))) -> 1 | C37: =IF(AND($A37>=C$12,C$12>0),C$13,C36+B37) -> 33 | E37: =IF(OR($A37<2,AND(G$15>0,$A37>G$15)),0,IF(AND($A37>=G$12,G$12>0),G$13,IF(AND($A37>=G$9,G$9>0),G$10,IF(AND($A37>=G$6,G$6>0),G$7,0)))) -> 8 | F37: =F36+E37 -> 115 | G37: =G36+F37 -> 1011 | I37: =IF(($A37<K$4),1,IF(AND($A37>K$15,K$15>0),I36,IF(AND($A37>=K$12,K$12>0),ROUND(I36+K$13,4),IF(AND($A37>=K$9,K$9>0),ROUND(I36+K$10,4),IF(AND($A37>=K$6,K$6>0),ROUND(I36+K$7,4),K$3))))) -> 1.81 | J37: =IF($A37<K$4, K$2, IF(K$1=0,IF(K$16>0,IF(K$2*K$16<ROUND(J36*I37, 3),K$2*K$16,ROUND(J36*I37, 3)),ROUND(J36*I37, 3)),IF(K$16>0,IF(K$2*K$16<ROUND(K$2*I37, 3),K$2*K$16,ROUND(K$2*I37, 3)),ROUND(K$2*I37, 3)))) -> 34.922 | K37: =K36+ROUND(J37,3) -> 81.017 | M37: =ROUND(C37*O37-K37*$O$6,2) -> 19130.53 | N37: =IF($O$10>0,M37/$O$10,0) -> 0.1913053 | O37: =ROUND(ROUND(K37,2)*$O$4,2) -> 599.55 | P37: =ROUND((ROUND(K36,2)*(G37-G36)*$O$4+P36+J37*$O$6),2) -> 88175.84 | Q37: =P37/$O$10 -> 0.8817584 | R37: =ROUND(P37/O37,0) -> 147 | S37: =ROUND(R37/G37,2) -> 0.15 | T37: =R37+C37 -> 180 | U37: =ROUND(T37/G37,2) -> 0.18 | W37: =ROUND(K37*$O$7,2) -> 11666.45 | X37: =ROUND(P37+W37,2) -> 99842.29 | Z37: =IF($O$10>0,ROUND($O$10-X37,2),0) -> 157.71 | AA37: =IF($O$10>0,ROUND(X37/$O$10,2),0) -> 1 | AB37: =IF(AND(Z37>0,$O$4>0),($O$10-P37-W37*$O$8)/O37,0) -> 15.829989 | AC37: =IF(AB37>0,AB37+G37,0) -> 1026.83 | AD37: 18 | AF37: =IF(P37>0,ROUND(W37/P37,2),0) -> 0.13 | AG37: =IF($O$10>0,ROUND(W37/$O$10,2),0) -> 0.12
A38: 19 | B38: =IF(AND($A38>=C$12,C$12>0),0,IF(AND($A38>=C$9,C$9>0),C$10,IF(AND($A38>=C$6,C$6>0),C$7,0))) -> 1 | C38: =IF(AND($A38>=C$12,C$12>0),C$13,C37+B38) -> 34 | E38: =IF(OR($A38<2,AND(G$15>0,$A38>G$15)),0,IF(AND($A38>=G$12,G$12>0),G$13,IF(AND($A38>=G$9,G$9>0),G$10,IF(AND($A38>=G$6,G$6>0),G$7,0)))) -> 8 | F38: =F37+E38 -> 123 | G38: =G37+F38 -> 1134 | I38: =IF(($A38<K$4),1,IF(AND($A38>K$15,K$15>0),I37,IF(AND($A38>=K$12,K$12>0),ROUND(I37+K$13,4),IF(AND($A38>=K$9,K$9>0),ROUND(I37+K$10,4),IF(AND($A38>=K$6,K$6>0),ROUND(I37+K$7,4),K$3))))) -> 1.845 | J38: =IF($A38<K$4, K$2, IF(K$1=0,IF(K$16>0,IF(K$2*K$16<ROUND(J37*I38, 3),K$2*K$16,ROUND(J37*I38, 3)),ROUND(J37*I38, 3)),IF(K$16>0,IF(K$2*K$16<ROUND(K$2*I38, 3),K$2*K$16,ROUND(K$2*I38, 3)),ROUND(K$2*I38, 3)))) -> 64.431 | K38: =K37+ROUND(J38,3) -> 145.448 | M38: =ROUND(C38*O38-K38*$O$6,2) -> 35420 | N38: =IF($O$10>0,M38/$O$10,0) -> 0.3542 | O38: =ROUND(ROUND(K38,2)*$O$4,2) -> 1076.33 | P38: =ROUND((ROUND(K37,2)*(G38-G37)*$O$4+P37+J38*$O$6),2) -> 162440.85 | Q38: =P38/$O$10 -> 1.6244085 | R38: =ROUND(P38/O38,0) -> 151 | S38: =ROUND(R38/G38,2) -> 0.13 | T38: =R38+C38 -> 185 | U38: =ROUND(T38/G38,2) -> 0.16 | W38: =ROUND(K38*$O$7,2) -> 20944.51 | X38: =ROUND(P38+W38,2) -> 183385.36 | Z38: =IF($O$10>0,ROUND($O$10-X38,2),0) -> -83385.36 | AA38: =IF($O$10>0,ROUND(X38/$O$10,2),0) -> 1.83 | AB38: =IF(AND(Z38>0,$O$4>0),($O$10-P38-W38*$O$8)/O38,0) -> 0 | AC38: =IF(AB38>0,AB38+G38,0) -> 0 | AD38: 19 | AF38: =IF(P38>0,ROUND(W38/P38,2),0) -> 0.13 | AG38: =IF($O$10>0,ROUND(W38/$O$10,2),0) -> 0.21
A39: 20 | B39: =IF(AND($A39>=C$12,C$12>0),0,IF(AND($A39>=C$9,C$9>0),C$10,IF(AND($A39>=C$6,C$6>0),C$7,0))) -> 1 | C39: =IF(AND($A39>=C$12,C$12>0),C$13,C38+B39) -> 35 | E39: =IF(OR($A39<2,AND(G$15>0,$A39>G$15)),0,IF(AND($A39>=G$12,G$12>0),G$13,IF(AND($A39>=G$9,G$9>0),G$10,IF(AND($A39>=G$6,G$6>0),G$7,0)))) -> 8 | F39: =F38+E39 -> 131 | G39: =G38+F39 -> 1265 | I39: =IF(($A39<K$4),1,IF(AND($A39>K$15,K$15>0),I38,IF(AND($A39>=K$12,K$12>0),ROUND(I38+K$13,4),IF(AND($A39>=K$9,K$9>0),ROUND(I38+K$10,4),IF(AND($A39>=K$6,K$6>0),ROUND(I38+K$7,4),K$3))))) -> 1.88 | J39: =IF($A39<K$4, K$2, IF(K$1=0,IF(K$16>0,IF(K$2*K$16<ROUND(J38*I39, 3),K$2*K$16,ROUND(J38*I39, 3)),ROUND(J38*I39, 3)),IF(K$16>0,IF(K$2*K$16<ROUND(K$2*I39, 3),K$2*K$16,ROUND(K$2*I39, 3)),ROUND(K$2*I39, 3)))) -> 121.13 | K39: =K38+ROUND(J39,3) -> 266.578 | M39: =ROUND(C39*O39-K39*$O$6,2) -> 66890.2 | N39: =IF($O$10>0,M39/$O$10,0) -> 0.668902 | O39: =ROUND(ROUND(K39,2)*$O$4,2) -> 1972.69 | P39: =ROUND((ROUND(K38,2)*(G39-G38)*$O$4+P38+J39*$O$6),2) -> 304418.81 | Q39: =P39/$O$10 -> 3.0441881 | R39: =ROUND(P39/O39,0) -> 154 | S39: =ROUND(R39/G39,2) -> 0.12 | T39: =R39+C39 -> 189 | U39: =ROUND(T39/G39,2) -> 0.15 | W39: =ROUND(K39*$O$7,2) -> 38387.23 | X39: =ROUND(P39+W39,2) -> 342806.04 | Z39: =IF($O$10>0,ROUND($O$10-X39,2),0) -> -242806.04 | AA39: =IF($O$10>0,ROUND(X39/$O$10,2),0) -> 3.43 | AB39: =IF(AND(Z39>0,$O$4>0),($O$10-P39-W39*$O$8)/O39,0) -> 0 | AC39: =IF(AB39>0,AB39+G39,0) -> 0 | AD39: 20 | AF39: =IF(P39>0,ROUND(W39/P39,2),0) -> 0.13 | AG39: =IF($O$10>0,ROUND(W39/$O$10,2),0) -> 0.38
B43: 1 | F43: 2 | J43: 3 | M43: 4 | W43: 5 | AA43: 6 | AF43: 7

Sheet 0.05
I1: CalcLotType | J1: =IF(K$1=0,"LastOrder",IF(K$1=1,"MinOrder","ОШИБКА")) -> LastOrder | K1: ='0.01'!K1 -> 0
A2: TakeProffit | B2: =IF(C$2<=0,"д.б. >0","") | C2: ='0.01'!C2 -> 18 | E2: GridStep | F2: =IF(G$2<2,"д.б. >1","") | G2: ='0.01'!G2 -> 19 | I2: MinLot | J2: =IF(K$2<0,"д.б. >0","") | K2: 0.05 | M2: Пара | O2: ='0.01'!O2 -> nzdcad
I3: Mult | J3: =IF(K$3<0,"д.б. >0","") | K3: ='0.01'!K3 -> 1.4 | M3: Значность | O3: ='0.01'!O3 -> 4
I4: MultStart | J4: =IF(K$4<2,"д.б. >1","") | K4: ='0.01'!K4 -> 4 | M4: Цена пипса, $ | O4: ='0.01'!O4 -> 7.4
AI5: 1
A6: TakeProffit_Level1 | C6: ='0.01'!C6 -> 4 | E6: GridLevel | F6: =IF(G$6<0,"д.б. >=0","") | G6: ='0.01'!G6 -> 3 | I6: MultLevel2 | J6: =IF(K$6<0,"д.б. >=0","") | K6: ='0.01'!K6 -> 6 | M6: Комиссия, $ | O6: ='0.01'!O6 -> 8.08
A7: TakeProffit_Level1Corr | C7: ='0.01'!C7 -> 1 | E7: GridStep_AddPips | G7: ='0.01'!G7 -> 4 | I7: MultCorr | J7: =IF(AND(K$6=0,K$7<>0),"д.б. =0","") | K7: ='0.01'!K7 -> 0.02 | M7: Залог 1 лот, $ | O7: ='0.01'!O7 -> 144
B8: =IF(OR(C$6=1,C$6<0,C$9=1,C$9<0,C$12=1,C$12<0,AND(C$6>1,C$9>1,C$6>=C$9),AND(C$6>1,C$12>1,C$6>=C$12),AND(C$9>1,C$12>1,C$9>=C$12)),"ОШИБКА в № колен","") | F8: =IF(OR(G$6=1,G$6<0,G$9=1,G$9<0,G$12=1,G$12<0,G$15<0,AND(G$6>1,G$9>1,G$6>=G$9),AND(G$6>1,G$12>1,G$6>=G$12),AND(G$9>1,G$12>1,G$9>=G$12),AND(G$6>1,G$15>0,G$6>G$15),AND(G$9>1,G$15>0,G$9>G$15),AND(G$12>1,G$15>0,G$12>G$15)),"ОШИБКА в №№ колен","") | J8: =IF(OR(K$6=1,K$6<0,K$9=1,K$9<0,K$12=1,K$12<0,K$15<0,AND(K$6>0,K$4>=K$6),AND(K$9>0,K$4>=K$9),AND(K$12>0,K$4>=K$12),AND(K$6>1,K$9>1,K$6>=K$9),AND(K$6>1,K$12>1,K$6>=K$12),AND(K$9>1,K$12>1,K$9>=K$12),AND(K$15>0,K$4>K$15),AND(K$6>1,K$15>0,K$6>K$15),AND(K$9>1,K$15>0,K$9>K$15),AND(K$12>1,K$15>0,K$12>K$15)),"ОШИБКА № колен","") | M8: StopOut, % | O8: ='0.01'!O8 -> 0.2
A9: TakeProffit_Level1_5 | C9: ='0.01'!C9 -> 0 | E9: GridStep_Level2 | G9: ='0.01'!G9 -> 11 | I9: MultLevel3 | J9: =IF(K$9<0,"д.б. >=0","") | K9: ='0.01'!K9 -> 9
A10: TakeProffit_Level1_5Corr | C10: ='0.01'!C10 -> 0 | E10: GridStep_Level2_AddPips | G10: ='0.01'!G10 -> 8 | I10: MultСorrLevel3 | J10: =IF(AND(K$9=0,K$10<>0),"д.б. =0","") | K10: ='0.01'!K10 -> 0.035 | M10: Депо, $ | O10: ='0.01'!O10 -> 100000
A12: TakeProffit_Level2 | C12: ='0.01'!C12 -> 0 | E12: Grid3 | F12: =IF(G$12<0,"д.б. >=0","") | G12: ='0.01'!G12 -> 0 | I12: Mult3 | J12: =IF(K$12<0,"д.б. >=0","") | K12: ='0.01'!K12 -> 0
A13: TakeProffit_Level2FixPips | C13: ='0.01'!C13 -> 0 | E13: Grid3Add | F13: =IF(AND(G$12=0,G$13<>0),"д.б. =0","") | G13: ='0.01'!G13 -> 0 | I13: Mult3Add | J13: =IF(AND(K$12=0,K$13<>0),"д.б. =0","") | K13: ='0.01'!K13 -> 0
E15: GridStop | F15: =IF(G$15<0,"д.б. >=0","") | G15: ='0.01'!G15 -> 0 | I15: MultStop | J15: =IF(K$15<0,"д.б. >=0","") | K15: ='0.01'!K15 -> 0
I16: MaxLotCoef | J16: =IF(K$16<0,"д.б. >=0","") | K16: ='0.01'!K16 -> 0
