Workbook

Sheet Сводная МОДЕЛЬ 1x1
I1: CalcLotType | J1: =IF(K$1=0,"LastOrder",IF(K$1=1,"MinOrder","ОШИБКА")) -> LastOrder | K1: 0
A2: TakeProffit | B2: =IF(C$2<=0,"д.б. >0","") | C2: 14 | E2: GridStep | F2: =IF(G$2<2,"д.б. >1","") | G2: 14 | I2: MinLot | J2: =IF(K$2<0,"д.б. >0","") | K2: 0.01 | M2: Пара | O2: eurusd
I3: Mult | J3: =IF(K$3<0,"д.б. >0","") | K3: 1.25 | M3: Значность | O3: 4
I4: MultStart | J4: =IF(K$4<2,"д.б. >1","") | K4: 3 | M4: Цена пипса, $ | O4: 10
BO5: 1
A6: TakeProffit_Level1 | C6: 0 | E6: GridLevel | F6: =IF(G$6<0,"д.б. >=0","") | G6: 2 | I6: MultLevel2 | J6: =IF(K$6<0,"д.б. >=0","") | K6: 0 | M6: Комиссия, $ | O6: 0
A7: TakeProffit_Level1Corr | C7: 0 | E7: GridStep_AddPips | G7: 2 | I7: MultCorr | J7: =IF(AND(K$6=0,K$7<>0),"д.б. =0","") | K7: 0 | M7: Залог 1 лот, $ | O7: 244
B8: =IF(OR(C$6=1,C$6<0,C$9=1,C$9<0,C$12=1,C$12<0,AND(C$6>1,C$9>1,C$6>=C$9),AND(C$6>1,C$12>1,C$6>=C$12),AND(C$9>1,C$12>1,C$9>=C$12)),"ОШИБКА в № колен","") | F8: =IF(OR(G$6=1,G$6<0,G$9=1,G$9<0,G$12=1,G$12<0,G$15<0,AND(G$6>1,G$9>1,G$6>=G$9),AND(G$6>1,G$12>1,G$6>=G$12),AND(G$9>1,G$12>1,G$9>=G$12),AND(G$6>1,G$15>0,G$6>G$15),AND(G$9>1,G$15>0,G$9>G$15),AND(G$12>1,G$15>0,G$12>G$15)),"ОШИБКА в №№ колен","") | J8: =IF(OR(K$6=1,K$6<0,K$9=1,K$9<0,K$12=1,K$12<0,K$15<0,AND(K$6>0,K$4>=K$6),AND(K$9>0,K$4>=K$9),AND(K$12>0,K$4>=K$12),AND(K$6>1,K$9>1,K$6>=K$9),AND(K$6>1,K$12>1,K$6>=K$12),AND(K$9>1,K$12>1,K$9>=K$12),AND(K$15>0,K$4>K$15),AND(K$6>1,K$15>0,K$6>K$15),AND(K$9>1,K$15>0,K$9>K$15),AND(K$12>1,K$15>0,K$12>K$15)),"ОШИБКА № колен","") | M8: StopOut, % | O8: 0.6
A9: TakeProffit_Level1_5 | C9: 0 | E9: GridStep_Level2 | G9: 7 | I9: MultLevel3 | J9: =IF(K$9<0,"д.б. >=0","") | K9: 0
A10: TakeProffit_Level1_5Corr | C10: 0 | E10: GridStep_Level2_AddPips | G10: 3 | I10: MultСorrLevel3 | J10: =IF(AND(K$9=0,K$10<>0),"д.б. =0","") | K10: 0 | M10: Депо, $ | O10: 2800
A12: TakeProffit_Level2 | C12: 0 | E12: Grid3 | F12: =IF(G$12<0,"д.б. >=0","") | G12: 13 | I12: Mult3 | J12: =IF(K$12<0,"д.б. >=0","") | K12: 0
A13: TakeProffit_Level2FixPips | C13: 0 | E13: Grid3Add | F13: =IF(AND(G$12=0,G$13<>0),"д.б. =0","") | G13: 4 | I13: Mult3Add | J13: =IF(AND(K$12=0,K$13<>0),"д.б. =0","") | K13: 0
AJ14: eurusd
E15: GridStop | F15: =IF(G$15<0,"д.б. >=0","") | G15: 15 | I15: MultStop | J15: =IF(K$15<0,"д.б. >=0","") | K15: 0
A16: MaxOpenOrders | C16: 17 | I16: MaxLotCoef | J16: =IF(K$16<0,"д.б. >=0","") | K16: 0
A18: №№ колен | B18: Кор-рект | C18: TP | E18: Коррект | F18: Шаг, пипсов | G18: Сетка пипсов от 1-го ордера | I18: Мульт | J18: Ордер | K18: Лотов сумма | M18: Прибыль | O18: $/пипс | P18: Просадка | R18: Безубыток | T18: ТР | W18: Залог, $ | X18: Просадка + залог, $ (включая комиссию) Min депо | Z18: Св.Маржа = Депо - просадка-залог, $ | AA18: Просадка + залог = %%депо | AB18: Max просадка до StopOut в пипсах от: | AD18: №№ ко-лен | AF18: Залог к просадке (включая комиссию) | AG18: Залог к депо, % | AI18: №№ ко-лен | AJ18: Кол-во сеток | AM18: Суммарный лот сеток | AP18: Общая прибыль | AS18: Средняя прибыль | AV18: % от общей прибыли | AY18: Макс размер сетки в пунктах | BA18: Средний размер сетки в пунктах | BD18: Макс кол-во пунктов до тп сетки | BF18: Среднее кол-во пунктов до тп сетки | BI18: Макс время сетки, Часы:Минуты | BK18: Среднее время существования сетки, Часы:Минуты
M19: $ | N19: % депо | P19: $ | Q19: % депо | R19: Пипсов | S19: %% | T19: Пипсов | U19: %% | AB19: Колена N | AC19: 1го ордера | AJ19: sell | AK19: buy | AL19: sell+buy | AM19: sell | AN19: buy | AO19: sell+buy | AP19: sell | AQ19: buy | AR19: sell+buy | AS19: sell | AT19: buy | AU19: sell+buy | AV19: sell | AW19: buy | AX19: sell+buy | AY19: sell | AZ19: buy | BA19: sell | BB19: buy | BC19: sell+buy | BD19: sell | BE19: buy | BF19: sell | BG19: buy | BH19: sell+buy | BI19: sell | BJ19: buy | BK19: sell | BL19: buy | BM19: sell+buy
A20: 1 | B20: 0 | C20: =C$2 -> 14 | E20: =IF(OR($A20<2,AND(G$15>0,$A20>G$15)),0,IF(AND($A20>=G$12,G$12>0),G$13,IF(AND($A20>=G$9,G$9>0),G$10,IF(AND($A20>=G$6,G$6>0),G$7,0)))) -> 0 | F20: 0 | G20: =F20 -> 0 | I20: =IF(($A20<K$4),1,IF(AND($A20>K$15,K$15>0),I19,IF(AND($A20>=K$12,K$12>0),ROUND(I19+K$13,4),IF(AND($A20>=K$9,K$9>0),ROUND(I19+K$10,4),IF(AND($A20>=K$6,K$6>0),ROUND(I19+K$7,4),K$3))))) -> 1 | J20: =IF($A20<K$4, K$2, IF(K$1=0,IF(K$16>0,IF(K$2*K$16<ROUND(J19*I20, 3),K$2*K$16,ROUND(J19*I20, 3)),ROUND(J19*I20, 3)),IF(K$16>0,IF(K$2*K$16<ROUND(K$2*I20, 3),K$2*K$16,ROUND(K$2*I20, 3)),ROUND(K$2*I20, 3)))) -> 0.01 | K20: =J20 -> 0.01 | M20: =ROUND(C20*O20-K20*$O$6,2) -> 1.4 | N20: =IF($O$10>0,M20/$O$10,0) -> 0.0005 | O20: =ROUND(ROUND(K20,2)*$O$4,2) -> 0.1 | P20: =ROUND(J20*$O$6,2) -> 0 | Q20: =P20/$O$10 -> 0 | R20: =ROUND(P20/O20,0) -> 0 | S20: 0 | T20: =R20+C20 -> 14 | U20: 0 | W20: =ROUND(K20*$O$7,2) -> 2.44 | X20: =ROUND(P20+W20,2) -> 2.44 | Z20: =IF($O$10>0,ROUND($O$10-X20,2),0) -> 2797.56 | AA20: =IF($O$10>0,ROUND(X20/$O$10,2),0) -> 0 | AB20: =IF(AND(Z20>0,$O$4>0),($O$10-P20-W20*$O$8)/O20,0) -> 27985.36 | AC20: =IF(AB20>0,AB20+G20,0) -> 27985.36 | AD20: 1 | AF20: =IF(P20>0,ROUND(W20/P20,2),0) -> 0 | AG20: =IF($O$10>0,ROUND(W20/$O$10,2),0) -> 0 | AI20: 1 | AJ20: =COUNTIFS([1]Обработка!$E:$E,AI20,[1]Обработка!$C:$C,"sell") -> 466 | AK20: =COUNTIFS([1]Обработка!$E:$E,AI20,[1]Обработка!$C:$C,"buy") -> 479 | AL20: =COUNTIFS([1]Обработка!$E:$E,AI20) -> 945 | AM20: =SUMIFS([1]Обработка!$F:$F,[1]Обработка!$E:$E,AI20,[1]Обработка!$C:$C,"sell") -> 4.66 | AN20: =SUMIFS([1]Обработка!$F:$F,[1]Обработка!$E:$E,AI20,[1]Обработка!$C:$C,"buy") -> 4.79 | AO20: =SUMIFS([1]Обработка!$F:$F,[1]Обработка!$E:$E,AI20) -> 9.45 | AP20: =SUMIFS([1]Обработка!$G:$G,[1]Обработка!$E:$E,AI20,[1]Обработка!$C:$C,"sell") -> 652.16 | AQ20: =SUMIFS([1]Обработка!$G:$G,[1]Обработка!$E:$E,AI20,[1]Обработка!$C:$C,"buy") -> 671.07 | AR20: =SUMIFS([1]Обработка!$G:$G,[1]Обработка!$E:$E,AI20) -> 1323.23 | AS20: =ROUND(IF(AJ20>0,AVERAGEIFS([1]Обработка!$G:$G,[1]Обработка!$E:$E,AI20,[1]Обработка!$C:$C,"sell"),0),2) -> 1.4 | AT20: =ROUND(IF(AK20>0,AVERAGEIFS([1]Обработка!$G:$G,[1]Обработка!$E:$E,AI20,[1]Обработка!$C:$C,"buy"),0),2) -> 1.4 | AU20: =ROUND(IF(AL20>0,AVERAGEIFS([1]Обработка!$G:$G,[1]Обработка!$E:$E,AI20),0),2) -> 1.4 | AV20: =IF(AJ20>0,SUMIFS([1]Обработка!$G:$G,[1]Обработка!$E:$E,AI20,[1]Обработка!$C:$C,"sell")/SUMIFS([1]Обработка!$G:$G,[1]Обработка!$B:$B,"t/p"),0) -> 0.084836801 | AW20: =IF(AK20>0,SUMIFS([1]Обработка!$G:$G,[1]Обработка!$E:$E,AI20,[1]Обработка!$C:$C,"buy")/SUMIFS([1]Обработка!$G:$G,[1]Обработка!$B:$B,"t/p"),0) -> 0.087296725 | AX20: =IF(AL20>0,SUMIFS([1]Обработка!$G:$G,[1]Обработка!$E:$E,AI20)/SUMIFS([1]Обработка!$G:$G,[1]Обработка!$B:$B,"t/p"),0) -> 0.17213353 | AY20: =IF(VLOOKUP($AJ$14,[1]Сводная!$AG$4:$AH$38,2,0)=3,SUMIFS([1]Обработка!$P:$P,[1]Обработка!$M:$M,AI20,[1]Обработка!$N:$N,"sell")/100,SUMIFS([1]Обработка!$P:$P,[1]Обработка!$M:$M,AI20,[1]Обработка!$N:$N,"sell")) -> 0 | AZ20: =IF(VLOOKUP($AJ$14,[1]Сводная!$AG$4:$AH$38,2,0)=3,SUMIFS([1]Обработка!$P:$P,[1]Обработка!$M:$M,AI20,[1]Обработка!$N:$N,"buy")/100,SUMIFS([1]Обработка!$P:$P,[1]Обработка!$M:$M,AI20,[1]Обработка!$N:$N,"buy")) -> 0 | BA20: =IF(VLOOKUP($AJ$14,[1]Сводная!$AG$4:$AH$38,2,0)=3,ROUND(IF(AJ20>0,AVERAGEIFS([1]Обработка!$T:$T,[1]Обработка!$E:$E,AI20,[1]Обработка!$C:$C,"sell"),0),1)/100,ROUND(IF(AJ20>0,AVERAGEIFS([1]Обработка!$T:$T,[1]Обработка!$E:$E,AI20,[1]Обработка!$C:$C,"sell"),0),1)) -> 0 | BB20: =IF(VLOOKUP($AJ$14,[1]Сводная!$AG$4:$AH$38,2,0)=3,ROUND(IF(AK20>0,AVERAGEIFS([1]Обработка!$T:$T,[1]Обработка!$E:$E,AI20,[1]Обработка!$C:$C,"buy"),0),1)/100,ROUND(IF(AK20>0,AVERAGEIFS([1]Обработка!$T:$T,[1]Обработка!$E:$E,AI20,[1]Обработка!$C:$C,"buy"),0),1)) -> 0 | BC20: =IF(VLOOKUP($AJ$14,[1]Сводная!$AG$4:$AH$38,2,0)=3,ROUND(IF(AL20>0,AVERAGEIFS([1]Обработка!$T:$T,[1]Обработка!$E:$E,AI20),0),1)/100,ROUND(IF(AL20>0,AVERAGEIFS([1]Обработка!$T:$T,[1]Обработка!$E:$E,AI20),0),1)) -> 0 | BD20: =IF(VLOOKUP($AJ$14,[1]Сводная!$AG$4:$AH$38,2,0)=3,SUMIFS([1]Обработка!$O:$O,[1]Обработка!$M:$M,AI20,[1]Обработка!$N:$N,"sell")/100,SUMIFS([1]Обработка!$O:$O,[1]Обработка!$M:$M,AI20,[1]Обработка!$N:$N,"sell")) -> 14 | BE20: =IF(VLOOKUP($AJ$14,[1]Сводная!$AG$4:$AH$38,2,0)=3,SUMIFS([1]Обработка!$O:$O,[1]Обработка!$M:$M,AI20,[1]Обработка!$N:$N,"buy")/100,SUMIFS([1]Обработка!$O:$O,[1]Обработка!$M:$M,AI20,[1]Обработка!$N:$N,"buy")) -> 16.3 | BF20: =IF(VLOOKUP($AJ$14,[1]Сводная!$AG$4:$AH$38,2,0)=3,ROUND(IF(AJ20>0,AVERAGEIFS([1]Обработка!$U:$U,[1]Обработка!$E:$E,AI20,[1]Обработка!$C:$C,"sell"),0),1)/100,ROUND(IF(AJ20>0,AVERAGEIFS([1]Обработка!$U:$U,[1]Обработка!$E:$E,AI20,[1]Обработка!$C:$C,"sell"),0),1)) -> 14 | BG20: =IF(VLOOKUP($AJ$14,[1]Сводная!$AG$4:$AH$38,2,0)=3,ROUND(IF(AK20>0,AVERAGEIFS([1]Обработка!$U:$U,[1]Обработка!$E:$E,AI20,[1]Обработка!$C:$C,"buy"),0),1)/100,ROUND(IF(AK20>0,AVERAGEIFS([1]Обработка!$U:$U,[1]Обработка!$E:$E,AI20,[1]Обработка!$C:$C,"buy"),0),1)) -> 14.1 | BH20: =IF(VLOOKUP($AJ$14,[1]Сводная!$AG$4:$AH$38,2,0)=3,ROUND(IF(AL20>0,AVERAGEIFS([1]Обработка!$U:$U,[1]Обработка!$E:$E,AI20),0),1)/100,ROUND(IF(AL20>0,AVERAGEIFS([1]Обработка!$U:$U,[1]Обработка!$E:$E,AI20),0),1)) -> 14 | BI20: =SUMIFS([1]Обработка!$Q:$Q,[1]Обработка!$M:$M,AI20,[1]Обработка!$N:$N,"sell") -> 3.0701389 | BJ20: =SUMIFS([1]Обработка!$Q:$Q,[1]Обработка!$M:$M,AI20,[1]Обработка!$N:$N,"buy") -> 2.3451389 | BK20: =IF(AJ20>0,AVERAGEIFS([1]Обработка!$S:$S,[1]Обработка!$E:$E,AI20,[1]Обработка!$C:$C,"sell"),0) -> 0.11717185 | BL20: =IF(AK20>0,AVERAGEIFS([1]Обработка!$S:$S,[1]Обработка!$E:$E,AI20,[1]Обработка!$C:$C,"buy"),0) -> 0.090596729 | BM20: =IF(AL20>0,AVERAGEIFS([1]Обработка!$S:$S,[1]Обработка!$E:$E,AI20),0) -> 0.1037015
A21: 2 | B21: =IF(AND($A21>=C$12,C$12>0),0,IF(AND($A21>=C$9,C$9>0),C$10,IF(AND($A21>=C$6,C$6>0),C$7,0))) -> 0 | C21: =IF(AND($A21>=C$12,C$12>0),C$13,C20+B21) -> 14 | E21: =IF(OR($A21<2,AND(G$15>0,$A21>G$15)),0,IF(AND($A21>=G$12,G$12>0),G$13,IF(AND($A21>=G$9,G$9>0),G$10,IF(AND($A21>=G$6,G$6>0),G$7,0)))) -> 2 | F21: =G$2+E21 -> 16 | G21: =G20+F21 -> 16 | I21: =IF(($A21<K$4),1,IF(AND($A21>K$15,K$15>0),I20,IF(AND($A21>=K$12,K$12>0),ROUND(I20+K$13,4),IF(AND($A21>=K$9,K$9>0),ROUND(I20+K$10,4),IF(AND($A21>=K$6,K$6>0),ROUND(I20+K$7,4),K$3))))) -> 1 | J21: =IF($A21<K$4, K$2, IF(K$1=0,IF(K$16>0,IF(K$2*K$16<ROUND(J20*I21, 3),K$2*K$16,ROUND(J20*I21, 3)),ROUND(J20*I21, 3)),IF(K$16>0,IF(K$2*K$16<ROUND(K$2*I21, 3),K$2*K$16,ROUND(K$2*I21, 3)),ROUND(K$2*I21, 3)))) -> 0.01 | K21: =K20+ROUND(J21,3) -> 0.02 | M21: =ROUND(C21*O21-K21*$O$6,2) -> 2.8 | N21: =IF($O$10>0,M21/$O$10,0) -> 0.001 | O21: =ROUND(ROUND(K21,2)*$O$4,2) -> 0.2 | P21: =ROUND((ROUND(K20,2)*(G21-G20)*$O$4+P20+J21*$O$6),2) -> 1.6 | Q21: =P21/$O$10 -> 0.00057142857 | R21: =ROUND(P21/O21,0) -> 8 | S21: =ROUND(R21/G21,2) -> 0.5 | T21: =R21+C21 -> 22 | U21: =ROUND(T21/G21,2) -> 1.38 | W21: =ROUND(K21*$O$7,2) -> 4.88 | X21: =ROUND(P21+W21,2) -> 6.48 | Z21: =IF($O$10>0,ROUND($O$10-X21,2),0) -> 2793.52 | AA21: =IF($O$10>0,ROUND(X21/$O$10,2),0) -> 0 | AB21: =IF(AND(Z21>0,$O$4>0),($O$10-P21-W21*$O$8)/O21,0) -> 13977.36 | AC21: =IF(AB21>0,AB21+G21,0) -> 13993.36 | AD21: 2 | AF21: =IF(P21>0,ROUND(W21/P21,2),0) -> 3.05 | AG21: =IF($O$10>0,ROUND(W21/$O$10,2),0) -> 0 | AI21: 2 | AJ21: =COUNTIFS([1]Обработка!$E:$E,AI21,[1]Обработка!$C:$C,"sell") -> 191 | AK21: =COUNTIFS([1]Обработка!$E:$E,AI21,[1]Обработка!$C:$C,"buy") -> 182 | AL21: =COUNTIFS([1]Обработка!$E:$E,AI21) -> 373 | AM21: =SUMIFS([1]Обработка!$F:$F,[1]Обработка!$E:$E,AI21,[1]Обработка!$C:$C,"sell") -> 3.82 | AN21: =SUMIFS([1]Обработка!$F:$F,[1]Обработка!$E:$E,AI21,[1]Обработка!$C:$C,"buy") -> 3.64 | AO21: =SUMIFS([1]Обработка!$F:$F,[1]Обработка!$E:$E,AI21) -> 7.46 | AP21: =SUMIFS([1]Обработка!$G:$G,[1]Обработка!$E:$E,AI21,[1]Обработка!$C:$C,"sell") -> 536.23 | AQ21: =SUMIFS([1]Обработка!$G:$G,[1]Обработка!$E:$E,AI21,[1]Обработка!$C:$C,"buy") -> 508.45 | AR21: =SUMIFS([1]Обработка!$G:$G,[1]Обработка!$E:$E,AI21) -> 1044.68 | AS21: =ROUND(IF(AJ21>0,AVERAGEIFS([1]Обработка!$G:$G,[1]Обработка!$E:$E,AI21,[1]Обработка!$C:$C,"sell"),0),2) -> 2.81 | AT21: =ROUND(IF(AK21>0,AVERAGEIFS([1]Обработка!$G:$G,[1]Обработка!$E:$E,AI21,[1]Обработка!$C:$C,"buy"),0),2) -> 2.79 | AU21: =ROUND(IF(AL21>0,AVERAGEIFS([1]Обработка!$G:$G,[1]Обработка!$E:$E,AI21),0),2) -> 2.8 | AV21: =IF(AJ21>0,SUMIFS([1]Обработка!$G:$G,[1]Обработка!$E:$E,AI21,[1]Обработка!$C:$C,"sell")/SUMIFS([1]Обработка!$G:$G,[1]Обработка!$B:$B,"t/p"),0) -> 0.069755946 | AW21: =IF(AK21>0,SUMIFS([1]Обработка!$G:$G,[1]Обработка!$E:$E,AI21,[1]Обработка!$C:$C,"buy")/SUMIFS([1]Обработка!$G:$G,[1]Обработка!$B:$B,"t/p"),0) -> 0.06614216 | AX21: =IF(AL21>0,SUMIFS([1]Обработка!$G:$G,[1]Обработка!$E:$E,AI21)/SUMIFS([1]Обработка!$G:$G,[1]Обработка!$B:$B,"t/p"),0) -> 0.13589811 | AY21: =IF(VLOOKUP($AJ$14,[1]Сводная!$AG$4:$AH$38,2,0)=3,SUMIFS([1]Обработка!$P:$P,[1]Обработка!$M:$M,AI21,[1]Обработка!$N:$N,"sell")/100,SUMIFS([1]Обработка!$P:$P,[1]Обработка!$M:$M,AI21,[1]Обработка!$N:$N,"sell")) -> 28.1 | AZ21: =IF(VLOOKUP($AJ$14,[1]Сводная!$AG$4:$AH$38,2,0)=3,SUMIFS([1]Обработка!$P:$P,[1]Обработка!$M:$M,AI21,[1]Обработка!$N:$N,"buy")/100,SUMIFS([1]Обработка!$P:$P,[1]Обработка!$M:$M,AI21,[1]Обработка!$N:$N,"buy")) -> 24.3 | BA21: =IF(VLOOKUP($AJ$14,[1]Сводная!$AG$4:$AH$38,2,0)=3,ROUND(IF(AJ21>0,AVERAGEIFS([1]Обработка!$T:$T,[1]Обработка!$E:$E,AI21,[1]Обработка!$C:$C,"sell"),0),1)/100,ROUND(IF(AJ21>0,AVERAGEIFS([1]Обработка!$T:$T,[1]Обработка!$E:$E,AI21,[1]Обработка!$C:$C,"sell"),0),1)) -> 16.3 | BB21: =IF(VLOOKUP($AJ$14,[1]Сводная!$AG$4:$AH$38,2,0)=3,ROUND(IF(AK21>0,AVERAGEIFS([1]Обработка!$T:$T,[1]Обработка!$E:$E,AI21,[1]Обработка!$C:$C,"buy"),0),1)/100,ROUND(IF(AK21>0,AVERAGEIFS([1]Обработка!$T:$T,[1]Обработка!$E:$E,AI21,[1]Обработка!$C:$C,"buy"),0),1)) -> 16.3 | BC21: =IF(VLOOKUP($AJ$14,[1]Сводная!$AG$4:$AH$38,2,0)=3,ROUND(IF(AL21>0,AVERAGEIFS([1]Обработка!$T:$T,[1]Обработка!$E:$E,AI21),0),1)/100,ROUND(IF(AL21>0,AVERAGEIFS([1]Обработка!$T:$T,[1]Обработка!$E:$E,AI21),0),1)) -> 16.3 | BD21: =IF(VLOOKUP($AJ$14,[1]Сводная!$AG$4:$AH$38,2,0)=3,SUMIFS([1]Обработка!$O:$O,[1]Обработка!$M:$M,AI21,[1]Обработка!$N:$N,"sell")/100,SUMIFS([1]Обработка!$O:$O,[1]Обработка!$M:$M,AI21,[1]Обработка!$N:$N,"sell")) -> 28 | BE21: =IF(VLOOKUP($AJ$14,[1]Сводная!$AG$4:$AH$38,2,0)=3,SUMIFS([1]Обработка!$O:$O,[1]Обработка!$M:$M,AI21,[1]Обработка!$N:$N,"buy")/100,SUMIFS([1]Обработка!$O:$O,[1]Обработка!$M:$M,AI21,[1]Обработка!$N:$N,"buy")) -> 26.2 | BF21: =IF(VLOOKUP($AJ$14,[1]Сводная!$AG$4:$AH$38,2,0)=3,ROUND(IF(AJ21>0,AVERAGEIFS([1]Обработка!$U:$U,[1]Обработка!$E:$E,AI21,[1]Обработка!$C:$C,"sell"),0),1)/100,ROUND(IF(AJ21>0,AVERAGEIFS([1]Обработка!$U:$U,[1]Обработка!$E:$E,AI21,[1]Обработка!$C:$C,"sell"),0),1)) -> 22 | BG21: =IF(VLOOKUP($AJ$14,[1]Сводная!$AG$4:$AH$38,2,0)=3,ROUND(IF(AK21>0,AVERAGEIFS([1]Обработка!$U:$U,[1]Обработка!$E:$E,AI21,[1]Обработка!$C:$C,"buy"),0),1)/100,ROUND(IF(AK21>0,AVERAGEIFS([1]Обработка!$U:$U,[1]Обработка!$E:$E,AI21,[1]Обработка!$C:$C,"buy"),0),1)) -> 22.4 | BH21: =IF(VLOOKUP($AJ$14,[1]Сводная!$AG$4:$AH$38,2,0)=3,ROUND(IF(AL21>0,AVERAGEIFS([1]Обработка!$U:$U,[1]Обработка!$E:$E,AI21),0),1)/100,ROUND(IF(AL21>0,AVERAGEIFS([1]Обработка!$U:$U,[1]Обработка!$E:$E,AI21),0),1)) -> 22.2 | BI21: =SUMIFS([1]Обработка!$Q:$Q,[1]Обработка!$M:$M,AI21,[1]Обработка!$N:$N,"sell") -> 3.73125 | BJ21: =SUMIFS([1]Обработка!$Q:$Q,[1]Обработка!$M:$M,AI21,[1]Обработка!$N:$N,"buy") -> 3.48125 | BK21: =IF(AJ21>0,AVERAGEIFS([1]Обработка!$S:$S,[1]Обработка!$E:$E,AI21,[1]Обработка!$C:$C,"sell"),0) -> 0.39022324 | BL21: =IF(AK21>0,AVERAGEIFS([1]Обработка!$S:$S,[1]Обработка!$E:$E,AI21,[1]Обработка!$C:$C,"buy"),0) -> 0.34522283 | BM21: =IF(AL21>0,AVERAGEIFS([1]Обработка!$S:$S,[1]Обработка!$E:$E,AI21),0) -> 0.36826594
A22: 3 | B22: =IF(AND($A22>=C$12,C$12>0),0,IF(AND($A22>=C$9,C$9>0),C$10,IF(AND($A22>=C$6,C$6>0),C$7,0))) -> 0 | C22: =IF(AND($A22>=C$12,C$12>0),C$13,C21+B22) -> 14 | E22: =IF(OR($A22<2,AND(G$15>0,$A22>G$15)),0,IF(AND($A22>=G$12,G$12>0),G$13,IF(AND($A22>=G$9,G$9>0),G$10,IF(AND($A22>=G$6,G$6>0),G$7,0)))) -> 2 | F22: =F21+E22 -> 18 | G22: =G21+F22 -> 34 | I22: =IF(($A22<K$4),1,IF(AND($A22>K$15,K$15>0),I21,IF(AND($A22>=K$12,K$12>0),ROUND(I21+K$13,4),IF(AND($A22>=K$9,K$9>0),ROUND(I21+K$10,4),IF(AND($A22>=K$6,K$6>0),ROUND(I21+K$7,4),K$3))))) -> 1.25 | J22: =IF($A22<K$4, K$2, IF(K$1=0,IF(K$16>0,IF(K$2*K$16<ROUND(J21*I22, 3),K$2*K$16,ROUND(J21*I22, 3)),ROUND(J21*I22, 3)),IF(K$16>0,IF(K$2*K$16<ROUND(K$2*I22, 3),K$2*K$16,ROUND(K$2*I22, 3)),ROUND(K$2*I22, 3)))) -> 0.013 | K22: =K21+ROUND(J22,3) -> 0.033 | M22: =ROUND(C22*O22-K22*$O$6,2) -> 4.2 | N22: =IF($O$10>0,M22/$O$10,0) -> 0.0015 | O22: =ROUND(ROUND(K22,2)*$O$4,2) -> 0.3 | P22: =ROUND((ROUND(K21,2)*(G22-G21)*$O$4+P21+J22*$O$6),2) -> 5.2 | Q22: =P22/$O$10 -> 0.0018571429 | R22: =ROUND(P22/O22,0) -> 17 | S22: =ROUND(R22/G22,2) -> 0.5 | T22: =R22+C22 -> 31 | U22: =ROUND(T22/G22,2) -> 0.91 | W22: =ROUND(K22*$O$7,2) -> 8.05 | X22: =ROUND(P22+W22,2) -> 13.25 | Z22: =IF($O$10>0,ROUND($O$10-X22,2),0) -> 2786.75 | AA22: =IF($O$10>0,ROUND(X22/$O$10,2),0) -> 0 | AB22: =IF(AND(Z22>0,$O$4>0),($O$10-P22-W22*$O$8)/O22,0) -> 9299.9 | AC22: =IF(AB22>0,AB22+G22,0) -> 9333.9 | AD22: 3 | AF22: =IF(P22>0,ROUND(W22/P22,2),0) -> 1.55 | AG22: =IF($O$10>0,ROUND(W22/$O$10,2),0) -> 0 | AI22: 3 | AJ22: =COUNTIFS([1]Обработка!$E:$E,AI22,[1]Обработка!$C:$C,"sell") -> 94 | AK22: =COUNTIFS([1]Обработка!$E:$E,AI22,[1]Обработка!$C:$C,"buy") -> 82 | AL22: =COUNTIFS([1]Обработка!$E:$E,AI22) -> 176 | AM22: =SUMIFS([1]Обработка!$F:$F,[1]Обработка!$E:$E,AI22,[1]Обработка!$C:$C,"sell") -> 2.82 | AN22: =SUMIFS([1]Обработка!$F:$F,[1]Обработка!$E:$E,AI22,[1]Обработка!$C:$C,"buy") -> 2.49 | AO22: =SUMIFS([1]Обработка!$F:$F,[1]Обработка!$E:$E,AI22) -> 5.31 | AP22: =SUMIFS([1]Обработка!$G:$G,[1]Обработка!$E:$E,AI22,[1]Обработка!$C:$C,"sell") -> 393.72 | AQ22: =SUMIFS([1]Обработка!$G:$G,[1]Обработка!$E:$E,AI22,[1]Обработка!$C:$C,"buy") -> 359.62 | AR22: =SUMIFS([1]Обработка!$G:$G,[1]Обработка!$E:$E,AI22) -> 753.34 | AS22: =ROUND(IF(AJ22>0,AVERAGEIFS([1]Обработка!$G:$G,[1]Обработка!$E:$E,AI22,[1]Обработка!$C:$C,"sell"),0),2) -> 4.19 | AT22: =ROUND(IF(AK22>0,AVERAGEIFS([1]Обработка!$G:$G,[1]Обработка!$E:$E,AI22,[1]Обработка!$C:$C,"buy"),0),2) -> 4.39 | AU22: =ROUND(IF(AL22>0,AVERAGEIFS([1]Обработка!$G:$G,[1]Обработка!$E:$E,AI22),0),2) -> 4.28 | AV22: =IF(AJ22>0,SUMIFS([1]Обработка!$G:$G,[1]Обработка!$E:$E,AI22,[1]Обработка!$C:$C,"sell")/SUMIFS([1]Обработка!$G:$G,[1]Обработка!$B:$B,"t/p"),0) -> 0.051217409 | AW22: =IF(AK22>0,SUMIFS([1]Обработка!$G:$G,[1]Обработка!$E:$E,AI22,[1]Обработка!$C:$C,"buy")/SUMIFS([1]Обработка!$G:$G,[1]Обработка!$B:$B,"t/p"),0) -> 0.04678148 | AX22: =IF(AL22>0,SUMIFS([1]Обработка!$G:$G,[1]Обработка!$E:$E,AI22)/SUMIFS([1]Обработка!$G:$G,[1]Обработка!$B:$B,"t/p"),0) -> 0.097998889 | AY22: =IF(VLOOKUP($AJ$14,[1]Сводная!$AG$4:$AH$38,2,0)=3,SUMIFS([1]Обработка!$P:$P,[1]Обработка!$M:$M,AI22,[1]Обработка!$N:$N,"sell")/100,SUMIFS([1]Обработка!$P:$P,[1]Обработка!$M:$M,AI22,[1]Обработка!$N:$N,"sell")) -> 51.4 | AZ22: =IF(VLOOKUP($AJ$14,[1]Сводная!$AG$4:$AH$38,2,0)=3,SUMIFS([1]Обработка!$P:$P,[1]Обработка!$M:$M,AI22,[1]Обработка!$N:$N,"buy")/100,SUMIFS([1]Обработка!$P:$P,[1]Обработка!$M:$M,AI22,[1]Обработка!$N:$N,"buy")) -> 45.9 | BA22: =IF(VLOOKUP($AJ$14,[1]Сводная!$AG$4:$AH$38,2,0)=3,ROUND(IF(AJ22>0,AVERAGEIFS([1]Обработка!$T:$T,[1]Обработка!$E:$E,AI22,[1]Обработка!$C:$C,"sell"),0),1)/100,ROUND(IF(AJ22>0,AVERAGEIFS([1]Обработка!$T:$T,[1]Обработка!$E:$E,AI22,[1]Обработка!$C:$C,"sell"),0),1)) -> 34.9 | BB22: =IF(VLOOKUP($AJ$14,[1]Сводная!$AG$4:$AH$38,2,0)=3,ROUND(IF(AK22>0,AVERAGEIFS([1]Обработка!$T:$T,[1]Обработка!$E:$E,AI22,[1]Обработка!$C:$C,"buy"),0),1)/100,ROUND(IF(AK22>0,AVERAGEIFS([1]Обработка!$T:$T,[1]Обработка!$E:$E,AI22,[1]Обработка!$C:$C,"buy"),0),1)) -> 34.5 | BC22: =IF(VLOOKUP($AJ$14,[1]Сводная!$AG$4:$AH$38,2,0)=3,ROUND(IF(AL22>0,AVERAGEIFS([1]Обработка!$T:$T,[1]Обработка!$E:$E,AI22),0),1)/100,ROUND(IF(AL22>0,AVERAGEIFS([1]Обработка!$T:$T,[1]Обработка!$E:$E,AI22),0),1)) -> 34.7 | BD22: =IF(VLOOKUP($AJ$14,[1]Сводная!$AG$4:$AH$38,2,0)=3,SUMIFS([1]Обработка!$O:$O,[1]Обработка!$M:$M,AI22,[1]Обработка!$N:$N,"sell")/100,SUMIFS([1]Обработка!$O:$O,[1]Обработка!$M:$M,AI22,[1]Обработка!$N:$N,"sell")) -> 37 | BE22: =IF(VLOOKUP($AJ$14,[1]Сводная!$AG$4:$AH$38,2,0)=3,SUMIFS([1]Обработка!$O:$O,[1]Обработка!$M:$M,AI22,[1]Обработка!$N:$N,"buy")/100,SUMIFS([1]Обработка!$O:$O,[1]Обработка!$M:$M,AI22,[1]Обработка!$N:$N,"buy")) -> 61 | BF22: =IF(VLOOKUP($AJ$14,[1]Сводная!$AG$4:$AH$38,2,0)=3,ROUND(IF(AJ22>0,AVERAGEIFS([1]Обработка!$U:$U,[1]Обработка!$E:$E,AI22,[1]Обработка!$C:$C,"sell"),0),1)/100,ROUND(IF(AJ22>0,AVERAGEIFS([1]Обработка!$U:$U,[1]Обработка!$E:$E,AI22,[1]Обработка!$C:$C,"sell"),0),1)) -> 31.4 | BG22: =IF(VLOOKUP($AJ$14,[1]Сводная!$AG$4:$AH$38,2,0)=3,ROUND(IF(AK22>0,AVERAGEIFS([1]Обработка!$U:$U,[1]Обработка!$E:$E,AI22,[1]Обработка!$C:$C,"buy"),0),1)/100,ROUND(IF(AK22>0,AVERAGEIFS([1]Обработка!$U:$U,[1]Обработка!$E:$E,AI22,[1]Обработка!$C:$C,"buy"),0),1)) -> 32.4 | BH22: =IF(VLOOKUP($AJ$14,[1]Сводная!$AG$4:$AH$38,2,0)=3,ROUND(IF(AL22>0,AVERAGEIFS([1]Обработка!$U:$U,[1]Обработка!$E:$E,AI22),0),1)/100,ROUND(IF(AL22>0,AVERAGEIFS([1]Обработка!$U:$U,[1]Обработка!$E:$E,AI22),0),1)) -> 31.9 | BI22: =SUMIFS([1]Обработка!$Q:$Q,[1]Обработка!$M:$M,AI22,[1]Обработка!$N:$N,"sell") -> 3.9909722 | BJ22: =SUMIFS([1]Обработка!$Q:$Q,[1]Обработка!$M:$M,AI22,[1]Обработка!$N:$N,"buy") -> 4.0833333 | BK22: =IF(AJ22>0,AVERAGEIFS([1]Обработка!$S:$S,[1]Обработка!$E:$E,AI22,[1]Обработка!$C:$C,"sell"),0) -> 0.62987589 | BL22: =IF(AK22>0,AVERAGEIFS([1]Обработка!$S:$S,[1]Обработка!$E:$E,AI22,[1]Обработка!$C:$C,"buy"),0) -> 0.82341633 | BM22: =IF(AL22>0,AVERAGEIFS([1]Обработка!$S:$S,[1]Обработка!$E:$E,AI22),0) -> 0.72004814
A23: 4 | B23: =IF(AND($A23>=C$12,C$12>0),0,IF(AND($A23>=C$9,C$9>0),C$10,IF(AND($A23>=C$6,C$6>0),C$7,0))) -> 0 | C23: =IF(AND($A23>=C$12,C$12>0),C$13,C22+B23) -> 14 | E23: =IF(OR($A23<2,AND(G$15>0,$A23>G$15)),0,IF(AND($A23>=G$12,G$12>0),G$13,IF(AND($A23>=G$9,G$9>0),G$10,IF(AND($A23>=G$6,G$6>0),G$7,0)))) -> 2 | F23: =F22+E23 -> 20 | G23: =G22+F23 -> 54 | I23: =IF(($A23<K$4),1,IF(AND($A23>K$15,K$15>0),I22,IF(AND($A23>=K$12,K$12>0),ROUND(I22+K$13,4),IF(AND($A23>=K$9,K$9>0),ROUND(I22+K$10,4),IF(AND($A23>=K$6,K$6>0),ROUND(I22+K$7,4),K$3))))) -> 1.25 | J23: =IF($A23<K$4, K$2, IF(K$1=0,IF(K$16>0,IF(K$2*K$16<ROUND(J22*I23, 3),K$2*K$16,ROUND(J22*I23, 3)),ROUND(J22*I23, 3)),IF(K$16>0,IF(K$2*K$16<ROUND(K$2*I23, 3),K$2*K$16,ROUND(K$2*I23, 3)),ROUND(K$2*I23, 3)))) -> 0.016 | K23: =K22+ROUND(J23,3) -> 0.049 | M23: =ROUND(C23*O23-K23*$O$6,2) -> 7 | N23: =IF($O$10>0,M23/$O$10,0) -> 0.0025 | O23: =ROUND(ROUND(K23,2)*$O$4,2) -> 0.5 | P23: =ROUND((ROUND(K22,2)*(G23-G22)*$O$4+P22+J23*$O$6),2) -> 11.2 | Q23: =P23/$O$10 -> 0.004 | R23: =ROUND(P23/O23,0) -> 22 | S23: =ROUND(R23/G23,2) -> 0.41 | T23: =R23+C23 -> 36 | U23: =ROUND(T23/G23,2) -> 0.67 | W23: =ROUND(K23*$O$7,2) -> 11.96 | X23: =ROUND(P23+W23,2) -> 23.16 | Z23: =IF($O$10>0,ROUND($O$10-X23,2),0) -> 2776.84 | AA23: =IF($O$10>0,ROUND(X23/$O$10,2),0) -> 0.01 | AB23: =IF(AND(Z23>0,$O$4>0),($O$10-P23-W23*$O$8)/O23,0) -> 5563.248 | AC23: =IF(AB23>0,AB23+G23,0) -> 5617.248 | AD23: 4 | AF23: =IF(P23>0,ROUND(W23/P23,2),0) -> 1.07 | AG23: =IF($O$10>0,ROUND(W23/$O$10,2),0) -> 0 | AI23: 4 | AJ23: =COUNTIFS([1]Обработка!$E:$E,AI23,[1]Обработка!$C:$C,"sell") -> 49 | AK23: =COUNTIFS([1]Обработка!$E:$E,AI23,[1]Обработка!$C:$C,"buy") -> 42 | AL23: =COUNTIFS([1]Обработка!$E:$E,AI23) -> 91 | AM23: =SUMIFS([1]Обработка!$F:$F,[1]Обработка!$E:$E,AI23,[1]Обработка!$C:$C,"sell") -> 2.45 | AN23: =SUMIFS([1]Обработка!$F:$F,[1]Обработка!$E:$E,AI23,[1]Обработка!$C:$C,"buy") -> 2.1 | AO23: =SUMIFS([1]Обработка!$F:$F,[1]Обработка!$E:$E,AI23) -> 4.55 | AP23: =SUMIFS([1]Обработка!$G:$G,[1]Обработка!$E:$E,AI23,[1]Обработка!$C:$C,"sell") -> 342.59 | AQ23: =SUMIFS([1]Обработка!$G:$G,[1]Обработка!$E:$E,AI23,[1]Обработка!$C:$C,"buy") -> 292.77 | AR23: =SUMIFS([1]Обработка!$G:$G,[1]Обработка!$E:$E,AI23) -> 635.36 | AS23: =ROUND(IF(AJ23>0,AVERAGEIFS([1]Обработка!$G:$G,[1]Обработка!$E:$E,AI23,[1]Обработка!$C:$C,"sell"),0),2) -> 6.99 | AT23: =ROUND(IF(AK23>0,AVERAGEIFS([1]Обработка!$G:$G,[1]Обработка!$E:$E,AI23,[1]Обработка!$C:$C,"buy"),0),2) -> 6.97 | AU23: =ROUND(IF(AL23>0,AVERAGEIFS([1]Обработка!$G:$G,[1]Обработка!$E:$E,AI23),0),2) -> 6.98 | AV23: =IF(AJ23>0,SUMIFS([1]Обработка!$G:$G,[1]Обработка!$E:$E,AI23,[1]Обработка!$C:$C,"sell")/SUMIFS([1]Обработка!$G:$G,[1]Обработка!$B:$B,"t/p"),0) -> 0.044566118 | AW23: =IF(AK23>0,SUMIFS([1]Обработка!$G:$G,[1]Обработка!$E:$E,AI23,[1]Обработка!$C:$C,"buy")/SUMIFS([1]Обработка!$G:$G,[1]Обработка!$B:$B,"t/p"),0) -> 0.03808524 | AX23: =IF(AL23>0,SUMIFS([1]Обработка!$G:$G,[1]Обработка!$E:$E,AI23)/SUMIFS([1]Обработка!$G:$G,[1]Обработка!$B:$B,"t/p"),0) -> 0.082651358 | AY23: =IF(VLOOKUP($AJ$14,[1]Сводная!$AG$4:$AH$38,2,0)=3,SUMIFS([1]Обработка!$P:$P,[1]Обработка!$M:$M,AI23,[1]Обработка!$N:$N,"sell")/100,SUMIFS([1]Обработка!$P:$P,[1]Обработка!$M:$M,AI23,[1]Обработка!$N:$N,"sell")) -> 74.6 | AZ23: =IF(VLOOKUP($AJ$14,[1]Сводная!$AG$4:$AH$38,2,0)=3,SUMIFS([1]Обработка!$P:$P,[1]Обработка!$M:$M,AI23,[1]Обработка!$N:$N,"buy")/100,SUMIFS([1]Обработка!$P:$P,[1]Обработка!$M:$M,AI23,[1]Обработка!$N:$N,"buy")) -> 68.1 | BA23: =IF(VLOOKUP($AJ$14,[1]Сводная!$AG$4:$AH$38,2,0)=3,ROUND(IF(AJ23>0,AVERAGEIFS([1]Обработка!$T:$T,[1]Обработка!$E:$E,AI23,[1]Обработка!$C:$C,"sell"),0),1)/100,ROUND(IF(AJ23>0,AVERAGEIFS([1]Обработка!$T:$T,[1]Обработка!$E:$E,AI23,[1]Обработка!$C:$C,"sell"),0),1)) -> 55.6 | BB23: =IF(VLOOKUP($AJ$14,[1]Сводная!$AG$4:$AH$38,2,0)=3,ROUND(IF(AK23>0,AVERAGEIFS([1]Обработка!$T:$T,[1]Обработка!$E:$E,AI23,[1]Обработка!$C:$C,"buy"),0),1)/100,ROUND(IF(AK23>0,AVERAGEIFS([1]Обработка!$T:$T,[1]Обработка!$E:$E,AI23,[1]Обработка!$C:$C,"buy"),0),1)) -> 54.9 | BC23: =IF(VLOOKUP($AJ$14,[1]Сводная!$AG$4:$AH$38,2,0)=3,ROUND(IF(AL23>0,AVERAGEIFS([1]Обработка!$T:$T,[1]Обработка!$E:$E,AI23),0),1)/100,ROUND(IF(AL23>0,AVERAGEIFS([1]Обработка!$T:$T,[1]Обработка!$E:$E,AI23),0),1)) -> 55.3 | BD23: =IF(VLOOKUP($AJ$14,[1]Сводная!$AG$4:$AH$38,2,0)=3,SUMIFS([1]Обработка!$O:$O,[1]Обработка!$M:$M,AI23,[1]Обработка!$N:$N,"sell")/100,SUMIFS([1]Обработка!$O:$O,[1]Обработка!$M:$M,AI23,[1]Обработка!$N:$N,"sell")) -> 47.2 | BE23: =IF(VLOOKUP($AJ$14,[1]Сводная!$AG$4:$AH$38,2,0)=3,SUMIFS([1]Обработка!$O:$O,[1]Обработка!$M:$M,AI23,[1]Обработка!$N:$N,"buy")/100,SUMIFS([1]Обработка!$O:$O,[1]Обработка!$M:$M,AI23,[1]Обработка!$N:$N,"buy")) -> 42 | BF23: =IF(VLOOKUP($AJ$14,[1]Сводная!$AG$4:$AH$38,2,0)=3,ROUND(IF(AJ23>0,AVERAGEIFS([1]Обработка!$U:$U,[1]Обработка!$E:$E,AI23,[1]Обработка!$C:$C,"sell"),0),1)/100,ROUND(IF(AJ23>0,AVERAGEIFS([1]Обработка!$U:$U,[1]Обработка!$E:$E,AI23,[1]Обработка!$C:$C,"sell"),0),1)) -> 36.7 | BG23: =IF(VLOOKUP($AJ$14,[1]Сводная!$AG$4:$AH$38,2,0)=3,ROUND(IF(AK23>0,AVERAGEIFS([1]Обработка!$U:$U,[1]Обработка!$E:$E,AI23,[1]Обработка!$C:$C,"buy"),0),1)/100,ROUND(IF(AK23>0,AVERAGEIFS([1]Обработка!$U:$U,[1]Обработка!$E:$E,AI23,[1]Обработка!$C:$C,"buy"),0),1)) -> 37.2 | BH23: =IF(VLOOKUP($AJ$14,[1]Сводная!$AG$4:$AH$38,2,0)=3,ROUND(IF(AL23>0,AVERAGEIFS([1]Обработка!$U:$U,[1]Обработка!$E:$E,AI23),0),1)/100,ROUND(IF(AL23>0,AVERAGEIFS([1]Обработка!$U:$U,[1]Обработка!$E:$E,AI23),0),1)) -> 36.9 | BI23: =SUMIFS([1]Обработка!$Q:$Q,[1]Обработка!$M:$M,AI23,[1]Обработка!$N:$N,"sell") -> 4.7875 | BJ23: =SUMIFS([1]Обработка!$Q:$Q,[1]Обработка!$M:$M,AI23,[1]Обработка!$N:$N,"buy") -> 4.0444444 | BK23: =IF(AJ23>0,AVERAGEIFS([1]Обработка!$S:$S,[1]Обработка!$E:$E,AI23,[1]Обработка!$C:$C,"sell"),0) -> 1.4351899 | BL23: =IF(AK23>0,AVERAGEIFS([1]Обработка!$S:$S,[1]Обработка!$E:$E,AI23,[1]Обработка!$C:$C,"buy"),0) -> 1.2194279 | BM23: =IF(AL23>0,AVERAGEIFS([1]Обработка!$S:$S,[1]Обработка!$E:$E,AI23),0) -> 1.3356074
A24: 5 | B24: =IF(AND($A24>=C$12,C$12>0),0,IF(AND($A24>=C$9,C$9>0),C$10,IF(AND($A24>=C$6,C$6>0),C$7,0))) -> 0 | C24: =IF(AND($A24>=C$12,C$12>0),C$13,C23+B24) -> 14 | E24: =IF(OR($A24<2,AND(G$15>0,$A24>G$15)),0,IF(AND($A24>=G$12,G$12>0),G$13,IF(AND($A24>=G$9,G$9>0),G$10,IF(AND($A24>=G$6,G$6>0),G$7,0)))) -> 2 | F24: =F23+E24 -> 22 | G24: =G23+F24 -> 76 | I24: =IF(($A24<K$4),1,IF(AND($A24>K$15,K$15>0),I23,IF(AND($A24>=K$12,K$12>0),ROUND(I23+K$13,4),IF(AND($A24>=K$9,K$9>0),ROUND(I23+K$10,4),IF(AND($A24>=K$6,K$6>0),ROUND(I23+K$7,4),K$3))))) -> 1.25 | J24: =IF($A24<K$4, K$2, IF(K$1=0,IF(K$16>0,IF(K$2*K$16<ROUND(J23*I24, 3),K$2*K$16,ROUND(J23*I24, 3)),ROUND(J23*I24, 3)),IF(K$16>0,IF(K$2*K$16<ROUND(K$2*I24, 3),K$2*K$16,ROUND(K$2*I24, 3)),ROUND(K$2*I24, 3)))) -> 0.02 | K24: =K23+ROUND(J24,3) -> 0.069 | M24: =ROUND(C24*O24-K24*$O$6,2) -> 9.8 | N24: =IF($O$10>0,M24/$O$10,0) -> 0.0035 | O24: =ROUND(ROUND(K24,2)*$O$4,2) -> 0.7 | P24: =ROUND((ROUND(K23,2)*(G24-G23)*$O$4+P23+J24*$O$6),2) -> 22.2 | Q24: =P24/$O$10 -> 0.0079285714 | R24: =ROUND(P24/O24,0) -> 32 | S24: =ROUND(R24/G24,2) -> 0.42 | T24: =R24+C24 -> 46 | U24: =ROUND(T24/G24,2) -> 0.61 | W24: =ROUND(K24*$O$7,2) -> 16.84 | X24: =ROUND(P24+W24,2) -> 39.04 | Z24: =IF($O$10>0,ROUND($O$10-X24,2),0) -> 2760.96 | AA24: =IF($O$10>0,ROUND(X24/$O$10,2),0) -> 0.01 | AB24: =IF(AND(Z24>0,$O$4>0),($O$10-P24-W24*$O$8)/O24,0) -> 3953.8514 | AC24: =IF(AB24>0,AB24+G24,0) -> 4029.8514 | AD24: 5 | AF24: =IF(P24>0,ROUND(W24/P24,2),0) -> 0.76 | AG24: =IF($O$10>0,ROUND(W24/$O$10,2),0) -> 0.01 | AI24: 5 | AJ24: =COUNTIFS([1]Обработка!$E:$E,AI24,[1]Обработка!$C:$C,"sell") -> 33 | AK24: =COUNTIFS([1]Обработка!$E:$E,AI24,[1]Обработка!$C:$C,"buy") -> 26 | AL24: =COUNTIFS([1]Обработка!$E:$E,AI24) -> 59 | AM24: =SUMIFS([1]Обработка!$F:$F,[1]Обработка!$E:$E,AI24,[1]Обработка!$C:$C,"sell") -> 2.31 | AN24: =SUMIFS([1]Обработка!$F:$F,[1]Обработка!$E:$E,AI24,[1]Обработка!$C:$C,"buy") -> 1.82 | AO24: =SUMIFS([1]Обработка!$F:$F,[1]Обработка!$E:$E,AI24) -> 4.13 | AP24: =SUMIFS([1]Обработка!$G:$G,[1]Обработка!$E:$E,AI24,[1]Обработка!$C:$C,"sell") -> 326.94 | AQ24: =SUMIFS([1]Обработка!$G:$G,[1]Обработка!$E:$E,AI24,[1]Обработка!$C:$C,"buy") -> 255.2 | AR24: =SUMIFS([1]Обработка!$G:$G,[1]Обработка!$E:$E,AI24) -> 582.14 | AS24: =ROUND(IF(AJ24>0,AVERAGEIFS([1]Обработка!$G:$G,[1]Обработка!$E:$E,AI24,[1]Обработка!$C:$C,"sell"),0),2) -> 9.91 | AT24: =ROUND(IF(AK24>0,AVERAGEIFS([1]Обработка!$G:$G,[1]Обработка!$E:$E,AI24,[1]Обработка!$C:$C,"buy"),0),2) -> 9.82 | AU24: =ROUND(IF(AL24>0,AVERAGEIFS([1]Обработка!$G:$G,[1]Обработка!$E:$E,AI24),0),2) -> 9.87 | AV24: =IF(AJ24>0,SUMIFS([1]Обработка!$G:$G,[1]Обработка!$E:$E,AI24,[1]Обработка!$C:$C,"sell")/SUMIFS([1]Обработка!$G:$G,[1]Обработка!$B:$B,"t/p"),0) -> 0.042530274 | AW24: =IF(AK24>0,SUMIFS([1]Обработка!$G:$G,[1]Обработка!$E:$E,AI24,[1]Обработка!$C:$C,"buy")/SUMIFS([1]Обработка!$G:$G,[1]Обработка!$B:$B,"t/p"),0) -> 0.033197914 | AX24: =IF(AL24>0,SUMIFS([1]Обработка!$G:$G,[1]Обработка!$E:$E,AI24)/SUMIFS([1]Обработка!$G:$G,[1]Обработка!$B:$B,"t/p"),0) -> 0.075728188 | AY24: =IF(VLOOKUP($AJ$14,[1]Сводная!$AG$4:$AH$38,2,0)=3,SUMIFS([1]Обработка!$P:$P,[1]Обработка!$M:$M,AI24,[1]Обработка!$N:$N,"sell")/100,SUMIFS([1]Обработка!$P:$P,[1]Обработка!$M:$M,AI24,[1]Обработка!$N:$N,"sell")) -> 94 | AZ24: =IF(VLOOKUP($AJ$14,[1]Сводная!$AG$4:$AH$38,2,0)=3,SUMIFS([1]Обработка!$P:$P,[1]Обработка!$M:$M,AI24,[1]Обработка!$N:$N,"buy")/100,SUMIFS([1]Обработка!$P:$P,[1]Обработка!$M:$M,AI24,[1]Обработка!$N:$N,"buy")) -> 81.2 | BA24: =IF(VLOOKUP($AJ$14,[1]Сводная!$AG$4:$AH$38,2,0)=3,ROUND(IF(AJ24>0,AVERAGEIFS([1]Обработка!$T:$T,[1]Обработка!$E:$E,AI24,[1]Обработка!$C:$C,"sell"),0),1)/100,ROUND(IF(AJ24>0,AVERAGEIFS([1]Обработка!$T:$T,[1]Обработка!$E:$E,AI24,[1]Обработка!$C:$C,"sell"),0),1)) -> 77.7 | BB24: =IF(VLOOKUP($AJ$14,[1]Сводная!$AG$4:$AH$38,2,0)=3,ROUND(IF(AK24>0,AVERAGEIFS([1]Обработка!$T:$T,[1]Обработка!$E:$E,AI24,[1]Обработка!$C:$C,"buy"),0),1)/100,ROUND(IF(AK24>0,AVERAGEIFS([1]Обработка!$T:$T,[1]Обработка!$E:$E,AI24,[1]Обработка!$C:$C,"buy"),0),1)) -> 77.6 | BC24: =IF(VLOOKUP($AJ$14,[1]Сводная!$AG$4:$AH$38,2,0)=3,ROUND(IF(AL24>0,AVERAGEIFS([1]Обработка!$T:$T,[1]Обработка!$E:$E,AI24),0),1)/100,ROUND(IF(AL24>0,AVERAGEIFS([1]Обработка!$T:$T,[1]Обработка!$E:$E,AI24),0),1)) -> 77.7 | BD24: =IF(VLOOKUP($AJ$14,[1]Сводная!$AG$4:$AH$38,2,0)=3,SUMIFS([1]Обработка!$O:$O,[1]Обработка!$M:$M,AI24,[1]Обработка!$N:$N,"sell")/100,SUMIFS([1]Обработка!$O:$O,[1]Обработка!$M:$M,AI24,[1]Обработка!$N:$N,"sell")) -> 54.6 | BE24: =IF(VLOOKUP($AJ$14,[1]Сводная!$AG$4:$AH$38,2,0)=3,SUMIFS([1]Обработка!$O:$O,[1]Обработка!$M:$M,AI24,[1]Обработка!$N:$N,"buy")/100,SUMIFS([1]Обработка!$O:$O,[1]Обработка!$M:$M,AI24,[1]Обработка!$N:$N,"buy")) -> 49.5 | BF24: =IF(VLOOKUP($AJ$14,[1]Сводная!$AG$4:$AH$38,2,0)=3,ROUND(IF(AJ24>0,AVERAGEIFS([1]Обработка!$U:$U,[1]Обработка!$E:$E,AI24,[1]Обработка!$C:$C,"sell"),0),1)/100,ROUND(IF(AJ24>0,AVERAGEIFS([1]Обработка!$U:$U,[1]Обработка!$E:$E,AI24,[1]Обработка!$C:$C,"sell"),0),1)) -> 45.9 | BG24: =IF(VLOOKUP($AJ$14,[1]Сводная!$AG$4:$AH$38,2,0)=3,ROUND(IF(AK24>0,AVERAGEIFS([1]Обработка!$U:$U,[1]Обработка!$E:$E,AI24,[1]Обработка!$C:$C,"buy"),0),1)/100,ROUND(IF(AK24>0,AVERAGEIFS([1]Обработка!$U:$U,[1]Обработка!$E:$E,AI24,[1]Обработка!$C:$C,"buy"),0),1)) -> 47.4 | BH24: =IF(VLOOKUP($AJ$14,[1]Сводная!$AG$4:$AH$38,2,0)=3,ROUND(IF(AL24>0,AVERAGEIFS([1]Обработка!$U:$U,[1]Обработка!$E:$E,AI24),0),1)/100,ROUND(IF(AL24>0,AVERAGEIFS([1]Обработка!$U:$U,[1]Обработка!$E:$E,AI24),0),1)) -> 46.6 | BI24: =SUMIFS([1]Обработка!$Q:$Q,[1]Обработка!$M:$M,AI24,[1]Обработка!$N:$N,"sell") -> 4.8895833 | BJ24: =SUMIFS([1]Обработка!$Q:$Q,[1]Обработка!$M:$M,AI24,[1]Обработка!$N:$N,"buy") -> 6.8034722 | BK24: =IF(AJ24>0,AVERAGEIFS([1]Обработка!$S:$S,[1]Обработка!$E:$E,AI24,[1]Обработка!$C:$C,"sell"),0) -> 1.1887416 | BL24: =IF(AK24>0,AVERAGEIFS([1]Обработка!$S:$S,[1]Обработка!$E:$E,AI24,[1]Обработка!$C:$C,"buy"),0) -> 1.5653846 | BM24: =IF(AL24>0,AVERAGEIFS([1]Обработка!$S:$S,[1]Обработка!$E:$E,AI24),0) -> 1.3547199
A25: 6 | B25: =IF(AND($A25>=C$12,C$12>0),0,IF(AND($A25>=C$9,C$9>0),C$10,IF(AND($A25>=C$6,C$6>0),C$7,0))) -> 0 | C25: =IF(AND($A25>=C$12,C$12>0),C$13,C24+B25) -> 14 | E25: =IF(OR($A25<2,AND(G$15>0,$A25>G$15)),0,IF(AND($A25>=G$12,G$12>0),G$13,IF(AND($A25>=G$9,G$9>0),G$10,IF(AND($A25>=G$6,G$6>0),G$7,0)))) -> 2 | F25: =F24+E25 -> 24 | G25: =G24+F25 -> 100 | I25: =IF(($A25<K$4),1,IF(AND($A25>K$15,K$15>0),I24,IF(AND($A25>=K$12,K$12>0),ROUND(I24+K$13,4),IF(AND($A25>=K$9,K$9>0),ROUND(I24+K$10,4),IF(AND($A25>=K$6,K$6>0),ROUND(I24+K$7,4),K$3))))) -> 1.25 | J25: =IF($A25<K$4, K$2, IF(K$1=0,IF(K$16>0,IF(K$2*K$16<ROUND(J24*I25, 3),K$2*K$16,ROUND(J24*I25, 3)),ROUND(J24*I25, 3)),IF(K$16>0,IF(K$2*K$16<ROUND(K$2*I25, 3),K$2*K$16,ROUND(K$2*I25, 3)),ROUND(K$2*I25, 3)))) -> 0.025 | K25: =K24+ROUND(J25,3) -> 0.094 | M25: =ROUND(C25*O25-K25*$O$6,2) -> 12.6 | N25: =IF($O$10>0,M25/$O$10,0) -> 0.0045 | O25: =ROUND(ROUND(K25,2)*$O$4,2) -> 0.9 | P25: =ROUND((ROUND(K24,2)*(G25-G24)*$O$4+P24+J25*$O$6),2) -> 39 | Q25: =P25/$O$10 -> 0.013928571 | R25: =ROUND(P25/O25,0) -> 43 | S25: =ROUND(R25/G25,2) -> 0.43 | T25: =R25+C25 -> 57 | U25: =ROUND(T25/G25,2) -> 0.57 | W25: =ROUND(K25*$O$7,2) -> 22.94 | X25: =ROUND(P25+W25,2) -> 61.94 | Z25: =IF($O$10>0,ROUND($O$10-X25,2),0) -> 2738.06 | AA25: =IF($O$10>0,ROUND(X25/$O$10,2),0) -> 0.02 | AB25: =IF(AND(Z25>0,$O$4>0),($O$10-P25-W25*$O$8)/O25,0) -> 3052.4844 | AC25: =IF(AB25>0,AB25+G25,0) -> 3152.4844 | AD25: 6 | AF25: =IF(P25>0,ROUND(W25/P25,2),0) -> 0.59 | AG25: =IF($O$10>0,ROUND(W25/$O$10,2),0) -> 0.01 | AI25: 6 | AJ25: =COUNTIFS([1]Обработка!$E:$E,AI25,[1]Обработка!$C:$C,"sell") -> 25 | AK25: =COUNTIFS([1]Обработка!$E:$E,AI25,[1]Обработка!$C:$C,"buy") -> 28 | AL25: =COUNTIFS([1]Обработка!$E:$E,AI25) -> 53 | AM25: =SUMIFS([1]Обработка!$F:$F,[1]Обработка!$E:$E,AI25,[1]Обработка!$C:$C,"sell") -> 2.25 | AN25: =SUMIFS([1]Обработка!$F:$F,[1]Обработка!$E:$E,AI25,[1]Обработка!$C:$C,"buy") -> 2.52 | AO25: =SUMIFS([1]Обработка!$F:$F,[1]Обработка!$E:$E,AI25) -> 4.77 | AP25: =SUMIFS([1]Обработка!$G:$G,[1]Обработка!$E:$E,AI25,[1]Обработка!$C:$C,"sell") -> 313.73 | AQ25: =SUMIFS([1]Обработка!$G:$G,[1]Обработка!$E:$E,AI25,[1]Обработка!$C:$C,"buy") -> 354.88 | AR25: =SUMIFS([1]Обработка!$G:$G,[1]Обработка!$E:$E,AI25) -> 668.61 | AS25: =ROUND(IF(AJ25>0,AVERAGEIFS([1]Обработка!$G:$G,[1]Обработка!$E:$E,AI25,[1]Обработка!$C:$C,"sell"),0),2) -> 12.55 | AT25: =ROUND(IF(AK25>0,AVERAGEIFS([1]Обработка!$G:$G,[1]Обработка!$E:$E,AI25,[1]Обработка!$C:$C,"buy"),0),2) -> 12.67 | AU25: =ROUND(IF(AL25>0,AVERAGEIFS([1]Обработка!$G:$G,[1]Обработка!$E:$E,AI25),0),2) -> 12.62 | AV25: =IF(AJ25>0,SUMIFS([1]Обработка!$G:$G,[1]Обработка!$E:$E,AI25,[1]Обработка!$C:$C,"sell")/SUMIFS([1]Обработка!$G:$G,[1]Обработка!$B:$B,"t/p"),0) -> 0.04081184 | AW25: =IF(AK25>0,SUMIFS([1]Обработка!$G:$G,[1]Обработка!$E:$E,AI25,[1]Обработка!$C:$C,"buy")/SUMIFS([1]Обработка!$G:$G,[1]Обработка!$B:$B,"t/p"),0) -> 0.046164873 | AX25: =IF(AL25>0,SUMIFS([1]Обработка!$G:$G,[1]Обработка!$E:$E,AI25)/SUMIFS([1]Обработка!$G:$G,[1]Обработка!$B:$B,"t/p"),0) -> 0.086976713 | AY25: =IF(VLOOKUP($AJ$14,[1]Сводная!$AG$4:$AH$38,2,0)=3,SUMIFS([1]Обработка!$P:$P,[1]Обработка!$M:$M,AI25,[1]Обработка!$N:$N,"sell")/100,SUMIFS([1]Обработка!$P:$P,[1]Обработка!$M:$M,AI25,[1]Обработка!$N:$N,"sell")) -> 126.1 | AZ25: =IF(VLOOKUP($AJ$14,[1]Сводная!$AG$4:$AH$38,2,0)=3,SUMIFS([1]Обработка!$P:$P,[1]Обработка!$M:$M,AI25,[1]Обработка!$N:$N,"buy")/100,SUMIFS([1]Обработка!$P:$P,[1]Обработка!$M:$M,AI25,[1]Обработка!$N:$N,"buy")) -> 106.7 | BA25: =IF(VLOOKUP($AJ$14,[1]Сводная!$AG$4:$AH$38,2,0)=3,ROUND(IF(AJ25>0,AVERAGEIFS([1]Обработка!$T:$T,[1]Обработка!$E:$E,AI25,[1]Обработка!$C:$C,"sell"),0),1)/100,ROUND(IF(AJ25>0,AVERAGEIFS([1]Обработка!$T:$T,[1]Обработка!$E:$E,AI25,[1]Обработка!$C:$C,"sell"),0),1)) -> 103.8 | BB25: =IF(VLOOKUP($AJ$14,[1]Сводная!$AG$4:$AH$38,2,0)=3,ROUND(IF(AK25>0,AVERAGEIFS([1]Обработка!$T:$T,[1]Обработка!$E:$E,AI25,[1]Обработка!$C:$C,"buy"),0),1)/100,ROUND(IF(AK25>0,AVERAGEIFS([1]Обработка!$T:$T,[1]Обработка!$E:$E,AI25,[1]Обработка!$C:$C,"buy"),0),1)) -> 101.9 | BC25: =IF(VLOOKUP($AJ$14,[1]Сводная!$AG$4:$AH$38,2,0)=3,ROUND(IF(AL25>0,AVERAGEIFS([1]Обработка!$T:$T,[1]Обработка!$E:$E,AI25),0),1)/100,ROUND(IF(AL25>0,AVERAGEIFS([1]Обработка!$T:$T,[1]Обработка!$E:$E,AI25),0),1)) -> 102.8 | BD25: =IF(VLOOKUP($AJ$14,[1]Сводная!$AG$4:$AH$38,2,0)=3,SUMIFS([1]Обработка!$O:$O,[1]Обработка!$M:$M,AI25,[1]Обработка!$N:$N,"sell")/100,SUMIFS([1]Обработка!$O:$O,[1]Обработка!$M:$M,AI25,[1]Обработка!$N:$N,"sell")) -> 76.2 | BE25: =IF(VLOOKUP($AJ$14,[1]Сводная!$AG$4:$AH$38,2,0)=3,SUMIFS([1]Обработка!$O:$O,[1]Обработка!$M:$M,AI25,[1]Обработка!$N:$N,"buy")/100,SUMIFS([1]Обработка!$O:$O,[1]Обработка!$M:$M,AI25,[1]Обработка!$N:$N,"buy")) -> 63 | BF25: =IF(VLOOKUP($AJ$14,[1]Сводная!$AG$4:$AH$38,2,0)=3,ROUND(IF(AJ25>0,AVERAGEIFS([1]Обработка!$U:$U,[1]Обработка!$E:$E,AI25,[1]Обработка!$C:$C,"sell"),0),1)/100,ROUND(IF(AJ25>0,AVERAGEIFS([1]Обработка!$U:$U,[1]Обработка!$E:$E,AI25,[1]Обработка!$C:$C,"sell"),0),1)) -> 58.5 | BG25: =IF(VLOOKUP($AJ$14,[1]Сводная!$AG$4:$AH$38,2,0)=3,ROUND(IF(AK25>0,AVERAGEIFS([1]Обработка!$U:$U,[1]Обработка!$E:$E,AI25,[1]Обработка!$C:$C,"buy"),0),1)/100,ROUND(IF(AK25>0,AVERAGEIFS([1]Обработка!$U:$U,[1]Обработка!$E:$E,AI25,[1]Обработка!$C:$C,"buy"),0),1)) -> 59.7 | BH25: =IF(VLOOKUP($AJ$14,[1]Сводная!$AG$4:$AH$38,2,0)=3,ROUND(IF(AL25>0,AVERAGEIFS([1]Обработка!$U:$U,[1]Обработка!$E:$E,AI25),0),1)/100,ROUND(IF(AL25>0,AVERAGEIFS([1]Обработка!$U:$U,[1]Обработка!$E:$E,AI25),0),1)) -> 59.2 | BI25: =SUMIFS([1]Обработка!$Q:$Q,[1]Обработка!$M:$M,AI25,[1]Обработка!$N:$N,"sell") -> 6.8506944 | BJ25: =SUMIFS([1]Обработка!$Q:$Q,[1]Обработка!$M:$M,AI25,[1]Обработка!$N:$N,"buy") -> 6.9618056 | BK25: =IF(AJ25>0,AVERAGEIFS([1]Обработка!$S:$S,[1]Обработка!$E:$E,AI25,[1]Обработка!$C:$C,"sell"),0) -> 2.5636667 | BL25: =IF(AK25>0,AVERAGEIFS([1]Обработка!$S:$S,[1]Обработка!$E:$E,AI25,[1]Обработка!$C:$C,"buy"),0) -> 2.4510417 | BM25: =IF(AL25>0,AVERAGEIFS([1]Обработка!$S:$S,[1]Обработка!$E:$E,AI25),0) -> 2.5041667
A26: 7 | B26: =IF(AND($A26>=C$12,C$12>0),0,IF(AND($A26>=C$9,C$9>0),C$10,IF(AND($A26>=C$6,C$6>0),C$7,0))) -> 0 | C26: =IF(AND($A26>=C$12,C$12>0),C$13,C25+B26) -> 14 | E26: =IF(OR($A26<2,AND(G$15>0,$A26>G$15)),0,IF(AND($A26>=G$12,G$12>0),G$13,IF(AND($A26>=G$9,G$9>0),G$10,IF(AND($A26>=G$6,G$6>0),G$7,0)))) -> 3 | F26: =F25+E26 -> 27 | G26: =G25+F26 -> 127 | I26: =IF(($A26<K$4),1,IF(AND($A26>K$15,K$15>0),I25,IF(AND($A26>=K$12,K$12>0),ROUND(I25+K$13,4),IF(AND($A26>=K$9,K$9>0),ROUND(I25+K$10,4),IF(AND($A26>=K$6,K$6>0),ROUND(I25+K$7,4),K$3))))) -> 1.25 | J26: =IF($A26<K$4, K$2, IF(K$1=0,IF(K$16>0,IF(K$2*K$16<ROUND(J25*I26, 3),K$2*K$16,ROUND(J25*I26, 3)),ROUND(J25*I26, 3)),IF(K$16>0,IF(K$2*K$16<ROUND(K$2*I26, 3),K$2*K$16,ROUND(K$2*I26, 3)),ROUND(K$2*I26, 3)))) -> 0.031 | K26: =K25+ROUND(J26,3) -> 0.125 | M26: =ROUND(C26*O26-K26*$O$6,2) -> 18.2 | N26: =IF($O$10>0,M26/$O$10,0) -> 0.0065 | O26: =ROUND(ROUND(K26,2)*$O$4,2) -> 1.3 | P26: =ROUND((ROUND(K25,2)*(G26-G25)*$O$4+P25+J26*$O$6),2) -> 63.3 | Q26: =P26/$O$10 -> 0.022607143 | R26: =ROUND(P26/O26,0) -> 49 | S26: =ROUND(R26/G26,2) -> 0.39 | T26: =R26+C26 -> 63 | U26: =ROUND(T26/G26,2) -> 0.5 | W26: =ROUND(K26*$O$7,2) -> 30.5 | X26: =ROUND(P26+W26,2) -> 93.8 | Z26: =IF($O$10>0,ROUND($O$10-X26,2),0) -> 2706.2 | AA26: =IF($O$10>0,ROUND(X26/$O$10,2),0) -> 0.03 | AB26: =IF(AND(Z26>0,$O$4>0),($O$10-P26-W26*$O$8)/O26,0) -> 2091.0769 | AC26: =IF(AB26>0,AB26+G26,0) -> 2218.0769 | AD26: 7 | AF26: =IF(P26>0,ROUND(W26/P26,2),0) -> 0.48 | AG26: =IF($O$10>0,ROUND(W26/$O$10,2),0) -> 0.01 | AI26: 7 | AJ26: =COUNTIFS([1]Обработка!$E:$E,AI26,[1]Обработка!$C:$C,"sell") -> 10 | AK26: =COUNTIFS([1]Обработка!$E:$E,AI26,[1]Обработка!$C:$C,"buy") -> 13 | AL26: =COUNTIFS([1]Обработка!$E:$E,AI26) -> 23 | AM26: =SUMIFS([1]Обработка!$F:$F,[1]Обработка!$E:$E,AI26,[1]Обработка!$C:$C,"sell") -> 1.2 | AN26: =SUMIFS([1]Обработка!$F:$F,[1]Обработка!$E:$E,AI26,[1]Обработка!$C:$C,"buy") -> 1.56 | AO26: =SUMIFS([1]Обработка!$F:$F,[1]Обработка!$E:$E,AI26) -> 2.76 | AP26: =SUMIFS([1]Обработка!$G:$G,[1]Обработка!$E:$E,AI26,[1]Обработка!$C:$C,"sell") -> 168.49 | AQ26: =SUMIFS([1]Обработка!$G:$G,[1]Обработка!$E:$E,AI26,[1]Обработка!$C:$C,"buy") -> 216.34 | AR26: =SUMIFS([1]Обработка!$G:$G,[1]Обработка!$E:$E,AI26) -> 384.83 | AS26: =ROUND(IF(AJ26>0,AVERAGEIFS([1]Обработка!$G:$G,[1]Обработка!$E:$E,AI26,[1]Обработка!$C:$C,"sell"),0),2) -> 16.85 | AT26: =ROUND(IF(AK26>0,AVERAGEIFS([1]Обработка!$G:$G,[1]Обработка!$E:$E,AI26,[1]Обработка!$C:$C,"buy"),0),2) -> 16.64 | AU26: =ROUND(IF(AL26>0,AVERAGEIFS([1]Обработка!$G:$G,[1]Обработка!$E:$E,AI26),0),2) -> 16.73 | AV26: =IF(AJ26>0,SUMIFS([1]Обработка!$G:$G,[1]Обработка!$E:$E,AI26,[1]Обработка!$C:$C,"sell")/SUMIFS([1]Обработка!$G:$G,[1]Обработка!$B:$B,"t/p"),0) -> 0.021918168 | AW26: =IF(AK26>0,SUMIFS([1]Обработка!$G:$G,[1]Обработка!$E:$E,AI26,[1]Обработка!$C:$C,"buy")/SUMIFS([1]Обработка!$G:$G,[1]Обработка!$B:$B,"t/p"),0) -> 0.028142777 | AX26: =IF(AL26>0,SUMIFS([1]Обработка!$G:$G,[1]Обработка!$E:$E,AI26)/SUMIFS([1]Обработка!$G:$G,[1]Обработка!$B:$B,"t/p"),0) -> 0.050060945 | AY26: =IF(VLOOKUP($AJ$14,[1]Сводная!$AG$4:$AH$38,2,0)=3,SUMIFS([1]Обработка!$P:$P,[1]Обработка!$M:$M,AI26,[1]Обработка!$N:$N,"sell")/100,SUMIFS([1]Обработка!$P:$P,[1]Обработка!$M:$M,AI26,[1]Обработка!$N:$N,"sell")) -> 135.1 | AZ26: =IF(VLOOKUP($AJ$14,[1]Сводная!$AG$4:$AH$38,2,0)=3,SUMIFS([1]Обработка!$P:$P,[1]Обработка!$M:$M,AI26,[1]Обработка!$N:$N,"buy")/100,SUMIFS([1]Обработка!$P:$P,[1]Обработка!$M:$M,AI26,[1]Обработка!$N:$N,"buy")) -> 148 | BA26: =IF(VLOOKUP($AJ$14,[1]Сводная!$AG$4:$AH$38,2,0)=3,ROUND(IF(AJ26>0,AVERAGEIFS([1]Обработка!$T:$T,[1]Обработка!$E:$E,AI26,[1]Обработка!$C:$C,"sell"),0),1)/100,ROUND(IF(AJ26>0,AVERAGEIFS([1]Обработка!$T:$T,[1]Обработка!$E:$E,AI26,[1]Обработка!$C:$C,"sell"),0),1)) -> 129.6 | BB26: =IF(VLOOKUP($AJ$14,[1]Сводная!$AG$4:$AH$38,2,0)=3,ROUND(IF(AK26>0,AVERAGEIFS([1]Обработка!$T:$T,[1]Обработка!$E:$E,AI26,[1]Обработка!$C:$C,"buy"),0),1)/100,ROUND(IF(AK26>0,AVERAGEIFS([1]Обработка!$T:$T,[1]Обработка!$E:$E,AI26,[1]Обработка!$C:$C,"buy"),0),1)) -> 130.9 | BC26: =IF(VLOOKUP($AJ$14,[1]Сводная!$AG$4:$AH$38,2,0)=3,ROUND(IF(AL26>0,AVERAGEIFS([1]Обработка!$T:$T,[1]Обработка!$E:$E,AI26),0),1)/100,ROUND(IF(AL26>0,AVERAGEIFS([1]Обработка!$T:$T,[1]Обработка!$E:$E,AI26),0),1)) -> 130.3 | BD26: =IF(VLOOKUP($AJ$14,[1]Сводная!$AG$4:$AH$38,2,0)=3,SUMIFS([1]Обработка!$O:$O,[1]Обработка!$M:$M,AI26,[1]Обработка!$N:$N,"sell")/100,SUMIFS([1]Обработка!$O:$O,[1]Обработка!$M:$M,AI26,[1]Обработка!$N:$N,"sell")) -> 71.3 | BE26: =IF(VLOOKUP($AJ$14,[1]Сводная!$AG$4:$AH$38,2,0)=3,SUMIFS([1]Обработка!$O:$O,[1]Обработка!$M:$M,AI26,[1]Обработка!$N:$N,"buy")/100,SUMIFS([1]Обработка!$O:$O,[1]Обработка!$M:$M,AI26,[1]Обработка!$N:$N,"buy")) -> 80.7 | BF26: =IF(VLOOKUP($AJ$14,[1]Сводная!$AG$4:$AH$38,2,0)=3,ROUND(IF(AJ26>0,AVERAGEIFS([1]Обработка!$U:$U,[1]Обработка!$E:$E,AI26,[1]Обработка!$C:$C,"sell"),0),1)/100,ROUND(IF(AJ26>0,AVERAGEIFS([1]Обработка!$U:$U,[1]Обработка!$E:$E,AI26,[1]Обработка!$C:$C,"sell"),0),1)) -> 66.9 | BG26: =IF(VLOOKUP($AJ$14,[1]Сводная!$AG$4:$AH$38,2,0)=3,ROUND(IF(AK26>0,AVERAGEIFS([1]Обработка!$U:$U,[1]Обработка!$E:$E,AI26,[1]Обработка!$C:$C,"buy"),0),1)/100,ROUND(IF(AK26>0,AVERAGEIFS([1]Обработка!$U:$U,[1]Обработка!$E:$E,AI26,[1]Обработка!$C:$C,"buy"),0),1)) -> 70 | BH26: =IF(VLOOKUP($AJ$14,[1]Сводная!$AG$4:$AH$38,2,0)=3,ROUND(IF(AL26>0,AVERAGEIFS([1]Обработка!$U:$U,[1]Обработка!$E:$E,AI26),0),1)/100,ROUND(IF(AL26>0,AVERAGEIFS([1]Обработка!$U:$U,[1]Обработка!$E:$E,AI26),0),1)) -> 68.7 | BI26: =SUMIFS([1]Обработка!$Q:$Q,[1]Обработка!$M:$M,AI26,[1]Обработка!$N:$N,"sell") -> 6.1013889 | BJ26: =SUMIFS([1]Обработка!$Q:$Q,[1]Обработка!$M:$M,AI26,[1]Обработка!$N:$N,"buy") -> 12.745139 | BK26: =IF(AJ26>0,AVERAGEIFS([1]Обработка!$S:$S,[1]Обработка!$E:$E,AI26,[1]Обработка!$C:$C,"sell"),0) -> 3.8594444 | BL26: =IF(AK26>0,AVERAGEIFS([1]Обработка!$S:$S,[1]Обработка!$E:$E,AI26,[1]Обработка!$C:$C,"buy"),0) -> 4.6501068 | BM26: =IF(AL26>0,AVERAGEIFS([1]Обработка!$S:$S,[1]Обработка!$E:$E,AI26),0) -> 4.3063406 | BO26: 2
A27: 8 | B27: =IF(AND($A27>=C$12,C$12>0),0,IF(AND($A27>=C$9,C$9>0),C$10,IF(AND($A27>=C$6,C$6>0),C$7,0))) -> 0 | C27: =IF(AND($A27>=C$12,C$12>0),C$13,C26+B27) -> 14 | E27: =IF(OR($A27<2,AND(G$15>0,$A27>G$15)),0,IF(AND($A27>=G$12,G$12>0),G$13,IF(AND($A27>=G$9,G$9>0),G$10,IF(AND($A27>=G$6,G$6>0),G$7,0)))) -> 3 | F27: =F26+E27 -> 30 | G27: =G26+F27 -> 157 | I27: =IF(($A27<K$4),1,IF(AND($A27>K$15,K$15>0),I26,IF(AND($A27>=K$12,K$12>0),ROUND(I26+K$13,4),IF(AND($A27>=K$9,K$9>0),ROUND(I26+K$10,4),IF(AND($A27>=K$6,K$6>0),ROUND(I26+K$7,4),K$3))))) -> 1.25 | J27: =IF($A27<K$4, K$2, IF(K$1=0,IF(K$16>0,IF(K$2*K$16<ROUND(J26*I27, 3),K$2*K$16,ROUND(J26*I27, 3)),ROUND(J26*I27, 3)),IF(K$16>0,IF(K$2*K$16<ROUND(K$2*I27, 3),K$2*K$16,ROUND(K$2*I27, 3)),ROUND(K$2*I27, 3)))) -> 0.039 | K27: =K26+ROUND(J27,3) -> 0.164 | M27: =ROUND(C27*O27-K27*$O$6,2) -> 22.4 | N27: =IF($O$10>0,M27/$O$10,0) -> 0.008 | O27: =ROUND(ROUND(K27,2)*$O$4,2) -> 1.6 | P27: =ROUND((ROUND(K26,2)*(G27-G26)*$O$4+P26+J27*$O$6),2) -> 102.3 | Q27: =P27/$O$10 -> 0.036535714 | R27: =ROUND(P27/O27,0) -> 64 | S27: =ROUND(R27/G27,2) -> 0.41 | T27: =R27+C27 -> 78 | U27: =ROUND(T27/G27,2) -> 0.5 | W27: =ROUND(K27*$O$7,2) -> 40.02 | X27: =ROUND(P27+W27,2) -> 142.32 | Z27: =IF($O$10>0,ROUND($O$10-X27,2),0) -> 2657.68 | AA27: =IF($O$10>0,ROUND(X27/$O$10,2),0) -> 0.05 | AB27: =IF(AND(Z27>0,$O$4>0),($O$10-P27-W27*$O$8)/O27,0) -> 1671.055 | AC27: =IF(AB27>0,AB27+G27,0) -> 1828.055 | AD27: 8 | AF27: =IF(P27>0,ROUND(W27/P27,2),0) -> 0.39 | AG27: =IF($O$10>0,ROUND(W27/$O$10,2),0) -> 0.01 | AI27: 8 | AJ27: =COUNTIFS([1]Обработка!$E:$E,AI27,[1]Обработка!$C:$C,"sell") -> 7 | AK27: =COUNTIFS([1]Обработка!$E:$E,AI27,[1]Обработка!$C:$C,"buy") -> 10 | AL27: =COUNTIFS([1]Обработка!$E:$E,AI27) -> 17 | AM27: =SUMIFS([1]Обработка!$F:$F,[1]Обработка!$E:$E,AI27,[1]Обработка!$C:$C,"sell") -> 1.12 | AN27: =SUMIFS([1]Обработка!$F:$F,[1]Обработка!$E:$E,AI27,[1]Обработка!$C:$C,"buy") -> 1.6 | AO27: =SUMIFS([1]Обработка!$F:$F,[1]Обработка!$E:$E,AI27) -> 2.72 | AP27: =SUMIFS([1]Обработка!$G:$G,[1]Обработка!$E:$E,AI27,[1]Обработка!$C:$C,"sell") -> 156.78 | AQ27: =SUMIFS([1]Обработка!$G:$G,[1]Обработка!$E:$E,AI27,[1]Обработка!$C:$C,"buy") -> 219.54 | AR27: =SUMIFS([1]Обработка!$G:$G,[1]Обработка!$E:$E,AI27) -> 376.32 | AS27: =ROUND(IF(AJ27>0,AVERAGEIFS([1]Обработка!$G:$G,[1]Обработка!$E:$E,AI27,[1]Обработка!$C:$C,"sell"),0),2) -> 22.4 | AT27: =ROUND(IF(AK27>0,AVERAGEIFS([1]Обработка!$G:$G,[1]Обработка!$E:$E,AI27,[1]Обработка!$C:$C,"buy"),0),2) -> 21.95 | AU27: =ROUND(IF(AL27>0,AVERAGEIFS([1]Обработка!$G:$G,[1]Обработка!$E:$E,AI27),0),2) -> 22.14 | AV27: =IF(AJ27>0,SUMIFS([1]Обработка!$G:$G,[1]Обработка!$E:$E,AI27,[1]Обработка!$C:$C,"sell")/SUMIFS([1]Обработка!$G:$G,[1]Обработка!$B:$B,"t/p"),0) -> 0.020394863 | AW27: =IF(AK27>0,SUMIFS([1]Обработка!$G:$G,[1]Обработка!$E:$E,AI27,[1]Обработка!$C:$C,"buy")/SUMIFS([1]Обработка!$G:$G,[1]Обработка!$B:$B,"t/p"),0) -> 0.028559052 | AX27: =IF(AL27>0,SUMIFS([1]Обработка!$G:$G,[1]Обработка!$E:$E,AI27)/SUMIFS([1]Обработка!$G:$G,[1]Обработка!$B:$B,"t/p"),0) -> 0.048953914 | AY27: =IF(VLOOKUP($AJ$14,[1]Сводная!$AG$4:$AH$38,2,0)=3,SUMIFS([1]Обработка!$P:$P,[1]Обработка!$M:$M,AI27,[1]Обработка!$N:$N,"sell")/100,SUMIFS([1]Обработка!$P:$P,[1]Обработка!$M:$M,AI27,[1]Обработка!$N:$N,"sell")) -> 172.8 | AZ27: =IF(VLOOKUP($AJ$14,[1]Сводная!$AG$4:$AH$38,2,0)=3,SUMIFS([1]Обработка!$P:$P,[1]Обработка!$M:$M,AI27,[1]Обработка!$N:$N,"buy")/100,SUMIFS([1]Обработка!$P:$P,[1]Обработка!$M:$M,AI27,[1]Обработка!$N:$N,"buy")) -> 177 | BA27: =IF(VLOOKUP($AJ$14,[1]Сводная!$AG$4:$AH$38,2,0)=3,ROUND(IF(AJ27>0,AVERAGEIFS([1]Обработка!$T:$T,[1]Обработка!$E:$E,AI27,[1]Обработка!$C:$C,"sell"),0),1)/100,ROUND(IF(AJ27>0,AVERAGEIFS([1]Обработка!$T:$T,[1]Обработка!$E:$E,AI27,[1]Обработка!$C:$C,"sell"),0),1)) -> 161.7 | BB27: =IF(VLOOKUP($AJ$14,[1]Сводная!$AG$4:$AH$38,2,0)=3,ROUND(IF(AK27>0,AVERAGEIFS([1]Обработка!$T:$T,[1]Обработка!$E:$E,AI27,[1]Обработка!$C:$C,"buy"),0),1)/100,ROUND(IF(AK27>0,AVERAGEIFS([1]Обработка!$T:$T,[1]Обработка!$E:$E,AI27,[1]Обработка!$C:$C,"buy"),0),1)) -> 163.1 | BC27: =IF(VLOOKUP($AJ$14,[1]Сводная!$AG$4:$AH$38,2,0)=3,ROUND(IF(AL27>0,AVERAGEIFS([1]Обработка!$T:$T,[1]Обработка!$E:$E,AI27),0),1)/100,ROUND(IF(AL27>0,AVERAGEIFS([1]Обработка!$T:$T,[1]Обработка!$E:$E,AI27),0),1)) -> 162.5 | BD27: =IF(VLOOKUP($AJ$14,[1]Сводная!$AG$4:$AH$38,2,0)=3,SUMIFS([1]Обработка!$O:$O,[1]Обработка!$M:$M,AI27,[1]Обработка!$N:$N,"sell")/100,SUMIFS([1]Обработка!$O:$O,[1]Обработка!$M:$M,AI27,[1]Обработка!$N:$N,"sell")) -> 77.9 | BE27: =IF(VLOOKUP($AJ$14,[1]Сводная!$AG$4:$AH$38,2,0)=3,SUMIFS([1]Обработка!$O:$O,[1]Обработка!$M:$M,AI27,[1]Обработка!$N:$N,"buy")/100,SUMIFS([1]Обработка!$O:$O,[1]Обработка!$M:$M,AI27,[1]Обработка!$N:$N,"buy")) -> 84.9 | BF27: =IF(VLOOKUP($AJ$14,[1]Сводная!$AG$4:$AH$38,2,0)=3,ROUND(IF(AJ27>0,AVERAGEIFS([1]Обработка!$U:$U,[1]Обработка!$E:$E,AI27,[1]Обработка!$C:$C,"sell"),0),1)/100,ROUND(IF(AJ27>0,AVERAGEIFS([1]Обработка!$U:$U,[1]Обработка!$E:$E,AI27,[1]Обработка!$C:$C,"sell"),0),1)) -> 75.3 | BG27: =IF(VLOOKUP($AJ$14,[1]Сводная!$AG$4:$AH$38,2,0)=3,ROUND(IF(AK27>0,AVERAGEIFS([1]Обработка!$U:$U,[1]Обработка!$E:$E,AI27,[1]Обработка!$C:$C,"buy"),0),1)/100,ROUND(IF(AK27>0,AVERAGEIFS([1]Обработка!$U:$U,[1]Обработка!$E:$E,AI27,[1]Обработка!$C:$C,"buy"),0),1)) -> 80.6 | BH27: =IF(VLOOKUP($AJ$14,[1]Сводная!$AG$4:$AH$38,2,0)=3,ROUND(IF(AL27>0,AVERAGEIFS([1]Обработка!$U:$U,[1]Обработка!$E:$E,AI27),0),1)/100,ROUND(IF(AL27>0,AVERAGEIFS([1]Обработка!$U:$U,[1]Обработка!$E:$E,AI27),0),1)) -> 78.4 | BI27: =SUMIFS([1]Обработка!$Q:$Q,[1]Обработка!$M:$M,AI27,[1]Обработка!$N:$N,"sell") -> 8.1631944 | BJ27: =SUMIFS([1]Обработка!$Q:$Q,[1]Обработка!$M:$M,AI27,[1]Обработка!$N:$N,"buy") -> 12.426389 | BK27: =IF(AJ27>0,AVERAGEIFS([1]Обработка!$S:$S,[1]Обработка!$E:$E,AI27,[1]Обработка!$C:$C,"sell"),0) -> 5.1356151 | BL27: =IF(AK27>0,AVERAGEIFS([1]Обработка!$S:$S,[1]Обработка!$E:$E,AI27,[1]Обработка!$C:$C,"buy"),0) -> 5.805625 | BM27: =IF(AL27>0,AVERAGEIFS([1]Обработка!$S:$S,[1]Обработка!$E:$E,AI27),0) -> 5.5297386
A28: 9 | B28: =IF(AND($A28>=C$12,C$12>0),0,IF(AND($A28>=C$9,C$9>0),C$10,IF(AND($A28>=C$6,C$6>0),C$7,0))) -> 0 | C28: =IF(AND($A28>=C$12,C$12>0),C$13,C27+B28) -> 14 | E28: =IF(OR($A28<2,AND(G$15>0,$A28>G$15)),0,IF(AND($A28>=G$12,G$12>0),G$13,IF(AND($A28>=G$9,G$9>0),G$10,IF(AND($A28>=G$6,G$6>0),G$7,0)))) -> 3 | F28: =F27+E28 -> 33 | G28: =G27+F28 -> 190 | I28: =IF(($A28<K$4),1,IF(AND($A28>K$15,K$15>0),I27,IF(AND($A28>=K$12,K$12>0),ROUND(I27+K$13,4),IF(AND($A28>=K$9,K$9>0),ROUND(I27+K$10,4),IF(AND($A28>=K$6,K$6>0),ROUND(I27+K$7,4),K$3))))) -> 1.25 | J28: =IF($A28<K$4, K$2, IF(K$1=0,IF(K$16>0,IF(K$2*K$16<ROUND(J27*I28, 3),K$2*K$16,ROUND(J27*I28, 3)),ROUND(J27*I28, 3)),IF(K$16>0,IF(K$2*K$16<ROUND(K$2*I28, 3),K$2*K$16,ROUND(K$2*I28, 3)),ROUND(K$2*I28, 3)))) -> 0.049 | K28: =K27+ROUND(J28,3) -> 0.213 | M28: =ROUND(C28*O28-K28*$O$6,2) -> 29.4 | N28: =IF($O$10>0,M28/$O$10,0) -> 0.0105 | O28: =ROUND(ROUND(K28,2)*$O$4,2) -> 2.1 | P28: =ROUND((ROUND(K27,2)*(G28-G27)*$O$4+P27+J28*$O$6),2) -> 155.1 | Q28: =P28/$O$10 -> 0.055392857 | R28: =ROUND(P28/O28,0) -> 74 | S28: =ROUND(R28/G28,2) -> 0.39 | T28: =R28+C28 -> 88 | U28: =ROUND(T28/G28,2) -> 0.46 | W28: =ROUND(K28*$O$7,2) -> 51.97 | X28: =ROUND(P28+W28,2) -> 207.07 | Z28: =IF($O$10>0,ROUND($O$10-X28,2),0) -> 2592.93 | AA28: =IF($O$10>0,ROUND(X28/$O$10,2),0) -> 0.07 | AB28: =IF(AND(Z28>0,$O$4>0),($O$10-P28-W28*$O$8)/O28,0) -> 1244.6276 | AC28: =IF(AB28>0,AB28+G28,0) -> 1434.6276 | AD28: 9 | AF28: =IF(P28>0,ROUND(W28/P28,2),0) -> 0.34 | AG28: =IF($O$10>0,ROUND(W28/$O$10,2),0) -> 0.02 | AI28: 9 | AJ28: =COUNTIFS([1]Обработка!$E:$E,AI28,[1]Обработка!$C:$C,"sell") -> 5 | AK28: =COUNTIFS([1]Обработка!$E:$E,AI28,[1]Обработка!$C:$C,"buy") -> 3 | AL28: =COUNTIFS([1]Обработка!$E:$E,AI28) -> 8 | AM28: =SUMIFS([1]Обработка!$F:$F,[1]Обработка!$E:$E,AI28,[1]Обработка!$C:$C,"sell") -> 1.05 | AN28: =SUMIFS([1]Обработка!$F:$F,[1]Обработка!$E:$E,AI28,[1]Обработка!$C:$C,"buy") -> 0.63 | AO28: =SUMIFS([1]Обработка!$F:$F,[1]Обработка!$E:$E,AI28) -> 1.68 | AP28: =SUMIFS([1]Обработка!$G:$G,[1]Обработка!$E:$E,AI28,[1]Обработка!$C:$C,"sell") -> 146.05 | AQ28: =SUMIFS([1]Обработка!$G:$G,[1]Обработка!$E:$E,AI28,[1]Обработка!$C:$C,"buy") -> 88.23 | AR28: =SUMIFS([1]Обработка!$G:$G,[1]Обработка!$E:$E,AI28) -> 234.28 | AS28: =ROUND(IF(AJ28>0,AVERAGEIFS([1]Обработка!$G:$G,[1]Обработка!$E:$E,AI28,[1]Обработка!$C:$C,"sell"),0),2) -> 29.21 | AT28: =ROUND(IF(AK28>0,AVERAGEIFS([1]Обработка!$G:$G,[1]Обработка!$E:$E,AI28,[1]Обработка!$C:$C,"buy"),0),2) -> 29.41 | AU28: =ROUND(IF(AL28>0,AVERAGEIFS([1]Обработка!$G:$G,[1]Обработка!$E:$E,AI28),0),2) -> 29.29 | AV28: =IF(AJ28>0,SUMIFS([1]Обработка!$G:$G,[1]Обработка!$E:$E,AI28,[1]Обработка!$C:$C,"sell")/SUMIFS([1]Обработка!$G:$G,[1]Обработка!$B:$B,"t/p"),0) -> 0.018999041 | AW28: =IF(AK28>0,SUMIFS([1]Обработка!$G:$G,[1]Обработка!$E:$E,AI28,[1]Обработка!$C:$C,"buy")/SUMIFS([1]Обработка!$G:$G,[1]Обработка!$B:$B,"t/p"),0) -> 0.011477476 | AX28: =IF(AL28>0,SUMIFS([1]Обработка!$G:$G,[1]Обработка!$E:$E,AI28)/SUMIFS([1]Обработка!$G:$G,[1]Обработка!$B:$B,"t/p"),0) -> 0.030476518 | AY28: =IF(VLOOKUP($AJ$14,[1]Сводная!$AG$4:$AH$38,2,0)=3,SUMIFS([1]Обработка!$P:$P,[1]Обработка!$M:$M,AI28,[1]Обработка!$N:$N,"sell")/100,SUMIFS([1]Обработка!$P:$P,[1]Обработка!$M:$M,AI28,[1]Обработка!$N:$N,"sell")) -> 294.3 | AZ28: =IF(VLOOKUP($AJ$14,[1]Сводная!$AG$4:$AH$38,2,0)=3,SUMIFS([1]Обработка!$P:$P,[1]Обработка!$M:$M,AI28,[1]Обработка!$N:$N,"buy")/100,SUMIFS([1]Обработка!$P:$P,[1]Обработка!$M:$M,AI28,[1]Обработка!$N:$N,"buy")) -> 223.2 | BA28: =IF(VLOOKUP($AJ$14,[1]Сводная!$AG$4:$AH$38,2,0)=3,ROUND(IF(AJ28>0,AVERAGEIFS([1]Обработка!$T:$T,[1]Обработка!$E:$E,AI28,[1]Обработка!$C:$C,"sell"),0),1)/100,ROUND(IF(AJ28>0,AVERAGEIFS([1]Обработка!$T:$T,[1]Обработка!$E:$E,AI28,[1]Обработка!$C:$C,"sell"),0),1)) -> 218.4 | BB28: =IF(VLOOKUP($AJ$14,[1]Сводная!$AG$4:$AH$38,2,0)=3,ROUND(IF(AK28>0,AVERAGEIFS([1]Обработка!$T:$T,[1]Обработка!$E:$E,AI28,[1]Обработка!$C:$C,"buy"),0),1)/100,ROUND(IF(AK28>0,AVERAGEIFS([1]Обработка!$T:$T,[1]Обработка!$E:$E,AI28,[1]Обработка!$C:$C,"buy"),0),1)) -> 201.8 | BC28: =IF(VLOOKUP($AJ$14,[1]Сводная!$AG$4:$AH$38,2,0)=3,ROUND(IF(AL28>0,AVERAGEIFS([1]Обработка!$T:$T,[1]Обработка!$E:$E,AI28),0),1)/100,ROUND(IF(AL28>0,AVERAGEIFS([1]Обработка!$T:$T,[1]Обработка!$E:$E,AI28),0),1)) -> 212.1 | BD28: =IF(VLOOKUP($AJ$14,[1]Сводная!$AG$4:$AH$38,2,0)=3,SUMIFS([1]Обработка!$O:$O,[1]Обработка!$M:$M,AI28,[1]Обработка!$N:$N,"sell")/100,SUMIFS([1]Обработка!$O:$O,[1]Обработка!$M:$M,AI28,[1]Обработка!$N:$N,"sell")) -> 100.4 | BE28: =IF(VLOOKUP($AJ$14,[1]Сводная!$AG$4:$AH$38,2,0)=3,SUMIFS([1]Обработка!$O:$O,[1]Обработка!$M:$M,AI28,[1]Обработка!$N:$N,"buy")/100,SUMIFS([1]Обработка!$O:$O,[1]Обработка!$M:$M,AI28,[1]Обработка!$N:$N,"buy")) -> 101.3 | BF28: =IF(VLOOKUP($AJ$14,[1]Сводная!$AG$4:$AH$38,2,0)=3,ROUND(IF(AJ28>0,AVERAGEIFS([1]Обработка!$U:$U,[1]Обработка!$E:$E,AI28,[1]Обработка!$C:$C,"sell"),0),1)/100,ROUND(IF(AJ28>0,AVERAGEIFS([1]Обработка!$U:$U,[1]Обработка!$E:$E,AI28,[1]Обработка!$C:$C,"sell"),0),1)) -> 90.9 | BG28: =IF(VLOOKUP($AJ$14,[1]Сводная!$AG$4:$AH$38,2,0)=3,ROUND(IF(AK28>0,AVERAGEIFS([1]Обработка!$U:$U,[1]Обработка!$E:$E,AI28,[1]Обработка!$C:$C,"buy"),0),1)/100,ROUND(IF(AK28>0,AVERAGEIFS([1]Обработка!$U:$U,[1]Обработка!$E:$E,AI28,[1]Обработка!$C:$C,"buy"),0),1)) -> 93.6 | BH28: =IF(VLOOKUP($AJ$14,[1]Сводная!$AG$4:$AH$38,2,0)=3,ROUND(IF(AL28>0,AVERAGEIFS([1]Обработка!$U:$U,[1]Обработка!$E:$E,AI28),0),1)/100,ROUND(IF(AL28>0,AVERAGEIFS([1]Обработка!$U:$U,[1]Обработка!$E:$E,AI28),0),1)) -> 91.9 | BI28: =SUMIFS([1]Обработка!$Q:$Q,[1]Обработка!$M:$M,AI28,[1]Обработка!$N:$N,"sell") -> 17.856944 | BJ28: =SUMIFS([1]Обработка!$Q:$Q,[1]Обработка!$M:$M,AI28,[1]Обработка!$N:$N,"buy") -> 7.1673611 | BK28: =IF(AJ28>0,AVERAGEIFS([1]Обработка!$S:$S,[1]Обработка!$E:$E,AI28,[1]Обработка!$C:$C,"sell"),0) -> 8.2215278 | BL28: =IF(AK28>0,AVERAGEIFS([1]Обработка!$S:$S,[1]Обработка!$E:$E,AI28,[1]Обработка!$C:$C,"buy"),0) -> 4.5974537 | BM28: =IF(AL28>0,AVERAGEIFS([1]Обработка!$S:$S,[1]Обработка!$E:$E,AI28),0) -> 6.8625
