Workbook

Sheet Сводная МОДЕЛЬ 1x1
I1: CalcLotType | J1: =IF(K$1=0,"LastOrder",IF(K$1=1,"MinOrder","ОШИБКА")) -> LastOrder | K1: 0
A2: TakeProffit | B2: =IF(C$2<=0,"д.б. >0","") | C2: 14 | E2: GridStep | F2: =IF(G$2<2,"д.б. >1","") | G2: 14 | I2: MinLot | J2: =IF(K$2<0,"д.б. >0","") | K2: 0.01 | M2: Пара | O2: eurusd
I3: Mult | J3: =IF(K$3<0,"д.б. >0","") | K3: 1.25 | M3: Значность | O3: 4
I4: MultStart | J4: =IF(K$4<2,"д.б. >1","") | K4: 3 | M4: Цена пипса, $ | O4: 10
BO5: 1
A6: TakeProffit_Level1 | C6: 0 | E6: GridLevel | F6: =IF(G$6<0,"д.б. >=0","") | G6: 2 | I6: MultLevel2 | J6: =IF(K$6<0,"д.б. >=0","") | K6: 0 | M6: Комиссия, $ | O6: 0
A7: TakeProffit_Level1Corr | C7: 0 | E7: GridStep_AddPips | G7: 2 | I7: MultCorr | J7: =IF(AND(K$6=0,K$7<>0),"д.б. =0","") | K7: 0 | M7: Залог 1 лот, $ | O7: 244
B8: =IF(OR(C$6=1,C$6<0,C$9=1,C$9<0,C$12=1,C$12<0,AND(C$6>1,C$9>1,C$6>=C$9),AND(C$6>1,C$12>1,C$6>=C$12),AND(C$9>1,C$12>1,C$9>=C$12)),"ОШИБКА в № колен","") | F8: =IF(OR(G$6=1,G$6<0,G$9=1,G$9<0,G$12=1,G$12<0,G$15<0,AND(G$6>1,G$9>1,G$6>=G$9),AND(G$6>1,G$12>1,G$6>=G$12),AND(G$9>1,G$12>1,G$9>=G$12),AND(G$6>1,G$15>0,G$6>G$15),AND(G$9>1,G$15>0,G$9>G$15),AND(G$12>1,G$15>0,G$12>G$15)),"ОШИБКА в №№ колен","") | J8: =IF(OR(K$6=1,K$6<0,K$9=1,K$9<0,K$12=1,K$12<0,K$15<0,AND(K$6>0,K$4>=K$6),AND(K$9>0,K$4>=K$9),AND(K$12>0,K$4>=K$12),AND(K$6>1,K$9>1,K$6>=K$9),AND(K$6>1,K$12>1,K$6>=K$12),AND(K$9>1,K$12>1,K$9>=K$12),AND(K$15>0,K$4>K$15),AND(K$6>1,K$15>0,K$6>K$15),AND(K$9>1,K$15>0,K$9>K$15),AND(K$12>1,K$15>0,K$12>K$15)),"ОШИБКА № колен","") | M8: StopOut, % | O8: 0.6
A9: TakeProffit_Level1_5 | C9: 0 | E9: GridStep_Level2 | G9: 7 | I9: MultLevel3 | J9: =IF(K$9<0,"д.б. >=0","") | K9: 0
A10: TakeProffit_Level1_5Corr | C10: 0 | E10: GridStep_Level2_AddPips | G10: 3 | I10: MultСorrLevel3 | J10: =IF(AND(K$9=0,K$10<>0),"д.б. =0","") | K10: 0 | M10: Депо, $ | O10: 2800
A12: TakeProffit_Level2 | C12: 0 | E12: Grid3 | F12: =IF(G$12<0,"д.б. >=0","") | G12: 13 | I12: Mult3 | J12: =IF(K$12<0,"д.б. >=0","") | K12: 0
A13: TakeProffit_Level2FixPips | C13: 0 | E13: Grid3Add | F13: =IF(AND(G$12=0,G$13<>0),"д.б. =0","") | G13: 4 | I13: Mult3Add | J13: =IF(AND(K$12=0,K$13<>0),"д.б. =0","") | K13: 0
AJ14: eurusd
E15: GridStop | F15: =IF(G$15<0,"д.б. >=0","") | G15: 15 | I15: MultStop | J15: =IF(K$15<0,"д.б. >=0","") | K15: 0
A16: MaxOpenOrders | C16: 17 | I16: MaxLotCoef | J16: =IF(K$16<0,"д.б. >=0","") | K16: 0
A18: №№ колен | B18: Кор-рект | C18: TP | E18: Коррект | F18: Шаг, пипсов | G18: Сетка пипсов от 1-го ордера | I18: Мульт | J18: Ордер | K18: Лотов сумма | M18: Прибыль | O18: $/пипс | P18: Просадка | R18: Безубыток | T18: ТР | W18: Залог, $ | X18: Просадка + залог, $ (включая комиссию) Min депо | Z18: Св.Маржа = Депо - просадка-залог, $ | AA18: Просадка + залог = %%депо | AB18: Max просадка до StopOut в пипсах от: | AD18: №№ ко-лен | AF18: Залог к просадке (включая комиссию) | AG18: Залог к депо, % | AI18: №№ ко-лен | AJ18: Кол-во сеток | AM18: Суммарный лот сеток | AP18: Общая прибыль | AS18: Средняя прибыль | AV18: % от общей прибыли | AY18: Макс размер сетки в пунктах | BA18: Средний размер сетки в пунктах | BD18: Макс кол-во пунктов до тп сетки | BF18: Среднее кол-во пунктов до тп сетки | BI18: Макс время сетки, Часы:Минуты | BK18: Среднее время существования сетки, Часы:Минуты
M19: $ | N19: % депо | P19: $ | Q19: % депо | R19: Пипсов | S19: %% | T19: Пипсов | U19: %% | AB19: Колена N | AC19: 1го ордера | AJ19: sell | AK19: buy | AL19: sell+buy | AM19: sell | AN19: buy | AO19: sell+buy | AP19: sell | AQ19: buy | AR19: sell+buy | AS19: sell | AT19: buy | AU19: sell+buy | AV19: sell | AW19: buy | AX19: sell+buy | AY19: sell | AZ19: buy | BA19: sell | BB19: buy | BC19: sell+buy | BD19: sell | BE19: buy | BF19: sell | BG19: buy | BH19: sell+buy | BI19: sell | BJ19: buy | BK19: sell | BL19: buy | BM19: sell+buy
A20: 1 | B20: 0 | C20: =C$2 -> 14 | E20: =IF(OR($A20<2,AND(G$15>0,$A20>G$15)),0,IF(AND($A20>=G$12,G$12>0),G$13,IF(AND($A20>=G$9,G$9>0),G$10,IF(AND($A20>=G$6,G$6>0),G$7,0)))) -> 0 | F20: 0 | G20: =F20 -> 0 | I20: =IF(($A20<K$4),1,IF(AND($A20>K$15,K$15>0),I19,IF(AND($A20>=K$12,K$12>0),ROUND(I19+K$13,4),IF(AND($A20>=K$9,K$9>0),ROUND(I19+K$10,4),IF(AND($A20>=K$6,K$6>0),ROUND(I19+K$7,4),K$3))))) -> 1 | J20: =IF($A20<K$4, K$2, IF(K$1=0,IF(K$16>0,IF(K$2*K$16<ROUND(J19*I20, 3),K$2*K$16,ROUND(J19*I20, 3)),ROUND(J19*I20, 3)),IF(K$16>0,IF(K$2*K$16<ROUND(K$2*I20, 3),K$2*K$16,ROUND(K$2*I20, 3)),ROUND(K$2*I20, 3)))) -> 0.01 | K20: =J20 -> 0.01 | M20: =ROUND(C20*O20-K20*$O$6,2) -> 1.4 | N20: =IF($O$10>0,M20/$O$10,0) -> 0.0005 | O20: =ROUND(ROUND(K20,2)*$O$4,2) -> 0.1 | P20: =ROUND(J20*$O$6,2) -> 0 | Q20: =P20/$O$10 -> 0 | R20: =ROUND(P20/O20,0) -> 0 | S20: 0 | T20: =R20+C20 -> 14 | U20: 0 | W20: =ROUND(K20*$O$7,2) -> 2.44 | X20: =ROUND(P20+W20,2) -> 2.44 | Z20: =IF($O$10>0,ROUND($O$10-X20,2),0) -> 2797.56 | AA20: =IF($O$10>0,ROUND(X20/$O$10,2),0) -> 0 | AB20: =IF(AND(Z20>0,$O$4>0),($O$10-P20-W20*$O$8)/O20,0) -> 27985.36 | AC20: =IF(AB20>0,AB20+G20,0) -> 27985.36 | AD20: 1 | AF20: =IF(P20>0,ROUND(W20/P20,2),0) -> 0 | AG20: =IF($O$10>0,ROUND(W20/$O$10,2),0) -> 0 | AI20: 1 | AJ20: =COUNTIFS([1]Обработка!$E:$E,AI20,[1]Обработка!$C:$C,"sell") -> 466 | AK20: =COUNTIFS([1]Обработка!$E:$E,AI20,[1]Обработка!$C:$C,"buy") -> 479 | AL20: =COUNTIFS([1]Обработка!$E:$E,AI20) -> 945 | AM20: =SUMIFS([1]Обработка!$F:$F,[1]Обработка!$E:$E,AI20,[1]Обработка!$C:$C,"sell") -> 4.66 | AN20: =SUMIFS([1]Обработка!$F:$F,[1]Обработка!$E:$E,AI20,[1]Обработка!$C:$C,"buy") -> 4.79 | AO20: =SUMIFS([1]Обработка!$F:$F,[1]Обработка!$E:$E,AI20) -> 9.45 | AP20: =SUMIFS([1]Обработка!$G:$G,[1]Обработка!$E:$E,AI20,[1]Обработка!$C:$C,"sell") -> 652.16 | AQ20: =SUMIFS([1]Обработка!$G:$G,[1]Обработка!$E:$E,AI20,[1]Обработка!$C:$C,"buy") -> 671.07 | AR20: =SUMIFS([1]Обработка!$G:$G,[1]Обработка!$E:$E,AI20) -> 1323.23 | AS20: =ROUND(IF(AJ20>0,AVERAGEIFS([1]Обработка!$G:$G,[1]Обработка!$E:$E,AI20,[1]Обработка!$C:$C,"sell"),0),2) -> 1.4 | AT20: =ROUND(IF(AK20>0,AVERAGEIFS([1]Обработка!$G:$G,[1]Обработка!$E:$E,AI20,[1]Обработка!$C:$C,"buy"),0),2) -> 1.4 | AU20: =ROUND(IF(AL20>0,AVERAGEIFS([1]Обработка!$G:$G,[1]Обработка!$E:$E,AI20),0),2) -> 1.4 | AV20: =IF(AJ20>0,SUMIFS([1]Обработка!$G:$G,[1]Обработка!$E:$E,AI20,[1]Обработка!$C:$C,"sell")/SUMIFS([1]Обработка!$G:$G,[1]Обработка!$B:$B,"t/p"),0) -> 0.084836801 | AW20: =IF(AK20>0,SUMIFS([1]Обработка!$G:$G,[1]Обработка!$E:$E,AI20,[1]Обработка!$C:$C,"buy")/SUMIFS([1]Обработка!$G:$G,[1]Обработка!$B:$B,"t/p"),0) -> 0.087296725 | AX20: =IF(AL20>0,SUMIFS([1]Обработка!$G:$G,[1]Обработка!$E:$E,AI20)/SUMIFS([1]Обработка!$G:$G,[1]Обработка!$B:$B,"t/p"),0) -> 0.17213353 | AY20: =IF(VLOOKUP($AJ$14,[1]Сводная!$AG$4:$AH$38,2,0)=3,SUMIFS([1]Обработка!$P:$P,[1]Обработка!$M:$M,AI20,[1]Обработка!$N:$N,"sell")/100,SUMIFS([1]Обработка!$P:$P,[1]Обработка!$M:$M,AI20,[1]Обработка!$N:$N,"sell")) -> 0 | AZ20: =IF(VLOOKUP($AJ$14,[1]Сводная!$AG$4:$AH$38,2,0)=3,SUMIFS([1]Обработка!$P:$P,[1]Обработка!$M:$M,AI20,[1]Обработка!$N:$N,"buy")/100,SUMIFS([1]Обработка!$P:$P,[1]Обработка!$M:$M,AI20,[1]Обработка!$N:$N,"buy")) -> 0 | BA20: =IF(VLOOKUP($AJ$14,[1]Сводная!$AG$4:$AH$38,2,0)=3,ROUND(IF(AJ20>0,AVERAGEIFS([1]Обработка!$T:$T,[1]Обработка!$E:$E,AI20,[1]Обработка!$C:$C,"sell"),0),1)/100,ROUND(IF(AJ20>0,AVERAGEIFS([1]Обработка!$T:$T,[1]Обработка!$E:$E,AI20,[1]Обработка!$C:$C,"sell"),0),1)) -> 0 | BB20: =IF(VLOOKUP($AJ$14,[1]Сводная!$AG$4:$AH$38,2,0)=3,ROUND(IF(AK20>0,AVERAGEIFS([1]Обработка!$T:$T,[1]Обработка!$E:$E,AI20,[1]Обработка!$C:$C,"buy"),0),1)/100,ROUND(IF(AK20>0,AVERAGEIFS([1]Обработка!$T:$T,[1]Обработка!$E:$E,AI20,[1]Обработка!$C:$C,"buy"),0),1)) -> 0 | BC20: =IF(VLOOKUP($AJ$14,[1]Сводная!$AG$4:$AH$38,2,0)=3,ROUND(IF(AL20>0,AVERAGEIFS([1]Обработка!$T:$T,[1]Обработка!$E:$E,AI20),0),1)/100,ROUND(IF(AL20>0,AVERAGEIFS([1]Обработка!$T:$T,[1]Обработка!$E:$E,AI20),0),1)) -> 0 | BD20: =IF(VLOOKUP($AJ$14,[1]Сводная!$AG$4:$AH$38,2,0)=3,SUMIFS([1]Обработка!$O:$O,[1]Обработка!$M:$M,AI20,[1]Обработка!$N:$N,"sell")/100,SUMIFS([1]Обработка!$O:$O,[1]Обработка!$M:$M,AI20,[1]Обработка!$N:$N,"sell")) -> 14 | BE20: =IF(VLOOKUP($AJ$14,[1]Сводная!$AG$4:$AH$38,2,0)=3,SUMIFS([1]Обработка!$O:$O,[1]Обработка!$M:$M,AI20,[1]Обработка!$N:$N,"buy")/100,SUMIFS([1]Обработка!$O:$O,[1]Обработка!$M:$M,AI20,[1]Обработка!$N:$N,"buy")) -> 16.3 | BF20: =IF(VLOOKUP($AJ$14,[1]Сводная!$AG$4:$AH$38,2,0)=3,ROUND(IF(AJ20>0,AVERAGEIFS([1]Обработка!$U:$U,[1]Обработка!$E:$E,AI20,[1]Обработка!$C:$C,"sell"),0),1)/100,ROUND(IF(AJ20>0,AVERAGEIFS([1]Обработка!$U:$U,[1]Обработка!$E:$E,AI20,[1]Обработка!$C:$C,"sell"),0),1)) -> 14 | BG20: =IF(VLOOKUP($AJ$14,[1]Сводная!$AG$4:$AH$38,2,0)=3,ROUND(IF(AK20>0,AVERAGEIFS([1]Обработка!$U:$U,[1]Обработка!$E:$E,AI20,[1]Обработка!$C:$C,"buy"),0),1)/100,ROUND(IF(AK20>0,AVERAGEIFS([1]Обработка!$U:$U,[1]Обработка!$E:$E,AI20,[1]Обработка!$C:$C,"buy"),0),1)) -> 14.1 | BH20: =IF(VLOOKUP($AJ$14,[1]Сводная!$AG$4:$AH$38,2,0)=3,ROUND(IF(AL20>0,AVERAGEIFS([1]Обработка!$U:$U,[1]Обработка!$E:$E,AI20),0),1)/100,ROUND(IF(AL20>0,AVERAGEIFS([1]Обработка!$U:$U,[1]Обработка!$E:$E,AI20),0),1)) -> 14 | BI20: =SUMIFS([1]Обработка!$Q:$Q,[1]Обработка!$M:$M,AI20,[1]Обработка!$N:$N,"sell") -> 3.0701389 | BJ20: =SUMIFS([1]Обработка!$Q:$Q,[1]Обработка!$M:$M,AI20,[1]Обработка!$N:$N,"buy") -> 2.3451389 | BK20: =IF(AJ20>0,AVERAGEIFS([1]Обработка!$S:$S,[1]Обработка!$E:$E,AI20,[1]Обработка!$C:$C,"sell"),0) -> 0.11717185 | BL20: =IF(AK20>0,AVERAGEIFS([1]Обработка!$S:$S,[1]Обработка!$E:$E,AI20,[1]Обработка!$C:$C,"buy"),0) -> 0.090596729 | BM20: =IF(AL20>0,AVERAGEIFS([1]Обработка!$S:$S,[1]Обработка!$E:$E,AI20),0) -> 0.1037015
A21: 2 | B21: =IF(AND($A21>=C$12,C$12>0),0,IF(AND($A21>=C$9,C$9>0),C$10,IF(AND($A21>=C$6,C$6>0),C$7,0))) -> 0 | C21: =IF(AND($A21>=C$12,C$12>0),C$13,C20+B21) -> 14 | E21: =IF(OR($A21<2,AND(G$15>0,$A21>G$15)),0,IF(AND($A21>=G$12,G$12>0),G$13,IF(AND($A21>=G$9,G$9>0),G$10,IF(AND($A21>=G$6,G$6>0),G$7,0)))) -> 2 | F21: =G$2+E21 -> 16 | G21: =G20+F21 -> 16 | I21: =IF(($A21<K$4),1,IF(AND($A21>K$15,K$15>0),I20,IF(AND($A21>=K$12,K$12>0),ROUND(I20+K$13,4),IF(AND($A21>=K$9,K$9>0),ROUND(I20+K$10,4),IF(AND($A21>=K$6,K$6>0),ROUND(I20+K$7,4),K$3))))) -> 1 | J21: =IF($A21<K$4, K$2, IF(K$1=0,IF(K$16>0,IF(K$2*K$16<ROUND(J20*I21, 3),K$2*K$16,ROUND(J20*I21, 3)),ROUND(J20*I21, 3)),IF(K$16>0,IF(K$2*K$16<ROUND(K$2*I21, 3),K$2*K$16,ROUND(K$2*I21, 3)),ROUND(K$2*I21, 3)))) -> 0.01 | K21: =K20+ROUND(J21,3) -> 0.02 | M21: =ROUND(C21*O21-K21*$O$6,2) -> 2.8 | N21: =IF($O$10>0,M21/$O$10,0) -> 0.001 | O21: =ROUND(ROUND(K21,2)*$O$4,2) -> 0.2 | P21: =ROUND((ROUND(K20,2)*(G21-G20)*$O$4+P20+J21*$O$6),2) -> 1.6 | Q21: =P21/$O$10 -> 0.00057142857 | R21: =ROUND(P21/O21,0) -> 8 | S21: =ROUND(R21/G21,2) -> 0.5 | T21: =R21+C21 -> 22 | U21: =ROUND(T21/G21,2) -> 1.38 | W21: =ROUND(K21*$O$7,2) -> 4.88 | X21: =ROUND(P21+W21,2) -> 6.48 | Z21: =IF($O$10>0,ROUND($O$10-X21,2),0) -> 2793.52 | AA21: =IF($O$10>0,ROUND(X21/$O$10,2),0) -> 0 | AB21: =IF(AND(Z21>0,$O$4>0),($O$10-P21-W21*$O$8)/O21,0) -> 13977.36 | AC21: =IF(AB21>0,AB21+G21,0) -> 13993.36 | AD21: 2 | AF21: =IF(P21>0,ROUND(W21/P21,2),0) -> 3.05 | AG21: =IF($O$10>0,ROUND(W21/$O$10,2),0) -> 0 | AI21: 2 | AJ21: =COUNTIFS([1]Обработка!$E:$E,AI21,[1]Обработка!$C:$C,"sell") -> 191 | AK21: =COUNTIFS([1]Обработка!$E:$E,AI21,[1]Обработка!$C:$C,"buy") -> 182 | AL21: =COUNTIFS([1]Обработка!$E:$E,AI21) -> 373 | AM21: =SUMIFS([1]Обработка!$F:$F,[1]Обработка!$E:$E,AI21,[1]Обработка!$C:$C,"sell") -> 3.82 | AN21: =SUMIFS([1]Обработка!$F:$F,[1]Обработка!$E:$E,AI21,[1]Обработка!$C:$C,"buy") -> 3.64 | AO21: =SUMIFS([1]Обработка!$F:$F,[1]Обработка!$E:$E,AI21) -> 7.46 | AP21: =SUMIFS([1]Обработка!$G:$G,[1]Обработка!$E:$E,AI21,[1]Обработка!$C:$C,"sell") -> 536.23 | AQ21: =SUMIFS([1]Обработка!$G:$G,[1]Обработка!$E:$E,AI21,[1]Обработка!$C:$C,"buy") -> 508.45 | AR21: =SUMIFS([1]Обработка!$G:$G,[1]Обработка!$E:$E,AI21) -> 1044.68 | AS21: =ROUND(IF(AJ21>0,AVERAGEIFS([1]Обработка!$G:$G,[1]Обработка!$E:$E,AI21,[1]Обработка!$C:$C,"sell"),0),2) -> 2.81 | AT21: =ROUND(IF(AK21>0,AVERAGEIFS([1]Обработка!$G:$G,[1]Обработка!$E:$E,AI21,[1]Обработка!$C:$C,"buy"),0),2) -> 2.79 | AU21: =ROUND(IF(AL21>0,AVERAGEIFS([1]Обработка!$G:$G,[1]Обработка!$E:$E,AI21),0),2) -> 2.8 | AV21: =IF(AJ21>0,SUMIFS([1]Обработка!$G:$G,[1]Обработка!$E:$E,AI21,[1]Обработка!$C:$C,"sell")/SUMIFS([1]Обработка!$G:$G,[1]Обработка!$B:$B,"t/p"),0) -> 0.069755946 | AW21: =IF(AK21>0,SUMIFS([1]Обработка!$G:$G,[1]Обработка!$E:$E,AI21,[1]Обработка!$C:$C,"buy")/SUMIFS([1]Обработка!$G:$G,[1]Обработка!$B:$B,"t/p"),0) -> 0.06614216 | AX21: =IF(AL21>0,SUMIFS([1]Обработка!$G:$G,[1]Обработка!$E:$E,AI21)/SUMIFS([1]Обработка!$G:$G,[1]Обработка!$B:$B,"t/p"),0) -> 0.13589811 | AY21: =IF(VLOOKUP($AJ$14,[1]Сводная!$AG$4:$AH$38,2,0)=3,SUMIFS([1]Обработка!$P:$P,[1]Обработка!$M:$M,AI21,[1]Обработка!$N:$N,"sell")/100,SUMIFS([1]Обработка!$P:$P,[1]Обработка!$M:$M,AI21,[1]Обработка!$N:$N,"sell")) -> 28.1 | AZ21: =IF(VLOOKUP($AJ$14,[1]Сводная!$AG$4:$AH$38,2,0)=3,SUMIFS([1]Обработка!$P:$P,[1]Обработка!$M:$M,AI21,[1]Обработка!$N:$N,"buy")/100,SUMIFS([1]Обработка!$P:$P,[1]Обработка!$M:$M,AI21,[1]Обработка!$N:$N,"buy")) -> 24.3 | BA21: =IF(VLOOKUP($AJ$14,[1]Сводная!$AG$4:$AH$38,2,0)=3,ROUND(IF(AJ21>0,AVERAGEIFS([1]Обработка!$T:$T,[1]Обработка!$E:$E,AI21,[1]Обработка!$C:$C,"sell"),0),1)/100,ROUND(IF(AJ21>0,AVERAGEIFS([1]Обработка!$T:$T,[1]Обработка!$E:$E,AI21,[1]Обработка!$C:$C,"sell"),0),1)) -> 16.3 | BB21: =IF(VLOOKUP($AJ$14,[1]Сводная!$AG$4:$AH$38,2,0)=3,ROUND(IF(AK21>0,AVERAGEIFS([1]Обработка!$T:$T,[1]Обработка!$E:$E,AI21,[1]Обработка!$C:$C,"buy"),0),1)/100,ROUND(IF(AK21>0,AVERAGEIFS([1]Обработка!$T:$T,[1]Обработка!$E:$E,AI21,[1]Обработка!$C:$C,"buy"),0),1)) -> 16.3 | BC21: =IF(VLOOKUP($AJ$14,[1]Сводная!$AG$4:$AH$38,2,0)=3,ROUND(IF(AL21>0,AVERAGEIFS([1]Обработка!$T:$T,[1]Обработка!$E:$E,AI21),0),1)/100,ROUND(IF(AL21>0,AVERAGEIFS([1]Обработка!$T:$T,[1]Обработка!$E:$E,AI21),0),1)) -> 16.3 | BD21: =IF(VLOOKUP($AJ$14,[1]Сводная!$AG$4:$AH$38,2,0)=3,SUMIFS([1]Обработка!$O:$O,[1]Обработка!$M:$M,AI21,[1]Обработка!$N:$N,"sell")/100,SUMIFS([1]Обработка!$O:$O,[1]Обработка!$M:$M,AI21,[1]Обработка!$N:$N,"sell")) -> 28 | BE21: =IF(VLOOKUP($AJ$14,[1]Сводная!$AG$4:$AH$38,2,0)=3,SUMIFS([1]Обработка!$O:$O,[1]Обработка!$M:$M,AI21,[1]Обработка!$N:$N,"buy")/100,SUMIFS([1]Обработка!$O:$O,[1]Обработка!$M:$M,AI21,[1]Обработка!$N:$N,"buy")) -> 26.2 | BF21: =IF(VLOOKUP($AJ$14,[1]Сводная!$AG$4:$AH$38,2,0)=3,ROUND(IF(AJ21>0,AVERAGEIFS([1]Обработка!$U:$U,[1]Обработка!$E:$E,AI21,[1]Обработка!$C:$C,"sell"),0),1)/100,ROUND(IF(AJ21>0,AVERAGEIFS([1]Обработка!$U:$U,[1]Обработка!$E:$E,AI21,[1]Обработка!$C:$C,"sell"),0),1)) -> 22 | BG21: =IF(VLOOKUP($AJ$14,[1]Сводная!$AG$4:$AH$38,2,0)=3,ROUND(IF(AK21>0,AVERAGEIFS([1]Обработка!$U:$U,[1]Обработка!$E:$E,AI21,[1]Обработка!$C:$C,"buy"),0),1)/100,ROUND(IF(AK21>0,AVERAGEIFS([1]Обработка!$U:$U,[1]Обработка!$E:$E,AI21,[1]Обработка!$C:$C,"buy"),0),1)) -> 22.4 | BH21: =IF(VLOOKUP($AJ$14,[1]Сводная!$AG$4:$AH$38,2,0)=3,ROUND(IF(AL21>0,AVERAGEIFS([1]Обработка!$U:$U,[1]Обработка!$E:$E,AI21),0),1)/100,ROUND(IF(AL21>0,AVERAGEIFS([1]Обработка!$U:$U,[1]Обработка!$E:$E,AI21),0),1)) -> 22.2 | BI21: =SUMIFS([1]Обработка!$Q:$Q,[1]Обработка!$M:$M,AI21,[1]Обработка!$N:$N,"sell") -> 3.73125 | BJ21: =SUMIFS([1]Обработка!$Q:$Q,[1]Обработка!$M:$M,AI21,[1]Обработка!$N:$N,"buy") -> 3.48125 | BK21: =IF(AJ21>0,AVERAGEIFS([1]Обработка!$S:$S,[1]Обработка!$E:$E,AI21,[1]Обработка!$C:$C,"sell"),0) -> 0.39022324 | BL21: =IF(AK21>0,AVERAGEIFS([1]Обработка!$S:$S,[1]Обработка!$E:$E,AI21,[1]Обработка!$C:$C,"buy"),0) -> 0.34522283 | BM21: =IF(AL21>0,AVERAGEIFS([1]Обработка!$S:$S,[1]Обработка!$E:$E,AI21),0) -> 0.36826594
A22: 3 | B22: =IF(AND($A22>=C$12,C$12>0),0,IF(AND($A22>=C$9,C$9>0),C$10,IF(AND($A22>=C$6,C$6>0),C$7,0))) -> 0 | C22: =IF(AND($A22>=C$12,C$12>0),C$13,C21+B22) -> 14 | E22: =IF(OR($A22<2,AND(G$15>0,$A22>G$15)),0,IF(AND($A22>=G$12,G$12>0),G$13,IF(AND($A22>=G$9,G$9>0),G$10,IF(AND($A22>=G$6,G$6>0),G$7,0)))) -> 2 | F22: =F21+E22 -> 18 | G22: =G21+F22 -> 34 | I22: =IF(($A22<K$4),1,IF(AND($A22>K$15,K$15>0),I21,IF(AND($A22>=K$12,K$12>0),ROUND(I21+K$13,4),IF(AND($A22>=K$9,K$9>0),ROUND(I21+K$10,4),IF(AND($A22>=K$6,K$6>0),ROUND(I21+K$7,4),K$3))))) -> 1.25 | J22: =IF($A22<K$4, K$2, IF(K$1=0,IF(K$16>0,IF(K$2*K$16<ROUND(J21*I22, 3),K$2*K$16,ROUND(J21*I22, 3)),ROUND(J21*I22, 3)),IF(K$16>0,IF(K$2*K$16<ROUND(K$2*I22, 3),K$2*K$16,ROUND(K$2*I22, 3)),ROUND(K$2*I22, 3)))) -> 0.013 | K22: =K21+ROUND(J22,3) -> 0.033 | M22: =ROUND(C22*O22-K22*$O$6,2) -> 4.2 | N22: =IF($O$10>0,M22/$O$10,0) -> 0.0015 | O22: =ROUND(ROUND(K22,2)*$O$4,2) -> 0.3 | P22: =ROUND((ROUND(K21,2)*(G22-G21)*$O$4+P21+J22*$O$6),2) -> 5.2 | Q22: =P22/$O$10 -> 0.0018571429 | R22: =ROUND(P22/O22,0) -> 17 | S22: =ROUND(R22/G22,2) -> 0.5 | T22: =R22+C22 -> 31 | U22: =ROUND(T22/G22,2) -> 0.91 | W22: =ROUND(K22*$O$7,2) -> 8.05 | X22: =ROUND(P22+W22,2) -> 13.25 | Z22: =IF($O$10>0,ROUND($O$10-X22,2),0) -> 2786.75 | AA22: =IF($O$10>0,ROUND(X22/$O$10,2),0) -> 0 | AB22: =IF(AND(Z22>0,$O$4>0),($O$10-P22-W22*$O$8)/O22,0) -> 9299.9 | AC22: =IF(AB22>0,AB22+G22,0) -> 9333.9 | AD22: 3 | AF22: =IF(P22>0,ROUND(W22/P22,2),0) -> 1.55 | AG22: =IF($O$10>0,ROUND(W22/$O$10,2),0) -> 0 | AI22: 3 | AJ22: =COUNTIFS([1]Обработка!$E:$E,AI22,[1]Обработка!$C:$C,"sell") -> 94 | AK22: =COUNTIFS([1]Обработка!$E:$E,AI22,[1]Обработка!$C:$C,"buy") -> 82 | AL22: =COUNTIFS([1]Обработка!$E:$E,AI22) -> 176 | AM22: =SUMIFS([1]Обработка!$F:$F,[1]Обработка!$E:$E,AI22,[1]Обработка!$C:$C,"sell") -> 2.82 | AN22: =SUMIFS([1]Обработка!$F:$F,[1]Обработка!$E:$E,AI22,[1]Обработка!$C:$C,"buy") -> 2.49 | AO22: =SUMIFS([1]Обработка!$F:$F,[1]Обработка!$E:$E,AI22) -> 5.31 | AP22: =SUMIFS([1]Обработка!$G:$G,[1]Обработка!$E:$E,AI22,[1]Обработка!$C:$C,"sell") -> 393.72 | AQ22: =SUMIFS([1]Обработка!$G:$G,[1]Обработка!$E:$E,AI22,[1]Обработка!$C:$C,"buy") -> 359.62 | AR22: =SUMIFS([1]Обработка!$G:$G,[1]Обработка!$E:$E,AI22) -> 753.34 | AS22: =ROUND(IF(AJ22>0,AVERAGEIFS([1]Обработка!$G:$G,[1]Обработка!$E:$E,AI22,[1]Обработка!$C:$C,"sell"),0),2) -> 4.19 | AT22: =ROUND(IF(AK22>0,AVERAGEIFS([1]Обработка!$G:$G,[1]Обработка!$E:$E,AI22,[1]Обработка!$C:$C,"buy"),0),2) -> 4.39 | AU22: =ROUND(IF(AL22>0,AVERAGEIFS([1]Обработка!$G:$G,[1]Обработка!$E:$E,AI22),0),2) -> 4.28 | AV22: =IF(AJ22>0,SUMIFS([1]Обработка!$G:$G,[1]Обработка!$E:$E,AI22,[1]Обработка!$C:$C,"sell")/SUMIFS([1]Обработка!$G:$G,[1]Обработка!$B:$B,"t/p"),0) -> 0.051217409 | AW22: =IF(AK22>0,SUMIFS([1]Обработка!$G:$G,[1]Обработка!$E:$E,AI22,[1]Обработка!$C:$C,"buy")/SUMIFS([1]Обработка!$G:$G,[1]Обработка!$B:$B,"t/p"),0) -> 0.04678148 | AX22: =IF(AL22>0,SUMIFS([1]Обработка!$G:$G,[1]Обработка!$E:$E,AI22)/SUMIFS([1]Обработка!$G:$G,[1]Обработка!$B:$B,"t/p"),0) -> 0.097998889 | AY22: =IF(VLOOKUP($AJ$14,[1]Сводная!$AG$4:$AH$38,2,0)=3,SUMIFS([1]Обработка!$P:$P,[1]Обработка!$M:$M,AI22,[1]Обработка!$N:$N,"sell")/100,SUMIFS([1]Обработка!$P:$P,[1]Обработка!$M:$M,AI22,[1]Обработка!$N:$N,"sell")) -> 51.4 | AZ22: =IF(VLOOKUP($AJ$14,[1]Сводная!$AG$4:$AH$38,2,0)=3,SUMIFS([1]Обработка!$P:$P,[1]Обработка!$M:$M,AI22,[1]Обработка!$N:$N,"buy")/100,SUMIFS([1]Обработка!$P:$P,[1]Обработка!$M:$M,AI22,[1]Обработка!$N:$N,"buy")) -> 45.9 | BA22: =IF(VLOOKUP($AJ$14,[1]Сводная!$AG$4:$AH$38,2,0)=3,ROUND(IF(AJ22>0,AVERAGEIFS([1]Обработка!$T:$T,[1]Обработка!$E:$E,AI22,[1]Обработка!$C:$C,"sell"),0),1)/100,ROUND(IF(AJ22>0,AVERAGEIFS([1]Обработка!$T:$T,[1]Обработка!$E:$E,AI22,[1]Обработка!$C:$C,"sell"),0),1)) -> 34.9 | BB22: =IF(VLOOKUP($AJ$14,[1]Сводная!$AG$4:$AH$38,2,0)=3,ROUND(IF(AK22>0,AVERAGEIFS([1]Обработка!$T:$T,[1]Обработка!$E:$E,AI22,[1]Обработка!$C:$C,"buy"),0),1)/100,ROUND(IF(AK22>0,AVERAGEIFS([1]Обработка!$T:$T,[1]Обработка!$E:$E,AI22,[1]Обработка!$C:$C,"buy"),0),1)) -> 34.5 | BC22: =IF(VLOOKUP($AJ$14,[1]Сводная!$AG$4:$AH$38,2,0)=3,ROUND(IF(AL22>0,AVERAGEIFS([1]Обработка!$T:$T,[1]Обработка!$E:$E,AI22),0),1)/100,ROUND(IF(AL22>0,AVERAGEIFS([1]Обработка!$T:$T,[1]Обработка!$E:$E,AI22),0),1)) -> 34.7 | BD22: =IF(VLOOKUP($AJ$14,[1]Сводная!$AG$4:$AH$38,2,0)=3,SUMIFS([1]Обработка!$O:$O,[1]Обработка!$M:$M,AI22,[1]Обработка!$N:$N,"sell")/100,SUMIFS([1]Обработка!$O:$O,[1]Обработка!$M:$M,AI22,[1]Обработка!$N:$N,"sell")) -> 37 | BE22: =IF(VLOOKUP($AJ$14,[1]Сводная!$AG$4:$AH$38,2,0)=3,SUMIFS([1]Обработка!$O:$O,[1]Обработка!$M:$M,AI22,[1]Обработка!$N:$N,"buy")/100,SUMIFS([1]Обработка!$O:$O,[1]Обработка!$M:$M,AI22,[1]Обработка!$N:$N,"buy")) -> 61 | BF22: =IF(VLOOKUP($AJ$14,[1]Сводная!$AG$4:$AH$38,2,0)=3,ROUND(IF(AJ22>0,AVERAGEIFS([1]Обработка!$U:$U,[1]Обработка!$E:$E,AI22,[1]Обработка!$C:$C,"sell"),0),1)/100,ROUND(IF(AJ22>0,AVERAGEIFS([1]Обработка!$U:$U,[1]Обработка!$E:$E,AI22,[1]Обработка!$C:$C,"sell"),0),1)) -> 31.4 | BG22: =IF(VLOOKUP($AJ$14,[1]Сводная!$AG$4:$AH$38,2,0)=3,ROUND(IF(AK22>0,AVERAGEIFS([1]Обработка!$U:$U,[1]Обработка!$E:$E,AI22,[1]Обработка!$C:$C,"buy"),0),1)/100,ROUND(IF(AK22>0,AVERAGEIFS([1]Обработка!$U:$U,[1]Обработка!$E:$E,AI22,[1]Обработка!$C:$C,"buy"),0),1)) -> 32.4 | BH22: =IF(VLOOKUP($AJ$14,[1]Сводная!$AG$4:$AH$38,2,0)=3,ROUND(IF(AL22>0,AVERAGEIFS([1]Обработка!$U:$U,[1]Обработка!$E:$E,AI22),0),1)/100,ROUND(IF(AL22>0,AVERAGEIFS([1]Обработка!$U:$U,[1]Обработка!$E:$E,AI22),0),1)) -> 31.9 | BI22: =SUMIFS([1]Обработка!$Q:$Q,[1]Обработка!$M:$M,AI22,[1]Обработка!$N:$N,"sell") -> 3.9909722 | BJ22: =SUMIFS([1]Обработка!$Q:$Q,[1]Обработка!$M:$M,AI22,[1]Обработка!$N:$N,"buy") -> 4.0833333 | BK22: =IF(AJ22>0,AVERAGEIFS([1]Обработка!$S:$S,[1]Обработка!$E:$E,AI22,[1]Обработка!$C:$C,"sell"),0) -> 0.62987589 | BL22: =IF(AK22>0,AVERAGEIFS([1]Обработка!$S:$S,[1]Обработка!$E:$E,AI22,[1]Обработка!$C:$C,"buy"),0) -> 0.82341633 | BM22: =IF(AL22>0,AVERAGEIFS([1]Обработка!$S:$S,[1]Обработка!$E:$E,AI22),0) -> 0.72004814
A23: 4 | B23: =IF(AND($A23>=C$12,C$12>0),0,IF(AND($A23>=C$9,C$9>0),C$10,IF(AND($A23>=C$6,C$6>0),C$7,0))) -> 0 | C23: =IF(AND($A23>=C$12,C$12>0),C$13,C22+B23) -> 14 | E23: =IF(OR($A23<2,AND(G$15>0,$A23>G$15)),0,IF(AND($A23>=G$12,G$12>0),G$13,IF(AND($A23>=G$9,G$9>0),G$10,IF(AND($A23>=G$6,G$6>0),G$7,0)))) -> 2 | F23: =F22+E23 -> 20 | G23: =G22+F23 -> 54 | I23: =IF(($A23<K$4),1,IF(AND($A23>K$15,K$15>0),I22,IF(AND($A23>=K$12,K$12>0),ROUND(I22+K$13,4),IF(AND($A23>=K$9,K$9>0),ROUND(I22+K$10,4),IF(AND($A23>=K$6,K$6>0),ROUND(I22+K$7,4),K$3))))) -> 1.25 | J23: =IF($A23<K$4, K$2, IF(K$1=0,IF(K$16>0,IF(K$2*K$16<ROUND(J22*I23, 3),K$2*K$16,ROUND(J22*I23, 3)),ROUND(J22*I23, 3)),IF(K$16>0,IF(K$2*K$16<ROUND(K$2*I23, 3),K$2*K$16,ROUND(K$2*I23, 3)),ROUND(K$2*I23, 3)))) -> 0.016 | K23: =K22+ROUND(J23,3) -> 0.049 | M23: =ROUND(C23*O23-K23*$O$6,2) -> 7 | N23: =IF($O$10>0,M23/$O$10,0) -> 0.0025 | O23: =ROUND(ROUND(K23,2)*$O$4,2) -> 0.5 | P23: =ROUND((ROUND(K22,2)*(G23-G22)*$O$4+P22+J23*$O$6),2) -> 11.2 | Q23: =P23/$O$10 -> 0.004 | R23: =ROUND(P23/O23,0) -> 22 | S23: =ROUND(R23/G23,2) -> 0.41 | T23: =R23+C23 -> 36 | U23: =ROUND(T23/G23,2) -> 0.67 | W23: =ROUND(K23*$O$7,2) -> 11.96 | X23: =ROUND(P23+W23,2) -> 23.16 | Z23: =IF($O$10>0,ROUND($O$10-X23,2),0) -> 2776.84 | AA23: =IF($O$10>0,ROUND(X23/$O$10,2),0) -> 0.01 | AB23: =IF(AND(Z23>0,$O$4>0),($O$10-P23-W23*$O$8)/O23,0) -> 5563.248 | AC23: =IF(AB23>0,AB23+G23,0) -> 5617.248 | AD23: 4 | AF23: =IF(P23>0,ROUND(W23/P23,2),0) -> 1.07 | AG23: =IF($O$10>0,ROUND(W23/$O$10,2),0) -> 0 | AI23: 4 | AJ23: =COUNTIFS([1]Обработка!$E:$E,AI23,[1]Обработка!$C:$C,"sell") -> 49 | AK23: =COUNTIFS([1]Обработка!$E:$E,AI23,[1]Обработка!$C:$C,"buy") -> 42 | AL23: =COUNTIFS([1]Обработка!$E:$E,AI23) -> 91 | AM23: =SUMIFS([1]Обработка!$F:$F,[1]Обработка!$E:$E,AI23,[1]Обработка!$C:$C,"sell") -> 2.45 | AN23: =SUMIFS([1]Обработка!$F:$F,[1]Обработка!$E:$E,AI23,[1]Обработка!$C:$C,"buy") -> 2.1 | AO23: =SUMIFS([1]Обработка!$F:$F,[1]Обработка!$E:$E,AI23) -> 4.55 | AP23: =SUMIFS([1]Обработка!$G:$G,[1]Обработка!$E:$E,AI23,[1]Обработка!$C:$C,"sell") -> 342.59 | AQ23: =SUMIFS([1]Обработка!$G:$G,[1]Обработка!$E:$E,AI23,[1]Обработка!$C:$C,"buy") -> 292.77 | AR23: =SUMIFS([1]Обработка!$G:$G,[1]Обработка!$E:$E,AI23) -> 635.36 | AS23: =ROUND(IF(AJ23>0,AVERAGEIFS([1]Обработка!$G:$G,[1]Обработка!$E:$E,AI23,[1]Обработка!$C:$C,"sell"),0),2) -> 6.99 | AT23: =ROUND(IF(AK23>0,AVERAGEIFS([1]Обработка!$G:$G,[1]Обработка!$E:$E,AI23,[1]Обработка!$C:$C,"buy"),0),2) -> 6.97 | AU23: =ROUND(IF(AL23>0,AVERAGEIFS([1]Обработка!$G:$G,[1]Обработка!$E:$E,AI23),0),2) -> 6.98 | AV23: =IF(AJ23>0,SUMIFS([1]Обработка!$G:$G,[1]Обработка!$E:$E,AI23,[1]Обработка!$C:$C,"sell")/SUMIFS([1]Обработка!$G:$G,[1]Обработка!$B:$B,"t/p"),0) -> 0.044566118 | AW23: =IF(AK23>0,SUMIFS([1]Обработка!$G:$G,[1]Обработка!$E:$E,AI23,[1]Обработка!$C:$C,"buy")/SUMIFS([1]Обработка!$G:$G,[1]Обработка!$B:$B,"t/p"),0) -> 0.03808524 | AX23: =IF(AL23>0,SUMIFS([1]Обработка!$G:$G,[1]Обработка!$E:$E,AI23)/SUMIFS([1]Обработка!$G:$G,[1]Обработка!$B:$B,"t/p"),0) -> 0.082651358 | AY23: =IF(VLOOKUP($AJ$14,[1]Сводная!$AG$4:$AH$38,2,0)=3,SUMIFS([1]Обработка!$P:$P,[1]Обработка!$M:$M,AI23,[1]Обработка!$N:$N,"sell")/100,SUMIFS([1]Обработка!$P:$P,[1]Обработка!$M:$M,AI23,[1]Обработка!$N:$N,"sell")) -> 74.6 | AZ23: =IF(VLOOKUP($AJ$14,[1]Сводная!$AG$4:$AH$38,2,0)=3,SUMIFS([1]Обработка!$P:$P,[1]Обработка!$M:$M,AI23,[1]Обработка!$N:$N,"buy")/100,SUMIFS([1]Обработка!$P:$P,[1]Обработка!$M:$M,AI23,[1]Обработка!$N:$N,"buy")) -> 68.1 | BA23: =IF(VLOOKUP($AJ$14,[1]Сводная!$AG$4:$AH$38,2,0)=3,ROUND(IF(AJ23>0,AVERAGEIFS([1]Обработка!$T:$T,[1]Обработка!$E:$E,AI23,[1]Обработка!$C:$C,"sell"),0),1)/100,ROUND(IF(AJ23>0,AVERAGEIFS([1]Обработка!$T:$T,[1]Обработка!$E:$E,AI23,[1]Обработка!$C:$C,"sell"),0),1)) -> 55.6 | BB23: =IF(VLOOKUP($AJ$14,[1]Сводная!$AG$4:$AH$38,2,0)=3,ROUND(IF(AK23>0,AVERAGEIFS([1]Обработка!$T:$T,[1]Обработка!$E:$E,AI23,[1]Обработка!$C:$C,"buy"),0),1)/100,ROUND(IF(AK23>0,AVERAGEIFS([1]Обработка!$T:$T,[1]Обработка!$E:$E,AI23,[1]Обработка!$C:$C,"buy"),0),1)) -> 54.9 | BC23: =IF(VLOOKUP($AJ$14,[1]Сводная!$AG$4:$AH$38,2,0)=3,ROUND(IF(AL23>0,AVERAGEIFS([1]Обработка!$T:$T,[1]Обработка!$E:$E,AI23),0),1)/100,ROUND(IF(AL23>0,AVERAGEIFS([1]Обработка!$T:$T,[1]Обработка!$E:$E,AI23),0),1)) -> 55.3 | BD23: =IF(VLOOKUP($AJ$14,[1]Сводная!$AG$4:$AH$38,2,0)=3,SUMIFS([1]Обработка!$O:$O,[1]Обработка!$M:$M,AI23,[1]Обработка!$N:$N,"sell")/100,SUMIFS([1]Обработка!$O:$O,[1]Обработка!$M:$M,AI23,[1]Обработка!$N:$N,"sell")) -> 47.2 | BE23: =IF(VLOOKUP($AJ$14,[1]Сводная!$AG$4:$AH$38,2,0)=3,SUMIFS([1]Обработка!$O:$O,[1]Обработка!$M:$M,AI23,[1]Обработка!$N:$N,"buy")/100,SUMIFS([1]Обработка!$O:$O,[1]Обработка!$M:$M,AI23,[1]Обработка!$N:$N,"buy")) -> 42 | BF23: =IF(VLOOKUP($AJ$14,[1]Сводная!$AG$4:$AH$38,2,0)=3,ROUND(IF(AJ23>0,AVERAGEIFS([1]Обработка!$U:$U,[1]Обработка!$E:$E,AI23,[1]Обработка!$C:$C,"sell"),0),1)/100,ROUND(IF(AJ23>0,AVERAGEIFS([1]Обработка!$U:$U,[1]Обработка!$E:$E,AI23,[1]Обработка!$C:$C,"sell"),0),1)) -> 36.7 | BG23: =IF(VLOOKUP($AJ$14,[1]Сводная!$AG$4:$AH$38,2,0)=3,ROUND(IF(AK23>0,AVERAGEIFS([1]Обработка!$U:$U,[1]Обработка!$E:$E,AI23,[1]Обработка!$C:$C,"buy"),0),1)/100,ROUND(IF(AK23>0,AVERAGEIFS([1]Обработка!$U:$U,[1]Обработка!$E:$E,AI23,[1]Обработка!$C:$C,"buy"),0),1)) -> 37.2 | BH23: =IF(VLOOKUP($AJ$14,[1]Сводная!$AG$4:$AH$38,2,0)=3,ROUND(IF(AL23>0,AVERAGEIFS([1]Обработка!$U:$U,[1]Обработка!$E:$E,AI23),0),1)/100,ROUND(IF(AL23>0,AVERAGEIFS([1]Обработка!$U:$U,[1]Обработка!$E:$E,AI23),0),1)) -> 36.9 | BI23: =SUMIFS([1]Обработка!$Q:$Q,[1]Обработка!$M:$M,AI23,[1]Обработка!$N:$N,"sell") -> 4.7875 | BJ23: =SUMIFS([1]Обработка!$Q:$Q,[1]Обработка!$M:$M,AI23,[1]Обработка!$N:$N,"buy") -> 4.0444444 | BK23: =IF(AJ23>0,AVERAGEIFS([1]Обработка!$S:$S,[1]Обработка!$E:$E,AI23,[1]Обработка!$C:$C,"sell"),0) -> 1.4351899 | BL23: =IF(AK23>0,AVERAGEIFS([1]Обработка!$S:$S,[1]Обработка!$E:$E,AI23,[1]Обработка!$C:$C,"buy"),0) -> 1.2194279 | BM23: =IF(AL23>0,AVERAGEIFS([1]Обработка!$S:$S,[1]Обработка!$E:$E,AI23),0) -> 1.3356074
A24: 5 | B24: =IF(AND($A24>=C$12,C$12>0),0,IF(AND($A24>=C$9,C$9>0),C$10,IF(AND($A24>=C$6,C$6>0),C$7,0))) -> 0 | C24: =IF(AND($A24>=C$12,C$12>0),C$13,C23+B24) -> 14 | E24: =IF(OR($A24<2,AND(G$15>0,$A24>G$15)),0,IF(AND($A24>=G$12,G$12>0),G$13,IF(AND($A24>=G$9,G$9>0),G$10,IF(AND($A24>=G$6,G$6>0),G$7,0)))) -> 2 | F24: =F23+E24 -> 22 | G24: =G23+F24 -> 76 | I24: =IF(($A24<K$4),1,IF(AND($A24>K$15,K$15>0),I23,IF(AND($A24>=K$12,K$12>0),ROUND(I23+K$13,4),IF(AND($A24>=K$9,K$9>0),ROUND(I23+K$10,4),IF(AND($A24>=K$6,K$6>0),ROUND(I23+K$7,4),K$3))))) -> 1.25 | J24: =IF($A24<K$4, K$2, IF(K$1=0,IF(K$16>0,IF(K$2*K$16<ROUND(J23*I24, 3),K$2*K$16,ROUND(J23*I24, 3)),ROUND(J23*I24, 3)),IF(K$16>0,IF(K$2*K$16<ROUND(K$2*I24, 3),K$2*K$16,ROUND(K$2*I24, 3)),ROUND(K$2*I24, 3)))) -> 0.02 | K24: =K23+ROUND(J24,3) -> 0.069 | M24: =ROUND(C24*O24-K24*$O$6,2) -> 9.8 | N24: =IF($O$10>0,M24/$O$10,0) -> 0.0035 | O24: =ROUND(ROUND(K24,2)*$O$4,2) -> 0.7 | P24: =ROUND((ROUND(K23,2)*(G24-G23)*$O$4+P23+J24*$O$6),2) -> 22.2 | Q24: =P24/$O$10 -> 0.0079285714 | R24: =ROUND(P24/O24,0) -> 32 | S24: =ROUND(R24/G24,2) -> 0.42 | T24: =R24+C24 -> 46 | U24: =ROUND(T24/G24,2) -> 0.61 | W24: =ROUND(K24*$O$7,2) -> 16.84 | X24: =ROUND(P24+W24,2) -> 39.04 | Z24: =IF($O$10>0,ROUND($O$10-X24,2),0) -> 2760.96 | AA24: =IF($O$10>0,ROUND(X24/$O$10,2),0) -> 0.01 | AB24: =IF(AND(Z24>0,$O$4>0),($O$10-P24-W24*$O$8)/O24,0) -> 3953.8514 | AC24: =IF(AB24>0,AB24+G24,0) -> 4029.8514 | AD24: 5 | AF24: =IF(P24>0,ROUND(W24/P24,2),0) -> 0.76 | AG24: =IF($O$10>0,ROUND(W24/$O$10,2),0) -> 0.01 | AI24: 5 | AJ24: =COUNTIFS([1]Обработка!$E:$E,AI24,[1]Обработка!$C:$C,"sell") -> 33 | AK24: =COUNTIFS([1]Обработка!$E:$E,AI24,[1]Обработка!$C:$C,"buy") -> 26 | AL24: =COUNTIFS([1]Обработка!$E:$E,AI24) -> 59 | AM24: =SUMIFS([1]Обработка!$F:$F,[1]Обработка!$E:$E,AI24,[1]Обработка!$C:$C,"sell") -> 2.31 | AN24: =SUMIFS([1]Обработка!$F:$F,[1]Обработка!$E:$E,AI24,[1]Обработка!$C:$C,"buy") -> 1.82 | AO24: =SUMIFS([1]Обработка!$F:$F,[1]Обработка!$E:$E,AI24) -> 4.13 | AP24: =SUMIFS([1]Обработка!$G:$G,[1]Обработка!$E:$E,AI24,[1]Обработка!$C:$C,"sell") -> 326.94 | AQ24: =SUMIFS([1]Обработка!$G:$G,[1]Обработка!$E:$E,AI24,[1]Обработка!$C:$C,"buy") -> 255.2 | AR24: =SUMIFS([1]Обработка!$G:$G,[1]Обработка!$E:$E,AI24) -> 582.14 | AS24: =ROUND(IF(AJ24>0,AVERAGEIFS([1]Обработка!$G:$G,[1]Обработка!$E:$E,AI24,[1]Обработка!$C:$C,"sell"),0),2) -> 9.91 | AT24: =ROUND(IF(AK24>0,AVERAGEIFS([1]Обработка!$G:$G,[1]Обработка!$E:$E,AI24,[1]Обработка!$C:$C,"buy"),0),2) -> 9.82 | AU24: =ROUND(IF(AL24>0,AVERAGEIFS([1]Обработка!$G:$G,[1]Обработка!$E:$E,AI24),0),2) -> 9.87 | AV24: =IF(AJ24>0,SUMIFS([1]Обработка!$G:$G,[1]Обработка!$E:$E,AI24,[1]Обработка!$C:$C,"sell")/SUMIFS([1]Обработка!$G:$G,[1]Обработка!$B:$B,"t/p"),0) -> 0.042530274 | AW24: =IF(AK24>0,SUMIFS([1]Обработка!$G:$G,[1]Обработка!$E:$E,AI24,[1]Обработка!$C:$C,"buy")/SUMIFS([1]Обработка!$G:$G,[1]Обработка!$B:$B,"t/p"),0) -> 0.033197914 | AX24: =IF(AL24>0,SUMIFS([1]Обработка!$G:$G,[1]Обработка!$E:$E,AI24)/SUMIFS([1]Обработка!$G:$G,[1]Обработка!$B:$B,"t/p"),0) -> 0.075728188 | AY24: =IF(VLOOKUP($AJ$14,[1]Сводная!$AG$4:$AH$38,2,0)=3,SUMIFS([1]Обработка!$P:$P,[1]Обработка!$M:$M,AI24,[1]Обработка!$N:$N,"sell")/100,SUMIFS([1]Обработка!$P:$P,[1]Обработка!$M:$M,AI24,[1]Обработка!$N:$N,"sell")) -> 94 | AZ24: =IF(VLOOKUP($AJ$14,[1]Сводная!$AG$4:$AH$38,2,0)=3,SUMIFS([1]Обработка!$P:$P,[1]Обработка!$M:$M,AI24,[1]Обработка!$N:$N,"buy")/100,SUMIFS([1]Обработка!$P:$P,[1]Обработка!$M:$M,AI24,[1]Обработка!$N:$N,"buy")) -> 81.2 | BA24: =IF(VLOOKUP($AJ$14,[1]Сводная!$AG$4:$AH$38,2,0)=3,ROUND(IF(AJ24>0,AVERAGEIFS([1]Обработка!$T:$T,[1]Обработка!$E:$E,AI24,[1]Обработка!$C:$C,"sell"),0),1)/100,ROUND(IF(AJ24>0,AVERAGEIFS([1]Обработка!$T:$T,[1]Обработка!$E:$E,AI24,[1]Обработка!$C:$C,"sell"),0),1)) -> 77.7 | BB24: =IF(VLOOKUP($AJ$14,[1]Сводная!$AG$4:$AH$38,2,0)=3,ROUND(IF(AK24>0,AVERAGEIFS([1]Обработка!$T:$T,[1]Обработка!$E:$E,AI24,[1]Обработка!$C:$C,"buy"),0),1)/100,ROUND(IF(AK24>0,AVERAGEIFS([1]Обработка!$T:$T,[1]Обработка!$E:$E,AI24,[1]Обработка!$C:$C,"buy"),0),1)) -> 77.6 | BC24: =IF(VLOOKUP($AJ$14,[1]Сводная!$AG$4:$AH$38,2,0)=3,ROUND(IF(AL24>0,AVERAGEIFS([1]Обработка!$T:$T,[1]Обработка!$E:$E,AI24),0),1)/100,ROUND(IF(AL24>0,AVERAGEIFS([1]Обработка!$T:$T,[1]Обработка!$E:$E,AI24),0),1)) -> 77.7 | BD24: =IF(VLOOKUP($AJ$14,[1]Сводная!$AG$4:$AH$38,2,0)=3,SUMIFS([1]Обработка!$O:$O,[1]Обработка!$M:$M,AI24,[1]Обработка!$N:$N,"sell")/100,SUMIFS([1]Обработка!$O:$O,[1]Обработка!$M:$M,AI24,[1]Обработка!$N:$N,"sell")) -> 54.6 | BE24: =IF(VLOOKUP($AJ$14,[1]Сводная!$AG$4:$AH$38,2,0)=3,SUMIFS([1]Обработка!$O:$O,[1]Обработка!$M:$M,AI24,[1]Обработка!$N:$N,"buy")/100,SUMIFS([1]Обработка!$O:$O,[1]Обработка!$M:$M,AI24,[1]Обработка!$N:$N,"buy")) -> 49.5 | BF24: =IF(VLOOKUP($AJ$14,[1]Сводная!$AG$4:$AH$38,2,0)=3,ROUND(IF(AJ24>0,AVERAGEIFS([1]Обработка!$U:$U,[1]Обработка!$E:$E,AI24,[1]Обработка!$C:$C,"sell"),0),1)/100,ROUND(IF(AJ24>0,AVERAGEIFS([1]Обработка!$U:$U,[1]Обработка!$E:$E,AI24,[1]Обработка!$C:$C,"sell"),0),1)) -> 45.9 | BG24: =IF(VLOOKUP($AJ$14,[1]Сводная!$AG$4:$AH$38,2,0)=3,ROUND(IF(AK24>0,AVERAGEIFS([1]Обработка!$U:$U,[1]Обработка!$E:$E,AI24,[1]Обработка!$C:$C,"buy"),0),1)/100,ROUND(IF(AK24>0,AVERAGEIFS([1]Обработка!$U:$U,[1]Обработка!$E:$E,AI24,[1]Обработка!$C:$C,"buy"),0),1)) -> 47.4 | BH24: =IF(VLOOKUP($AJ$14,[1]Сводная!$AG$4:$AH$38,2,0)=3,ROUND(IF(AL24>0,AVERAGEIFS([1]Обработка!$U:$U,[1]Обработка!$E:$E,AI24),0),1)/100,ROUND(IF(AL24>0,AVERAGEIFS([1]Обработка!$U:$U,[1]Обработка!$E:$E,AI24),0),1)) -> 46.6 | BI24: =SUMIFS([1]Обработка!$Q:$Q,[1]Обработка!$M:$M,AI24,[1]Обработка!$N:$N,"sell") -> 4.8895833 | BJ24: =SUMIFS([1]Обработка!$Q:$Q,[1]Обработка!$M:$M,AI24,[1]Обработка!$N:$N,"buy") -> 6.8034722 | BK24: =IF(AJ24>0,AVERAGEIFS([1]Обработка!$S:$S,[1]Обработка!$E:$E,AI24,[1]Обработка!$C:$C,"sell"),0) -> 1.1887416 | BL24: =IF(AK24>0,AVERAGEIFS([1]Обработка!$S:$S,[1]Обработка!$E:$E,AI24,[1]Обработка!$C:$C,"buy"),0) -> 1.5653846 | BM24: =IF(AL24>0,AVERAGEIFS([1]Обработка!$S:$S,[1]Обработка!$E:$E,AI24),0) -> 1.3547199
A25: 6 | B25: =IF(AND($A25>=C$12,C$12>0),0,IF(AND($A25>=C$9,C$9>0),C$10,IF(AND($A25>=C$6,C$6>0),C$7,0))) -> 0 | C25: =IF(AND($A25>=C$12,C$12>0),C$13,C24+B25) -> 14 | E25: =IF(OR($A25<2,AND(G$15>0,$A25>G$15)),0,IF(AND($A25>=G$12,G$12>0),G$13,IF(AND($A25>=G$9,G$9>0),G$10,IF(AND($A25>=G$6,G$6>0),G$7,0)))) -> 2 | F25: =F24+E25 -> 24 | G25: =G24+F25 -> 100 | I25: =IF(($A25<K$4),1,IF(AND($A25>K$15,K$15>0),I24,IF(AND($A25>=K$12,K$12>0),ROUND(I24+K$13,4),IF(AND($A25>=K$9,K$9>0),ROUND(I24+K$10,4),IF(AND($A25>=K$6,K$6>0),ROUND(I24+K$7,4),K$3))))) -> 1.25 | J25: =IF($A25<K$4, K$2, IF(K$1=0,IF(K$16>0,IF(K$2*K$16<ROUND(J24*I25, 3),K$2*K$16,ROUND(J24*I25, 3)),ROUND(J24*I25, 3)),IF(K$16>0,IF(K$2*K$16<ROUND(K$2*I25, 3),K$2*K$16,ROUND(K$2*I25, 3)),ROUND(K$2*I25, 3)))) -> 0.025 | K25: =K24+ROUND(J25,3) -> 0.094 | M25: =ROUND(C25*O25-K25*$O$6,2) -> 12.6 | N25: =IF($O$10>0,M25/$O$10,0) -> 0.0045 | O25: =ROUND(ROUND(K25,2)*$O$4,2) -> 0.9 | P25: =ROUND((ROUND(K24,2)*(G25-G24)*$O$4+P24+J25*$O$6),2) -> 39 | Q25: =P25/$O$10 -> 0.013928571 | R25: =ROUND(P25/O25,0) -> 43 | S25: =ROUND(R25/G25,2) -> 0.43 | T25: =R25+C25 -> 57 | U25: =ROUND(T25/G25,2) -> 0.57 | W25: =ROUND(K25*$O$7,2) -> 22.94 | X25: =ROUND(P25+W25,2) -> 61.94 | Z25: =IF($O$10>0,ROUND($O$10-X25,2),0) -> 2738.06 | AA25: =IF($O$10>0,ROUND(X25/$O$10,2),0) -> 0.02 | AB25: =IF(AND(Z25>0,$O$4>0),($O$10-P25-W25*$O$8)/O25,0) -> 3052.4844 | AC25: =IF(AB25>0,AB25+G25,0) -> 3152.4844 | AD25: 6 | AF25: =IF(P25>0,ROUND(W25/P25,2),0) -> 0.59 | AG25: =IF($O$10>0,ROUND(W25/$O$10,2),0) -> 0.01 | AI25: 6 | AJ25: =COUNTIFS([1]Обработка!$E:$E,AI25,[1]Обработка!$C:$C,"sell") -> 25 | AK25: =COUNTIFS([1]Обработка!$E:$E,AI25,[1]Обработка!$C:$C,"buy") -> 28 | AL25: =COUNTIFS([1]Обработка!$E:$E,AI25) -> 53 | AM25: =SUMIFS([1]Обработка!$F:$F,[1]Обработка!$E:$E,AI25,[1]Обработка!$C:$C,"sell") -> 2.25 | AN25: =SUMIFS([1]Обработка!$F:$F,[1]Обработка!$E:$E,AI25,[1]Обработка!$C:$C,"buy") -> 2.52 | AO25: =SUMIFS([1]Обработка!$F:$F,[1]Обработка!$E:$E,AI25) -> 4.77 | AP25: =SUMIFS([1]Обработка!$G:$G,[1]Обработка!$E:$E,AI25,[1]Обработка!$C:$C,"sell") -> 313.73 | AQ25: =SUMIFS([1]Обработка!$G:$G,[1]Обработка!$E:$E,AI25,[1]Обработка!$C:$C,"buy") -> 354.88 | AR25: =SUMIFS([1]Обработка!$G:$G,[1]Обработка!$E:$E,AI25) -> 668.61 | AS25: =ROUND(IF(AJ25>0,AVERAGEIFS([1]Обработка!$G:$G,[1]Обработка!$E:$E,AI25,[1]Обработка!$C:$C,"sell"),0),2) -> 12.55 | AT25: =ROUND(IF(AK25>0,AVERAGEIFS([1]Обработка!$G:$G,[1]Обработка!$E:$E,AI25,[1]Обработка!$C:$C,"buy"),0),2) -> 12.67 | AU25: =ROUND(IF(AL25>0,AVERAGEIFS([1]Обработка!$G:$G,[1]Обработка!$E:$E,AI25),0),2) -> 12.62 | AV25: =IF(AJ25>0,SUMIFS([1]Обработка!$G:$G,[1]Обработка!$E:$E,AI25,[1]Обработка!$C:$C,"sell")/SUMIFS([1]Обработка!$G:$G,[1]Обработка!$B:$B,"t/p"),0) -> 0.04081184 | AW25: =IF(AK25>0,SUMIFS([1]Обработка!$G:$G,[1]Обработка!$E:$E,AI25,[1]Обработка!$C:$C,"buy")/SUMIFS([1]Обработка!$G:$G,[1]Обработка!$B:$B,"t/p"),0) -> 0.046164873 | AX25: =IF(AL25>0,SUMIFS([1]Обработка!$G:$G,[1]Обработка!$E:$E,AI25)/SUMIFS([1]Обработка!$G:$G,[1]Обработка!$B:$B,"t/p"),0) -> 0.086976713 | AY25: =IF(VLOOKUP($AJ$14,[1]Сводная!$AG$4:$AH$38,2,0)=3,SUMIFS([1]Обработка!$P:$P,[1]Обработка!$M:$M,AI25,[1]Обработка!$N:$N,"sell")/100,SUMIFS([1]Обработка!$P:$P,[1]Обработка!$M:$M,AI25,[1]Обработка!$N:$N,"sell")) -> 126.1 | AZ25: =IF(VLOOKUP($AJ$14,[1]Сводная!$AG$4:$AH$38,2,0)=3,SUMIFS([1]Обработка!$P:$P,[1]Обработка!$M:$M,AI25,[1]Обработка!$N:$N,"buy")/100,SUMIFS([1]Обработка!$P:$P,[1]Обработка!$M:$M,AI25,[1]Обработка!$N:$N,"buy")) -> 106.7 | BA25: =IF(VLOOKUP($AJ$14,[1]Сводная!$AG$4:$AH$38,2,0)=3,ROUND(IF(AJ25>0,AVERAGEIFS([1]Обработка!$T:$T,[1]Обработка!$E:$E,AI25,[1]Обработка!$C:$C,"sell"),0),1)/100,ROUND(IF(AJ25>0,AVERAGEIFS([1]Обработка!$T:$T,[1]Обработка!$E:$E,AI25,[1]Обработка!$C:$C,"sell"),0),1)) -> 103.8 | BB25: =IF(VLOOKUP($AJ$14,[1]Сводная!$AG$4:$AH$38,2,0)=3,ROUND(IF(AK25>0,AVERAGEIFS([1]Обработка!$T:$T,[1]Обработка!$E:$E,AI25,[1]Обработка!$C:$C,"buy"),0),1)/100,ROUND(IF(AK25>0,AVERAGEIFS([1]Обработка!$T:$T,[1]Обработка!$E:$E,AI25,[1]Обработка!$C:$C,"buy"),0),1)) -> 101.9 | BC25: =IF(VLOOKUP($AJ$14,[1]Сводная!$AG$4:$AH$38,2,0)=3,ROUND(IF(AL25>0,AVERAGEIFS([1]Обработка!$T:$T,[1]Обработка!$E:$E,AI25),0),1)/100,ROUND(IF(AL25>0,AVERAGEIFS([1]Обработка!$T:$T,[1]Обработка!$E:$E,AI25),0),1)) -> 102.8 | BD25: =IF(VLOOKUP($AJ$14,[1]Сводная!$AG$4:$AH$38,2,0)=3,SUMIFS([1]Обработка!$O:$O,[1]Обработка!$M:$M,AI25,[1]Обработка!$N:$N,"sell")/100,SUMIFS([1]Обработка!$O:$O,[1]Обработка!$M:$M,AI25,[1]Обработка!$N:$N,"sell")) -> 76.2 | BE25: =IF(VLOOKUP($AJ$14,[1]Сводная!$AG$4:$AH$38,2,0)=3,SUMIFS([1]Обработка!$O:$O,[1]Обработка!$M:$M,AI25,[1]Обработка!$N:$N,"buy")/100,SUMIFS([1]Обработка!$O:$O,[1]Обработка!$M:$M,AI25,[1]Обработка!$N:$N,"buy")) -> 63 | BF25: =IF(VLOOKUP($AJ$14,[1]Сводная!$AG$4:$AH$38,2,0)=3,ROUND(IF(AJ25>0,AVERAGEIFS([1]Обработка!$U:$U,[1]Обработка!$E:$E,AI25,[1]Обработка!$C:$C,"sell"),0),1)/100,ROUND(IF(AJ25>0,AVERAGEIFS([1]Обработка!$U:$U,[1]Обработка!$E:$E,AI25,[1]Обработка!$C:$C,"sell"),0),1)) -> 58.5 | BG25: =IF(VLOOKUP($AJ$14,[1]Сводная!$AG$4:$AH$38,2,0)=3,ROUND(IF(AK25>0,AVERAGEIFS([1]Обработка!$U:$U,[1]Обработка!$E:$E,AI25,[1]Обработка!$C:$C,"buy"),0),1)/100,ROUND(IF(AK25>0,AVERAGEIFS([1]Обработка!$U:$U,[1]Обработка!$E:$E,AI25,[1]Обработка!$C:$C,"buy"),0),1)) -> 59.7 | BH25: =IF(VLOOKUP($AJ$14,[1]Сводная!$AG$4:$AH$38,2,0)=3,ROUND(IF(AL25>0,AVERAGEIFS([1]Обработка!$U:$U,[1]Обработка!$E:$E,AI25),0),1)/100,ROUND(IF(AL25>0,AVERAGEIFS([1]Обработка!$U:$U,[1]Обработка!$E:$E,AI25),0),1)) -> 59.2 | BI25: =SUMIFS([1]Обработка!$Q:$Q,[1]Обработка!$M:$M,AI25,[1]Обработка!$N:$N,"sell") -> 6.8506944 | BJ25: =SUMIFS([1]Обработка!$Q:$Q,[1]Обработка!$M:$M,AI25,[1]Обработка!$N:$N,"buy") -> 6.9618056 | BK25: =IF(AJ25>0,AVERAGEIFS([1]Обработка!$S:$S,[1]Обработка!$E:$E,AI25,[1]Обработка!$C:$C,"sell"),0) -> 2.5636667 | BL25: =IF(AK25>0,AVERAGEIFS([1]Обработка!$S:$S,[1]Обработка!$E:$E,AI25,[1]Обработка!$C:$C,"buy"),0) -> 2.4510417 | BM25: =IF(AL25>0,AVERAGEIFS([1]Обработка!$S:$S,[1]Обработка!$E:$E,AI25),0) -> 2.5041667
A26: 7 | B26: =IF(AND($A26>=C$12,C$12>0),0,IF(AND($A26>=C$9,C$9>0),C$10,IF(AND($A26>=C$6,C$6>0),C$7,0))) -> 0 | C26: =IF(AND($A26>=C$12,C$12>0),C$13,C25+B26) -> 14 | E26: =IF(OR($A26<2,AND(G$15>0,$A26>G$15)),0,IF(AND($A26>=G$12,G$12>0),G$13,IF(AND($A26>=G$9,G$9>0),G$10,IF(AND($A26>=G$6,G$6>0),G$7,0)))) -> 3 | F26: =F25+E26 -> 27 | G26: =G25+F26 -> 127 | I26: =IF(($A26<K$4),1,IF(AND($A26>K$15,K$15>0),I25,IF(AND($A26>=K$12,K$12>0),ROUND(I25+K$13,4),IF(AND($A26>=K$9,K$9>0),ROUND(I25+K$10,4),IF(AND($A26>=K$6,K$6>0),ROUND(I25+K$7,4),K$3))))) -> 1.25 | J26: =IF($A26<K$4, K$2, IF(K$1=0,IF(K$16>0,IF(K$2*K$16<ROUND(J25*I26, 3),K$2*K$16,ROUND(J25*I26, 3)),ROUND(J25*I26, 3)),IF(K$16>0,IF(K$2*K$16<ROUND(K$2*I26, 3),K$2*K$16,ROUND(K$2*I26, 3)),ROUND(K$2*I26, 3)))) -> 0.031 | K26: =K25+ROUND(J26,3) -> 0.125 | M26: =ROUND(C26*O26-K26*$O$6,2) -> 18.2 | N26: =IF($O$10>0,M26/$O$10,0) -> 0.0065 | O26: =ROUND(ROUND(K26,2)*$O$4,2) -> 1.3 | P26: =ROUND((ROUND(K25,2)*(G26-G25)*$O$4+P25+J26*$O$6),2) -> 63.3 | Q26: =P26/$O$10 -> 0.022607143 | R26: =ROUND(P26/O26,0) -> 49 | S26: =ROUND(R26/G26,2) -> 0.39 | T26: =R26+C26 -> 63 | U26: =ROUND(T26/G26,2) -> 0.5 | W26: =ROUND(K26*$O$7,2) -> 30.5 | X26: =ROUND(P26+W26,2) -> 93.8 | Z26: =IF($O$10>0,ROUND($O$10-X26,2),0) -> 2706.2 | AA26: =IF($O$10>0,ROUND(X26/$O$10,2),0) -> 0.03 | AB26: =IF(AND(Z26>0,$O$4>0),($O$10-P26-W26*$O$8)/O26,0) -> 2091.0769 | AC26: =IF(AB26>0,AB26+G26,0) -> 2218.0769 | AD26: 7 | AF26: =IF(P26>0,ROUND(W26/P26,2),0) -> 0.48 | AG26: =IF($O$10>0,ROUND(W26/$O$10,2),0) -> 0.01 | AI26: 7 | AJ26: =COUNTIFS([1]Обработка!$E:$E,AI26,[1]Обработка!$C:$C,"sell") -> 10 | AK26: =COUNTIFS([1]Обработка!$E:$E,AI26,[1]Обработка!$C:$C,"buy") -> 13 | AL26: =COUNTIFS([1]Обработка!$E:$E,AI26) -> 23 | AM26: =SUMIFS([1]Обработка!$F:$F,[1]Обработка!$E:$E,AI26,[1]Обработка!$C:$C,"sell") -> 1.2 | AN26: =SUMIFS([1]Обработка!$F:$F,[1]Обработка!$E:$E,AI26,[1]Обработка!$C:$C,"buy") -> 1.56 | AO26: =SUMIFS([1]Обработка!$F:$F,[1]Обработка!$E:$E,AI26) -> 2.76 | AP26: =SUMIFS([1]Обработка!$G:$G,[1]Обработка!$E:$E,AI26,[1]Обработка!$C:$C,"sell") -> 168.49 | AQ26: =SUMIFS([1]Обработка!$G:$G,[1]Обработка!$E:$E,AI26,[1]Обработка!$C:$C,"buy") -> 216.34 | AR26: =SUMIFS([1]Обработка!$G:$G,[1]Обработка!$E:$E,AI26) -> 384.83 | AS26: =ROUND(IF(AJ26>0,AVERAGEIFS([1]Обработка!$G:$G,[1]Обработка!$E:$E,AI26,[1]Обработка!$C:$C,"sell"),0),2) -> 16.85 | AT26: =ROUND(IF(AK26>0,AVERAGEIFS([1]Обработка!$G:$G,[1]Обработка!$E:$E,AI26,[1]Обработка!$C:$C,"buy"),0),2) -> 16.64 | AU26: =ROUND(IF(AL26>0,AVERAGEIFS([1]Обработка!$G:$G,[1]Обработка!$E:$E,AI26),0),2) -> 16.73 | AV26: =IF(AJ26>0,SUMIFS([1]Обработка!$G:$G,[1]Обработка!$E:$E,AI26,[1]Обработка!$C:$C,"sell")/SUMIFS([1]Обработка!$G:$G,[1]Обработка!$B:$B,"t/p"),0) -> 0.021918168 | AW26: =IF(AK26>0,SUMIFS([1]Обработка!$G:$G,[1]Обработка!$E:$E,AI26,[1]Обработка!$C:$C,"buy")/SUMIFS([1]Обработка!$G:$G,[1]Обработка!$B:$B,"t/p"),0) -> 0.028142777 | AX26: =IF(AL26>0,SUMIFS([1]Обработка!$G:$G,[1]Обработка!$E:$E,AI26)/SUMIFS([1]Обработка!$G:$G,[1]Обработка!$B:$B,"t/p"),0) -> 0.050060945 | AY26: =IF(VLOOKUP($AJ$14,[1]Сводная!$AG$4:$AH$38,2,0)=3,SUMIFS([1]Обработка!$P:$P,[1]Обработка!$M:$M,AI26,[1]Обработка!$N:$N,"sell")/100,SUMIFS([1]Обработка!$P:$P,[1]Обработка!$M:$M,AI26,[1]Обработка!$N:$N,"sell")) -> 135.1 | AZ26: =IF(VLOOKUP($AJ$14,[1]Сводная!$AG$4:$AH$38,2,0)=3,SUMIFS([1]Обработка!$P:$P,[1]Обработка!$M:$M,AI26,[1]Обработка!$N:$N,"buy")/100,SUMIFS([1]Обработка!$P:$P,[1]Обработка!$M:$M,AI26,[1]Обработка!$N:$N,"buy")) -> 148 | BA26: =IF(VLOOKUP($AJ$14,[1]Сводная!$AG$4:$AH$38,2,0)=3,ROUND(IF(AJ26>0,AVERAGEIFS([1]Обработка!$T:$T,[1]Обработка!$E:$E,AI26,[1]Обработка!$C:$C,"sell"),0),1)/100,ROUND(IF(AJ26>0,AVERAGEIFS([1]Обработка!$T:$T,[1]Обработка!$E:$E,AI26,[1]Обработка!$C:$C,"sell"),0),1)) -> 129.6 | BB26: =IF(VLOOKUP($AJ$14,[1]Сводная!$AG$4:$AH$38,2,0)=3,ROUND(IF(AK26>0,AVERAGEIFS([1]Обработка!$T:$T,[1]Обработка!$E:$E,AI26,[1]Обработка!$C:$C,"buy"),0),1)/100,ROUND(IF(AK26>0,AVERAGEIFS([1]Обработка!$T:$T,[1]Обработка!$E:$E,AI26,[1]Обработка!$C:$C,"buy"),0),1)) -> 130.9 | BC26: =IF(VLOOKUP($AJ$14,[1]Сводная!$AG$4:$AH$38,2,0)=3,ROUND(IF(AL26>0,AVERAGEIFS([1]Обработка!$T:$T,[1]Обработка!$E:$E,AI26),0),1)/100,ROUND(IF(AL26>0,AVERAGEIFS([1]Обработка!$T:$T,[1]Обработка!$E:$E,AI26),0),1)) -> 130.3 | BD26: =IF(VLOOKUP($AJ$14,[1]Сводная!$AG$4:$AH$38,2,0)=3,SUMIFS([1]Обработка!$O:$O,[1]Обработка!$M:$M,AI26,[1]Обработка!$N:$N,"sell")/100,SUMIFS([1]Обработка!$O:$O,[1]Обработка!$M:$M,AI26,[1]Обработка!$N:$N,"sell")) -> 71.3 | BE26: =IF(VLOOKUP($AJ$14,[1]Сводная!$AG$4:$AH$38,2,0)=3,SUMIFS([1]Обработка!$O:$O,[1]Обработка!$M:$M,AI26,[1]Обработка!$N:$N,"buy")/100,SUMIFS([1]Обработка!$O:$O,[1]Обработка!$M:$M,AI26,[1]Обработка!$N:$N,"buy")) -> 80.7 | BF26: =IF(VLOOKUP($AJ$14,[1]Сводная!$AG$4:$AH$38,2,0)=3,ROUND(IF(AJ26>0,AVERAGEIFS([1]Обработка!$U:$U,[1]Обработка!$E:$E,AI26,[1]Обработка!$C:$C,"sell"),0),1)/100,ROUND(IF(AJ26>0,AVERAGEIFS([1]Обработка!$U:$U,[1]Обработка!$E:$E,AI26,[1]Обработка!$C:$C,"sell"),0),1)) -> 66.9 | BG26: =IF(VLOOKUP($AJ$14,[1]Сводная!$AG$4:$AH$38,2,0)=3,ROUND(IF(AK26>0,AVERAGEIFS([1]Обработка!$U:$U,[1]Обработка!$E:$E,AI26,[1]Обработка!$C:$C,"buy"),0),1)/100,ROUND(IF(AK26>0,AVERAGEIFS([1]Обработка!$U:$U,[1]Обработка!$E:$E,AI26,[1]Обработка!$C:$C,"buy"),0),1)) -> 70 | BH26: =IF(VLOOKUP($AJ$14,[1]Сводная!$AG$4:$AH$38,2,0)=3,ROUND(IF(AL26>0,AVERAGEIFS([1]Обработка!$U:$U,[1]Обработка!$E:$E,AI26),0),1)/100,ROUND(IF(AL26>0,AVERAGEIFS([1]Обработка!$U:$U,[1]Обработка!$E:$E,AI26),0),1)) -> 68.7 | BI26: =SUMIFS([1]Обработка!$Q:$Q,[1]Обработка!$M:$M,AI26,[1]Обработка!$N:$N,"sell") -> 6.1013889 | BJ26: =SUMIFS([1]Обработка!$Q:$Q,[1]Обработка!$M:$M,AI26,[1]Обработка!$N:$N,"buy") -> 12.745139 | BK26: =IF(AJ26>0,AVERAGEIFS([1]Обработка!$S:$S,[1]Обработка!$E:$E,AI26,[1]Обработка!$C:$C,"sell"),0) -> 3.8594444 | BL26: =IF(AK26>0,AVERAGEIFS([1]Обработка!$S:$S,[1]Обработка!$E:$E,AI26,[1]Обработка!$C:$C,"buy"),0) -> 4.6501068 | BM26: =IF(AL26>0,AVERAGEIFS([1]Обработка!$S:$S,[1]Обработка!$E:$E,AI26),0) -> 4.3063406 | BO26: 2
A27: 8 | B27: =IF(AND($A27>=C$12,C$12>0),0,IF(AND($A27>=C$9,C$9>0),C$10,IF(AND($A27>=C$6,C$6>0),C$7,0))) -> 0 | C27: =IF(AND($A27>=C$12,C$12>0),C$13,C26+B27) -> 14 | E27: =IF(OR($A27<2,AND(G$15>0,$A27>G$15)),0,IF(AND($A27>=G$12,G$12>0),G$13,IF(AND($A27>=G$9,G$9>0),G$10,IF(AND($A27>=G$6,G$6>0),G$7,0)))) -> 3 | F27: =F26+E27 -> 30 | G27: =G26+F27 -> 157 | I27: =IF(($A27<K$4),1,IF(AND($A27>K$15,K$15>0),I26,IF(AND($A27>=K$12,K$12>0),ROUND(I26+K$13,4),IF(AND($A27>=K$9,K$9>0),ROUND(I26+K$10,4),IF(AND($A27>=K$6,K$6>0),ROUND(I26+K$7,4),K$3))))) -> 1.25 | J27: =IF($A27<K$4, K$2, IF(K$1=0,IF(K$16>0,IF(K$2*K$16<ROUND(J26*I27, 3),K$2*K$16,ROUND(J26*I27, 3)),ROUND(J26*I27, 3)),IF(K$16>0,IF(K$2*K$16<ROUND(K$2*I27, 3),K$2*K$16,ROUND(K$2*I27, 3)),ROUND(K$2*I27, 3)))) -> 0.039 | K27: =K26+ROUND(J27,3) -> 0.164 | M27: =ROUND(C27*O27-K27*$O$6,2) -> 22.4 | N27: =IF($O$10>0,M27/$O$10,0) -> 0.008 | O27: =ROUND(ROUND(K27,2)*$O$4,2) -> 1.6 | P27: =ROUND((ROUND(K26,2)*(G27-G26)*$O$4+P26+J27*$O$6),2) -> 102.3 | Q27: =P27/$O$10 -> 0.036535714 | R27: =ROUND(P27/O27,0) -> 64 | S27: =ROUND(R27/G27,2) -> 0.41 | T27: =R27+C27 -> 78 | U27: =ROUND(T27/G27,2) -> 0.5 | W27: =ROUND(K27*$O$7,2) -> 40.02 | X27: =ROUND(P27+W27,2) -> 142.32 | Z27: =IF($O$10>0,ROUND($O$10-X27,2),0) -> 2657.68 | AA27: =IF($O$10>0,ROUND(X27/$O$10,2),0) -> 0.05 | AB27: =IF(AND(Z27>0,$O$4>0),($O$10-P27-W27*$O$8)/O27,0) -> 1671.055 | AC27: =IF(AB27>0,AB27+G27,0) -> 1828.055 | AD27: 8 | AF27: =IF(P27>0,ROUND(W27/P27,2),0) -> 0.39 | AG27: =IF($O$10>0,ROUND(W27/$O$10,2),0) -> 0.01 | AI27: 8 | AJ27: =COUNTIFS([1]Обработка!$E:$E,AI27,[1]Обработка!$C:$C,"sell") -> 7 | AK27: =COUNTIFS([1]Обработка!$E:$E,AI27,[1]Обработка!$C:$C,"buy") -> 10 | AL27: =COUNTIFS([1]Обработка!$E:$E,AI27) -> 17 | AM27: =SUMIFS([1]Обработка!$F:$F,[1]Обработка!$E:$E,AI27,[1]Обработка!$C:$C,"sell") -> 1.12 | AN27: =SUMIFS([1]Обработка!$F:$F,[1]Обработка!$E:$E,AI27,[1]Обработка!$C:$C,"buy") -> 1.6 | AO27: =SUMIFS([1]Обработка!$F:$F,[1]Обработка!$E:$E,AI27) -> 2.72 | AP27: =SUMIFS([1]Обработка!$G:$G,[1]Обработка!$E:$E,AI27,[1]Обработка!$C:$C,"sell") -> 156.78 | AQ27: =SUMIFS([1]Обработка!$G:$G,[1]Обработка!$E:$E,AI27,[1]Обработка!$C:$C,"buy") -> 219.54 | AR27: =SUMIFS([1]Обработка!$G:$G,[1]Обработка!$E:$E,AI27) -> 376.32 | AS27: =ROUND(IF(AJ27>0,AVERAGEIFS([1]Обработка!$G:$G,[1]Обработка!$E:$E,AI27,[1]Обработка!$C:$C,"sell"),0),2) -> 22.4 | AT27: =ROUND(IF(AK27>0,AVERAGEIFS([1]Обработка!$G:$G,[1]Обработка!$E:$E,AI27,[1]Обработка!$C:$C,"buy"),0),2) -> 21.95 | AU27: =ROUND(IF(AL27>0,AVERAGEIFS([1]Обработка!$G:$G,[1]Обработка!$E:$E,AI27),0),2) -> 22.14 | AV27: =IF(AJ27>0,SUMIFS([1]Обработка!$G:$G,[1]Обработка!$E:$E,AI27,[1]Обработка!$C:$C,"sell")/SUMIFS([1]Обработка!$G:$G,[1]Обработка!$B:$B,"t/p"),0) -> 0.020394863 | AW27: =IF(AK27>0,SUMIFS([1]Обработка!$G:$G,[1]Обработка!$E:$E,AI27,[1]Обработка!$C:$C,"buy")/SUMIFS([1]Обработка!$G:$G,[1]Обработка!$B:$B,"t/p"),0) -> 0.028559052 | AX27: =IF(AL27>0,SUMIFS([1]Обработка!$G:$G,[1]Обработка!$E:$E,AI27)/SUMIFS([1]Обработка!$G:$G,[1]Обработка!$B:$B,"t/p"),0) -> 0.048953914 | AY27: =IF(VLOOKUP($AJ$14,[1]Сводная!$AG$4:$AH$38,2,0)=3,SUMIFS([1]Обработка!$P:$P,[1]Обработка!$M:$M,AI27,[1]Обработка!$N:$N,"sell")/100,SUMIFS([1]Обработка!$P:$P,[1]Обработка!$M:$M,AI27,[1]Обработка!$N:$N,"sell")) -> 172.8 | AZ27: =IF(VLOOKUP($AJ$14,[1]Сводная!$AG$4:$AH$38,2,0)=3,SUMIFS([1]Обработка!$P:$P,[1]Обработка!$M:$M,AI27,[1]Обработка!$N:$N,"buy")/100,SUMIFS([1]Обработка!$P:$P,[1]Обработка!$M:$M,AI27,[1]Обработка!$N:$N,"buy")) -> 177 | BA27: =IF(VLOOKUP($AJ$14,[1]Сводная!$AG$4:$AH$38,2,0)=3,ROUND(IF(AJ27>0,AVERAGEIFS([1]Обработка!$T:$T,[1]Обработка!$E:$E,AI27,[1]Обработка!$C:$C,"sell"),0),1)/100,ROUND(IF(AJ27>0,AVERAGEIFS([1]Обработка!$T:$T,[1]Обработка!$E:$E,AI27,[1]Обработка!$C:$C,"sell"),0),1)) -> 161.7 | BB27: =IF(VLOOKUP($AJ$14,[1]Сводная!$AG$4:$AH$38,2,0)=3,ROUND(IF(AK27>0,AVERAGEIFS([1]Обработка!$T:$T,[1]Обработка!$E:$E,AI27,[1]Обработка!$C:$C,"buy"),0),1)/100,ROUND(IF(AK27>0,AVERAGEIFS([1]Обработка!$T:$T,[1]Обработка!$E:$E,AI27,[1]Обработка!$C:$C,"buy"),0),1)) -> 163.1 | BC27: =IF(VLOOKUP($AJ$14,[1]Сводная!$AG$4:$AH$38,2,0)=3,ROUND(IF(AL27>0,AVERAGEIFS([1]Обработка!$T:$T,[1]Обработка!$E:$E,AI27),0),1)/100,ROUND(IF(AL27>0,AVERAGEIFS([1]Обработка!$T:$T,[1]Обработка!$E:$E,AI27),0),1)) -> 162.5 | BD27: =IF(VLOOKUP($AJ$14,[1]Сводная!$AG$4:$AH$38,2,0)=3,SUMIFS([1]Обработка!$O:$O,[1]Обработка!$M:$M,AI27,[1]Обработка!$N:$N,"sell")/100,SUMIFS([1]Обработка!$O:$O,[1]Обработка!$M:$M,AI27,[1]Обработка!$N:$N,"sell")) -> 77.9 | BE27: =IF(VLOOKUP($AJ$14,[1]Сводная!$AG$4:$AH$38,2,0)=3,SUMIFS([1]Обработка!$O:$O,[1]Обработка!$M:$M,AI27,[1]Обработка!$N:$N,"buy")/100,SUMIFS([1]Обработка!$O:$O,[1]Обработка!$M:$M,AI27,[1]Обработка!$N:$N,"buy")) -> 84.9 | BF27: =IF(VLOOKUP($AJ$14,[1]Сводная!$AG$4:$AH$38,2,0)=3,ROUND(IF(AJ27>0,AVERAGEIFS([1]Обработка!$U:$U,[1]Обработка!$E:$E,AI27,[1]Обработка!$C:$C,"sell"),0),1)/100,ROUND(IF(AJ27>0,AVERAGEIFS([1]Обработка!$U:$U,[1]Обработка!$E:$E,AI27,[1]Обработка!$C:$C,"sell"),0),1)) -> 75.3 | BG27: =IF(VLOOKUP($AJ$14,[1]Сводная!$AG$4:$AH$38,2,0)=3,ROUND(IF(AK27>0,AVERAGEIFS([1]Обработка!$U:$U,[1]Обработка!$E:$E,AI27,[1]Обработка!$C:$C,"buy"),0),1)/100,ROUND(IF(AK27>0,AVERAGEIFS([1]Обработка!$U:$U,[1]Обработка!$E:$E,AI27,[1]Обработка!$C:$C,"buy"),0),1)) -> 80.6 | BH27: =IF(VLOOKUP($AJ$14,[1]Сводная!$AG$4:$AH$38,2,0)=3,ROUND(IF(AL27>0,AVERAGEIFS([1]Обработка!$U:$U,[1]Обработка!$E:$E,AI27),0),1)/100,ROUND(IF(AL27>0,AVERAGEIFS([1]Обработка!$U:$U,[1]Обработка!$E:$E,AI27),0),1)) -> 78.4 | BI27: =SUMIFS([1]Обработка!$Q:$Q,[1]Обработка!$M:$M,AI27,[1]Обработка!$N:$N,"sell") -> 8.1631944 | BJ27: =SUMIFS([1]Обработка!$Q:$Q,[1]Обработка!$M:$M,AI27,[1]Обработка!$N:$N,"buy") -> 12.426389 | BK27: =IF(AJ27>0,AVERAGEIFS([1]Обработка!$S:$S,[1]Обработка!$E:$E,AI27,[1]Обработка!$C:$C,"sell"),0) -> 5.1356151 | BL27: =IF(AK27>0,AVERAGEIFS([1]Обработка!$S:$S,[1]Обработка!$E:$E,AI27,[1]Обработка!$C:$C,"buy"),0) -> 5.805625 | BM27: =IF(AL27>0,AVERAGEIFS([1]Обработка!$S:$S,[1]Обработка!$E:$E,AI27),0) -> 5.5297386
A28: 9 | B28: =IF(AND($A28>=C$12,C$12>0),0,IF(AND($A28>=C$9,C$9>0),C$10,IF(AND($A28>=C$6,C$6>0),C$7,0))) -> 0 | C28: =IF(AND($A28>=C$12,C$12>0),C$13,C27+B28) -> 14 | E28: =IF(OR($A28<2,AND(G$15>0,$A28>G$15)),0,IF(AND($A28>=G$12,G$12>0),G$13,IF(AND($A28>=G$9,G$9>0),G$10,IF(AND($A28>=G$6,G$6>0),G$7,0)))) -> 3 | F28: =F27+E28 -> 33 | G28: =G27+F28 -> 190 | I28: =IF(($A28<K$4),1,IF(AND($A28>K$15,K$15>0),I27,IF(AND($A28>=K$12,K$12>0),ROUND(I27+K$13,4),IF(AND($A28>=K$9,K$9>0),ROUND(I27+K$10,4),IF(AND($A28>=K$6,K$6>0),ROUND(I27+K$7,4),K$3))))) -> 1.25 | J28: =IF($A28<K$4, K$2, IF(K$1=0,IF(K$16>0,IF(K$2*K$16<ROUND(J27*I28, 3),K$2*K$16,ROUND(J27*I28, 3)),ROUND(J27*I28, 3)),IF(K$16>0,IF(K$2*K$16<ROUND(K$2*I28, 3),K$2*K$16,ROUND(K$2*I28, 3)),ROUND(K$2*I28, 3)))) -> 0.049 | K28: =K27+ROUND(J28,3) -> 0.213 | M28: =ROUND(C28*O28-K28*$O$6,2) -> 29.4 | N28: =IF($O$10>0,M28/$O$10,0) -> 0.0105 | O28: =ROUND(ROUND(K28,2)*$O$4,2) -> 2.1 | P28: =ROUND((ROUND(K27,2)*(G28-G27)*$O$4+P27+J28*$O$6),2) -> 155.1 | Q28: =P28/$O$10 -> 0.055392857 | R28: =ROUND(P28/O28,0) -> 74 | S28: =ROUND(R28/G28,2) -> 0.39 | T28: =R28+C28 -> 88 | U28: =ROUND(T28/G28,2) -> 0.46 | W28: =ROUND(K28*$O$7,2) -> 51.97 | X28: =ROUND(P28+W28,2) -> 207.07 | Z28: =IF($O$10>0,ROUND($O$10-X28,2),0) -> 2592.93 | AA28: =IF($O$10>0,ROUND(X28/$O$10,2),0) -> 0.07 | AB28: =IF(AND(Z28>0,$O$4>0),($O$10-P28-W28*$O$8)/O28,0) -> 1244.6276 | AC28: =IF(AB28>0,AB28+G28,0) -> 1434.6276 | AD28: 9 | AF28: =IF(P28>0,ROUND(W28/P28,2),0) -> 0.34 | AG28: =IF($O$10>0,ROUND(W28/$O$10,2),0) -> 0.02 | AI28: 9 | AJ28: =COUNTIFS([1]Обработка!$E:$E,AI28,[1]Обработка!$C:$C,"sell") -> 5 | AK28: =COUNTIFS([1]Обработка!$E:$E,AI28,[1]Обработка!$C:$C,"buy") -> 3 | AL28: =COUNTIFS([1]Обработка!$E:$E,AI28) -> 8 | AM28: =SUMIFS([1]Обработка!$F:$F,[1]Обработка!$E:$E,AI28,[1]Обработка!$C:$C,"sell") -> 1.05 | AN28: =SUMIFS([1]Обработка!$F:$F,[1]Обработка!$E:$E,AI28,[1]Обработка!$C:$C,"buy") -> 0.63 | AO28: =SUMIFS([1]Обработка!$F:$F,[1]Обработка!$E:$E,AI28) -> 1.68 | AP28: =SUMIFS([1]Обработка!$G:$G,[1]Обработка!$E:$E,AI28,[1]Обработка!$C:$C,"sell") -> 146.05 | AQ28: =SUMIFS([1]Обработка!$G:$G,[1]Обработка!$E:$E,AI28,[1]Обработка!$C:$C,"buy") -> 88.23 | AR28: =SUMIFS([1]Обработка!$G:$G,[1]Обработка!$E:$E,AI28) -> 234.28 | AS28: =ROUND(IF(AJ28>0,AVERAGEIFS([1]Обработка!$G:$G,[1]Обработка!$E:$E,AI28,[1]Обработка!$C:$C,"sell"),0),2) -> 29.21 | AT28: =ROUND(IF(AK28>0,AVERAGEIFS([1]Обработка!$G:$G,[1]Обработка!$E:$E,AI28,[1]Обработка!$C:$C,"buy"),0),2) -> 29.41 | AU28: =ROUND(IF(AL28>0,AVERAGEIFS([1]Обработка!$G:$G,[1]Обработка!$E:$E,AI28),0),2) -> 29.29 | AV28: =IF(AJ28>0,SUMIFS([1]Обработка!$G:$G,[1]Обработка!$E:$E,AI28,[1]Обработка!$C:$C,"sell")/SUMIFS([1]Обработка!$G:$G,[1]Обработка!$B:$B,"t/p"),0) -> 0.018999041 | AW28: =IF(AK28>0,SUMIFS([1]Обработка!$G:$G,[1]Обработка!$E:$E,AI28,[1]Обработка!$C:$C,"buy")/SUMIFS([1]Обработка!$G:$G,[1]Обработка!$B:$B,"t/p"),0) -> 0.011477476 | AX28: =IF(AL28>0,SUMIFS([1]Обработка!$G:$G,[1]Обработка!$E:$E,AI28)/SUMIFS([1]Обработка!$G:$G,[1]Обработка!$B:$B,"t/p"),0) -> 0.030476518 | AY28: =IF(VLOOKUP($AJ$14,[1]Сводная!$AG$4:$AH$38,2,0)=3,SUMIFS([1]Обработка!$P:$P,[1]Обработка!$M:$M,AI28,[1]Обработка!$N:$N,"sell")/100,SUMIFS([1]Обработка!$P:$P,[1]Обработка!$M:$M,AI28,[1]Обработка!$N:$N,"sell")) -> 294.3 | AZ28: =IF(VLOOKUP($AJ$14,[1]Сводная!$AG$4:$AH$38,2,0)=3,SUMIFS([1]Обработка!$P:$P,[1]Обработка!$M:$M,AI28,[1]Обработка!$N:$N,"buy")/100,SUMIFS([1]Обработка!$P:$P,[1]Обработка!$M:$M,AI28,[1]Обработка!$N:$N,"buy")) -> 223.2 | BA28: =IF(VLOOKUP($AJ$14,[1]Сводная!$AG$4:$AH$38,2,0)=3,ROUND(IF(AJ28>0,AVERAGEIFS([1]Обработка!$T:$T,[1]Обработка!$E:$E,AI28,[1]Обработка!$C:$C,"sell"),0),1)/100,ROUND(IF(AJ28>0,AVERAGEIFS([1]Обработка!$T:$T,[1]Обработка!$E:$E,AI28,[1]Обработка!$C:$C,"sell"),0),1)) -> 218.4 | BB28: =IF(VLOOKUP($AJ$14,[1]Сводная!$AG$4:$AH$38,2,0)=3,ROUND(IF(AK28>0,AVERAGEIFS([1]Обработка!$T:$T,[1]Обработка!$E:$E,AI28,[1]Обработка!$C:$C,"buy"),0),1)/100,ROUND(IF(AK28>0,AVERAGEIFS([1]Обработка!$T:$T,[1]Обработка!$E:$E,AI28,[1]Обработка!$C:$C,"buy"),0),1)) -> 201.8 | BC28: =IF(VLOOKUP($AJ$14,[1]Сводная!$AG$4:$AH$38,2,0)=3,ROUND(IF(AL28>0,AVERAGEIFS([1]Обработка!$T:$T,[1]Обработка!$E:$E,AI28),0),1)/100,ROUND(IF(AL28>0,AVERAGEIFS([1]Обработка!$T:$T,[1]Обработка!$E:$E,AI28),0),1)) -> 212.1 | BD28: =IF(VLOOKUP($AJ$14,[1]Сводная!$AG$4:$AH$38,2,0)=3,SUMIFS([1]Обработка!$O:$O,[1]Обработка!$M:$M,AI28,[1]Обработка!$N:$N,"sell")/100,SUMIFS([1]Обработка!$O:$O,[1]Обработка!$M:$M,AI28,[1]Обработка!$N:$N,"sell")) -> 100.4 | BE28: =IF(VLOOKUP($AJ$14,[1]Сводная!$AG$4:$AH$38,2,0)=3,SUMIFS([1]Обработка!$O:$O,[1]Обработка!$M:$M,AI28,[1]Обработка!$N:$N,"buy")/100,SUMIFS([1]Обработка!$O:$O,[1]Обработка!$M:$M,AI28,[1]Обработка!$N:$N,"buy")) -> 101.3 | BF28: =IF(VLOOKUP($AJ$14,[1]Сводная!$AG$4:$AH$38,2,0)=3,ROUND(IF(AJ28>0,AVERAGEIFS([1]Обработка!$U:$U,[1]Обработка!$E:$E,AI28,[1]Обработка!$C:$C,"sell"),0),1)/100,ROUND(IF(AJ28>0,AVERAGEIFS([1]Обработка!$U:$U,[1]Обработка!$E:$E,AI28,[1]Обработка!$C:$C,"sell"),0),1)) -> 90.9 | BG28: =IF(VLOOKUP($AJ$14,[1]Сводная!$AG$4:$AH$38,2,0)=3,ROUND(IF(AK28>0,AVERAGEIFS([1]Обработка!$U:$U,[1]Обработка!$E:$E,AI28,[1]Обработка!$C:$C,"buy"),0),1)/100,ROUND(IF(AK28>0,AVERAGEIFS([1]Обработка!$U:$U,[1]Обработка!$E:$E,AI28,[1]Обработка!$C:$C,"buy"),0),1)) -> 93.6 | BH28: =IF(VLOOKUP($AJ$14,[1]Сводная!$AG$4:$AH$38,2,0)=3,ROUND(IF(AL28>0,AVERAGEIFS([1]Обработка!$U:$U,[1]Обработка!$E:$E,AI28),0),1)/100,ROUND(IF(AL28>0,AVERAGEIFS([1]Обработка!$U:$U,[1]Обработка!$E:$E,AI28),0),1)) -> 91.9 | BI28: =SUMIFS([1]Обработка!$Q:$Q,[1]Обработка!$M:$M,AI28,[1]Обработка!$N:$N,"sell") -> 17.856944 | BJ28: =SUMIFS([1]Обработка!$Q:$Q,[1]Обработка!$M:$M,AI28,[1]Обработка!$N:$N,"buy") -> 7.1673611 | BK28: =IF(AJ28>0,AVERAGEIFS([1]Обработка!$S:$S,[1]Обработка!$E:$E,AI28,[1]Обработка!$C:$C,"sell"),0) -> 8.2215278 | BL28: =IF(AK28>0,AVERAGEIFS([1]Обработка!$S:$S,[1]Обработка!$E:$E,AI28,[1]Обработка!$C:$C,"buy"),0) -> 4.5974537 | BM28: =IF(AL28>0,AVERAGEIFS([1]Обработка!$S:$S,[1]Обработка!$E:$E,AI28),0) -> 6.8625
A29: 10 | B29: =IF(AND($A29>=C$12,C$12>0),0,IF(AND($A29>=C$9,C$9>0),C$10,IF(AND($A29>=C$6,C$6>0),C$7,0))) -> 0 | C29: =IF(AND($A29>=C$12,C$12>0),C$13,C28+B29) -> 14 | E29: =IF(OR($A29<2,AND(G$15>0,$A29>G$15)),0,IF(AND($A29>=G$12,G$12>0),G$13,IF(AND($A29>=G$9,G$9>0),G$10,IF(AND($A29>=G$6,G$6>0),G$7,0)))) -> 3 | F29: =F28+E29 -> 36 | G29: =G28+F29 -> 226 | I29: =IF(($A29<K$4),1,IF(AND($A29>K$15,K$15>0),I28,IF(AND($A29>=K$12,K$12>0),ROUND(I28+K$13,4),IF(AND($A29>=K$9,K$9>0),ROUND(I28+K$10,4),IF(AND($A29>=K$6,K$6>0),ROUND(I28+K$7,4),K$3))))) -> 1.25 | J29: =IF($A29<K$4, K$2, IF(K$1=0,IF(K$16>0,IF(K$2*K$16<ROUND(J28*I29, 3),K$2*K$16,ROUND(J28*I29, 3)),ROUND(J28*I29, 3)),IF(K$16>0,IF(K$2*K$16<ROUND(K$2*I29, 3),K$2*K$16,ROUND(K$2*I29, 3)),ROUND(K$2*I29, 3)))) -> 0.061 | K29: =K28+ROUND(J29,3) -> 0.274 | M29: =ROUND(C29*O29-K29*$O$6,2) -> 37.8 | N29: =IF($O$10>0,M29/$O$10,0) -> 0.0135 | O29: =ROUND(ROUND(K29,2)*$O$4,2) -> 2.7 | P29: =ROUND((ROUND(K28,2)*(G29-G28)*$O$4+P28+J29*$O$6),2) -> 230.7 | Q29: =P29/$O$10 -> 0.082392857 | R29: =ROUND(P29/O29,0) -> 85 | S29: =ROUND(R29/G29,2) -> 0.38 | T29: =R29+C29 -> 99 | U29: =ROUND(T29/G29,2) -> 0.44 | W29: =ROUND(K29*$O$7,2) -> 66.86 | X29: =ROUND(P29+W29,2) -> 297.56 | Z29: =IF($O$10>0,ROUND($O$10-X29,2),0) -> 2502.44 | AA29: =IF($O$10>0,ROUND(X29/$O$10,2),0) -> 0.11 | AB29: =IF(AND(Z29>0,$O$4>0),($O$10-P29-W29*$O$8)/O29,0) -> 936.73481 | AC29: =IF(AB29>0,AB29+G29,0) -> 1162.7348 | AD29: 10 | AF29: =IF(P29>0,ROUND(W29/P29,2),0) -> 0.29 | AG29: =IF($O$10>0,ROUND(W29/$O$10,2),0) -> 0.02 | AI29: 10 | AJ29: =COUNTIFS([1]Обработка!$E:$E,AI29,[1]Обработка!$C:$C,"sell") -> 6 | AK29: =COUNTIFS([1]Обработка!$E:$E,AI29,[1]Обработка!$C:$C,"buy") -> 4 | AL29: =COUNTIFS([1]Обработка!$E:$E,AI29) -> 10 | AM29: =SUMIFS([1]Обработка!$F:$F,[1]Обработка!$E:$E,AI29,[1]Обработка!$C:$C,"sell") -> 1.62 | AN29: =SUMIFS([1]Обработка!$F:$F,[1]Обработка!$E:$E,AI29,[1]Обработка!$C:$C,"buy") -> 1.08 | AO29: =SUMIFS([1]Обработка!$F:$F,[1]Обработка!$E:$E,AI29) -> 2.7 | AP29: =SUMIFS([1]Обработка!$G:$G,[1]Обработка!$E:$E,AI29,[1]Обработка!$C:$C,"sell") -> 218.36 | AQ29: =SUMIFS([1]Обработка!$G:$G,[1]Обработка!$E:$E,AI29,[1]Обработка!$C:$C,"buy") -> 150.16 | AR29: =SUMIFS([1]Обработка!$G:$G,[1]Обработка!$E:$E,AI29) -> 368.52 | AS29: =ROUND(IF(AJ29>0,AVERAGEIFS([1]Обработка!$G:$G,[1]Обработка!$E:$E,AI29,[1]Обработка!$C:$C,"sell"),0),2) -> 36.39 | AT29: =ROUND(IF(AK29>0,AVERAGEIFS([1]Обработка!$G:$G,[1]Обработка!$E:$E,AI29,[1]Обработка!$C:$C,"buy"),0),2) -> 37.54 | AU29: =ROUND(IF(AL29>0,AVERAGEIFS([1]Обработка!$G:$G,[1]Обработка!$E:$E,AI29),0),2) -> 36.85 | AV29: =IF(AJ29>0,SUMIFS([1]Обработка!$G:$G,[1]Обработка!$E:$E,AI29,[1]Обработка!$C:$C,"sell")/SUMIFS([1]Обработка!$G:$G,[1]Обработка!$B:$B,"t/p"),0) -> 0.028405551 | AW29: =IF(AK29>0,SUMIFS([1]Обработка!$G:$G,[1]Обработка!$E:$E,AI29,[1]Обработка!$C:$C,"buy")/SUMIFS([1]Обработка!$G:$G,[1]Обработка!$B:$B,"t/p"),0) -> 0.019533694 | AX29: =IF(AL29>0,SUMIFS([1]Обработка!$G:$G,[1]Обработка!$E:$E,AI29)/SUMIFS([1]Обработка!$G:$G,[1]Обработка!$B:$B,"t/p"),0) -> 0.047939245 | AY29: =IF(VLOOKUP($AJ$14,[1]Сводная!$AG$4:$AH$38,2,0)=3,SUMIFS([1]Обработка!$P:$P,[1]Обработка!$M:$M,AI29,[1]Обработка!$N:$N,"sell")/100,SUMIFS([1]Обработка!$P:$P,[1]Обработка!$M:$M,AI29,[1]Обработка!$N:$N,"sell")) -> 249.3 | AZ29: =IF(VLOOKUP($AJ$14,[1]Сводная!$AG$4:$AH$38,2,0)=3,SUMIFS([1]Обработка!$P:$P,[1]Обработка!$M:$M,AI29,[1]Обработка!$N:$N,"buy")/100,SUMIFS([1]Обработка!$P:$P,[1]Обработка!$M:$M,AI29,[1]Обработка!$N:$N,"buy")) -> 232.2 | BA29: =IF(VLOOKUP($AJ$14,[1]Сводная!$AG$4:$AH$38,2,0)=3,ROUND(IF(AJ29>0,AVERAGEIFS([1]Обработка!$T:$T,[1]Обработка!$E:$E,AI29,[1]Обработка!$C:$C,"sell"),0),1)/100,ROUND(IF(AJ29>0,AVERAGEIFS([1]Обработка!$T:$T,[1]Обработка!$E:$E,AI29,[1]Обработка!$C:$C,"sell"),0),1)) -> 234.8 | BB29: =IF(VLOOKUP($AJ$14,[1]Сводная!$AG$4:$AH$38,2,0)=3,ROUND(IF(AK29>0,AVERAGEIFS([1]Обработка!$T:$T,[1]Обработка!$E:$E,AI29,[1]Обработка!$C:$C,"buy"),0),1)/100,ROUND(IF(AK29>0,AVERAGEIFS([1]Обработка!$T:$T,[1]Обработка!$E:$E,AI29,[1]Обработка!$C:$C,"buy"),0),1)) -> 229.6 | BC29: =IF(VLOOKUP($AJ$14,[1]Сводная!$AG$4:$AH$38,2,0)=3,ROUND(IF(AL29>0,AVERAGEIFS([1]Обработка!$T:$T,[1]Обработка!$E:$E,AI29),0),1)/100,ROUND(IF(AL29>0,AVERAGEIFS([1]Обработка!$T:$T,[1]Обработка!$E:$E,AI29),0),1)) -> 232.7 | BD29: =IF(VLOOKUP($AJ$14,[1]Сводная!$AG$4:$AH$38,2,0)=3,SUMIFS([1]Обработка!$O:$O,[1]Обработка!$M:$M,AI29,[1]Обработка!$N:$N,"sell")/100,SUMIFS([1]Обработка!$O:$O,[1]Обработка!$M:$M,AI29,[1]Обработка!$N:$N,"sell")) -> 96.6 | BE29: =IF(VLOOKUP($AJ$14,[1]Сводная!$AG$4:$AH$38,2,0)=3,SUMIFS([1]Обработка!$O:$O,[1]Обработка!$M:$M,AI29,[1]Обработка!$N:$N,"buy")/100,SUMIFS([1]Обработка!$O:$O,[1]Обработка!$M:$M,AI29,[1]Обработка!$N:$N,"buy")) -> 112.4 | BF29: =IF(VLOOKUP($AJ$14,[1]Сводная!$AG$4:$AH$38,2,0)=3,ROUND(IF(AJ29>0,AVERAGEIFS([1]Обработка!$U:$U,[1]Обработка!$E:$E,AI29,[1]Обработка!$C:$C,"sell"),0),1)/100,ROUND(IF(AJ29>0,AVERAGEIFS([1]Обработка!$U:$U,[1]Обработка!$E:$E,AI29,[1]Обработка!$C:$C,"sell"),0),1)) -> 91.6 | BG29: =IF(VLOOKUP($AJ$14,[1]Сводная!$AG$4:$AH$38,2,0)=3,ROUND(IF(AK29>0,AVERAGEIFS([1]Обработка!$U:$U,[1]Обработка!$E:$E,AI29,[1]Обработка!$C:$C,"buy"),0),1)/100,ROUND(IF(AK29>0,AVERAGEIFS([1]Обработка!$U:$U,[1]Обработка!$E:$E,AI29,[1]Обработка!$C:$C,"buy"),0),1)) -> 104.4 | BH29: =IF(VLOOKUP($AJ$14,[1]Сводная!$AG$4:$AH$38,2,0)=3,ROUND(IF(AL29>0,AVERAGEIFS([1]Обработка!$U:$U,[1]Обработка!$E:$E,AI29),0),1)/100,ROUND(IF(AL29>0,AVERAGEIFS([1]Обработка!$U:$U,[1]Обработка!$E:$E,AI29),0),1)) -> 96.7 | BI29: =SUMIFS([1]Обработка!$Q:$Q,[1]Обработка!$M:$M,AI29,[1]Обработка!$N:$N,"sell") -> 12.040972 | BJ29: =SUMIFS([1]Обработка!$Q:$Q,[1]Обработка!$M:$M,AI29,[1]Обработка!$N:$N,"buy") -> 19.058333 | BK29: =IF(AJ29>0,AVERAGEIFS([1]Обработка!$S:$S,[1]Обработка!$E:$E,AI29,[1]Обработка!$C:$C,"sell"),0) -> 7.1665509 | BL29: =IF(AK29>0,AVERAGEIFS([1]Обработка!$S:$S,[1]Обработка!$E:$E,AI29,[1]Обработка!$C:$C,"buy"),0) -> 8.4112847 | BM29: =IF(AL29>0,AVERAGEIFS([1]Обработка!$S:$S,[1]Обработка!$E:$E,AI29),0) -> 7.6644444
A30: 11 | B30: =IF(AND($A30>=C$12,C$12>0),0,IF(AND($A30>=C$9,C$9>0),C$10,IF(AND($A30>=C$6,C$6>0),C$7,0))) -> 0 | C30: =IF(AND($A30>=C$12,C$12>0),C$13,C29+B30) -> 14 | E30: =IF(OR($A30<2,AND(G$15>0,$A30>G$15)),0,IF(AND($A30>=G$12,G$12>0),G$13,IF(AND($A30>=G$9,G$9>0),G$10,IF(AND($A30>=G$6,G$6>0),G$7,0)))) -> 3 | F30: =F29+E30 -> 39 | G30: =G29+F30 -> 265 | I30: =IF(($A30<K$4),1,IF(AND($A30>K$15,K$15>0),I29,IF(AND($A30>=K$12,K$12>0),ROUND(I29+K$13,4),IF(AND($A30>=K$9,K$9>0),ROUND(I29+K$10,4),IF(AND($A30>=K$6,K$6>0),ROUND(I29+K$7,4),K$3))))) -> 1.25 | J30: =IF($A30<K$4, K$2, IF(K$1=0,IF(K$16>0,IF(K$2*K$16<ROUND(J29*I30, 3),K$2*K$16,ROUND(J29*I30, 3)),ROUND(J29*I30, 3)),IF(K$16>0,IF(K$2*K$16<ROUND(K$2*I30, 3),K$2*K$16,ROUND(K$2*I30, 3)),ROUND(K$2*I30, 3)))) -> 0.076 | K30: =K29+ROUND(J30,3) -> 0.35 | M30: =ROUND(C30*O30-K30*$O$6,2) -> 49 | N30: =IF($O$10>0,M30/$O$10,0) -> 0.0175 | O30: =ROUND(ROUND(K30,2)*$O$4,2) -> 3.5 | P30: =ROUND((ROUND(K29,2)*(G30-G29)*$O$4+P29+J30*$O$6),2) -> 336 | Q30: =P30/$O$10 -> 0.12 | R30: =ROUND(P30/O30,0) -> 96 | S30: =ROUND(R30/G30,2) -> 0.36 | T30: =R30+C30 -> 110 | U30: =ROUND(T30/G30,2) -> 0.42 | W30: =ROUND(K30*$O$7,2) -> 85.4 | X30: =ROUND(P30+W30,2) -> 421.4 | Z30: =IF($O$10>0,ROUND($O$10-X30,2),0) -> 2378.6 | AA30: =IF($O$10>0,ROUND(X30/$O$10,2),0) -> 0.15 | AB30: =IF(AND(Z30>0,$O$4>0),($O$10-P30-W30*$O$8)/O30,0) -> 689.36 | AC30: =IF(AB30>0,AB30+G30,0) -> 954.36 | AD30: 11 | AF30: =IF(P30>0,ROUND(W30/P30,2),0) -> 0.25 | AG30: =IF($O$10>0,ROUND(W30/$O$10,2),0) -> 0.03 | AI30: 11 | AJ30: =COUNTIFS([1]Обработка!$E:$E,AI30,[1]Обработка!$C:$C,"sell") -> 6 | AK30: =COUNTIFS([1]Обработка!$E:$E,AI30,[1]Обработка!$C:$C,"buy") -> 2 | AL30: =COUNTIFS([1]Обработка!$E:$E,AI30) -> 8 | AM30: =SUMIFS([1]Обработка!$F:$F,[1]Обработка!$E:$E,AI30,[1]Обработка!$C:$C,"sell") -> 2.04 | AN30: =SUMIFS([1]Обработка!$F:$F,[1]Обработка!$E:$E,AI30,[1]Обработка!$C:$C,"buy") -> 0.68 | AO30: =SUMIFS([1]Обработка!$F:$F,[1]Обработка!$E:$E,AI30) -> 2.72 | AP30: =SUMIFS([1]Обработка!$G:$G,[1]Обработка!$E:$E,AI30,[1]Обработка!$C:$C,"sell") -> 286.11 | AQ30: =SUMIFS([1]Обработка!$G:$G,[1]Обработка!$E:$E,AI30,[1]Обработка!$C:$C,"buy") -> 93.89 | AR30: =SUMIFS([1]Обработка!$G:$G,[1]Обработка!$E:$E,AI30) -> 380 | AS30: =ROUND(IF(AJ30>0,AVERAGEIFS([1]Обработка!$G:$G,[1]Обработка!$E:$E,AI30,[1]Обработка!$C:$C,"sell"),0),2) -> 47.69 | AT30: =ROUND(IF(AK30>0,AVERAGEIFS([1]Обработка!$G:$G,[1]Обработка!$E:$E,AI30,[1]Обработка!$C:$C,"buy"),0),2) -> 46.95 | AU30: =ROUND(IF(AL30>0,AVERAGEIFS([1]Обработка!$G:$G,[1]Обработка!$E:$E,AI30),0),2) -> 47.5 | AV30: =IF(AJ30>0,SUMIFS([1]Обработка!$G:$G,[1]Обработка!$E:$E,AI30,[1]Обработка!$C:$C,"sell")/SUMIFS([1]Обработка!$G:$G,[1]Обработка!$B:$B,"t/p"),0) -> 0.037218868 | AW30: =IF(AK30>0,SUMIFS([1]Обработка!$G:$G,[1]Обработка!$E:$E,AI30,[1]Обработка!$C:$C,"buy")/SUMIFS([1]Обработка!$G:$G,[1]Обработка!$B:$B,"t/p"),0) -> 0.012213762 | AX30: =IF(AL30>0,SUMIFS([1]Обработка!$G:$G,[1]Обработка!$E:$E,AI30)/SUMIFS([1]Обработка!$G:$G,[1]Обработка!$B:$B,"t/p"),0) -> 0.04943263 | AY30: =IF(VLOOKUP($AJ$14,[1]Сводная!$AG$4:$AH$38,2,0)=3,SUMIFS([1]Обработка!$P:$P,[1]Обработка!$M:$M,AI30,[1]Обработка!$N:$N,"sell")/100,SUMIFS([1]Обработка!$P:$P,[1]Обработка!$M:$M,AI30,[1]Обработка!$N:$N,"sell")) -> 298.9 | AZ30: =IF(VLOOKUP($AJ$14,[1]Сводная!$AG$4:$AH$38,2,0)=3,SUMIFS([1]Обработка!$P:$P,[1]Обработка!$M:$M,AI30,[1]Обработка!$N:$N,"buy")/100,SUMIFS([1]Обработка!$P:$P,[1]Обработка!$M:$M,AI30,[1]Обработка!$N:$N,"buy")) -> 276.4 | BA30: =IF(VLOOKUP($AJ$14,[1]Сводная!$AG$4:$AH$38,2,0)=3,ROUND(IF(AJ30>0,AVERAGEIFS([1]Обработка!$T:$T,[1]Обработка!$E:$E,AI30,[1]Обработка!$C:$C,"sell"),0),1)/100,ROUND(IF(AJ30>0,AVERAGEIFS([1]Обработка!$T:$T,[1]Обработка!$E:$E,AI30,[1]Обработка!$C:$C,"sell"),0),1)) -> 279.9 | BB30: =IF(VLOOKUP($AJ$14,[1]Сводная!$AG$4:$AH$38,2,0)=3,ROUND(IF(AK30>0,AVERAGEIFS([1]Обработка!$T:$T,[1]Обработка!$E:$E,AI30,[1]Обработка!$C:$C,"buy"),0),1)/100,ROUND(IF(AK30>0,AVERAGEIFS([1]Обработка!$T:$T,[1]Обработка!$E:$E,AI30,[1]Обработка!$C:$C,"buy"),0),1)) -> 271.7 | BC30: =IF(VLOOKUP($AJ$14,[1]Сводная!$AG$4:$AH$38,2,0)=3,ROUND(IF(AL30>0,AVERAGEIFS([1]Обработка!$T:$T,[1]Обработка!$E:$E,AI30),0),1)/100,ROUND(IF(AL30>0,AVERAGEIFS([1]Обработка!$T:$T,[1]Обработка!$E:$E,AI30),0),1)) -> 277.8 | BD30: =IF(VLOOKUP($AJ$14,[1]Сводная!$AG$4:$AH$38,2,0)=3,SUMIFS([1]Обработка!$O:$O,[1]Обработка!$M:$M,AI30,[1]Обработка!$N:$N,"sell")/100,SUMIFS([1]Обработка!$O:$O,[1]Обработка!$M:$M,AI30,[1]Обработка!$N:$N,"sell")) -> 132.8 | BE30: =IF(VLOOKUP($AJ$14,[1]Сводная!$AG$4:$AH$38,2,0)=3,SUMIFS([1]Обработка!$O:$O,[1]Обработка!$M:$M,AI30,[1]Обработка!$N:$N,"buy")/100,SUMIFS([1]Обработка!$O:$O,[1]Обработка!$M:$M,AI30,[1]Обработка!$N:$N,"buy")) -> 118.6 | BF30: =IF(VLOOKUP($AJ$14,[1]Сводная!$AG$4:$AH$38,2,0)=3,ROUND(IF(AJ30>0,AVERAGEIFS([1]Обработка!$U:$U,[1]Обработка!$E:$E,AI30,[1]Обработка!$C:$C,"sell"),0),1)/100,ROUND(IF(AJ30>0,AVERAGEIFS([1]Обработка!$U:$U,[1]Обработка!$E:$E,AI30,[1]Обработка!$C:$C,"sell"),0),1)) -> 115.7 | BG30: =IF(VLOOKUP($AJ$14,[1]Сводная!$AG$4:$AH$38,2,0)=3,ROUND(IF(AK30>0,AVERAGEIFS([1]Обработка!$U:$U,[1]Обработка!$E:$E,AI30,[1]Обработка!$C:$C,"buy"),0),1)/100,ROUND(IF(AK30>0,AVERAGEIFS([1]Обработка!$U:$U,[1]Обработка!$E:$E,AI30,[1]Обработка!$C:$C,"buy"),0),1)) -> 117.5 | BH30: =IF(VLOOKUP($AJ$14,[1]Сводная!$AG$4:$AH$38,2,0)=3,ROUND(IF(AL30>0,AVERAGEIFS([1]Обработка!$U:$U,[1]Обработка!$E:$E,AI30),0),1)/100,ROUND(IF(AL30>0,AVERAGEIFS([1]Обработка!$U:$U,[1]Обработка!$E:$E,AI30),0),1)) -> 116.2 | BI30: =SUMIFS([1]Обработка!$Q:$Q,[1]Обработка!$M:$M,AI30,[1]Обработка!$N:$N,"sell") -> 13.68125 | BJ30: =SUMIFS([1]Обработка!$Q:$Q,[1]Обработка!$M:$M,AI30,[1]Обработка!$N:$N,"buy") -> 12.859722 | BK30: =IF(AJ30>0,AVERAGEIFS([1]Обработка!$S:$S,[1]Обработка!$E:$E,AI30,[1]Обработка!$C:$C,"sell"),0) -> 6.6315972 | BL30: =IF(AK30>0,AVERAGEIFS([1]Обработка!$S:$S,[1]Обработка!$E:$E,AI30,[1]Обработка!$C:$C,"buy"),0) -> 10.372917 | BM30: =IF(AL30>0,AVERAGEIFS([1]Обработка!$S:$S,[1]Обработка!$E:$E,AI30),0) -> 7.5669271
A31: 12 | B31: =IF(AND($A31>=C$12,C$12>0),0,IF(AND($A31>=C$9,C$9>0),C$10,IF(AND($A31>=C$6,C$6>0),C$7,0))) -> 0 | C31: =IF(AND($A31>=C$12,C$12>0),C$13,C30+B31) -> 14 | E31: =IF(OR($A31<2,AND(G$15>0,$A31>G$15)),0,IF(AND($A31>=G$12,G$12>0),G$13,IF(AND($A31>=G$9,G$9>0),G$10,IF(AND($A31>=G$6,G$6>0),G$7,0)))) -> 3 | F31: =F30+E31 -> 42 | G31: =G30+F31 -> 307 | I31: =IF(($A31<K$4),1,IF(AND($A31>K$15,K$15>0),I30,IF(AND($A31>=K$12,K$12>0),ROUND(I30+K$13,4),IF(AND($A31>=K$9,K$9>0),ROUND(I30+K$10,4),IF(AND($A31>=K$6,K$6>0),ROUND(I30+K$7,4),K$3))))) -> 1.25 | J31: =IF($A31<K$4, K$2, IF(K$1=0,IF(K$16>0,IF(K$2*K$16<ROUND(J30*I31, 3),K$2*K$16,ROUND(J30*I31, 3)),ROUND(J30*I31, 3)),IF(K$16>0,IF(K$2*K$16<ROUND(K$2*I31, 3),K$2*K$16,ROUND(K$2*I31, 3)),ROUND(K$2*I31, 3)))) -> 0.095 | K31: =K30+ROUND(J31,3) -> 0.445 | M31: =ROUND(C31*O31-K31*$O$6,2) -> 63 | N31: =IF($O$10>0,M31/$O$10,0) -> 0.0225 | O31: =ROUND(ROUND(K31,2)*$O$4,2) -> 4.5 | P31: =ROUND((ROUND(K30,2)*(G31-G30)*$O$4+P30+J31*$O$6),2) -> 483 | Q31: =P31/$O$10 -> 0.1725 | R31: =ROUND(P31/O31,0) -> 107 | S31: =ROUND(R31/G31,2) -> 0.35 | T31: =R31+C31 -> 121 | U31: =ROUND(T31/G31,2) -> 0.39 | W31: =ROUND(K31*$O$7,2) -> 108.58 | X31: =ROUND(P31+W31,2) -> 591.58 | Z31: =IF($O$10>0,ROUND($O$10-X31,2),0) -> 2208.42 | AA31: =IF($O$10>0,ROUND(X31/$O$10,2),0) -> 0.21 | AB31: =IF(AND(Z31>0,$O$4>0),($O$10-P31-W31*$O$8)/O31,0) -> 500.41156 | AC31: =IF(AB31>0,AB31+G31,0) -> 807.41156 | AD31: 12 | AF31: =IF(P31>0,ROUND(W31/P31,2),0) -> 0.22 | AG31: =IF($O$10>0,ROUND(W31/$O$10,2),0) -> 0.04 | AI31: 12 | AJ31: =COUNTIFS([1]Обработка!$E:$E,AI31,[1]Обработка!$C:$C,"sell") -> 2 | AK31: =COUNTIFS([1]Обработка!$E:$E,AI31,[1]Обработка!$C:$C,"buy") -> 3 | AL31: =COUNTIFS([1]Обработка!$E:$E,AI31) -> 5 | AM31: =SUMIFS([1]Обработка!$F:$F,[1]Обработка!$E:$E,AI31,[1]Обработка!$C:$C,"sell") -> 0.86 | AN31: =SUMIFS([1]Обработка!$F:$F,[1]Обработка!$E:$E,AI31,[1]Обработка!$C:$C,"buy") -> 1.29 | AO31: =SUMIFS([1]Обработка!$F:$F,[1]Обработка!$E:$E,AI31) -> 2.15 | AP31: =SUMIFS([1]Обработка!$G:$G,[1]Обработка!$E:$E,AI31,[1]Обработка!$C:$C,"sell") -> 123.79 | AQ31: =SUMIFS([1]Обработка!$G:$G,[1]Обработка!$E:$E,AI31,[1]Обработка!$C:$C,"buy") -> 181.67 | AR31: =SUMIFS([1]Обработка!$G:$G,[1]Обработка!$E:$E,AI31) -> 305.46 | AS31: =ROUND(IF(AJ31>0,AVERAGEIFS([1]Обработка!$G:$G,[1]Обработка!$E:$E,AI31,[1]Обработка!$C:$C,"sell"),0),2) -> 61.9 | AT31: =ROUND(IF(AK31>0,AVERAGEIFS([1]Обработка!$G:$G,[1]Обработка!$E:$E,AI31,[1]Обработка!$C:$C,"buy"),0),2) -> 60.56 | AU31: =ROUND(IF(AL31>0,AVERAGEIFS([1]Обработка!$G:$G,[1]Обработка!$E:$E,AI31),0),2) -> 61.09 | AV31: =IF(AJ31>0,SUMIFS([1]Обработка!$G:$G,[1]Обработка!$E:$E,AI31,[1]Обработка!$C:$C,"sell")/SUMIFS([1]Обработка!$G:$G,[1]Обработка!$B:$B,"t/p"),0) -> 0.01610333 | AW31: =IF(AK31>0,SUMIFS([1]Обработка!$G:$G,[1]Обработка!$E:$E,AI31,[1]Обработка!$C:$C,"buy")/SUMIFS([1]Обработка!$G:$G,[1]Обработка!$B:$B,"t/p"),0) -> 0.0236327 | AX31: =IF(AL31>0,SUMIFS([1]Обработка!$G:$G,[1]Обработка!$E:$E,AI31)/SUMIFS([1]Обработка!$G:$G,[1]Обработка!$B:$B,"t/p"),0) -> 0.03973603 | AY31: =IF(VLOOKUP($AJ$14,[1]Сводная!$AG$4:$AH$38,2,0)=3,SUMIFS([1]Обработка!$P:$P,[1]Обработка!$M:$M,AI31,[1]Обработка!$N:$N,"sell")/100,SUMIFS([1]Обработка!$P:$P,[1]Обработка!$M:$M,AI31,[1]Обработка!$N:$N,"sell")) -> 308.7 | AZ31: =IF(VLOOKUP($AJ$14,[1]Сводная!$AG$4:$AH$38,2,0)=3,SUMIFS([1]Обработка!$P:$P,[1]Обработка!$M:$M,AI31,[1]Обработка!$N:$N,"buy")/100,SUMIFS([1]Обработка!$P:$P,[1]Обработка!$M:$M,AI31,[1]Обработка!$N:$N,"buy")) -> 321.9 | BA31: =IF(VLOOKUP($AJ$14,[1]Сводная!$AG$4:$AH$38,2,0)=3,ROUND(IF(AJ31>0,AVERAGEIFS([1]Обработка!$T:$T,[1]Обработка!$E:$E,AI31,[1]Обработка!$C:$C,"sell"),0),1)/100,ROUND(IF(AJ31>0,AVERAGEIFS([1]Обработка!$T:$T,[1]Обработка!$E:$E,AI31,[1]Обработка!$C:$C,"sell"),0),1)) -> 308.1 | BB31: =IF(VLOOKUP($AJ$14,[1]Сводная!$AG$4:$AH$38,2,0)=3,ROUND(IF(AK31>0,AVERAGEIFS([1]Обработка!$T:$T,[1]Обработка!$E:$E,AI31,[1]Обработка!$C:$C,"buy"),0),1)/100,ROUND(IF(AK31>0,AVERAGEIFS([1]Обработка!$T:$T,[1]Обработка!$E:$E,AI31,[1]Обработка!$C:$C,"buy"),0),1)) -> 316.4 | BC31: =IF(VLOOKUP($AJ$14,[1]Сводная!$AG$4:$AH$38,2,0)=3,ROUND(IF(AL31>0,AVERAGEIFS([1]Обработка!$T:$T,[1]Обработка!$E:$E,AI31),0),1)/100,ROUND(IF(AL31>0,AVERAGEIFS([1]Обработка!$T:$T,[1]Обработка!$E:$E,AI31),0),1)) -> 313.1 | BD31: =IF(VLOOKUP($AJ$14,[1]Сводная!$AG$4:$AH$38,2,0)=3,SUMIFS([1]Обработка!$O:$O,[1]Обработка!$M:$M,AI31,[1]Обработка!$N:$N,"sell")/100,SUMIFS([1]Обработка!$O:$O,[1]Обработка!$M:$M,AI31,[1]Обработка!$N:$N,"sell")) -> 122.2 | BE31: =IF(VLOOKUP($AJ$14,[1]Сводная!$AG$4:$AH$38,2,0)=3,SUMIFS([1]Обработка!$O:$O,[1]Обработка!$M:$M,AI31,[1]Обработка!$N:$N,"buy")/100,SUMIFS([1]Обработка!$O:$O,[1]Обработка!$M:$M,AI31,[1]Обработка!$N:$N,"buy")) -> 138.9 | BF31: =IF(VLOOKUP($AJ$14,[1]Сводная!$AG$4:$AH$38,2,0)=3,ROUND(IF(AJ31>0,AVERAGEIFS([1]Обработка!$U:$U,[1]Обработка!$E:$E,AI31,[1]Обработка!$C:$C,"sell"),0),1)/100,ROUND(IF(AJ31>0,AVERAGEIFS([1]Обработка!$U:$U,[1]Обработка!$E:$E,AI31,[1]Обработка!$C:$C,"sell"),0),1)) -> 120.1 | BG31: =IF(VLOOKUP($AJ$14,[1]Сводная!$AG$4:$AH$38,2,0)=3,ROUND(IF(AK31>0,AVERAGEIFS([1]Обработка!$U:$U,[1]Обработка!$E:$E,AI31,[1]Обработка!$C:$C,"buy"),0),1)/100,ROUND(IF(AK31>0,AVERAGEIFS([1]Обработка!$U:$U,[1]Обработка!$E:$E,AI31,[1]Обработка!$C:$C,"buy"),0),1)) -> 137.1 | BH31: =IF(VLOOKUP($AJ$14,[1]Сводная!$AG$4:$AH$38,2,0)=3,ROUND(IF(AL31>0,AVERAGEIFS([1]Обработка!$U:$U,[1]Обработка!$E:$E,AI31),0),1)/100,ROUND(IF(AL31>0,AVERAGEIFS([1]Обработка!$U:$U,[1]Обработка!$E:$E,AI31),0),1)) -> 130.3 | BI31: =SUMIFS([1]Обработка!$Q:$Q,[1]Обработка!$M:$M,AI31,[1]Обработка!$N:$N,"sell") -> 21.010417 | BJ31: =SUMIFS([1]Обработка!$Q:$Q,[1]Обработка!$M:$M,AI31,[1]Обработка!$N:$N,"buy") -> 22.420833 | BK31: =IF(AJ31>0,AVERAGEIFS([1]Обработка!$S:$S,[1]Обработка!$E:$E,AI31,[1]Обработка!$C:$C,"sell"),0) -> 17.811111 | BL31: =IF(AK31>0,AVERAGEIFS([1]Обработка!$S:$S,[1]Обработка!$E:$E,AI31,[1]Обработка!$C:$C,"buy"),0) -> 20.940278 | BM31: =IF(AL31>0,AVERAGEIFS([1]Обработка!$S:$S,[1]Обработка!$E:$E,AI31),0) -> 19.688611
A32: 13 | B32: =IF(AND($A32>=C$12,C$12>0),0,IF(AND($A32>=C$9,C$9>0),C$10,IF(AND($A32>=C$6,C$6>0),C$7,0))) -> 0 | C32: =IF(AND($A32>=C$12,C$12>0),C$13,C31+B32) -> 14 | E32: =IF(OR($A32<2,AND(G$15>0,$A32>G$15)),0,IF(AND($A32>=G$12,G$12>0),G$13,IF(AND($A32>=G$9,G$9>0),G$10,IF(AND($A32>=G$6,G$6>0),G$7,0)))) -> 4 | F32: =F31+E32 -> 46 | G32: =G31+F32 -> 353 | I32: =IF(($A32<K$4),1,IF(AND($A32>K$15,K$15>0),I31,IF(AND($A32>=K$12,K$12>0),ROUND(I31+K$13,4),IF(AND($A32>=K$9,K$9>0),ROUND(I31+K$10,4),IF(AND($A32>=K$6,K$6>0),ROUND(I31+K$7,4),K$3))))) -> 1.25 | J32: =IF($A32<K$4, K$2, IF(K$1=0,IF(K$16>0,IF(K$2*K$16<ROUND(J31*I32, 3),K$2*K$16,ROUND(J31*I32, 3)),ROUND(J31*I32, 3)),IF(K$16>0,IF(K$2*K$16<ROUND(K$2*I32, 3),K$2*K$16,ROUND(K$2*I32, 3)),ROUND(K$2*I32, 3)))) -> 0.119 | K32: =K31+ROUND(J32,3) -> 0.564 | M32: =ROUND(C32*O32-K32*$O$6,2) -> 78.4 | N32: =IF($O$10>0,M32/$O$10,0) -> 0.028 | O32: =ROUND(ROUND(K32,2)*$O$4,2) -> 5.6 | P32: =ROUND((ROUND(K31,2)*(G32-G31)*$O$4+P31+J32*$O$6),2) -> 690 | Q32: =P32/$O$10 -> 0.24642857 | R32: =ROUND(P32/O32,0) -> 123 | S32: =ROUND(R32/G32,2) -> 0.35 | T32: =R32+C32 -> 137 | U32: =ROUND(T32/G32,2) -> 0.39 | W32: =ROUND(K32*$O$7,2) -> 137.62 | X32: =ROUND(P32+W32,2) -> 827.62 | Z32: =IF($O$10>0,ROUND($O$10-X32,2),0) -> 1972.38 | AA32: =IF($O$10>0,ROUND(X32/$O$10,2),0) -> 0.3 | AB32: =IF(AND(Z32>0,$O$4>0),($O$10-P32-W32*$O$8)/O32,0) -> 362.04071 | AC32: =IF(AB32>0,AB32+G32,0) -> 715.04071 | AD32: 13 | AF32: =IF(P32>0,ROUND(W32/P32,2),0) -> 0.2 | AG32: =IF($O$10>0,ROUND(W32/$O$10,2),0) -> 0.05 | AI32: 13 | AJ32: =COUNTIFS([1]Обработка!$E:$E,AI32,[1]Обработка!$C:$C,"sell") -> 0 | AK32: =COUNTIFS([1]Обработка!$E:$E,AI32,[1]Обработка!$C:$C,"buy") -> 0 | AL32: =COUNTIFS([1]Обработка!$E:$E,AI32) -> 0 | AM32: =SUMIFS([1]Обработка!$F:$F,[1]Обработка!$E:$E,AI32,[1]Обработка!$C:$C,"sell") -> 0 | AN32: =SUMIFS([1]Обработка!$F:$F,[1]Обработка!$E:$E,AI32,[1]Обработка!$C:$C,"buy") -> 0 | AO32: =SUMIFS([1]Обработка!$F:$F,[1]Обработка!$E:$E,AI32) -> 0 | AP32: =SUMIFS([1]Обработка!$G:$G,[1]Обработка!$E:$E,AI32,[1]Обработка!$C:$C,"sell") -> 0 | AQ32: =SUMIFS([1]Обработка!$G:$G,[1]Обработка!$E:$E,AI32,[1]Обработка!$C:$C,"buy") -> 0 | AR32: =SUMIFS([1]Обработка!$G:$G,[1]Обработка!$E:$E,AI32) -> 0 | AS32: =ROUND(IF(AJ32>0,AVERAGEIFS([1]Обработка!$G:$G,[1]Обработка!$E:$E,AI32,[1]Обработка!$C:$C,"sell"),0),2) -> 0 | AT32: =ROUND(IF(AK32>0,AVERAGEIFS([1]Обработка!$G:$G,[1]Обработка!$E:$E,AI32,[1]Обработка!$C:$C,"buy"),0),2) -> 0 | AU32: =ROUND(IF(AL32>0,AVERAGEIFS([1]Обработка!$G:$G,[1]Обработка!$E:$E,AI32),0),2) -> 0 | AV32: =IF(AJ32>0,SUMIFS([1]Обработка!$G:$G,[1]Обработка!$E:$E,AI32,[1]Обработка!$C:$C,"sell")/SUMIFS([1]Обработка!$G:$G,[1]Обработка!$B:$B,"t/p"),0) -> 0 | AW32: =IF(AK32>0,SUMIFS([1]Обработка!$G:$G,[1]Обработка!$E:$E,AI32,[1]Обработка!$C:$C,"buy")/SUMIFS([1]Обработка!$G:$G,[1]Обработка!$B:$B,"t/p"),0) -> 0 | AX32: =IF(AL32>0,SUMIFS([1]Обработка!$G:$G,[1]Обработка!$E:$E,AI32)/SUMIFS([1]Обработка!$G:$G,[1]Обработка!$B:$B,"t/p"),0) -> 0 | AY32: =IF(VLOOKUP($AJ$14,[1]Сводная!$AG$4:$AH$38,2,0)=3,SUMIFS([1]Обработка!$P:$P,[1]Обработка!$M:$M,AI32,[1]Обработка!$N:$N,"sell")/100,SUMIFS([1]Обработка!$P:$P,[1]Обработка!$M:$M,AI32,[1]Обработка!$N:$N,"sell")) -> 0 | AZ32: =IF(VLOOKUP($AJ$14,[1]Сводная!$AG$4:$AH$38,2,0)=3,SUMIFS([1]Обработка!$P:$P,[1]Обработка!$M:$M,AI32,[1]Обработка!$N:$N,"buy")/100,SUMIFS([1]Обработка!$P:$P,[1]Обработка!$M:$M,AI32,[1]Обработка!$N:$N,"buy")) -> 0 | BA32: =IF(VLOOKUP($AJ$14,[1]Сводная!$AG$4:$AH$38,2,0)=3,ROUND(IF(AJ32>0,AVERAGEIFS([1]Обработка!$T:$T,[1]Обработка!$E:$E,AI32,[1]Обработка!$C:$C,"sell"),0),1)/100,ROUND(IF(AJ32>0,AVERAGEIFS([1]Обработка!$T:$T,[1]Обработка!$E:$E,AI32,[1]Обработка!$C:$C,"sell"),0),1)) -> 0 | BB32: =IF(VLOOKUP($AJ$14,[1]Сводная!$AG$4:$AH$38,2,0)=3,ROUND(IF(AK32>0,AVERAGEIFS([1]Обработка!$T:$T,[1]Обработка!$E:$E,AI32,[1]Обработка!$C:$C,"buy"),0),1)/100,ROUND(IF(AK32>0,AVERAGEIFS([1]Обработка!$T:$T,[1]Обработка!$E:$E,AI32,[1]Обработка!$C:$C,"buy"),0),1)) -> 0 | BC32: =IF(VLOOKUP($AJ$14,[1]Сводная!$AG$4:$AH$38,2,0)=3,ROUND(IF(AL32>0,AVERAGEIFS([1]Обработка!$T:$T,[1]Обработка!$E:$E,AI32),0),1)/100,ROUND(IF(AL32>0,AVERAGEIFS([1]Обработка!$T:$T,[1]Обработка!$E:$E,AI32),0),1)) -> 0 | BD32: =IF(VLOOKUP($AJ$14,[1]Сводная!$AG$4:$AH$38,2,0)=3,SUMIFS([1]Обработка!$O:$O,[1]Обработка!$M:$M,AI32,[1]Обработка!$N:$N,"sell")/100,SUMIFS([1]Обработка!$O:$O,[1]Обработка!$M:$M,AI32,[1]Обработка!$N:$N,"sell")) -> 0 | BE32: =IF(VLOOKUP($AJ$14,[1]Сводная!$AG$4:$AH$38,2,0)=3,SUMIFS([1]Обработка!$O:$O,[1]Обработка!$M:$M,AI32,[1]Обработка!$N:$N,"buy")/100,SUMIFS([1]Обработка!$O:$O,[1]Обработка!$M:$M,AI32,[1]Обработка!$N:$N,"buy")) -> 0 | BF32: =IF(VLOOKUP($AJ$14,[1]Сводная!$AG$4:$AH$38,2,0)=3,ROUND(IF(AJ32>0,AVERAGEIFS([1]Обработка!$U:$U,[1]Обработка!$E:$E,AI32,[1]Обработка!$C:$C,"sell"),0),1)/100,ROUND(IF(AJ32>0,AVERAGEIFS([1]Обработка!$U:$U,[1]Обработка!$E:$E,AI32,[1]Обработка!$C:$C,"sell"),0),1)) -> 0 | BG32: =IF(VLOOKUP($AJ$14,[1]Сводная!$AG$4:$AH$38,2,0)=3,ROUND(IF(AK32>0,AVERAGEIFS([1]Обработка!$U:$U,[1]Обработка!$E:$E,AI32,[1]Обработка!$C:$C,"buy"),0),1)/100,ROUND(IF(AK32>0,AVERAGEIFS([1]Обработка!$U:$U,[1]Обработка!$E:$E,AI32,[1]Обработка!$C:$C,"buy"),0),1)) -> 0 | BH32: =IF(VLOOKUP($AJ$14,[1]Сводная!$AG$4:$AH$38,2,0)=3,ROUND(IF(AL32>0,AVERAGEIFS([1]Обработка!$U:$U,[1]Обработка!$E:$E,AI32),0),1)/100,ROUND(IF(AL32>0,AVERAGEIFS([1]Обработка!$U:$U,[1]Обработка!$E:$E,AI32),0),1)) -> 0 | BI32: =SUMIFS([1]Обработка!$Q:$Q,[1]Обработка!$M:$M,AI32,[1]Обработка!$N:$N,"sell") -> 0 | BJ32: =SUMIFS([1]Обработка!$Q:$Q,[1]Обработка!$M:$M,AI32,[1]Обработка!$N:$N,"buy") -> 0 | BK32: =IF(AJ32>0,AVERAGEIFS([1]Обработка!$S:$S,[1]Обработка!$E:$E,AI32,[1]Обработка!$C:$C,"sell"),0) -> 0 | BL32: =IF(AK32>0,AVERAGEIFS([1]Обработка!$S:$S,[1]Обработка!$E:$E,AI32,[1]Обработка!$C:$C,"buy"),0) -> 0 | BM32: =IF(AL32>0,AVERAGEIFS([1]Обработка!$S:$S,[1]Обработка!$E:$E,AI32),0) -> 0
A33: 14 | B33: =IF(AND($A33>=C$12,C$12>0),0,IF(AND($A33>=C$9,C$9>0),C$10,IF(AND($A33>=C$6,C$6>0),C$7,0))) -> 0 | C33: =IF(AND($A33>=C$12,C$12>0),C$13,C32+B33) -> 14 | E33: =IF(OR($A33<2,AND(G$15>0,$A33>G$15)),0,IF(AND($A33>=G$12,G$12>0),G$13,IF(AND($A33>=G$9,G$9>0),G$10,IF(AND($A33>=G$6,G$6>0),G$7,0)))) -> 4 | F33: =F32+E33 -> 50 | G33: =G32+F33 -> 403 | I33: =IF(($A33<K$4),1,IF(AND($A33>K$15,K$15>0),I32,IF(AND($A33>=K$12,K$12>0),ROUND(I32+K$13,4),IF(AND($A33>=K$9,K$9>0),ROUND(I32+K$10,4),IF(AND($A33>=K$6,K$6>0),ROUND(I32+K$7,4),K$3))))) -> 1.25 | J33: =IF($A33<K$4, K$2, IF(K$1=0,IF(K$16>0,IF(K$2*K$16<ROUND(J32*I33, 3),K$2*K$16,ROUND(J32*I33, 3)),ROUND(J32*I33, 3)),IF(K$16>0,IF(K$2*K$16<ROUND(K$2*I33, 3),K$2*K$16,ROUND(K$2*I33, 3)),ROUND(K$2*I33, 3)))) -> 0.149 | K33: =K32+ROUND(J33,3) -> 0.713 | M33: =ROUND(C33*O33-K33*$O$6,2) -> 99.4 | N33: =IF($O$10>0,M33/$O$10,0) -> 0.0355 | O33: =ROUND(ROUND(K33,2)*$O$4,2) -> 7.1 | P33: =ROUND((ROUND(K32,2)*(G33-G32)*$O$4+P32+J33*$O$6),2) -> 970 | Q33: =P33/$O$10 -> 0.34642857 | R33: =ROUND(P33/O33,0) -> 137 | S33: =ROUND(R33/G33,2) -> 0.34 | T33: =R33+C33 -> 151 | U33: =ROUND(T33/G33,2) -> 0.37 | W33: =ROUND(K33*$O$7,2) -> 173.97 | X33: =ROUND(P33+W33,2) -> 1143.97 | Z33: =IF($O$10>0,ROUND($O$10-X33,2),0) -> 1656.03 | AA33: =IF($O$10>0,ROUND(X33/$O$10,2),0) -> 0.41 | AB33: =IF(AND(Z33>0,$O$4>0),($O$10-P33-W33*$O$8)/O33,0) -> 243.04479 | AC33: =IF(AB33>0,AB33+G33,0) -> 646.04479 | AD33: 14 | AF33: =IF(P33>0,ROUND(W33/P33,2),0) -> 0.18 | AG33: =IF($O$10>0,ROUND(W33/$O$10,2),0) -> 0.06 | AI33: 14 | AJ33: =COUNTIFS([1]Обработка!$E:$E,AI33,[1]Обработка!$C:$C,"sell") -> 2 | AK33: =COUNTIFS([1]Обработка!$E:$E,AI33,[1]Обработка!$C:$C,"buy") -> 0 | AL33: =COUNTIFS([1]Обработка!$E:$E,AI33) -> 2 | AM33: =SUMIFS([1]Обработка!$F:$F,[1]Обработка!$E:$E,AI33,[1]Обработка!$C:$C,"sell") -> 1.4 | AN33: =SUMIFS([1]Обработка!$F:$F,[1]Обработка!$E:$E,AI33,[1]Обработка!$C:$C,"buy") -> 0 | AO33: =SUMIFS([1]Обработка!$F:$F,[1]Обработка!$E:$E,AI33) -> 1.4 | AP33: =SUMIFS([1]Обработка!$G:$G,[1]Обработка!$E:$E,AI33,[1]Обработка!$C:$C,"sell") -> 196.95 | AQ33: =SUMIFS([1]Обработка!$G:$G,[1]Обработка!$E:$E,AI33,[1]Обработка!$C:$C,"buy") -> 0 | AR33: =SUMIFS([1]Обработка!$G:$G,[1]Обработка!$E:$E,AI33) -> 196.95 | AS33: =ROUND(IF(AJ33>0,AVERAGEIFS([1]Обработка!$G:$G,[1]Обработка!$E:$E,AI33,[1]Обработка!$C:$C,"sell"),0),2) -> 98.48 | AT33: =ROUND(IF(AK33>0,AVERAGEIFS([1]Обработка!$G:$G,[1]Обработка!$E:$E,AI33,[1]Обработка!$C:$C,"buy"),0),2) -> 0 | AU33: =ROUND(IF(AL33>0,AVERAGEIFS([1]Обработка!$G:$G,[1]Обработка!$E:$E,AI33),0),2) -> 98.48 | AV33: =IF(AJ33>0,SUMIFS([1]Обработка!$G:$G,[1]Обработка!$E:$E,AI33,[1]Обработка!$C:$C,"sell")/SUMIFS([1]Обработка!$G:$G,[1]Обработка!$B:$B,"t/p"),0) -> 0.025620412 | AW33: =IF(AK33>0,SUMIFS([1]Обработка!$G:$G,[1]Обработка!$E:$E,AI33,[1]Обработка!$C:$C,"buy")/SUMIFS([1]Обработка!$G:$G,[1]Обработка!$B:$B,"t/p"),0) -> 0 | AX33: =IF(AL33>0,SUMIFS([1]Обработка!$G:$G,[1]Обработка!$E:$E,AI33)/SUMIFS([1]Обработка!$G:$G,[1]Обработка!$B:$B,"t/p"),0) -> 0.025620412 | AY33: =IF(VLOOKUP($AJ$14,[1]Сводная!$AG$4:$AH$38,2,0)=3,SUMIFS([1]Обработка!$P:$P,[1]Обработка!$M:$M,AI33,[1]Обработка!$N:$N,"sell")/100,SUMIFS([1]Обработка!$P:$P,[1]Обработка!$M:$M,AI33,[1]Обработка!$N:$N,"sell")) -> 405.4 | AZ33: =IF(VLOOKUP($AJ$14,[1]Сводная!$AG$4:$AH$38,2,0)=3,SUMIFS([1]Обработка!$P:$P,[1]Обработка!$M:$M,AI33,[1]Обработка!$N:$N,"buy")/100,SUMIFS([1]Обработка!$P:$P,[1]Обработка!$M:$M,AI33,[1]Обработка!$N:$N,"buy")) -> 0 | BA33: =IF(VLOOKUP($AJ$14,[1]Сводная!$AG$4:$AH$38,2,0)=3,ROUND(IF(AJ33>0,AVERAGEIFS([1]Обработка!$T:$T,[1]Обработка!$E:$E,AI33,[1]Обработка!$C:$C,"sell"),0),1)/100,ROUND(IF(AJ33>0,AVERAGEIFS([1]Обработка!$T:$T,[1]Обработка!$E:$E,AI33,[1]Обработка!$C:$C,"sell"),0),1)) -> 405.4 | BB33: =IF(VLOOKUP($AJ$14,[1]Сводная!$AG$4:$AH$38,2,0)=3,ROUND(IF(AK33>0,AVERAGEIFS([1]Обработка!$T:$T,[1]Обработка!$E:$E,AI33,[1]Обработка!$C:$C,"buy"),0),1)/100,ROUND(IF(AK33>0,AVERAGEIFS([1]Обработка!$T:$T,[1]Обработка!$E:$E,AI33,[1]Обработка!$C:$C,"buy"),0),1)) -> 0 | BC33: =IF(VLOOKUP($AJ$14,[1]Сводная!$AG$4:$AH$38,2,0)=3,ROUND(IF(AL33>0,AVERAGEIFS([1]Обработка!$T:$T,[1]Обработка!$E:$E,AI33),0),1)/100,ROUND(IF(AL33>0,AVERAGEIFS([1]Обработка!$T:$T,[1]Обработка!$E:$E,AI33),0),1)) -> 405.4 | BD33: =IF(VLOOKUP($AJ$14,[1]Сводная!$AG$4:$AH$38,2,0)=3,SUMIFS([1]Обработка!$O:$O,[1]Обработка!$M:$M,AI33,[1]Обработка!$N:$N,"sell")/100,SUMIFS([1]Обработка!$O:$O,[1]Обработка!$M:$M,AI33,[1]Обработка!$N:$N,"sell")) -> 146.2 | BE33: =IF(VLOOKUP($AJ$14,[1]Сводная!$AG$4:$AH$38,2,0)=3,SUMIFS([1]Обработка!$O:$O,[1]Обработка!$M:$M,AI33,[1]Обработка!$N:$N,"buy")/100,SUMIFS([1]Обработка!$O:$O,[1]Обработка!$M:$M,AI33,[1]Обработка!$N:$N,"buy")) -> 0 | BF33: =IF(VLOOKUP($AJ$14,[1]Сводная!$AG$4:$AH$38,2,0)=3,ROUND(IF(AJ33>0,AVERAGEIFS([1]Обработка!$U:$U,[1]Обработка!$E:$E,AI33,[1]Обработка!$C:$C,"sell"),0),1)/100,ROUND(IF(AJ33>0,AVERAGEIFS([1]Обработка!$U:$U,[1]Обработка!$E:$E,AI33,[1]Обработка!$C:$C,"sell"),0),1)) -> 144.7 | BG33: =IF(VLOOKUP($AJ$14,[1]Сводная!$AG$4:$AH$38,2,0)=3,ROUND(IF(AK33>0,AVERAGEIFS([1]Обработка!$U:$U,[1]Обработка!$E:$E,AI33,[1]Обработка!$C:$C,"buy"),0),1)/100,ROUND(IF(AK33>0,AVERAGEIFS([1]Обработка!$U:$U,[1]Обработка!$E:$E,AI33,[1]Обработка!$C:$C,"buy"),0),1)) -> 0 | BH33: =IF(VLOOKUP($AJ$14,[1]Сводная!$AG$4:$AH$38,2,0)=3,ROUND(IF(AL33>0,AVERAGEIFS([1]Обработка!$U:$U,[1]Обработка!$E:$E,AI33),0),1)/100,ROUND(IF(AL33>0,AVERAGEIFS([1]Обработка!$U:$U,[1]Обработка!$E:$E,AI33),0),1)) -> 144.7 | BI33: =SUMIFS([1]Обработка!$Q:$Q,[1]Обработка!$M:$M,AI33,[1]Обработка!$N:$N,"sell") -> 18.749306 | BJ33: =SUMIFS([1]Обработка!$Q:$Q,[1]Обработка!$M:$M,AI33,[1]Обработка!$N:$N,"buy") -> 0 | BK33: =IF(AJ33>0,AVERAGEIFS([1]Обработка!$S:$S,[1]Обработка!$E:$E,AI33,[1]Обработка!$C:$C,"sell"),0) -> 16.927431 | BL33: =IF(AK33>0,AVERAGEIFS([1]Обработка!$S:$S,[1]Обработка!$E:$E,AI33,[1]Обработка!$C:$C,"buy"),0) -> 0 | BM33: =IF(AL33>0,AVERAGEIFS([1]Обработка!$S:$S,[1]Обработка!$E:$E,AI33),0) -> 16.927431
A34: 15 | B34: =IF(AND($A34>=C$12,C$12>0),0,IF(AND($A34>=C$9,C$9>0),C$10,IF(AND($A34>=C$6,C$6>0),C$7,0))) -> 0 | C34: =IF(AND($A34>=C$12,C$12>0),C$13,C33+B34) -> 14 | E34: =IF(OR($A34<2,AND(G$15>0,$A34>G$15)),0,IF(AND($A34>=G$12,G$12>0),G$13,IF(AND($A34>=G$9,G$9>0),G$10,IF(AND($A34>=G$6,G$6>0),G$7,0)))) -> 4 | F34: =F33+E34 -> 54 | G34: =G33+F34 -> 457 | I34: =IF(($A34<K$4),1,IF(AND($A34>K$15,K$15>0),I33,IF(AND($A34>=K$12,K$12>0),ROUND(I33+K$13,4),IF(AND($A34>=K$9,K$9>0),ROUND(I33+K$10,4),IF(AND($A34>=K$6,K$6>0),ROUND(I33+K$7,4),K$3))))) -> 1.25 | J34: =IF($A34<K$4, K$2, IF(K$1=0,IF(K$16>0,IF(K$2*K$16<ROUND(J33*I34, 3),K$2*K$16,ROUND(J33*I34, 3)),ROUND(J33*I34, 3)),IF(K$16>0,IF(K$2*K$16<ROUND(K$2*I34, 3),K$2*K$16,ROUND(K$2*I34, 3)),ROUND(K$2*I34, 3)))) -> 0.186 | K34: =K33+ROUND(J34,3) -> 0.899 | M34: =ROUND(C34*O34-K34*$O$6,2) -> 126 | N34: =IF($O$10>0,M34/$O$10,0) -> 0.045 | O34: =ROUND(ROUND(K34,2)*$O$4,2) -> 9 | P34: =ROUND((ROUND(K33,2)*(G34-G33)*$O$4+P33+J34*$O$6),2) -> 1353.4 | Q34: =P34/$O$10 -> 0.48335714 | R34: =ROUND(P34/O34,0) -> 150 | S34: =ROUND(R34/G34,2) -> 0.33 | T34: =R34+C34 -> 164 | U34: =ROUND(T34/G34,2) -> 0.36 | W34: =ROUND(K34*$O$7,2) -> 219.36 | X34: =ROUND(P34+W34,2) -> 1572.76 | Z34: =IF($O$10>0,ROUND($O$10-X34,2),0) -> 1227.24 | AA34: =IF($O$10>0,ROUND(X34/$O$10,2),0) -> 0.56 | AB34: =IF(AND(Z34>0,$O$4>0),($O$10-P34-W34*$O$8)/O34,0) -> 146.10933 | AC34: =IF(AB34>0,AB34+G34,0) -> 603.10933 | AD34: 15 | AF34: =IF(P34>0,ROUND(W34/P34,2),0) -> 0.16 | AG34: =IF($O$10>0,ROUND(W34/$O$10,2),0) -> 0.08 | AI34: 15 | AJ34: =COUNTIFS([1]Обработка!$E:$E,AI34,[1]Обработка!$C:$C,"sell") -> 0 | AK34: =COUNTIFS([1]Обработка!$E:$E,AI34,[1]Обработка!$C:$C,"buy") -> 1 | AL34: =COUNTIFS([1]Обработка!$E:$E,AI34) -> 1 | AM34: =SUMIFS([1]Обработка!$F:$F,[1]Обработка!$E:$E,AI34,[1]Обработка!$C:$C,"sell") -> 0 | AN34: =SUMIFS([1]Обработка!$F:$F,[1]Обработка!$E:$E,AI34,[1]Обработка!$C:$C,"buy") -> 0.88 | AO34: =SUMIFS([1]Обработка!$F:$F,[1]Обработка!$E:$E,AI34) -> 0.88 | AP34: =SUMIFS([1]Обработка!$G:$G,[1]Обработка!$E:$E,AI34,[1]Обработка!$C:$C,"sell") -> 0 | AQ34: =SUMIFS([1]Обработка!$G:$G,[1]Обработка!$E:$E,AI34,[1]Обработка!$C:$C,"buy") -> 123.18 | AR34: =SUMIFS([1]Обработка!$G:$G,[1]Обработка!$E:$E,AI34) -> 123.18 | AS34: =ROUND(IF(AJ34>0,AVERAGEIFS([1]Обработка!$G:$G,[1]Обработка!$E:$E,AI34,[1]Обработка!$C:$C,"sell"),0),2) -> 0 | AT34: =ROUND(IF(AK34>0,AVERAGEIFS([1]Обработка!$G:$G,[1]Обработка!$E:$E,AI34,[1]Обработка!$C:$C,"buy"),0),2) -> 123.18 | AU34: =ROUND(IF(AL34>0,AVERAGEIFS([1]Обработка!$G:$G,[1]Обработка!$E:$E,AI34),0),2) -> 123.18 | AV34: =IF(AJ34>0,SUMIFS([1]Обработка!$G:$G,[1]Обработка!$E:$E,AI34,[1]Обработка!$C:$C,"sell")/SUMIFS([1]Обработка!$G:$G,[1]Обработка!$B:$B,"t/p"),0) -> 0 | AW34: =IF(AK34>0,SUMIFS([1]Обработка!$G:$G,[1]Обработка!$E:$E,AI34,[1]Обработка!$C:$C,"buy")/SUMIFS([1]Обработка!$G:$G,[1]Обработка!$B:$B,"t/p"),0) -> 0.016023977 | AX34: =IF(AL34>0,SUMIFS([1]Обработка!$G:$G,[1]Обработка!$E:$E,AI34)/SUMIFS([1]Обработка!$G:$G,[1]Обработка!$B:$B,"t/p"),0) -> 0.016023977 | AY34: =IF(VLOOKUP($AJ$14,[1]Сводная!$AG$4:$AH$38,2,0)=3,SUMIFS([1]Обработка!$P:$P,[1]Обработка!$M:$M,AI34,[1]Обработка!$N:$N,"sell")/100,SUMIFS([1]Обработка!$P:$P,[1]Обработка!$M:$M,AI34,[1]Обработка!$N:$N,"sell")) -> 0 | AZ34: =IF(VLOOKUP($AJ$14,[1]Сводная!$AG$4:$AH$38,2,0)=3,SUMIFS([1]Обработка!$P:$P,[1]Обработка!$M:$M,AI34,[1]Обработка!$N:$N,"buy")/100,SUMIFS([1]Обработка!$P:$P,[1]Обработка!$M:$M,AI34,[1]Обработка!$N:$N,"buy")) -> 460.1 | BA34: =IF(VLOOKUP($AJ$14,[1]Сводная!$AG$4:$AH$38,2,0)=3,ROUND(IF(AJ34>0,AVERAGEIFS([1]Обработка!$T:$T,[1]Обработка!$E:$E,AI34,[1]Обработка!$C:$C,"sell"),0),1)/100,ROUND(IF(AJ34>0,AVERAGEIFS([1]Обработка!$T:$T,[1]Обработка!$E:$E,AI34,[1]Обработка!$C:$C,"sell"),0),1)) -> 0 | BB34: =IF(VLOOKUP($AJ$14,[1]Сводная!$AG$4:$AH$38,2,0)=3,ROUND(IF(AK34>0,AVERAGEIFS([1]Обработка!$T:$T,[1]Обработка!$E:$E,AI34,[1]Обработка!$C:$C,"buy"),0),1)/100,ROUND(IF(AK34>0,AVERAGEIFS([1]Обработка!$T:$T,[1]Обработка!$E:$E,AI34,[1]Обработка!$C:$C,"buy"),0),1)) -> 460.1 | BC34: =IF(VLOOKUP($AJ$14,[1]Сводная!$AG$4:$AH$38,2,0)=3,ROUND(IF(AL34>0,AVERAGEIFS([1]Обработка!$T:$T,[1]Обработка!$E:$E,AI34),0),1)/100,ROUND(IF(AL34>0,AVERAGEIFS([1]Обработка!$T:$T,[1]Обработка!$E:$E,AI34),0),1)) -> 460.1 | BD34: =IF(VLOOKUP($AJ$14,[1]Сводная!$AG$4:$AH$38,2,0)=3,SUMIFS([1]Обработка!$O:$O,[1]Обработка!$M:$M,AI34,[1]Обработка!$N:$N,"sell")/100,SUMIFS([1]Обработка!$O:$O,[1]Обработка!$M:$M,AI34,[1]Обработка!$N:$N,"sell")) -> 0 | BE34: =IF(VLOOKUP($AJ$14,[1]Сводная!$AG$4:$AH$38,2,0)=3,SUMIFS([1]Обработка!$O:$O,[1]Обработка!$M:$M,AI34,[1]Обработка!$N:$N,"buy")/100,SUMIFS([1]Обработка!$O:$O,[1]Обработка!$M:$M,AI34,[1]Обработка!$N:$N,"buy")) -> 180.7 | BF34: =IF(VLOOKUP($AJ$14,[1]Сводная!$AG$4:$AH$38,2,0)=3,ROUND(IF(AJ34>0,AVERAGEIFS([1]Обработка!$U:$U,[1]Обработка!$E:$E,AI34,[1]Обработка!$C:$C,"sell"),0),1)/100,ROUND(IF(AJ34>0,AVERAGEIFS([1]Обработка!$U:$U,[1]Обработка!$E:$E,AI34,[1]Обработка!$C:$C,"sell"),0),1)) -> 0 | BG34: =IF(VLOOKUP($AJ$14,[1]Сводная!$AG$4:$AH$38,2,0)=3,ROUND(IF(AK34>0,AVERAGEIFS([1]Обработка!$U:$U,[1]Обработка!$E:$E,AI34,[1]Обработка!$C:$C,"buy"),0),1)/100,ROUND(IF(AK34>0,AVERAGEIFS([1]Обработка!$U:$U,[1]Обработка!$E:$E,AI34,[1]Обработка!$C:$C,"buy"),0),1)) -> 180.7 | BH34: =IF(VLOOKUP($AJ$14,[1]Сводная!$AG$4:$AH$38,2,0)=3,ROUND(IF(AL34>0,AVERAGEIFS([1]Обработка!$U:$U,[1]Обработка!$E:$E,AI34),0),1)/100,ROUND(IF(AL34>0,AVERAGEIFS([1]Обработка!$U:$U,[1]Обработка!$E:$E,AI34),0),1)) -> 180.7 | BI34: =SUMIFS([1]Обработка!$Q:$Q,[1]Обработка!$M:$M,AI34,[1]Обработка!$N:$N,"sell") -> 0 | BJ34: =SUMIFS([1]Обработка!$Q:$Q,[1]Обработка!$M:$M,AI34,[1]Обработка!$N:$N,"buy") -> 31.209028 | BK34: =IF(AJ34>0,AVERAGEIFS([1]Обработка!$S:$S,[1]Обработка!$E:$E,AI34,[1]Обработка!$C:$C,"sell"),0) -> 0 | BL34: =IF(AK34>0,AVERAGEIFS([1]Обработка!$S:$S,[1]Обработка!$E:$E,AI34,[1]Обработка!$C:$C,"buy"),0) -> 31.209028 | BM34: =IF(AL34>0,AVERAGEIFS([1]Обработка!$S:$S,[1]Обработка!$E:$E,AI34),0) -> 31.209028
A35: 16 | B35: =IF(AND($A35>=C$12,C$12>0),0,IF(AND($A35>=C$9,C$9>0),C$10,IF(AND($A35>=C$6,C$6>0),C$7,0))) -> 0 | C35: =IF(AND($A35>=C$12,C$12>0),C$13,C34+B35) -> 14 | E35: =IF(OR($A35<2,AND(G$15>0,$A35>G$15)),0,IF(AND($A35>=G$12,G$12>0),G$13,IF(AND($A35>=G$9,G$9>0),G$10,IF(AND($A35>=G$6,G$6>0),G$7,0)))) -> 0 | F35: =F34+E35 -> 54 | G35: =G34+F35 -> 511 | I35: =IF(($A35<K$4),1,IF(AND($A35>K$15,K$15>0),I34,IF(AND($A35>=K$12,K$12>0),ROUND(I34+K$13,4),IF(AND($A35>=K$9,K$9>0),ROUND(I34+K$10,4),IF(AND($A35>=K$6,K$6>0),ROUND(I34+K$7,4),K$3))))) -> 1.25 | J35: =IF($A35<K$4, K$2, IF(K$1=0,IF(K$16>0,IF(K$2*K$16<ROUND(J34*I35, 3),K$2*K$16,ROUND(J34*I35, 3)),ROUND(J34*I35, 3)),IF(K$16>0,IF(K$2*K$16<ROUND(K$2*I35, 3),K$2*K$16,ROUND(K$2*I35, 3)),ROUND(K$2*I35, 3)))) -> 0.233 | K35: =K34+ROUND(J35,3) -> 1.132 | M35: =ROUND(C35*O35-K35*$O$6,2) -> 158.2 | N35: =IF($O$10>0,M35/$O$10,0) -> 0.0565 | O35: =ROUND(ROUND(K35,2)*$O$4,2) -> 11.3 | P35: =ROUND((ROUND(K34,2)*(G35-G34)*$O$4+P34+J35*$O$6),2) -> 1839.4 | Q35: =P35/$O$10 -> 0.65692857 | R35: =ROUND(P35/O35,0) -> 163 | S35: =ROUND(R35/G35,2) -> 0.32 | T35: =R35+C35 -> 177 | U35: =ROUND(T35/G35,2) -> 0.35 | W35: =ROUND(K35*$O$7,2) -> 276.21 | X35: =ROUND(P35+W35,2) -> 2115.61 | Z35: =IF($O$10>0,ROUND($O$10-X35,2),0) -> 684.39 | AA35: =IF($O$10>0,ROUND(X35/$O$10,2),0) -> 0.76 | AB35: =IF(AND(Z35>0,$O$4>0),($O$10-P35-W35*$O$8)/O35,0) -> 70.342832 | AC35: =IF(AB35>0,AB35+G35,0) -> 581.34283 | AD35: 16 | AF35: =IF(P35>0,ROUND(W35/P35,2),0) -> 0.15 | AG35: =IF($O$10>0,ROUND(W35/$O$10,2),0) -> 0.1 | AI35: 16 | AJ35: =COUNTIFS([1]Обработка!$E:$E,AI35,[1]Обработка!$C:$C,"sell") -> 1 | AK35: =COUNTIFS([1]Обработка!$E:$E,AI35,[1]Обработка!$C:$C,"buy") -> 1 | AL35: =COUNTIFS([1]Обработка!$E:$E,AI35) -> 2 | AM35: =SUMIFS([1]Обработка!$F:$F,[1]Обработка!$E:$E,AI35,[1]Обработка!$C:$C,"sell") -> 1.11 | AN35: =SUMIFS([1]Обработка!$F:$F,[1]Обработка!$E:$E,AI35,[1]Обработка!$C:$C,"buy") -> 1.11 | AO35: =SUMIFS([1]Обработка!$F:$F,[1]Обработка!$E:$E,AI35) -> 2.22 | AP35: =SUMIFS([1]Обработка!$G:$G,[1]Обработка!$E:$E,AI35,[1]Обработка!$C:$C,"sell") -> 154.98 | AQ35: =SUMIFS([1]Обработка!$G:$G,[1]Обработка!$E:$E,AI35,[1]Обработка!$C:$C,"buy") -> 155.35 | AR35: =SUMIFS([1]Обработка!$G:$G,[1]Обработка!$E:$E,AI35) -> 310.33 | AS35: =ROUND(IF(AJ35>0,AVERAGEIFS([1]Обработка!$G:$G,[1]Обработка!$E:$E,AI35,[1]Обработка!$C:$C,"sell"),0),2) -> 154.98 | AT35: =ROUND(IF(AK35>0,AVERAGEIFS([1]Обработка!$G:$G,[1]Обработка!$E:$E,AI35,[1]Обработка!$C:$C,"buy"),0),2) -> 155.35 | AU35: =ROUND(IF(AL35>0,AVERAGEIFS([1]Обработка!$G:$G,[1]Обработка!$E:$E,AI35),0),2) -> 155.17 | AV35: =IF(AJ35>0,SUMIFS([1]Обработка!$G:$G,[1]Обработка!$E:$E,AI35,[1]Обработка!$C:$C,"sell")/SUMIFS([1]Обработка!$G:$G,[1]Обработка!$B:$B,"t/p"),0) -> 0.020160708 | AW35: =IF(AK35>0,SUMIFS([1]Обработка!$G:$G,[1]Обработка!$E:$E,AI35,[1]Обработка!$C:$C,"buy")/SUMIFS([1]Обработка!$G:$G,[1]Обработка!$B:$B,"t/p"),0) -> 0.02020884 | AX35: =IF(AL35>0,SUMIFS([1]Обработка!$G:$G,[1]Обработка!$E:$E,AI35)/SUMIFS([1]Обработка!$G:$G,[1]Обработка!$B:$B,"t/p"),0) -> 0.040369548 | AY35: =IF(VLOOKUP($AJ$14,[1]Сводная!$AG$4:$AH$38,2,0)=3,SUMIFS([1]Обработка!$P:$P,[1]Обработка!$M:$M,AI35,[1]Обработка!$N:$N,"sell")/100,SUMIFS([1]Обработка!$P:$P,[1]Обработка!$M:$M,AI35,[1]Обработка!$N:$N,"sell")) -> 528.2 | AZ35: =IF(VLOOKUP($AJ$14,[1]Сводная!$AG$4:$AH$38,2,0)=3,SUMIFS([1]Обработка!$P:$P,[1]Обработка!$M:$M,AI35,[1]Обработка!$N:$N,"buy")/100,SUMIFS([1]Обработка!$P:$P,[1]Обработка!$M:$M,AI35,[1]Обработка!$N:$N,"buy")) -> 516.5 | BA35: =IF(VLOOKUP($AJ$14,[1]Сводная!$AG$4:$AH$38,2,0)=3,ROUND(IF(AJ35>0,AVERAGEIFS([1]Обработка!$T:$T,[1]Обработка!$E:$E,AI35,[1]Обработка!$C:$C,"sell"),0),1)/100,ROUND(IF(AJ35>0,AVERAGEIFS([1]Обработка!$T:$T,[1]Обработка!$E:$E,AI35,[1]Обработка!$C:$C,"sell"),0),1)) -> 528.2 | BB35: =IF(VLOOKUP($AJ$14,[1]Сводная!$AG$4:$AH$38,2,0)=3,ROUND(IF(AK35>0,AVERAGEIFS([1]Обработка!$T:$T,[1]Обработка!$E:$E,AI35,[1]Обработка!$C:$C,"buy"),0),1)/100,ROUND(IF(AK35>0,AVERAGEIFS([1]Обработка!$T:$T,[1]Обработка!$E:$E,AI35,[1]Обработка!$C:$C,"buy"),0),1)) -> 516.5 | BC35: =IF(VLOOKUP($AJ$14,[1]Сводная!$AG$4:$AH$38,2,0)=3,ROUND(IF(AL35>0,AVERAGEIFS([1]Обработка!$T:$T,[1]Обработка!$E:$E,AI35),0),1)/100,ROUND(IF(AL35>0,AVERAGEIFS([1]Обработка!$T:$T,[1]Обработка!$E:$E,AI35),0),1)) -> 522.3 | BD35: =IF(VLOOKUP($AJ$14,[1]Сводная!$AG$4:$AH$38,2,0)=3,SUMIFS([1]Обработка!$O:$O,[1]Обработка!$M:$M,AI35,[1]Обработка!$N:$N,"sell")/100,SUMIFS([1]Обработка!$O:$O,[1]Обработка!$M:$M,AI35,[1]Обработка!$N:$N,"sell")) -> 175.4 | BE35: =IF(VLOOKUP($AJ$14,[1]Сводная!$AG$4:$AH$38,2,0)=3,SUMIFS([1]Обработка!$O:$O,[1]Обработка!$M:$M,AI35,[1]Обработка!$N:$N,"buy")/100,SUMIFS([1]Обработка!$O:$O,[1]Обработка!$M:$M,AI35,[1]Обработка!$N:$N,"buy")) -> 187.8 | BF35: =IF(VLOOKUP($AJ$14,[1]Сводная!$AG$4:$AH$38,2,0)=3,ROUND(IF(AJ35>0,AVERAGEIFS([1]Обработка!$U:$U,[1]Обработка!$E:$E,AI35,[1]Обработка!$C:$C,"sell"),0),1)/100,ROUND(IF(AJ35>0,AVERAGEIFS([1]Обработка!$U:$U,[1]Обработка!$E:$E,AI35,[1]Обработка!$C:$C,"sell"),0),1)) -> 175.4 | BG35: =IF(VLOOKUP($AJ$14,[1]Сводная!$AG$4:$AH$38,2,0)=3,ROUND(IF(AK35>0,AVERAGEIFS([1]Обработка!$U:$U,[1]Обработка!$E:$E,AI35,[1]Обработка!$C:$C,"buy"),0),1)/100,ROUND(IF(AK35>0,AVERAGEIFS([1]Обработка!$U:$U,[1]Обработка!$E:$E,AI35,[1]Обработка!$C:$C,"buy"),0),1)) -> 187.8 | BH35: =IF(VLOOKUP($AJ$14,[1]Сводная!$AG$4:$AH$38,2,0)=3,ROUND(IF(AL35>0,AVERAGEIFS([1]Обработка!$U:$U,[1]Обработка!$E:$E,AI35),0),1)/100,ROUND(IF(AL35>0,AVERAGEIFS([1]Обработка!$U:$U,[1]Обработка!$E:$E,AI35),0),1)) -> 181.6 | BI35: =SUMIFS([1]Обработка!$Q:$Q,[1]Обработка!$M:$M,AI35,[1]Обработка!$N:$N,"sell") -> 14.516667 | BJ35: =SUMIFS([1]Обработка!$Q:$Q,[1]Обработка!$M:$M,AI35,[1]Обработка!$N:$N,"buy") -> 21.918056 | BK35: =IF(AJ35>0,AVERAGEIFS([1]Обработка!$S:$S,[1]Обработка!$E:$E,AI35,[1]Обработка!$C:$C,"sell"),0) -> 14.516667 | BL35: =IF(AK35>0,AVERAGEIFS([1]Обработка!$S:$S,[1]Обработка!$E:$E,AI35,[1]Обработка!$C:$C,"buy"),0) -> 21.918056 | BM35: =IF(AL35>0,AVERAGEIFS([1]Обработка!$S:$S,[1]Обработка!$E:$E,AI35),0) -> 18.217361
A36: 17 | B36: =IF(AND($A36>=C$12,C$12>0),0,IF(AND($A36>=C$9,C$9>0),C$10,IF(AND($A36>=C$6,C$6>0),C$7,0))) -> 0 | C36: =IF(AND($A36>=C$12,C$12>0),C$13,C35+B36) -> 14 | E36: =IF(OR($A36<2,AND(G$15>0,$A36>G$15)),0,IF(AND($A36>=G$12,G$12>0),G$13,IF(AND($A36>=G$9,G$9>0),G$10,IF(AND($A36>=G$6,G$6>0),G$7,0)))) -> 0 | F36: =F35+E36 -> 54 | G36: =G35+F36 -> 565 | I36: =IF(($A36<K$4),1,IF(AND($A36>K$15,K$15>0),I35,IF(AND($A36>=K$12,K$12>0),ROUND(I35+K$13,4),IF(AND($A36>=K$9,K$9>0),ROUND(I35+K$10,4),IF(AND($A36>=K$6,K$6>0),ROUND(I35+K$7,4),K$3))))) -> 1.25 | J36: =IF($A36<K$4, K$2, IF(K$1=0,IF(K$16>0,IF(K$2*K$16<ROUND(J35*I36, 3),K$2*K$16,ROUND(J35*I36, 3)),ROUND(J35*I36, 3)),IF(K$16>0,IF(K$2*K$16<ROUND(K$2*I36, 3),K$2*K$16,ROUND(K$2*I36, 3)),ROUND(K$2*I36, 3)))) -> 0.291 | K36: =K35+ROUND(J36,3) -> 1.423 | M36: =ROUND(C36*O36-K36*$O$6,2) -> 198.8 | N36: =IF($O$10>0,M36/$O$10,0) -> 0.071 | O36: =ROUND(ROUND(K36,2)*$O$4,2) -> 14.2 | P36: =ROUND((ROUND(K35,2)*(G36-G35)*$O$4+P35+J36*$O$6),2) -> 2449.6 | Q36: =P36/$O$10 -> 0.87485714 | R36: =ROUND(P36/O36,0) -> 173 | S36: =ROUND(R36/G36,2) -> 0.31 | T36: =R36+C36 -> 187 | U36: =ROUND(T36/G36,2) -> 0.33 | W36: =ROUND(K36*$O$7,2) -> 347.21 | X36: =ROUND(P36+W36,2) -> 2796.81 | Z36: =IF($O$10>0,ROUND($O$10-X36,2),0) -> 3.19 | AA36: =IF($O$10>0,ROUND(X36/$O$10,2),0) -> 1 | AB36: =IF(AND(Z36>0,$O$4>0),($O$10-P36-W36*$O$8)/O36,0) -> 10.005211 | AC36: =IF(AB36>0,AB36+G36,0) -> 575.00521 | AD36: 17 | AF36: =IF(P36>0,ROUND(W36/P36,2),0) -> 0.14 | AG36: =IF($O$10>0,ROUND(W36/$O$10,2),0) -> 0.12 | AI36: 17 | AJ36: =COUNTIFS([1]Обработка!$E:$E,AI36,[1]Обработка!$C:$C,"sell") -> 0 | AK36: =COUNTIFS([1]Обработка!$E:$E,AI36,[1]Обработка!$C:$C,"buy") -> 0 | AL36: =COUNTIFS([1]Обработка!$E:$E,AI36) -> 0 | AM36: =SUMIFS([1]Обработка!$F:$F,[1]Обработка!$E:$E,AI36,[1]Обработка!$C:$C,"sell") -> 0 | AN36: =SUMIFS([1]Обработка!$F:$F,[1]Обработка!$E:$E,AI36,[1]Обработка!$C:$C,"buy") -> 0 | AO36: =SUMIFS([1]Обработка!$F:$F,[1]Обработка!$E:$E,AI36) -> 0 | AP36: =SUMIFS([1]Обработка!$G:$G,[1]Обработка!$E:$E,AI36,[1]Обработка!$C:$C,"sell") -> 0 | AQ36: =SUMIFS([1]Обработка!$G:$G,[1]Обработка!$E:$E,AI36,[1]Обработка!$C:$C,"buy") -> 0 | AR36: =SUMIFS([1]Обработка!$G:$G,[1]Обработка!$E:$E,AI36) -> 0 | AS36: =ROUND(IF(AJ36>0,AVERAGEIFS([1]Обработка!$G:$G,[1]Обработка!$E:$E,AI36,[1]Обработка!$C:$C,"sell"),0),2) -> 0 | AT36: =ROUND(IF(AK36>0,AVERAGEIFS([1]Обработка!$G:$G,[1]Обработка!$E:$E,AI36,[1]Обработка!$C:$C,"buy"),0),2) -> 0 | AU36: =ROUND(IF(AL36>0,AVERAGEIFS([1]Обработка!$G:$G,[1]Обработка!$E:$E,AI36),0),2) -> 0 | AV36: =IF(AJ36>0,SUMIFS([1]Обработка!$G:$G,[1]Обработка!$E:$E,AI36,[1]Обработка!$C:$C,"sell")/SUMIFS([1]Обработка!$G:$G,[1]Обработка!$B:$B,"t/p"),0) -> 0 | AW36: =IF(AK36>0,SUMIFS([1]Обработка!$G:$G,[1]Обработка!$E:$E,AI36,[1]Обработка!$C:$C,"buy")/SUMIFS([1]Обработка!$G:$G,[1]Обработка!$B:$B,"t/p"),0) -> 0 | AX36: =IF(AL36>0,SUMIFS([1]Обработка!$G:$G,[1]Обработка!$E:$E,AI36)/SUMIFS([1]Обработка!$G:$G,[1]Обработка!$B:$B,"t/p"),0) -> 0 | AY36: =IF(VLOOKUP($AJ$14,[1]Сводная!$AG$4:$AH$38,2,0)=3,SUMIFS([1]Обработка!$P:$P,[1]Обработка!$M:$M,AI36,[1]Обработка!$N:$N,"sell")/100,SUMIFS([1]Обработка!$P:$P,[1]Обработка!$M:$M,AI36,[1]Обработка!$N:$N,"sell")) -> 0 | AZ36: =IF(VLOOKUP($AJ$14,[1]Сводная!$AG$4:$AH$38,2,0)=3,SUMIFS([1]Обработка!$P:$P,[1]Обработка!$M:$M,AI36,[1]Обработка!$N:$N,"buy")/100,SUMIFS([1]Обработка!$P:$P,[1]Обработка!$M:$M,AI36,[1]Обработка!$N:$N,"buy")) -> 0 | BA36: =IF(VLOOKUP($AJ$14,[1]Сводная!$AG$4:$AH$38,2,0)=3,ROUND(IF(AJ36>0,AVERAGEIFS([1]Обработка!$T:$T,[1]Обработка!$E:$E,AI36,[1]Обработка!$C:$C,"sell"),0),1)/100,ROUND(IF(AJ36>0,AVERAGEIFS([1]Обработка!$T:$T,[1]Обработка!$E:$E,AI36,[1]Обработка!$C:$C,"sell"),0),1)) -> 0 | BB36: =IF(VLOOKUP($AJ$14,[1]Сводная!$AG$4:$AH$38,2,0)=3,ROUND(IF(AK36>0,AVERAGEIFS([1]Обработка!$T:$T,[1]Обработка!$E:$E,AI36,[1]Обработка!$C:$C,"buy"),0),1)/100,ROUND(IF(AK36>0,AVERAGEIFS([1]Обработка!$T:$T,[1]Обработка!$E:$E,AI36,[1]Обработка!$C:$C,"buy"),0),1)) -> 0 | BC36: =IF(VLOOKUP($AJ$14,[1]Сводная!$AG$4:$AH$38,2,0)=3,ROUND(IF(AL36>0,AVERAGEIFS([1]Обработка!$T:$T,[1]Обработка!$E:$E,AI36),0),1)/100,ROUND(IF(AL36>0,AVERAGEIFS([1]Обработка!$T:$T,[1]Обработка!$E:$E,AI36),0),1)) -> 0 | BD36: =IF(VLOOKUP($AJ$14,[1]Сводная!$AG$4:$AH$38,2,0)=3,SUMIFS([1]Обработка!$O:$O,[1]Обработка!$M:$M,AI36,[1]Обработка!$N:$N,"sell")/100,SUMIFS([1]Обработка!$O:$O,[1]Обработка!$M:$M,AI36,[1]Обработка!$N:$N,"sell")) -> 0 | BE36: =IF(VLOOKUP($AJ$14,[1]Сводная!$AG$4:$AH$38,2,0)=3,SUMIFS([1]Обработка!$O:$O,[1]Обработка!$M:$M,AI36,[1]Обработка!$N:$N,"buy")/100,SUMIFS([1]Обработка!$O:$O,[1]Обработка!$M:$M,AI36,[1]Обработка!$N:$N,"buy")) -> 0 | BF36: =IF(VLOOKUP($AJ$14,[1]Сводная!$AG$4:$AH$38,2,0)=3,ROUND(IF(AJ36>0,AVERAGEIFS([1]Обработка!$U:$U,[1]Обработка!$E:$E,AI36,[1]Обработка!$C:$C,"sell"),0),1)/100,ROUND(IF(AJ36>0,AVERAGEIFS([1]Обработка!$U:$U,[1]Обработка!$E:$E,AI36,[1]Обработка!$C:$C,"sell"),0),1)) -> 0 | BG36: =IF(VLOOKUP($AJ$14,[1]Сводная!$AG$4:$AH$38,2,0)=3,ROUND(IF(AK36>0,AVERAGEIFS([1]Обработка!$U:$U,[1]Обработка!$E:$E,AI36,[1]Обработка!$C:$C,"buy"),0),1)/100,ROUND(IF(AK36>0,AVERAGEIFS([1]Обработка!$U:$U,[1]Обработка!$E:$E,AI36,[1]Обработка!$C:$C,"buy"),0),1)) -> 0 | BH36: =IF(VLOOKUP($AJ$14,[1]Сводная!$AG$4:$AH$38,2,0)=3,ROUND(IF(AL36>0,AVERAGEIFS([1]Обработка!$U:$U,[1]Обработка!$E:$E,AI36),0),1)/100,ROUND(IF(AL36>0,AVERAGEIFS([1]Обработка!$U:$U,[1]Обработка!$E:$E,AI36),0),1)) -> 0 | BI36: =SUMIFS([1]Обработка!$Q:$Q,[1]Обработка!$M:$M,AI36,[1]Обработка!$N:$N,"sell") -> 0 | BJ36: =SUMIFS([1]Обработка!$Q:$Q,[1]Обработка!$M:$M,AI36,[1]Обработка!$N:$N,"buy") -> 0 | BK36: =IF(AJ36>0,AVERAGEIFS([1]Обработка!$S:$S,[1]Обработка!$E:$E,AI36,[1]Обработка!$C:$C,"sell"),0) -> 0 | BL36: =IF(AK36>0,AVERAGEIFS([1]Обработка!$S:$S,[1]Обработка!$E:$E,AI36,[1]Обработка!$C:$C,"buy"),0) -> 0 | BM36: =IF(AL36>0,AVERAGEIFS([1]Обработка!$S:$S,[1]Обработка!$E:$E,AI36),0) -> 0
A37: 18 | B37: =IF(AND($A37>=C$12,C$12>0),0,IF(AND($A37>=C$9,C$9>0),C$10,IF(AND($A37>=C$6,C$6>0),C$7,0))) -> 0 | C37: =IF(AND($A37>=C$12,C$12>0),C$13,C36+B37) -> 14 | E37: =IF(OR($A37<2,AND(G$15>0,$A37>G$15)),0,IF(AND($A37>=G$12,G$12>0),G$13,IF(AND($A37>=G$9,G$9>0),G$10,IF(AND($A37>=G$6,G$6>0),G$7,0)))) -> 0 | F37: =F36+E37 -> 54 | G37: =G36+F37 -> 619 | I37: =IF(($A37<K$4),1,IF(AND($A37>K$15,K$15>0),I36,IF(AND($A37>=K$12,K$12>0),ROUND(I36+K$13,4),IF(AND($A37>=K$9,K$9>0),ROUND(I36+K$10,4),IF(AND($A37>=K$6,K$6>0),ROUND(I36+K$7,4),K$3))))) -> 1.25 | J37: =IF($A37<K$4, K$2, IF(K$1=0,IF(K$16>0,IF(K$2*K$16<ROUND(J36*I37, 3),K$2*K$16,ROUND(J36*I37, 3)),ROUND(J36*I37, 3)),IF(K$16>0,IF(K$2*K$16<ROUND(K$2*I37, 3),K$2*K$16,ROUND(K$2*I37, 3)),ROUND(K$2*I37, 3)))) -> 0.364 | K37: =K36+ROUND(J37,3) -> 1.787 | M37: =ROUND(C37*O37-K37*$O$6,2) -> 250.6 | N37: =IF($O$10>0,M37/$O$10,0) -> 0.0895 | O37: =ROUND(ROUND(K37,2)*$O$4,2) -> 17.9 | P37: =ROUND((ROUND(K36,2)*(G37-G36)*$O$4+P36+J37*$O$6),2) -> 3216.4 | Q37: =P37/$O$10 -> 1.1487143 | R37: =ROUND(P37/O37,0) -> 180 | S37: =ROUND(R37/G37,2) -> 0.29 | T37: =R37+C37 -> 194 | U37: =ROUND(T37/G37,2) -> 0.31 | W37: =ROUND(K37*$O$7,2) -> 436.03 | X37: =ROUND(P37+W37,2) -> 3652.43 | Z37: =IF($O$10>0,ROUND($O$10-X37,2),0) -> -852.43 | AA37: =IF($O$10>0,ROUND(X37/$O$10,2),0) -> 1.3 | AB37: =IF(AND(Z37>0,$O$4>0),($O$10-P37-W37*$O$8)/O37,0) -> 0 | AC37: =IF(AB37>0,AB37+G37,0) -> 0 | AD37: 18 | AF37: =IF(P37>0,ROUND(W37/P37,2),0) -> 0.14 | AG37: =IF($O$10>0,ROUND(W37/$O$10,2),0) -> 0.16 | AI37: 18 | AJ37: =COUNTIFS([1]Обработка!$E:$E,AI37,[1]Обработка!$C:$C,"sell") -> 0 | AK37: =COUNTIFS([1]Обработка!$E:$E,AI37,[1]Обработка!$C:$C,"buy") -> 0 | AL37: =COUNTIFS([1]Обработка!$E:$E,AI37) -> 0 | AM37: =SUMIFS([1]Обработка!$F:$F,[1]Обработка!$E:$E,AI37,[1]Обработка!$C:$C,"sell") -> 0 | AN37: =SUMIFS([1]Обработка!$F:$F,[1]Обработка!$E:$E,AI37,[1]Обработка!$C:$C,"buy") -> 0 | AO37: =SUMIFS([1]Обработка!$F:$F,[1]Обработка!$E:$E,AI37) -> 0 | AP37: =SUMIFS([1]Обработка!$G:$G,[1]Обработка!$E:$E,AI37,[1]Обработка!$C:$C,"sell") -> 0 | AQ37: =SUMIFS([1]Обработка!$G:$G,[1]Обработка!$E:$E,AI37,[1]Обработка!$C:$C,"buy") -> 0 | AR37: =SUMIFS([1]Обработка!$G:$G,[1]Обработка!$E:$E,AI37) -> 0 | AS37: =ROUND(IF(AJ37>0,AVERAGEIFS([1]Обработка!$G:$G,[1]Обработка!$E:$E,AI37,[1]Обработка!$C:$C,"sell"),0),2) -> 0 | AT37: =ROUND(IF(AK37>0,AVERAGEIFS([1]Обработка!$G:$G,[1]Обработка!$E:$E,AI37,[1]Обработка!$C:$C,"buy"),0),2) -> 0 | AU37: =ROUND(IF(AL37>0,AVERAGEIFS([1]Обработка!$G:$G,[1]Обработка!$E:$E,AI37),0),2) -> 0 | AV37: =IF(AJ37>0,SUMIFS([1]Обработка!$G:$G,[1]Обработка!$E:$E,AI37,[1]Обработка!$C:$C,"sell")/SUMIFS([1]Обработка!$G:$G,[1]Обработка!$B:$B,"t/p"),0) -> 0 | AW37: =IF(AK37>0,SUMIFS([1]Обработка!$G:$G,[1]Обработка!$E:$E,AI37,[1]Обработка!$C:$C,"buy")/SUMIFS([1]Обработка!$G:$G,[1]Обработка!$B:$B,"t/p"),0) -> 0 | AX37: =IF(AL37>0,SUMIFS([1]Обработка!$G:$G,[1]Обработка!$E:$E,AI37)/SUMIFS([1]Обработка!$G:$G,[1]Обработка!$B:$B,"t/p"),0) -> 0 | AY37: =IF(VLOOKUP($AJ$14,[1]Сводная!$AG$4:$AH$38,2,0)=3,SUMIFS([1]Обработка!$P:$P,[1]Обработка!$M:$M,AI37,[1]Обработка!$N:$N,"sell")/100,SUMIFS([1]Обработка!$P:$P,[1]Обработка!$M:$M,AI37,[1]Обработка!$N:$N,"sell")) -> 0 | AZ37: =IF(VLOOKUP($AJ$14,[1]Сводная!$AG$4:$AH$38,2,0)=3,SUMIFS([1]Обработка!$P:$P,[1]Обработка!$M:$M,AI37,[1]Обработка!$N:$N,"buy")/100,SUMIFS([1]Обработка!$P:$P,[1]Обработка!$M:$M,AI37,[1]Обработка!$N:$N,"buy")) -> 0 | BA37: =IF(VLOOKUP($AJ$14,[1]Сводная!$AG$4:$AH$38,2,0)=3,ROUND(IF(AJ37>0,AVERAGEIFS([1]Обработка!$T:$T,[1]Обработка!$E:$E,AI37,[1]Обработка!$C:$C,"sell"),0),1)/100,ROUND(IF(AJ37>0,AVERAGEIFS([1]Обработка!$T:$T,[1]Обработка!$E:$E,AI37,[1]Обработка!$C:$C,"sell"),0),1)) -> 0 | BB37: =IF(VLOOKUP($AJ$14,[1]Сводная!$AG$4:$AH$38,2,0)=3,ROUND(IF(AK37>0,AVERAGEIFS([1]Обработка!$T:$T,[1]Обработка!$E:$E,AI37,[1]Обработка!$C:$C,"buy"),0),1)/100,ROUND(IF(AK37>0,AVERAGEIFS([1]Обработка!$T:$T,[1]Обработка!$E:$E,AI37,[1]Обработка!$C:$C,"buy"),0),1)) -> 0 | BC37: =IF(VLOOKUP($AJ$14,[1]Сводная!$AG$4:$AH$38,2,0)=3,ROUND(IF(AL37>0,AVERAGEIFS([1]Обработка!$T:$T,[1]Обработка!$E:$E,AI37),0),1)/100,ROUND(IF(AL37>0,AVERAGEIFS([1]Обработка!$T:$T,[1]Обработка!$E:$E,AI37),0),1)) -> 0 | BD37: =IF(VLOOKUP($AJ$14,[1]Сводная!$AG$4:$AH$38,2,0)=3,SUMIFS([1]Обработка!$O:$O,[1]Обработка!$M:$M,AI37,[1]Обработка!$N:$N,"sell")/100,SUMIFS([1]Обработка!$O:$O,[1]Обработка!$M:$M,AI37,[1]Обработка!$N:$N,"sell")) -> 0 | BE37: =IF(VLOOKUP($AJ$14,[1]Сводная!$AG$4:$AH$38,2,0)=3,SUMIFS([1]Обработка!$O:$O,[1]Обработка!$M:$M,AI37,[1]Обработка!$N:$N,"buy")/100,SUMIFS([1]Обработка!$O:$O,[1]Обработка!$M:$M,AI37,[1]Обработка!$N:$N,"buy")) -> 0 | BF37: =IF(VLOOKUP($AJ$14,[1]Сводная!$AG$4:$AH$38,2,0)=3,ROUND(IF(AJ37>0,AVERAGEIFS([1]Обработка!$U:$U,[1]Обработка!$E:$E,AI37,[1]Обработка!$C:$C,"sell"),0),1)/100,ROUND(IF(AJ37>0,AVERAGEIFS([1]Обработка!$U:$U,[1]Обработка!$E:$E,AI37,[1]Обработка!$C:$C,"sell"),0),1)) -> 0 | BG37: =IF(VLOOKUP($AJ$14,[1]Сводная!$AG$4:$AH$38,2,0)=3,ROUND(IF(AK37>0,AVERAGEIFS([1]Обработка!$U:$U,[1]Обработка!$E:$E,AI37,[1]Обработка!$C:$C,"buy"),0),1)/100,ROUND(IF(AK37>0,AVERAGEIFS([1]Обработка!$U:$U,[1]Обработка!$E:$E,AI37,[1]Обработка!$C:$C,"buy"),0),1)) -> 0 | BH37: =IF(VLOOKUP($AJ$14,[1]Сводная!$AG$4:$AH$38,2,0)=3,ROUND(IF(AL37>0,AVERAGEIFS([1]Обработка!$U:$U,[1]Обработка!$E:$E,AI37),0),1)/100,ROUND(IF(AL37>0,AVERAGEIFS([1]Обработка!$U:$U,[1]Обработка!$E:$E,AI37),0),1)) -> 0 | BI37: =SUMIFS([1]Обработка!$Q:$Q,[1]Обработка!$M:$M,AI37,[1]Обработка!$N:$N,"sell") -> 0 | BJ37: =SUMIFS([1]Обработка!$Q:$Q,[1]Обработка!$M:$M,AI37,[1]Обработка!$N:$N,"buy") -> 0 | BK37: =IF(AJ37>0,AVERAGEIFS([1]Обработка!$S:$S,[1]Обработка!$E:$E,AI37,[1]Обработка!$C:$C,"sell"),0) -> 0 | BL37: =IF(AK37>0,AVERAGEIFS([1]Обработка!$S:$S,[1]Обработка!$E:$E,AI37,[1]Обработка!$C:$C,"buy"),0) -> 0 | BM37: =IF(AL37>0,AVERAGEIFS([1]Обработка!$S:$S,[1]Обработка!$E:$E,AI37),0) -> 0
A38: 19 | B38: =IF(AND($A38>=C$12,C$12>0),0,IF(AND($A38>=C$9,C$9>0),C$10,IF(AND($A38>=C$6,C$6>0),C$7,0))) -> 0 | C38: =IF(AND($A38>=C$12,C$12>0),C$13,C37+B38) -> 14 | E38: =IF(OR($A38<2,AND(G$15>0,$A38>G$15)),0,IF(AND($A38>=G$12,G$12>0),G$13,IF(AND($A38>=G$9,G$9>0),G$10,IF(AND($A38>=G$6,G$6>0),G$7,0)))) -> 0 | F38: =F37+E38 -> 54 | G38: =G37+F38 -> 673 | I38: =IF(($A38<K$4),1,IF(AND($A38>K$15,K$15>0),I37,IF(AND($A38>=K$12,K$12>0),ROUND(I37+K$13,4),IF(AND($A38>=K$9,K$9>0),ROUND(I37+K$10,4),IF(AND($A38>=K$6,K$6>0),ROUND(I37+K$7,4),K$3))))) -> 1.25 | J38: =IF($A38<K$4, K$2, IF(K$1=0,IF(K$16>0,IF(K$2*K$16<ROUND(J37*I38, 3),K$2*K$16,ROUND(J37*I38, 3)),ROUND(J37*I38, 3)),IF(K$16>0,IF(K$2*K$16<ROUND(K$2*I38, 3),K$2*K$16,ROUND(K$2*I38, 3)),ROUND(K$2*I38, 3)))) -> 0.455 | K38: =K37+ROUND(J38,3) -> 2.242 | M38: =ROUND(C38*O38-K38*$O$6,2) -> 313.6 | N38: =IF($O$10>0,M38/$O$10,0) -> 0.112 | O38: =ROUND(ROUND(K38,2)*$O$4,2) -> 22.4 | P38: =ROUND((ROUND(K37,2)*(G38-G37)*$O$4+P37+J38*$O$6),2) -> 4183 | Q38: =P38/$O$10 -> 1.4939286 | R38: =ROUND(P38/O38,0) -> 187 | S38: =ROUND(R38/G38,2) -> 0.28 | T38: =R38+C38 -> 201 | U38: =ROUND(T38/G38,2) -> 0.3 | W38: =ROUND(K38*$O$7,2) -> 547.05 | X38: =ROUND(P38+W38,2) -> 4730.05 | Z38: =IF($O$10>0,ROUND($O$10-X38,2),0) -> -1930.05 | AA38: =IF($O$10>0,ROUND(X38/$O$10,2),0) -> 1.69 | AB38: =IF(AND(Z38>0,$O$4>0),($O$10-P38-W38*$O$8)/O38,0) -> 0 | AC38: =IF(AB38>0,AB38+G38,0) -> 0 | AD38: 19 | AF38: =IF(P38>0,ROUND(W38/P38,2),0) -> 0.13 | AG38: =IF($O$10>0,ROUND(W38/$O$10,2),0) -> 0.2 | AI38: 19 | AJ38: =COUNTIFS([1]Обработка!$E:$E,AI38,[1]Обработка!$C:$C,"sell") -> 0 | AK38: =COUNTIFS([1]Обработка!$E:$E,AI38,[1]Обработка!$C:$C,"buy") -> 0 | AL38: =COUNTIFS([1]Обработка!$E:$E,AI38) -> 0 | AM38: =SUMIFS([1]Обработка!$F:$F,[1]Обработка!$E:$E,AI38,[1]Обработка!$C:$C,"sell") -> 0 | AN38: =SUMIFS([1]Обработка!$F:$F,[1]Обработка!$E:$E,AI38,[1]Обработка!$C:$C,"buy") -> 0 | AO38: =SUMIFS([1]Обработка!$F:$F,[1]Обработка!$E:$E,AI38) -> 0 | AP38: =SUMIFS([1]Обработка!$G:$G,[1]Обработка!$E:$E,AI38,[1]Обработка!$C:$C,"sell") -> 0 | AQ38: =SUMIFS([1]Обработка!$G:$G,[1]Обработка!$E:$E,AI38,[1]Обработка!$C:$C,"buy") -> 0 | AR38: =SUMIFS([1]Обработка!$G:$G,[1]Обработка!$E:$E,AI38) -> 0 | AS38: =ROUND(IF(AJ38>0,AVERAGEIFS([1]Обработка!$G:$G,[1]Обработка!$E:$E,AI38,[1]Обработка!$C:$C,"sell"),0),2) -> 0 | AT38: =ROUND(IF(AK38>0,AVERAGEIFS([1]Обработка!$G:$G,[1]Обработка!$E:$E,AI38,[1]Обработка!$C:$C,"buy"),0),2) -> 0 | AU38: =ROUND(IF(AL38>0,AVERAGEIFS([1]Обработка!$G:$G,[1]Обработка!$E:$E,AI38),0),2) -> 0 | AV38: =IF(AJ38>0,SUMIFS([1]Обработка!$G:$G,[1]Обработка!$E:$E,AI38,[1]Обработка!$C:$C,"sell")/SUMIFS([1]Обработка!$G:$G,[1]Обработка!$B:$B,"t/p"),0) -> 0 | AW38: =IF(AK38>0,SUMIFS([1]Обработка!$G:$G,[1]Обработка!$E:$E,AI38,[1]Обработка!$C:$C,"buy")/SUMIFS([1]Обработка!$G:$G,[1]Обработка!$B:$B,"t/p"),0) -> 0 | AX38: =IF(AL38>0,SUMIFS([1]Обработка!$G:$G,[1]Обработка!$E:$E,AI38)/SUMIFS([1]Обработка!$G:$G,[1]Обработка!$B:$B,"t/p"),0) -> 0 | AY38: =IF(VLOOKUP($AJ$14,[1]Сводная!$AG$4:$AH$38,2,0)=3,SUMIFS([1]Обработка!$P:$P,[1]Обработка!$M:$M,AI38,[1]Обработка!$N:$N,"sell")/100,SUMIFS([1]Обработка!$P:$P,[1]Обработка!$M:$M,AI38,[1]Обработка!$N:$N,"sell")) -> 0 | AZ38: =IF(VLOOKUP($AJ$14,[1]Сводная!$AG$4:$AH$38,2,0)=3,SUMIFS([1]Обработка!$P:$P,[1]Обработка!$M:$M,AI38,[1]Обработка!$N:$N,"buy")/100,SUMIFS([1]Обработка!$P:$P,[1]Обработка!$M:$M,AI38,[1]Обработка!$N:$N,"buy")) -> 0 | BA38: =IF(VLOOKUP($AJ$14,[1]Сводная!$AG$4:$AH$38,2,0)=3,ROUND(IF(AJ38>0,AVERAGEIFS([1]Обработка!$T:$T,[1]Обработка!$E:$E,AI38,[1]Обработка!$C:$C,"sell"),0),1)/100,ROUND(IF(AJ38>0,AVERAGEIFS([1]Обработка!$T:$T,[1]Обработка!$E:$E,AI38,[1]Обработка!$C:$C,"sell"),0),1)) -> 0 | BB38: =IF(VLOOKUP($AJ$14,[1]Сводная!$AG$4:$AH$38,2,0)=3,ROUND(IF(AK38>0,AVERAGEIFS([1]Обработка!$T:$T,[1]Обработка!$E:$E,AI38,[1]Обработка!$C:$C,"buy"),0),1)/100,ROUND(IF(AK38>0,AVERAGEIFS([1]Обработка!$T:$T,[1]Обработка!$E:$E,AI38,[1]Обработка!$C:$C,"buy"),0),1)) -> 0 | BC38: =IF(VLOOKUP($AJ$14,[1]Сводная!$AG$4:$AH$38,2,0)=3,ROUND(IF(AL38>0,AVERAGEIFS([1]Обработка!$T:$T,[1]Обработка!$E:$E,AI38),0),1)/100,ROUND(IF(AL38>0,AVERAGEIFS([1]Обработка!$T:$T,[1]Обработка!$E:$E,AI38),0),1)) -> 0 | BD38: =IF(VLOOKUP($AJ$14,[1]Сводная!$AG$4:$AH$38,2,0)=3,SUMIFS([1]Обработка!$O:$O,[1]Обработка!$M:$M,AI38,[1]Обработка!$N:$N,"sell")/100,SUMIFS([1]Обработка!$O:$O,[1]Обработка!$M:$M,AI38,[1]Обработка!$N:$N,"sell")) -> 0 | BE38: =IF(VLOOKUP($AJ$14,[1]Сводная!$AG$4:$AH$38,2,0)=3,SUMIFS([1]Обработка!$O:$O,[1]Обработка!$M:$M,AI38,[1]Обработка!$N:$N,"buy")/100,SUMIFS([1]Обработка!$O:$O,[1]Обработка!$M:$M,AI38,[1]Обработка!$N:$N,"buy")) -> 0 | BF38: =IF(VLOOKUP($AJ$14,[1]Сводная!$AG$4:$AH$38,2,0)=3,ROUND(IF(AJ38>0,AVERAGEIFS([1]Обработка!$U:$U,[1]Обработка!$E:$E,AI38,[1]Обработка!$C:$C,"sell"),0),1)/100,ROUND(IF(AJ38>0,AVERAGEIFS([1]Обработка!$U:$U,[1]Обработка!$E:$E,AI38,[1]Обработка!$C:$C,"sell"),0),1)) -> 0 | BG38: =IF(VLOOKUP($AJ$14,[1]Сводная!$AG$4:$AH$38,2,0)=3,ROUND(IF(AK38>0,AVERAGEIFS([1]Обработка!$U:$U,[1]Обработка!$E:$E,AI38,[1]Обработка!$C:$C,"buy"),0),1)/100,ROUND(IF(AK38>0,AVERAGEIFS([1]Обработка!$U:$U,[1]Обработка!$E:$E,AI38,[1]Обработка!$C:$C,"buy"),0),1)) -> 0 | BH38: =IF(VLOOKUP($AJ$14,[1]Сводная!$AG$4:$AH$38,2,0)=3,ROUND(IF(AL38>0,AVERAGEIFS([1]Обработка!$U:$U,[1]Обработка!$E:$E,AI38),0),1)/100,ROUND(IF(AL38>0,AVERAGEIFS([1]Обработка!$U:$U,[1]Обработка!$E:$E,AI38),0),1)) -> 0 | BI38: =SUMIFS([1]Обработка!$Q:$Q,[1]Обработка!$M:$M,AI38,[1]Обработка!$N:$N,"sell") -> 0 | BJ38: =SUMIFS([1]Обработка!$Q:$Q,[1]Обработка!$M:$M,AI38,[1]Обработка!$N:$N,"buy") -> 0 | BK38: =IF(AJ38>0,AVERAGEIFS([1]Обработка!$S:$S,[1]Обработка!$E:$E,AI38,[1]Обработка!$C:$C,"sell"),0) -> 0 | BL38: =IF(AK38>0,AVERAGEIFS([1]Обработка!$S:$S,[1]Обработка!$E:$E,AI38,[1]Обработка!$C:$C,"buy"),0) -> 0 | BM38: =IF(AL38>0,AVERAGEIFS([1]Обработка!$S:$S,[1]Обработка!$E:$E,AI38),0) -> 0
A39: 20 | B39: =IF(AND($A39>=C$12,C$12>0),0,IF(AND($A39>=C$9,C$9>0),C$10,IF(AND($A39>=C$6,C$6>0),C$7,0))) -> 0 | C39: =IF(AND($A39>=C$12,C$12>0),C$13,C38+B39) -> 14 | E39: =IF(OR($A39<2,AND(G$15>0,$A39>G$15)),0,IF(AND($A39>=G$12,G$12>0),G$13,IF(AND($A39>=G$9,G$9>0),G$10,IF(AND($A39>=G$6,G$6>0),G$7,0)))) -> 0 | F39: =F38+E39 -> 54 | G39: =G38+F39 -> 727 | I39: =IF(($A39<K$4),1,IF(AND($A39>K$15,K$15>0),I38,IF(AND($A39>=K$12,K$12>0),ROUND(I38+K$13,4),IF(AND($A39>=K$9,K$9>0),ROUND(I38+K$10,4),IF(AND($A39>=K$6,K$6>0),ROUND(I38+K$7,4),K$3))))) -> 1.25 | J39: =IF($A39<K$4, K$2, IF(K$1=0,IF(K$16>0,IF(K$2*K$16<ROUND(J38*I39, 3),K$2*K$16,ROUND(J38*I39, 3)),ROUND(J38*I39, 3)),IF(K$16>0,IF(K$2*K$16<ROUND(K$2*I39, 3),K$2*K$16,ROUND(K$2*I39, 3)),ROUND(K$2*I39, 3)))) -> 0.569 | K39: =K38+ROUND(J39,3) -> 2.811 | M39: =ROUND(C39*O39-K39*$O$6,2) -> 393.4 | N39: =IF($O$10>0,M39/$O$10,0) -> 0.1405 | O39: =ROUND(ROUND(K39,2)*$O$4,2) -> 28.1 | P39: =ROUND((ROUND(K38,2)*(G39-G38)*$O$4+P38+J39*$O$6),2) -> 5392.6 | Q39: =P39/$O$10 -> 1.9259286 | R39: =ROUND(P39/O39,0) -> 192 | S39: =ROUND(R39/G39,2) -> 0.26 | T39: =R39+C39 -> 206 | U39: =ROUND(T39/G39,2) -> 0.28 | W39: =ROUND(K39*$O$7,2) -> 685.88 | X39: =ROUND(P39+W39,2) -> 6078.48 | Z39: =IF($O$10>0,ROUND($O$10-X39,2),0) -> -3278.48 | AA39: =IF($O$10>0,ROUND(X39/$O$10,2),0) -> 2.17 | AB39: =IF(AND(Z39>0,$O$4>0),($O$10-P39-W39*$O$8)/O39,0) -> 0 | AC39: =IF(AB39>0,AB39+G39,0) -> 0 | AD39: 20 | AF39: =IF(P39>0,ROUND(W39/P39,2),0) -> 0.13 | AG39: =IF($O$10>0,ROUND(W39/$O$10,2),0) -> 0.24 | AI39: 20 | AJ39: =COUNTIFS([1]Обработка!$E:$E,AI39,[1]Обработка!$C:$C,"sell") -> 0 | AK39: =COUNTIFS([1]Обработка!$E:$E,AI39,[1]Обработка!$C:$C,"buy") -> 0 | AL39: =COUNTIFS([1]Обработка!$E:$E,AI39) -> 0 | AM39: =SUMIFS([1]Обработка!$F:$F,[1]Обработка!$E:$E,AI39,[1]Обработка!$C:$C,"sell") -> 0 | AN39: =SUMIFS([1]Обработка!$F:$F,[1]Обработка!$E:$E,AI39,[1]Обработка!$C:$C,"buy") -> 0 | AO39: =SUMIFS([1]Обработка!$F:$F,[1]Обработка!$E:$E,AI39) -> 0 | AP39: =SUMIFS([1]Обработка!$G:$G,[1]Обработка!$E:$E,AI39,[1]Обработка!$C:$C,"sell") -> 0 | AQ39: =SUMIFS([1]Обработка!$G:$G,[1]Обработка!$E:$E,AI39,[1]Обработка!$C:$C,"buy") -> 0 | AR39: =SUMIFS([1]Обработка!$G:$G,[1]Обработка!$E:$E,AI39) -> 0 | AS39: =ROUND(IF(AJ39>0,AVERAGEIFS([1]Обработка!$G:$G,[1]Обработка!$E:$E,AI39,[1]Обработка!$C:$C,"sell"),0),2) -> 0 | AT39: =ROUND(IF(AK39>0,AVERAGEIFS([1]Обработка!$G:$G,[1]Обработка!$E:$E,AI39,[1]Обработка!$C:$C,"buy"),0),2) -> 0 | AU39: =ROUND(IF(AL39>0,AVERAGEIFS([1]Обработка!$G:$G,[1]Обработка!$E:$E,AI39),0),2) -> 0 | AV39: =IF(AJ39>0,SUMIFS([1]Обработка!$G:$G,[1]Обработка!$E:$E,AI39,[1]Обработка!$C:$C,"sell")/SUMIFS([1]Обработка!$G:$G,[1]Обработка!$B:$B,"t/p"),0) -> 0 | AW39: =IF(AK39>0,SUMIFS([1]Обработка!$G:$G,[1]Обработка!$E:$E,AI39,[1]Обработка!$C:$C,"buy")/SUMIFS([1]Обработка!$G:$G,[1]Обработка!$B:$B,"t/p"),0) -> 0 | AX39: =IF(AL39>0,SUMIFS([1]Обработка!$G:$G,[1]Обработка!$E:$E,AI39)/SUMIFS([1]Обработка!$G:$G,[1]Обработка!$B:$B,"t/p"),0) -> 0 | AY39: =IF(VLOOKUP($AJ$14,[1]Сводная!$AG$4:$AH$38,2,0)=3,SUMIFS([1]Обработка!$P:$P,[1]Обработка!$M:$M,AI39,[1]Обработка!$N:$N,"sell")/100,SUMIFS([1]Обработка!$P:$P,[1]Обработка!$M:$M,AI39,[1]Обработка!$N:$N,"sell")) -> 0 | AZ39: =IF(VLOOKUP($AJ$14,[1]Сводная!$AG$4:$AH$38,2,0)=3,SUMIFS([1]Обработка!$P:$P,[1]Обработка!$M:$M,AI39,[1]Обработка!$N:$N,"buy")/100,SUMIFS([1]Обработка!$P:$P,[1]Обработка!$M:$M,AI39,[1]Обработка!$N:$N,"buy")) -> 0 | BA39: =IF(VLOOKUP($AJ$14,[1]Сводная!$AG$4:$AH$38,2,0)=3,ROUND(IF(AJ39>0,AVERAGEIFS([1]Обработка!$T:$T,[1]Обработка!$E:$E,AI39,[1]Обработка!$C:$C,"sell"),0),1)/100,ROUND(IF(AJ39>0,AVERAGEIFS([1]Обработка!$T:$T,[1]Обработка!$E:$E,AI39,[1]Обработка!$C:$C,"sell"),0),1)) -> 0 | BB39: =IF(VLOOKUP($AJ$14,[1]Сводная!$AG$4:$AH$38,2,0)=3,ROUND(IF(AK39>0,AVERAGEIFS([1]Обработка!$T:$T,[1]Обработка!$E:$E,AI39,[1]Обработка!$C:$C,"buy"),0),1)/100,ROUND(IF(AK39>0,AVERAGEIFS([1]Обработка!$T:$T,[1]Обработка!$E:$E,AI39,[1]Обработка!$C:$C,"buy"),0),1)) -> 0 | BC39: =IF(VLOOKUP($AJ$14,[1]Сводная!$AG$4:$AH$38,2,0)=3,ROUND(IF(AL39>0,AVERAGEIFS([1]Обработка!$T:$T,[1]Обработка!$E:$E,AI39),0),1)/100,ROUND(IF(AL39>0,AVERAGEIFS([1]Обработка!$T:$T,[1]Обработка!$E:$E,AI39),0),1)) -> 0 | BD39: =IF(VLOOKUP($AJ$14,[1]Сводная!$AG$4:$AH$38,2,0)=3,SUMIFS([1]Обработка!$O:$O,[1]Обработка!$M:$M,AI39,[1]Обработка!$N:$N,"sell")/100,SUMIFS([1]Обработка!$O:$O,[1]Обработка!$M:$M,AI39,[1]Обработка!$N:$N,"sell")) -> 0 | BE39: =IF(VLOOKUP($AJ$14,[1]Сводная!$AG$4:$AH$38,2,0)=3,SUMIFS([1]Обработка!$O:$O,[1]Обработка!$M:$M,AI39,[1]Обработка!$N:$N,"buy")/100,SUMIFS([1]Обработка!$O:$O,[1]Обработка!$M:$M,AI39,[1]Обработка!$N:$N,"buy")) -> 0 | BF39: =IF(VLOOKUP($AJ$14,[1]Сводная!$AG$4:$AH$38,2,0)=3,ROUND(IF(AJ39>0,AVERAGEIFS([1]Обработка!$U:$U,[1]Обработка!$E:$E,AI39,[1]Обработка!$C:$C,"sell"),0),1)/100,ROUND(IF(AJ39>0,AVERAGEIFS([1]Обработка!$U:$U,[1]Обработка!$E:$E,AI39,[1]Обработка!$C:$C,"sell"),0),1)) -> 0 | BG39: =IF(VLOOKUP($AJ$14,[1]Сводная!$AG$4:$AH$38,2,0)=3,ROUND(IF(AK39>0,AVERAGEIFS([1]Обработка!$U:$U,[1]Обработка!$E:$E,AI39,[1]Обработка!$C:$C,"buy"),0),1)/100,ROUND(IF(AK39>0,AVERAGEIFS([1]Обработка!$U:$U,[1]Обработка!$E:$E,AI39,[1]Обработка!$C:$C,"buy"),0),1)) -> 0 | BH39: =IF(VLOOKUP($AJ$14,[1]Сводная!$AG$4:$AH$38,2,0)=3,ROUND(IF(AL39>0,AVERAGEIFS([1]Обработка!$U:$U,[1]Обработка!$E:$E,AI39),0),1)/100,ROUND(IF(AL39>0,AVERAGEIFS([1]Обработка!$U:$U,[1]Обработка!$E:$E,AI39),0),1)) -> 0 | BI39: =SUMIFS([1]Обработка!$Q:$Q,[1]Обработка!$M:$M,AI39,[1]Обработка!$N:$N,"sell") -> 0 | BJ39: =SUMIFS([1]Обработка!$Q:$Q,[1]Обработка!$M:$M,AI39,[1]Обработка!$N:$N,"buy") -> 0 | BK39: =IF(AJ39>0,AVERAGEIFS([1]Обработка!$S:$S,[1]Обработка!$E:$E,AI39,[1]Обработка!$C:$C,"sell"),0) -> 0 | BL39: =IF(AK39>0,AVERAGEIFS([1]Обработка!$S:$S,[1]Обработка!$E:$E,AI39,[1]Обработка!$C:$C,"buy"),0) -> 0 | BM39: =IF(AL39>0,AVERAGEIFS([1]Обработка!$S:$S,[1]Обработка!$E:$E,AI39),0) -> 0
AI42: ИТОГО: | AJ42: =SUM(AJ20:AJ39) -> 897 | AK42: =SUM(AK20:AK39) -> 876 | AL42: =SUM(AL20:AL39) -> 1773 | AM42: =SUM(AM20:AM39) -> 28.71 | AN42: =SUM(AN20:AN39) -> 26.19 | AO42: =SUM(AO20:AO39) -> 54.9 | AP42: =SUM(AP20:AP39) -> 4016.88 | AQ42: =SUM(AQ20:AQ39) -> 3670.35 | AR42: =SUM(AR20:AR39) -> 7687.23
B43: 1 | F43: 2 | J43: 3 | M43: 4 | W43: 5 | AA43: 6 | AF43: 7 | AW43: 8
A45: AddComment | C45: =VLOOKUP(A45,[1]SET_import!$A:$B,2,0) -> 0
I46: S_CalcLotType | K46: =VLOOKUP(I46,[1]SET_import!$A:$B,2,0) -> 0
A47: S_TakeProffit | C47: =VLOOKUP(A47,[1]SET_import!$A:$B,2,0) -> 14 | E47: S_GridStep | G47: =VLOOKUP(E47,[1]SET_import!$A:$B,2,0) -> 14 | I47: S_MinLot | K47: =VLOOKUP(I47,[1]SET_import!$A:$B,2,0) -> 0.01
I48: S_Mult | K48: =VLOOKUP(I48,[1]SET_import!$A:$B,2,0) -> 1.25
I49: S_MultStart | K49: =VLOOKUP(I49,[1]SET_import!$A:$B,2,0) -> 3
A51: S_TakeProffit_Level1 | C51: =VLOOKUP(A51,[1]SET_import!$A:$B,2,0) -> 0 | E51: S_GridLevel | G51: =VLOOKUP(E51,[1]SET_import!$A:$B,2,0) -> 2 | I51: S_MultLevel2 | K51: =VLOOKUP(I51,[1]SET_import!$A:$B,2,0) -> 0
A52: S_TakeProffit_Level1Corr | C52: =VLOOKUP(A52,[1]SET_import!$A:$B,2,0) -> 0 | E52: S_GridStep_AddPips | G52: =VLOOKUP(E52,[1]SET_import!$A:$B,2,0) -> 2 | I52: S_MultCorr | K52: =VLOOKUP(I52,[1]SET_import!$A:$B,2,0) -> 0
A54: S_TakeProffit_Level1_5 | C54: =VLOOKUP(A54,[1]SET_import!$A:$B,2,0) -> 0 | E54: S_GridStep_Level2 | G54: =VLOOKUP(E54,[1]SET_import!$A:$B,2,0) -> 7 | I54: S_MultLevel3 | K54: =VLOOKUP(I54,[1]SET_import!$A:$B,2,0) -> 0
A55: S_TakeProffit_Level1_5Corr | C55: =VLOOKUP(A55,[1]SET_import!$A:$B,2,0) -> 0 | E55: S_GridStep_Level2_AddPips | G55: =VLOOKUP(E55,[1]SET_import!$A:$B,2,0) -> 3 | I55: S_MultСorrLevel3 | K55: =VLOOKUP(I55,[1]SET_import!$A:$B,2,0) -> 0
A57: S_TakeProffit_Level2 | C57: =VLOOKUP(A57,[1]SET_import!$A:$B,2,0) -> 0 | E57: S_Grid3 | G57: =VLOOKUP(E57,[1]SET_import!$A:$B,2,0) -> 13 | I57: S_Mult3 | K57: =VLOOKUP(I57,[1]SET_import!$A:$B,2,0) -> 0
A58: S_TakeProffit_Level2FixPips | C58: =VLOOKUP(A58,[1]SET_import!$A:$B,2,0) -> 0 | E58: S_Grid3Add | G58: =VLOOKUP(E58,[1]SET_import!$A:$B,2,0) -> 4 | I58: S_Mult3Add | K58: =VLOOKUP(I58,[1]SET_import!$A:$B,2,0) -> 0
E60: S_GridStop | G60: =VLOOKUP(E60,[1]SET_import!$A:$B,2,0) -> 15 | I60: S_MultStop | K60: =VLOOKUP(I60,[1]SET_import!$A:$B,2,0) -> 0
A61: S_MaxOpenOrders | C61: =VLOOKUP(A61,[1]SET_import!$A:$B,2,0) -> 17 | I61: S_MaxLotCoef | K61: =VLOOKUP(I61,[1]SET_import!$A:$B,2,0) -> 0
A63: ReflectSellSettingsToBuy | C63: =VLOOKUP(A63,[1]SET_import!$A:$B,2,0) -> 1
I65: B_CalcLotType | K65: =VLOOKUP(I65,[1]SET_import!$A:$B,2,0) -> 0
A66: B_TakeProffit | C66: =VLOOKUP(A66,[1]SET_import!$A:$B,2,0) -> 14 | E66: B_GridStep | G66: =VLOOKUP(E66,[1]SET_import!$A:$B,2,0) -> 14 | I66: B_MinLot | K66: =VLOOKUP(I66,[1]SET_import!$A:$B,2,0) -> 0.01
I67: B_Mult | K67: =VLOOKUP(I67,[1]SET_import!$A:$B,2,0) -> 1.25
I68: B_MultStart | K68: =VLOOKUP(I68,[1]SET_import!$A:$B,2,0) -> 3
A70: B_TakeProffit_Level1 | C70: =VLOOKUP(A70,[1]SET_import!$A:$B,2,0) -> 0 | E70: B_GridLevel | G70: =VLOOKUP(E70,[1]SET_import!$A:$B,2,0) -> 2 | I70: B_MultLevel2 | K70: =VLOOKUP(I70,[1]SET_import!$A:$B,2,0) -> 0
A71: B_TakeProffit_Level1Corr | C71: =VLOOKUP(A71,[1]SET_import!$A:$B,2,0) -> 0 | E71: B_GridStep_AddPips | G71: =VLOOKUP(E71,[1]SET_import!$A:$B,2,0) -> 2 | I71: B_MultCorr | K71: =VLOOKUP(I71,[1]SET_import!$A:$B,2,0) -> 0
A73: B_TakeProffit_Level1_5 | C73: =VLOOKUP(A73,[1]SET_import!$A:$B,2,0) -> 0 | E73: B_GridStep_Level2 | G73: =VLOOKUP(E73,[1]SET_import!$A:$B,2,0) -> 7 | I73: B_MultLevel3 | K73: =VLOOKUP(I73,[1]SET_import!$A:$B,2,0) -> 0
A74: B_TakeProffit_Level1_5Corr | C74: =VLOOKUP(A74,[1]SET_import!$A:$B,2,0) -> 0 | E74: B_GridStep_Level2_AddPips | G74: =VLOOKUP(E74,[1]SET_import!$A:$B,2,0) -> 3 | I74: B_MultСorrLevel3 | K74: =VLOOKUP(I74,[1]SET_import!$A:$B,2,0) -> 0
A76: B_TakeProffit_Level2 | C76: =VLOOKUP(A76,[1]SET_import!$A:$B,2,0) -> 0 | E76: B_Grid3 | G76: =VLOOKUP(E76,[1]SET_import!$A:$B,2,0) -> 13 | I76: B_Mult3 | K76: =VLOOKUP(I76,[1]SET_import!$A:$B,2,0) -> 0
A77: B_TakeProffit_Level2FixPips | C77: =VLOOKUP(A77,[1]SET_import!$A:$B,2,0) -> 0 | E77: B_Grid3Add | G77: =VLOOKUP(E77,[1]SET_import!$A:$B,2,0) -> 4 | I77: B_Mult3Add | K77: =VLOOKUP(I77,[1]SET_import!$A:$B,2,0) -> 0
E79: B_GridStop | G79: =VLOOKUP(E79,[1]SET_import!$A:$B,2,0) -> 15 | I79: B_MultStop | K79: =VLOOKUP(I79,[1]SET_import!$A:$B,2,0) -> 0
A80: B_MaxOpenOrders | C80: =VLOOKUP(A80,[1]SET_import!$A:$B,2,0) -> 17 | I80: B_MaxLotCoef | K80: =VLOOKUP(I80,[1]SET_import!$A:$B,2,0) -> 0
