Workbook

Sheet MT4 SETTING
B3: STEP 1 : Tick pada Enable DDE server di MT4 | I3: STEP 2 : Right pada market watch dan | N3: STEP 3 : Cara mengambil data close price
I4: klik show all | O4: 1 - Klik market watch & pilih pair
O5: 2 - Klik Data Window
O6: 3 - Letak cursor di candle semalam @ last week @ last month
O7: 4 - Ambil data close di Data Window & taip di paparan meter

Sheet GROUP
B2: EUR | N2: GBP
B3: Pair | C3: High | D3: Low | E3: Bid | F3: Ask | G3: Buyer | I3: Seller | J3: Different | K3: Spread | L3: Range | N3: Pair | O3: High | P3: Low | Q3: Bid | R3: Ask | S3: Buyer | U3: Seller | V3: Different | W3: Spread | X3: Range
B4: EURGBP | C4: =[1]!EURGBP -> 0.87416 | D4: =[2]!EURGBP -> 0.86687 | E4: =[3]!EURGBP -> 0.87213 | F4: =[4]!EURGBP -> 0.87218 | G4: =(E4-D4)/(C4-D4) -> 0.72153635 | H4: =(C4-F4)/(C4-D4) -> 0.27160494 | I4: =1-G4 -> 0.27846365 | J4: =+G4-I4 -> 0.4430727 | K4: =(F4-E4)*10000 -> 0.5 | L4: =(+C4-D4)*10000 -> 72.9 | N4: GBPAUD | O4: =[1]!GBPAUD -> 1.83873 | P4: =[2]!GBPAUD -> 1.81827 | Q4: =[3]!GBPAUD -> 1.82815 | R4: =[4]!GBPAUD -> 1.82829 | S4: =(Q4-P4)/(O4-P4) -> 0.48289345 | T4: =(O4-R4)/(O4-P4) -> 0.51026393 | U4: =1-S4 -> 0.51710655 | V4: =+S4-U4 -> -0.034213099 | W4: =(R4-Q4)*10000 -> 1.4 | X4: =(+O4-P4)*10000 -> 204.6
B5: EURAUD | C5: =[1]!EURAUD -> 1.60043 | D5: =[2]!EURAUD -> 1.58735 | E5: =[3]!EURAUD -> 1.59447 | F5: =[4]!EURAUD -> 1.59458 | G5: =(E5-D5)/(C5-D5) -> 0.54434251 | H5: =(C5-F5)/(C5-D5) -> 0.44724771 | I5: =1-G5 -> 0.45565749 | J5: =+G5-I5 -> 0.088685015 | K5: =(F5-E5)*10000 -> 1.1 | L5: =(+C5-D5)*10000 -> 130.8 | N5: GBPNZD | O5: =[1]!GBPNZD -> 1.96195 | P5: =[2]!GBPNZD -> 1.94931 | Q5: =[3]!GBPNZD -> 1.9526 | R5: =[4]!GBPNZD -> 1.95282 | S5: =(Q5-P5)/(O5-P5) -> 0.26028481 | T5: =(O5-R5)/(O5-P5) -> 0.72231013 | U5: =1-S5 -> 0.73971519 | V5: =+S5-U5 -> -0.47943038 | W5: =(R5-Q5)*10000 -> 2.2 | X5: =(+O5-P5)*10000 -> 126.4
B6: EURNZD | C6: =[1]!EURNZD -> 1.71102 | D6: =[2]!EURNZD -> 1.6994 | E6: =[3]!EURNZD -> 1.70303 | F6: =[4]!EURNZD -> 1.70319 | G6: =(E6-D6)/(C6-D6) -> 0.31239243 | H6: =(C6-F6)/(C6-D6) -> 0.67383821 | I6: =1-G6 -> 0.68760757 | J6: =+G6-I6 -> -0.37521515 | K6: =(F6-E6)*10000 -> 1.6 | L6: =(+C6-D6)*10000 -> 116.2 | N6: GBPCAD | O6: =[1]!GBPCAD -> 1.82801 | P6: =[2]!GBPCAD -> 1.81724 | Q6: =[3]!GBPCAD -> 1.81963 | R6: =[4]!GBPCAD -> 1.81982 | S6: =(Q6-P6)/(O6-P6) -> 0.22191272 | T6: =(O6-R6)/(O6-P6) -> 0.76044568 | U6: =1-S6 -> 0.77808728 | V6: =+S6-U6 -> -0.55617456 | W6: =(R6-Q6)*10000 -> 1.9 | X6: =(+O6-P6)*10000 -> 107.7
B7: EURCAD | C7: =[1]!EURCAD -> 1.59547 | D7: =[2]!EURCAD -> 1.58385 | E7: =[3]!EURCAD -> 1.58707 | F7: =[4]!EURCAD -> 1.58719 | G7: =(E7-D7)/(C7-D7) -> 0.27710843 | H7: =(C7-F7)/(C7-D7) -> 0.71256454 | I7: =1-G7 -> 0.72289157 | J7: =+G7-I7 -> -0.44578313 | K7: =(F7-E7)*10000 -> 1.2 | L7: =(+C7-D7)*10000 -> 116.2 | N7: GBPCHF | O7: =[1]!GBPCHF -> 1.34586 | P7: =[2]!GBPCHF -> 1.33427 | Q7: =[3]!GBPCHF -> 1.34138 | R7: =[4]!GBPCHF -> 1.34148 | S7: =(Q7-P7)/(O7-P7) -> 0.61345988 | T7: =(O7-R7)/(O7-P7) -> 0.37791199 | U7: =1-S7 -> 0.38654012 | V7: =+S7-U7 -> 0.22691976 | W7: =(R7-Q7)*10000 -> 1 | X7: =(+O7-P7)*10000 -> 115.9
B8: EURCHF | C8: =[1]!EURCHF -> 1.17241 | D8: =[2]!EURCHF -> 1.16511 | E8: =[3]!EURCHF -> 1.1699 | F8: =[4]!EURCHF -> 1.17004 | G8: =(E8-D8)/(C8-D8) -> 0.65616438 | H8: =(C8-F8)/(C8-D8) -> 0.32465753 | I8: =1-G8 -> 0.34383562 | J8: =+G8-I8 -> 0.31232877 | K8: =(F8-E8)*10000 -> 1.4 | L8: =(+C8-D8)*10000 -> 73 | N8: GBPUSD | O8: =[1]!GBPUSD -> 1.42138 | P8: =[2]!GBPUSD -> 1.40757 | Q8: =[3]!GBPUSD -> 1.4111 | R8: =[4]!GBPUSD -> 1.41115 | S8: =(Q8-P8)/(O8-P8) -> 0.25561188 | T8: =(O8-R8)/(O8-P8) -> 0.74076756 | U8: =1-S8 -> 0.74438812 | V8: =+S8-U8 -> -0.48877625 | W8: =(R8-Q8)*10000 -> 0.5 | X8: =(+O8-P8)*10000 -> 138.1
B9: EURUSD | C9: =[1]!EURUSD -> 1.23881 | D9: =[2]!EURUSD -> 1.2285 | E9: =[3]!EURUSD -> 1.23072 | F9: =[4]!EURUSD -> 1.23073 | G9: =(E9-D9)/(C9-D9) -> 0.21532493 | H9: =(C9-F9)/(C9-D9) -> 0.78370514 | I9: =1-G9 -> 0.78467507 | J9: =+G9-I9 -> -0.56935015 | K9: =(F9-E9)*10000 -> 0.1 | L9: =(+C9-D9)*10000 -> 103.1 | N9: GBPJPY | O9: =[1]!GBPJPY -> 150.116 | P9: =[2]!GBPJPY -> 148.271 | Q9: =[3]!GBPJPY -> 149.19 | R9: =[4]!GBPJPY -> 149.199 | S9: =(Q9-P9)/(O9-P9) -> 0.49810298 | T9: =(O9-R9)/(O9-P9) -> 0.49701897 | U9: =1-S9 -> 0.50189702 | V9: =+S9-U9 -> -0.0037940379 | W9: =(R9-Q9)*100 -> 0.9 | X9: =(+O9-P9)*100 -> 184.5
B10: EURJPY | C10: =[1]!EURJPY -> 131.017 | D10: =[2]!EURJPY -> 129.498 | E10: =[3]!EURJPY -> 130.118 | F10: =[4]!EURJPY -> 130.125 | G10: =(E10-D10)/(C10-D10) -> 0.40816327 | H10: =(C10-F10)/(C10-D10) -> 0.58722844 | I10: =1-G10 -> 0.59183673 | J10: =+G10-I10 -> -0.18367347 | K10: =(F10-E10)*100 -> 0.7 | L10: =(+C10-D10)*100 -> 151.9
N11: NZD
B12: AUD | N12: Pair | O12: High | P12: Low | Q12: Bid | R12: Ask | S12: Buyer | U12: Seller | V12: Different | W12: Spread | X12: Range
B13: Pair | C13: High | D13: Low | E13: Bid | F13: Ask | G13: Buyer | I13: Seller | J13: Different | K13: Spread | L13: Range | N13: NZDCAD | O13: =[1]!NZDCAD -> 0.93523 | P13: =[2]!NZDCAD -> 0.9307 | Q13: =[3]!NZDCAD -> 0.93183 | R13: =[4]!NZDCAD -> 0.93197 | S13: =(Q13-P13)/(O13-P13) -> 0.24944812 | T13: =(O13-R13)/(O13-P13) -> 0.7196468 | U13: =1-S13 -> 0.75055188 | V13: =+S13-U13 -> -0.50110375 | W13: =(R13-Q13)*10000 -> 1.4 | X13: =(+O13-P13)*10000 -> 45.3
B14: AUDNZD | C14: =[1]!AUDNZD -> 1.07619 | D14: =[2]!AUDNZD -> 1.06553 | E14: =[3]!AUDNZD -> 1.06802 | F14: =[4]!AUDNZD -> 1.06812 | G14: =(E14-D14)/(C14-D14) -> 0.23358349 | H14: =(C14-F14)/(C14-D14) -> 0.75703565 | I14: =1-G14 -> 0.76641651 | J14: =+G14-I14 -> -0.53283302 | K14: =(F14-E14)*10000 -> 1 | L14: =(+C14-D14)*10000 -> 106.6 | N14: NZDCHF | O14: =[1]!NZDCHF -> 0.68768 | P14: =[2]!NZDCHF -> 0.6835 | Q14: =[3]!NZDCHF -> 0.68691 | R14: =[4]!NZDCHF -> 0.68702 | S14: =(Q14-P14)/(O14-P14) -> 0.81578947 | T14: =(O14-R14)/(O14-P14) -> 0.15789474 | U14: =1-S14 -> 0.18421053 | V14: =+S14-U14 -> 0.63157895 | W14: =(R14-Q14)*10000 -> 1.1 | X14: =(+O14-P14)*10000 -> 41.8
B15: AUDCAD | C15: =[1]!AUDCAD -> 1.00318 | D15: =[2]!AUDCAD -> 0.99369 | E15: =[3]!AUDCAD -> 0.99529 | F15: =[4]!AUDCAD -> 0.99542 | G15: =(E15-D15)/(C15-D15) -> 0.16859852 | H15: =(C15-F15)/(C15-D15) -> 0.81770285 | I15: =1-G15 -> 0.83140148 | J15: =+G15-I15 -> -0.66280295 | K15: =(F15-E15)*10000 -> 1.3 | L15: =(+C15-D15)*10000 -> 94.9 | N15: NZDUSD | O15: =[1]!NZDUSD -> 0.72624 | P15: =[2]!NZDUSD -> 0.72121 | Q15: =[3]!NZDUSD -> 0.7226 | R15: =[4]!NZDUSD -> 0.72268 | S15: =(Q15-P15)/(O15-P15) -> 0.27634195 | T15: =(O15-R15)/(O15-P15) -> 0.70775348 | U15: =1-S15 -> 0.72365805 | V15: =+S15-U15 -> -0.4473161 | W15: =(R15-Q15)*10000 -> 0.8 | X15: =(+O15-P15)*10000 -> 50.3
B16: AUDCHF | C16: =[1]!AUDCHF -> 0.73792 | D16: =[2]!AUDCHF -> 0.72858 | E16: =[3]!AUDCHF -> 0.73369 | F16: =[4]!AUDCHF -> 0.73377 | G16: =(E16-D16)/(C16-D16) -> 0.54710921 | H16: =(C16-F16)/(C16-D16) -> 0.44432548 | I16: =1-G16 -> 0.45289079 | J16: =+G16-I16 -> 0.094218415 | K16: =(F16-E16)*10000 -> 0.8 | L16: =(+C16-D16)*10000 -> 93.4 | N16: NZDJPY | O16: =[1]!NZDJPY -> 76.768 | P16: =[2]!NZDJPY -> 75.978 | Q16: =[3]!NZDJPY -> 76.399 | R16: =[4]!NZDJPY -> 76.409 | S16: =(Q16-P16)/(O16-P16) -> 0.53291139 | T16: =(O16-R16)/(O16-P16) -> 0.45443038 | U16: =1-S16 -> 0.46708861 | V16: =+S16-U16 -> 0.065822785 | W16: =(R16-Q16)*100 -> 1 | X16: =(+O16-P16)*100 -> 79
B17: AUDUSD | C17: =[1]!AUDUSD -> 0.77845 | D17: =[2]!AUDUSD -> 0.76869 | E17: =[3]!AUDUSD -> 0.77182 | F17: =[4]!AUDUSD -> 0.77188 | G17: =(E17-D17)/(C17-D17) -> 0.32069672 | H17: =(C17-F17)/(C17-D17) -> 0.67315574 | I17: =1-G17 -> 0.67930328 | J17: =+G17-I17 -> -0.35860656 | K17: =(F17-E17)*10000 -> 0.6 | L17: =(+C17-D17)*10000 -> 97.6
B18: AUDJPY | C18: =[1]!AUDJPY -> 82.433 | D18: =[2]!AUDJPY -> 80.986 | E18: =[3]!AUDJPY -> 81.602 | F18: =[4]!AUDJPY -> 81.61 | G18: =(E18-D18)/(C18-D18) -> 0.42570836 | H18: =(C18-F18)/(C18-D18) -> 0.56876296 | I18: =1-G18 -> 0.57429164 | J18: =+G18-I18 -> -0.14858328 | K18: =(F18-E18)*100 -> 0.8 | L18: =(+C18-D18)*100 -> 144.7 | N18: CHF
N19: Pair | O19: High | P19: Low | Q19: Bid | R19: Ask | S19: Buyer | U19: Seller | V19: Different | W19: Spread | X19: Range
B20: CAD | N20: CHFJPY | O20: =[1]!CHFJPY -> 111.782 | P20: =[2]!CHFJPY -> 110.922 | Q20: =[3]!CHFJPY -> 111.214 | R20: =[4]!CHFJPY -> 111.225 | S20: =(Q20-P20)/(O20-P20) -> 0.33953488 | T20: =(O20-R20)/(O20-P20) -> 0.64767442 | U20: =1-S20 -> 0.66046512 | V20: =+S20-U20 -> -0.32093023 | W20: =(R20-Q20)*100 -> 1.1 | X20: =(+O20-P20)*100 -> 86
B21: Pair | C21: High | D21: Low | E21: Bid | F21: Ask | G21: Buyer | I21: Seller | J21: Different | K21: Spread | L21: Range
B22: CADCHF | C22: =[1]!CADCHF -> 0.73808 | D22: =[2]!CADCHF -> 0.73255 | E22: =[3]!CADCHF -> 0.73712 | F22: =[4]!CADCHF -> 0.73722 | G22: =(E22-D22)/(C22-D22) -> 0.82640145 | H22: =(C22-F22)/(C22-D22) -> 0.15551537 | I22: =1-G22 -> 0.17359855 | J22: =+G22-I22 -> 0.65280289 | K22: =(F22-E22)*10000 -> 1 | L22: =(+C22-D22)*10000 -> 55.3 | N22: JPY
B23: CADJPY | C23: =[1]!CADJPY -> 82.378 | D23: =[2]!CADJPY -> 81.409 | E23: =[3]!CADJPY -> 81.984 | F23: =[4]!CADJPY -> 81.991 | G23: =(E23-D23)/(C23-D23) -> 0.59339525 | H23: =(C23-F23)/(C23-D23) -> 0.3993808 | I23: =1-G23 -> 0.40660475 | J23: =+G23-I23 -> 0.18679051 | K23: =(F23-E23)*100 -> 0.7 | L23: =(+C23-D23)*100 -> 96.9 | N23: Pair | O23: High | P23: Low | Q23: Bid | R23: Ask | S23: Buyer | U23: Seller | V23: Different | W23: Spread | X23: Range
N24: EURJPY | O24: =[1]!EURJPY -> 131.017 | P24: =[2]!EURJPY -> 129.498 | Q24: =[3]!EURJPY -> 130.118 | R24: =[4]!EURJPY -> 130.125 | S24: =(Q24-P24)/(O24-P24) -> 0.40816327 | T24: =(O24-R24)/(O24-P24) -> 0.58722844 | U24: =1-S24 -> 0.59183673 | V24: =+S24-U24 -> -0.18367347 | W24: =(R24-Q24)*100 -> 0.7 | X24: =(+O24-P24)*100 -> 151.9
B25: USD | N25: GBPJPY | O25: =[1]!GBPJPY -> 150.116 | P25: =[2]!GBPJPY -> 148.271 | Q25: =[3]!GBPJPY -> 149.19 | R25: =[4]!GBPJPY -> 149.199 | S25: =(Q25-P25)/(O25-P25) -> 0.49810298 | T25: =(O25-R25)/(O25-P25) -> 0.49701897 | U25: =1-S25 -> 0.50189702 | V25: =+S25-U25 -> -0.0037940379 | W25: =(R25-Q25)*100 -> 0.9 | X25: =(+O25-P25)*100 -> 184.5
B26: Pair | C26: High | D26: Low | E26: Bid | F26: Ask | G26: Buyer | I26: Seller | J26: Different | K26: Spread | L26: Range | N26: AUDJPY | O26: =[1]!AUDJPY -> 82.433 | P26: =[2]!AUDJPY -> 80.986 | Q26: =[3]!AUDJPY -> 81.602 | R26: =[4]!AUDJPY -> 81.61 | S26: =(Q26-P26)/(O26-P26) -> 0.42570836 | T26: =(O26-R26)/(O26-P26) -> 0.56876296 | U26: =1-S26 -> 0.57429164 | V26: =+S26-U26 -> -0.14858328 | W26: =(R26-Q26)*100 -> 0.8 | X26: =(+O26-P26)*100 -> 144.7
B27: USDCAD | C27: =[1]!USDCAD -> 1.29366 | D27: =[2]!USDCAD -> 1.28297 | E27: =[3]!USDCAD -> 1.28962 | F27: =[4]!USDCAD -> 1.28969 | G27: =(E27-D27)/(C27-D27) -> 0.62207671 | H27: =(C27-F27)/(C27-D27) -> 0.37137512 | I27: =1-G27 -> 0.37792329 | J27: =+G27-I27 -> 0.24415341 | K27: =(F27-E27)*10000 -> 0.7 | L27: =(+C27-D27)*10000 -> 106.9 | N27: NZDJPY | O27: =[1]!NZDJPY -> 76.768 | P27: =[2]!NZDJPY -> 75.978 | Q27: =[3]!NZDJPY -> 76.399 | R27: =[4]!NZDJPY -> 76.409 | S27: =(Q27-P27)/(O27-P27) -> 0.53291139 | T27: =(O27-R27)/(O27-P27) -> 0.45443038 | U27: =1-S27 -> 0.46708861 | V27: =+S27-U27 -> 0.065822785 | W27: =(R27-Q27)*100 -> 1 | X27: =(+O27-P27)*100 -> 79
B28: USDCHF | C28: =[1]!USDCHF -> 0.95101 | D28: =[2]!USDCHF -> 0.94592 | E28: =[3]!USDCHF -> 0.95059 | F28: =[4]!USDCHF -> 0.95066 | G28: =(E28-D28)/(C28-D28) -> 0.91748527 | H28: =(C28-F28)/(C28-D28) -> 0.068762279 | I28: =1-G28 -> 0.082514735 | J28: =+G28-I28 -> 0.83497053 | K28: =(F28-E28)*10000 -> 0.7 | L28: =(+C28-D28)*10000 -> 50.9 | N28: CADJPY | O28: =[1]!CADJPY -> 82.378 | P28: =[2]!CADJPY -> 81.409 | Q28: =[3]!CADJPY -> 81.984 | R28: =[4]!CADJPY -> 81.991 | S28: =(Q28-P28)/(O28-P28) -> 0.59339525 | T28: =(O28-R28)/(O28-P28) -> 0.3993808 | U28: =1-S28 -> 0.40660475 | V28: =+S28-U28 -> 0.18679051 | W28: =(R28-Q28)*100 -> 0.7 | X28: =(+O28-P28)*100 -> 96.9
B29: USDJPY | C29: =[1]!USDJPY -> 106.083 | D29: =[2]!USDJPY -> 105.259 | E29: =[3]!USDJPY -> 105.726 | F29: =[4]!USDJPY -> 105.729 | G29: =(E29-D29)/(C29-D29) -> 0.56674757 | H29: =(C29-F29)/(C29-D29) -> 0.42961165 | I29: =1-G29 -> 0.43325243 | J29: =+G29-I29 -> 0.13349515 | K29: =(F29-E29)*100 -> 0.3 | L29: =(+C29-D29)*100 -> 82.4 | N29: CHFJPY | O29: =[1]!CHFJPY -> 111.782 | P29: =[2]!CHFJPY -> 110.922 | Q29: =[3]!CHFJPY -> 111.214 | R29: =[4]!CHFJPY -> 111.225 | S29: =(Q29-P29)/(O29-P29) -> 0.33953488 | T29: =(O29-R29)/(O29-P29) -> 0.64767442 | U29: =1-S29 -> 0.66046512 | V29: =+S29-U29 -> -0.32093023 | W29: =(R29-Q29)*100 -> 1.1 | X29: =(+O29-P29)*100 -> 86
B30: Indications | C30: STRONG BUYER | D30: STRONG SELLER | E30: EXCEED RANGE | F30: CURRENCY | N30: USDJPY | O30: =[1]!USDJPY -> 106.083 | P30: =[2]!USDJPY -> 105.259 | Q30: =[3]!USDJPY -> 105.726 | R30: =[4]!USDJPY -> 105.729 | S30: =(Q30-P30)/(O30-P30) -> 0.56674757 | T30: =(O30-R30)/(O30-P30) -> 0.42961165 | U30: =1-S30 -> 0.43325243 | V30: =+S30-U30 -> 0.13349515 | W30: =(R30-Q30)*100 -> 0.3 | X30: =(+O30-P30)*100 -> 82.4

Sheet SCANNER
B2: LITE SCANNER | S2: =TODAY() -> 43182
B3: CURRENT DATA | N3: TREND | S3: PREVIOUS CLOSE PRICE
B4: T | C4: B/S | D4: Pair | E4: High | F4: Low | G4: Bid | H4: Ask | I4: Buyer | K4: Seller | L4: Spread | M4: Range | N4: Current | O4: Daily | P4: Weekly | Q4: Monthly | S4: Daily | T4: Weekly | U4: Monthly
B5: M | C5: =IF(AND(N5>0,O5>0,P5>0,Q5>0),"BUY",IF(AND(N5<0,O5<0,P5<0,Q5<0),"SELL ","")) | D5: EURUSD | E5: =[1]!EURUSD -> 1.23881 | F5: =[2]!EURUSD -> 1.2285 | G5: =[3]!EURUSD -> 1.23072 | H5: =[4]!EURUSD -> 1.23073 | I5: =(G5-F5)/(E5-F5) -> 0.21532493 | J5: =(E5-H5)/(E5-F5) -> 0.78370514 | K5: =1-I5 -> 0.78467507 | L5: =(H5-G5)*10000 -> 0.1 | M5: =(+E5-F5)*10000 -> 103.1 | N5: =+I5-K5 -> -0.56935015 | O5: =(+G5-S5)*10000 -> -31 | P5: =(+G5-T5)*10000 -> 18.3 | Q5: =(+G5-U5)*10000 -> 113.5 | S5: 1.23382 | T5: 1.22889 | U5: 1.21937
B6: M | C6: =IF(AND(N6>0,O6>0,P6>0,Q6>0),"BUY",IF(AND(N6<0,O6<0,P6<0,Q6<0),"SELL ","")) | D6: GBPUSD | E6: =[1]!GBPUSD -> 1.42138 | F6: =[2]!GBPUSD -> 1.40757 | G6: =[3]!GBPUSD -> 1.4111 | H6: =[4]!GBPUSD -> 1.41115 | I6: =(G6-F6)/(E6-F6) -> 0.25561188 | J6: =(E6-H6)/(E6-F6) -> 0.74076756 | K6: =1-I6 -> 0.74438812 | L6: =(H6-G6)*10000 -> 0.5 | M6: =(+E6-F6)*10000 -> 138.1 | N6: =+I6-K6 -> -0.48877625 | O6: =(+G6-S6)*10000 -> -28.9 | P6: =(+G6-T6)*10000 -> 165.9 | Q6: =(+G6-U6)*10000 -> 352.8 | S6: 1.41399 | T6: 1.39451 | U6: 1.37582
B7: M | C7: =IF(AND(N7>0,O7>0,P7>0,Q7>0),"BUY",IF(AND(N7<0,O7<0,P7<0,Q7<0),"SELL ","")) | D7: AUDUSD | E7: =[1]!AUDUSD -> 0.77845 | F7: =[2]!AUDUSD -> 0.76869 | G7: =[3]!AUDUSD -> 0.77182 | H7: =[4]!AUDUSD -> 0.77188 | I7: =(G7-F7)/(E7-F7) -> 0.32069672 | J7: =(E7-H7)/(E7-F7) -> 0.67315574 | K7: =1-I7 -> 0.67930328 | L7: =(H7-G7)*10000 -> 0.6 | M7: =(+E7-F7)*10000 -> 97.6 | N7: =+I7-K7 -> -0.35860656 | O7: =(+G7-S7)*10000 -> -46.8 | P7: =(+G7-T7)*10000 -> 8.3 | Q7: =(+G7-U7)*10000 -> -42.8 | S7: 0.7765 | T7: 0.77099 | U7: 0.7761
B8: M | C8: =IF(AND(N8>0,O8>0,P8>0,Q8>0),"BUY",IF(AND(N8<0,O8<0,P8<0,Q8<0),"SELL ","")) | D8: NZDUSD | E8: =[1]!NZDUSD -> 0.72624 | F8: =[2]!NZDUSD -> 0.72121 | G8: =[3]!NZDUSD -> 0.7226 | H8: =[4]!NZDUSD -> 0.72268 | I8: =(G8-F8)/(E8-F8) -> 0.27634195 | J8: =(E8-H8)/(E8-F8) -> 0.70775348 | K8: =1-I8 -> 0.72365805 | L8: =(H8-G8)*10000 -> 0.8 | M8: =(+E8-F8)*10000 -> 50.3 | N8: =+I8-K8 -> -0.4473161 | O8: =(+G8-S8)*10000 -> -2.4 | P8: =(+G8-T8)*10000 -> 11.1 | Q8: =(+G8-U8)*10000 -> 17.7 | S8: 0.72284 | T8: 0.72149 | U8: 0.72083
B9: U | C9: =IF(AND(N9>0,O9>0,P9>0,Q9>0),"BUY",IF(AND(N9<0,O9<0,P9<0,Q9<0),"SELL ","")) | D9: USDCAD | E9: =[1]!USDCAD -> 1.29366 | F9: =[2]!USDCAD -> 1.28297 | G9: =[3]!USDCAD -> 1.28962 | H9: =[4]!USDCAD -> 1.28969 | I9: =(G9-F9)/(E9-F9) -> 0.62207671 | J9: =(E9-H9)/(E9-F9) -> 0.37137512 | K9: =1-I9 -> 0.37792329 | L9: =(H9-G9)*10000 -> 0.7 | M9: =(+E9-F9)*10000 -> 106.9 | N9: =+I9-K9 -> 0.24415341 | O9: =(+G9-S9)*10000 -> -6.1 | P9: =(+G9-T9)*10000 -> -200.1 | Q9: =(+G9-U9)*10000 -> 63.5 | S9: 1.29023 | T9: 1.30963 | U9: 1.28327
B10: U | C10: =IF(AND(N10>0,O10>0,P10>0,Q10>0),"BUY",IF(AND(N10<0,O10<0,P10<0,Q10<0),"SELL ","")) | D10: USDCHF | E10: =[1]!USDCHF -> 0.95101 | F10: =[2]!USDCHF -> 0.94592 | G10: =[3]!USDCHF -> 0.95059 | H10: =[4]!USDCHF -> 0.95066 | I10: =(G10-F10)/(E10-F10) -> 0.91748527 | J10: =(E10-H10)/(E10-F10) -> 0.068762279 | K10: =1-I10 -> 0.082514735 | L10: =(H10-G10)*10000 -> 0.7 | M10: =(+E10-F10)*10000 -> 50.9 | N10: =+I10-K10 -> 0.83497053 | O10: =(+G10-S10)*10000 -> 13 | P10: =(+G10-T10)*10000 -> -13.6 | Q10: =(+G10-U10)*10000 -> 61.7 | S10: 0.94929 | T10: 0.95195 | U10: 0.94442
B11: U | C11: =IF(AND(N11>0,O11>0,P11>0,Q11>0),"BUY",IF(AND(N11<0,O11<0,P11<0,Q11<0),"SELL ","")) | D11: USDJPY | E11: =[1]!USDJPY -> 106.083 | F11: =[2]!USDJPY -> 105.259 | G11: =[3]!USDJPY -> 105.726 | H11: =[4]!USDJPY -> 105.729 | I11: =(G11-F11)/(E11-F11) -> 0.56674757 | J11: =(E11-H11)/(E11-F11) -> 0.42961165 | K11: =1-I11 -> 0.43325243 | L11: =(H11-G11)*100 -> 0.3 | M11: =(+E11-F11)*100 -> 82.4 | N11: =+I11-K11 -> 0.13349515 | O11: =(+G11-S11)*100 -> -31.7 | P11: =(+G11-T11)*100 -> -23.4 | Q11: =(+G11-U11)*100 -> -94 | S11: 106.043 | T11: 105.96 | U11: 106.666
B12: Y | C12: =IF(AND(N12>0,O12>0,P12>0,Q12>0),"BUY",IF(AND(N12<0,O12<0,P12<0,Q12<0),"SELL ","")) | D12: EURJPY | E12: =[1]!EURJPY -> 131.017 | F12: =[2]!EURJPY -> 129.498 | G12: =[3]!EURJPY -> 130.118 | H12: =[4]!EURJPY -> 130.125 | I12: =(G12-F12)/(E12-F12) -> 0.40816327 | J12: =(E12-H12)/(E12-F12) -> 0.58722844 | K12: =1-I12 -> 0.59183673 | L12: =(H12-G12)*100 -> 0.7 | M12: =(+E12-F12)*100 -> 151.9 | N12: =+I12-K12 -> -0.18367347 | O12: =(+G12-S12)*100 -> -72.5 | P12: =(+G12-T12)*100 -> -9.4 | Q12: =(+G12-U12)*100 -> 4.6 | S12: 130.843 | T12: 130.212 | U12: 130.072
B13: Y | C13: =IF(AND(N13>0,O13>0,P13>0,Q13>0),"BUY",IF(AND(N13<0,O13<0,P13<0,Q13<0),"SELL ","")) | D13: GBPJPY | E13: =[1]!GBPJPY -> 150.116 | F13: =[2]!GBPJPY -> 148.271 | G13: =[3]!GBPJPY -> 149.19 | H13: =[4]!GBPJPY -> 149.199 | I13: =(G13-F13)/(E13-F13) -> 0.49810298 | J13: =(E13-H13)/(E13-F13) -> 0.49701897 | K13: =1-I13 -> 0.50189702 | L13: =(H13-G13)*100 -> 0.9 | M13: =(+E13-F13)*100 -> 184.5 | N13: =+I13-K13 -> -0.0037940379 | O13: =(+G13-S13)*100 -> -76.7 | P13: =(+G13-T13)*100 -> 145.7 | Q13: =(+G13-U13)*100 -> 242.8 | S13: 149.957 | T13: 147.733 | U13: 146.762
B14: Y | C14: =IF(AND(N14>0,O14>0,P14>0,Q14>0),"BUY",IF(AND(N14<0,O14<0,P14<0,Q14<0),"SELL ","")) -> SELL | D14: AUDJPY | E14: =[1]!AUDJPY -> 82.433 | F14: =[2]!AUDJPY -> 80.986 | G14: =[3]!AUDJPY -> 81.602 | H14: =[4]!AUDJPY -> 81.61 | I14: =(G14-F14)/(E14-F14) -> 0.42570836 | J14: =(E14-H14)/(E14-F14) -> 0.56876296 | K14: =1-I14 -> 0.57429164 | L14: =(H14-G14)*100 -> 0.8 | M14: =(+E14-F14)*100 -> 144.7 | N14: =+I14-K14 -> -0.14858328 | O14: =(+G14-S14)*100 -> -74.5 | P14: =(+G14-T14)*100 -> -11.1 | Q14: =(+G14-U14)*100 -> -118.5 | S14: 82.347 | T14: 81.713 | U14: 82.787
B15: Y | C15: =IF(AND(N15>0,O15>0,P15>0,Q15>0),"BUY",IF(AND(N15<0,O15<0,P15<0,Q15<0),"SELL ","")) | D15: NZDJPY | E15: =[1]!NZDJPY -> 76.768 | F15: =[2]!NZDJPY -> 75.978 | G15: =[3]!NZDJPY -> 76.399 | H15: =[4]!NZDJPY -> 76.409 | I15: =(G15-F15)/(E15-F15) -> 0.53291139 | J15: =(E15-H15)/(E15-F15) -> 0.45443038 | K15: =1-I15 -> 0.46708861 | L15: =(H15-G15)*100 -> 1 | M15: =(+E15-F15)*100 -> 79 | N15: =+I15-K15 -> 0.065822785 | O15: =(+G15-S15)*100 -> -24.3 | P15: =(+G15-T15)*100 -> -5.6 | Q15: =(+G15-U15)*100 -> -47.7 | S15: 76.642 | T15: 76.455 | U15: 76.876
B16: Y | C16: =IF(AND(N16>0,O16>0,P16>0,Q16>0),"BUY",IF(AND(N16<0,O16<0,P16<0,Q16<0),"SELL ","")) | D16: CADJPY | E16: =[1]!CADJPY -> 82.378 | F16: =[2]!CADJPY -> 81.409 | G16: =[3]!CADJPY -> 81.984 | H16: =[4]!CADJPY -> 81.991 | I16: =(G16-F16)/(E16-F16) -> 0.59339525 | J16: =(E16-H16)/(E16-F16) -> 0.3993808 | K16: =1-I16 -> 0.40660475 | L16: =(H16-G16)*100 -> 0.7 | M16: =(+E16-F16)*100 -> 96.9 | N16: =+I16-K16 -> 0.18679051 | O16: =(+G16-S16)*100 -> -19.4 | P16: =(+G16-T16)*100 -> 108.9 | Q16: =(+G16-U16)*100 -> -113.1 | S16: 82.178 | T16: 80.895 | U16: 83.115
B17: Y | C17: =IF(AND(N17>0,O17>0,P17>0,Q17>0),"BUY",IF(AND(N17<0,O17<0,P17<0,Q17<0),"SELL ","")) -> SELL | D17: CHFJPY | E17: =[1]!CHFJPY -> 111.782 | F17: =[2]!CHFJPY -> 110.922 | G17: =[3]!CHFJPY -> 111.214 | H17: =[4]!CHFJPY -> 111.225 | I17: =(G17-F17)/(E17-F17) -> 0.33953488 | J17: =(E17-H17)/(E17-F17) -> 0.64767442 | K17: =1-I17 -> 0.66046512 | L17: =(H17-G17)*100 -> 1.1 | M17: =(+E17-F17)*100 -> 86 | N17: =+I17-K17 -> -0.32093023 | O17: =(+G17-S17)*100 -> -48.6 | P17: =(+G17-T17)*100 -> -3.9 | Q17: =(+G17-U17)*100 -> -170.6 | S17: 111.7 | T17: 111.253 | U17: 112.92
B19: HEATMAP | K19: TREND | P19: CURRENCY STRENGTH | U19: THIS IS A FREE SCANNER. USE AT YOUR OWN RISK.
B20: =+SCANNER!P20 -> EUR | C20: =+GROUP!G4 -> 0.72153635 | D20: =+GROUP!G5 -> 0.54434251 | E20: =+GROUP!G6 -> 0.31239243 | F20: =+GROUP!G7 -> 0.27710843 | G20: =+GROUP!G8 -> 0.65616438 | H20: =+GROUP!G9 -> 0.21532493 | J20: =+GROUP!G10 -> 0.40816327 | K20: =+GROUP!B9 -> EURUSD | L20: =+GROUP!J9 -> -0.56935015 | M20: =+GROUP!B10 -> EURJPY | N20: =+GROUP!J10 -> -0.18367347 | P20: EUR | Q20: =(+GROUP!G4+GROUP!G5+GROUP!G6+GROUP!G7+GROUP!G8+GROUP!G9+GROUP!G10)/7 -> 0.44786176
B21: GBP | C21: =+GROUP!I4 -> 0.27846365 | D21: =+GROUP!S4 -> 0.48289345 | E21: =+GROUP!S5 -> 0.26028481 | F21: =+GROUP!S6 -> 0.22191272 | G21: =+GROUP!S7 -> 0.61345988 | H21: =+GROUP!S8 -> 0.25561188 | J21: =+GROUP!S9 -> 0.49810298 | K21: =+GROUP!N8 -> GBPUSD | L21: =+GROUP!V8 -> -0.48877625 | M21: =+GROUP!N9 -> GBPJPY | N21: =+GROUP!V9 -> -0.0037940379 | P21: GBP | Q21: =(+GROUP!I4+GROUP!S4+GROUP!S5+GROUP!S6+GROUP!S7+GROUP!S8+GROUP!S9)/7 -> 0.37296134
B22: AUD | C22: =+GROUP!I5 -> 0.45565749 | D22: =+GROUP!U4 -> 0.51710655 | E22: =+GROUP!G14 -> 0.23358349 | F22: =+GROUP!G15 -> 0.16859852 | G22: =+GROUP!G16 -> 0.54710921 | H22: =+GROUP!G17 -> 0.32069672 | J22: =+GROUP!G18 -> 0.42570836 | K22: =+GROUP!B17 -> AUDUSD | L22: =+GROUP!J17 -> -0.35860656 | M22: =+GROUP!B18 -> AUDJPY | N22: =+GROUP!J18 -> -0.14858328 | P22: AUD | Q22: =(+GROUP!I5+GROUP!U4+GROUP!G14+GROUP!G15+GROUP!G16+GROUP!G17+GROUP!G18)/7 -> 0.38120862
B23: NZD | C23: =+GROUP!I6 -> 0.68760757 | D23: =+GROUP!U5 -> 0.73971519 | E23: =+GROUP!I14 -> 0.76641651 | F23: =+GROUP!S13 -> 0.24944812 | G23: =+GROUP!S14 -> 0.81578947 | H23: =+GROUP!S15 -> 0.27634195 | J23: =+GROUP!S16 -> 0.53291139 | K23: =+GROUP!N15 -> NZDUSD | L23: =+GROUP!V15 -> -0.4473161 | M23: =+GROUP!N16 -> NZDJPY | N23: =+GROUP!V16 -> 0.065822785 | P23: NZD | Q23: =(+GROUP!I6+GROUP!U5+GROUP!I14+GROUP!S13+GROUP!S14+GROUP!S15+GROUP!S16)/7 -> 0.58117574
B24: CAD | C24: =+GROUP!I7 -> 0.72289157 | D24: =+GROUP!U6 -> 0.77808728 | E24: =+GROUP!I15 -> 0.83140148 | F24: =+GROUP!U13 -> 0.75055188 | G24: =+GROUP!G22 -> 0.82640145 | H24: =+GROUP!G23 -> 0.59339525 | J24: =+GROUP!I27 -> 0.37792329 | K24: =+GROUP!B27 -> USDCAD | L24: =+GROUP!J27 -> 0.24415341 | M24: =+GROUP!B23 -> CADJPY | N24: =+GROUP!J23 -> 0.18679051 | P24: CAD | Q24: =(+GROUP!I7+GROUP!U6+GROUP!I15+GROUP!U13+GROUP!G22+GROUP!G23+GROUP!I27)/7 -> 0.69723603
B25: CHF | C25: =+GROUP!I8 -> 0.34383562 | D25: =+GROUP!U7 -> 0.38654012 | E25: =+GROUP!I16 -> 0.45289079 | F25: =+GROUP!U14 -> 0.18421053 | G25: =+GROUP!I22 -> 0.17359855 | H25: =+GROUP!S20 -> 0.33953488 | J25: =+GROUP!I28 -> 0.082514735 | K25: =+GROUP!B28 -> USDCHF | L25: =+GROUP!J28 -> 0.83497053 | M25: =+GROUP!N20 -> CHFJPY | N25: =+GROUP!V20 -> -0.32093023 | P25: CHF | Q25: =(+GROUP!I8+GROUP!U7+GROUP!I16+GROUP!U14+GROUP!I22+GROUP!S20+GROUP!I28)/7 -> 0.28044646
B26: YEN | C26: =+GROUP!I10 -> 0.59183673 | D26: =+GROUP!U9 -> 0.50189702 | E26: =+GROUP!I18 -> 0.57429164 | F26: =+GROUP!U16 -> 0.46708861 | G26: =+GROUP!I23 -> 0.40660475 | H26: =+GROUP!U20 -> 0.66046512 | J26: =+GROUP!I29 -> 0.43325243 | K26: =+GROUP!B29 -> USDJPY | L26: =+GROUP!J29 -> 0.13349515 | M26: =+GROUP!B29 -> USDJPY | N26: =+GROUP!J29 -> 0.13349515 | P26: YEN | Q26: =(+GROUP!I10+GROUP!U9+GROUP!I18+GROUP!U16+GROUP!I23+GROUP!U20+GROUP!I29)/7 -> 0.51934804
B27: USD | C27: =+GROUP!I9 -> 0.78467507 | D27: =+GROUP!U8 -> 0.74438812 | E27: =+GROUP!I17 -> 0.67930328 | F27: =+GROUP!U15 -> 0.72365805 | G27: =+GROUP!G27 -> 0.62207671 | H27: =+GROUP!G28 -> 0.91748527 | J27: =+GROUP!G29 -> 0.56674757 | K27: USD | L27: =(+GROUP!I9+GROUP!U8+GROUP!I17+GROUP!U15+GROUP!G27+GROUP!G28+GROUP!G29)/7 -> 0.71976201 | M27: YEN | N27: =(+GROUP!I10+GROUP!U9+GROUP!I18+GROUP!U16+GROUP!I23+GROUP!U20+GROUP!I29)/7 -> 0.51934804 | P27: USD | Q27: =(+GROUP!I9+GROUP!U8+GROUP!I17+GROUP!U15+GROUP!G27+GROUP!G28+GROUP!G29)/7 -> 0.71976201
