Workbook

Sheet FXCN
A1: <TICKER> | B1: <PER> | C1: <DATE> | D1: <TIME> | E1: <OPEN> | F1: <HIGH> | G1: <LOW> | H1: <CLOSE> | I1: <VOL>
A2: FXCN | B2: D | C2: 41779 | D2: 0 | E2: 980 | F2: 980 | G2: 980 | H2: 980 | I2: 801
A3: FXCN | B3: D | C3: 41780 | D3: 0 | E3: 987 | F3: 987 | G3: 987 | H3: 987 | I3: 790
A4: FXCN | B4: D | C4: 41781 | D4: 0 | E4: 989 | F4: 989 | G4: 989 | H4: 989 | I4: 800
A5: FXCN | B5: D | C5: 41782 | D5: 0 | E5: 993 | F5: 993 | G5: 993 | H5: 993 | I5: 800
A6: FXCN | B6: D | C6: 41785 | D6: 0 | E6: 985 | F6: 994.5 | G6: 985 | H6: 988.5 | I6: 798
A7: FXCN | B7: D | C7: 41786 | D7: 0 | E7: 988.9 | F7: 988.9 | G7: 982.9 | H7: 982.9 | I7: 794
A8: FXCN | B8: D | C8: 41787 | D8: 0 | E8: 1003 | F8: 1008.9 | G8: 1003 | H8: 1008.9 | I8: 806
A9: FXCN | B9: D | C9: 41788 | D9: 0 | E9: 1005 | F9: 1005 | G9: 1005 | H9: 1005 | I9: 800
A10: FXCN | B10: D | C10: 41789 | D10: 0 | E10: 1007 | F10: 1025.5 | G10: 1007 | H10: 1025.5 | I10: 858
A11: FXCN | B11: D | C11: 41792 | D11: 0 | E11: 1015 | F11: 1024.2 | G11: 1015 | H11: 1024.2 | I11: 810
A12: FXCN | B12: D | C12: 41793 | D12: 0 | E12: 1025 | F12: 1025 | G12: 1025 | H12: 1025 | I12: 796
A13: FXCN | B13: D | C13: 41794 | D13: 0 | E13: 1025 | F13: 1025 | G13: 1025 | H13: 1025 | I13: 794
... A988: FXCN | B988: D | C988: 43260 | D988: 0 | E988: 2910 | F988: 2925 | G988: 2895 | H988: 2910 | I988: 346
E989: =(E988-E2)*100/E2 -> 196.93878

Sheet FXJP
A1: <TICKER> | B1: <PER> | C1: <DATE> | D1: <TIME> | E1: <OPEN> | F1: <HIGH> | G1: <LOW> | H1: <CLOSE> | I1: <VOL>
A2: FXJP | B2: D | C2: 41779 | D2: 0 | E2: 958 | F2: 962 | G2: 957 | H2: 957 | I2: 882
A3: FXJP | B3: D | C3: 41780 | D3: 0 | E3: 958 | F3: 959.2 | G3: 958 | H3: 959.2 | I3: 803
A4: FXJP | B4: D | C4: 41781 | D4: 0 | E4: 961 | F4: 961 | G4: 961 | H4: 961 | I4: 800
A5: FXJP | B5: D | C5: 41782 | D5: 0 | E5: 971 | F5: 971 | G5: 971 | H5: 971 | I5: 800
A6: FXJP | B6: D | C6: 41785 | D6: 0 | E6: 974 | F6: 982.9 | G6: 974 | H6: 975.4 | I6: 792
A7: FXJP | B7: D | C7: 41786 | D7: 0 | E7: 979 | F7: 979 | G7: 979 | H7: 979 | I7: 780
A8: FXJP | B8: D | C8: 41787 | D8: 0 | E8: 987 | F8: 992.8 | G8: 987 | H8: 992.8 | I8: 847
A9: FXJP | B9: D | C9: 41788 | D9: 0 | E9: 996 | F9: 998.8 | G9: 996 | H9: 998.8 | I9: 806
A10: FXJP | B10: D | C10: 41789 | D10: 0 | E10: 1002 | F10: 1011.2 | G10: 1002 | H10: 1011.2 | I10: 807
A11: FXJP | B11: D | C11: 41792 | D11: 0 | E11: 1020 | F11: 1020 | G11: 1020 | H11: 1020 | I11: 800
A12: FXJP | B12: D | C12: 41793 | D12: 0 | E12: 1025 | F12: 1025 | G12: 1025 | H12: 1025 | I12: 780
A13: FXJP | B13: D | C13: 41794 | D13: 0 | E13: 1028 | F13: 1028 | G13: 1028 | H13: 1028 | I13: 790
... A952: FXJP | B952: D | C952: 43260 | D952: 0 | E952: 2425 | F952: 2432 | G952: 2422 | H952: 2432 | I952: 24
E953: =(E952-E2)*100/E2 -> 153.13152

Sheet FXAU
A1: <TICKER> | B1: <PER> | C1: <DATE> | D1: <TIME> | E1: <OPEN> | F1: <HIGH> | G1: <LOW> | H1: <CLOSE> | I1: <VOL>
A2: FXAU | B2: D | C2: 41779 | D2: 0 | E2: 1027 | F2: 1030 | G2: 1027 | H2: 1030 | I2: 801
A3: FXAU | B3: D | C3: 41780 | D3: 0 | E3: 1021 | F3: 1021.4 | G3: 1021 | H3: 1021.4 | I3: 793
A4: FXAU | B4: D | C4: 41781 | D4: 0 | E4: 1028 | F4: 1028 | G4: 1028 | H4: 1028 | I4: 800
A5: FXAU | B5: D | C5: 41782 | D5: 0 | E5: 1029 | F5: 1029 | G5: 1029 | H5: 1029 | I5: 800
A6: FXAU | B6: D | C6: 41785 | D6: 0 | E6: 1028 | F6: 1035.3 | G6: 1027.5 | H6: 1027.5 | I6: 800
A7: FXAU | B7: D | C7: 41786 | D7: 0 | E7: 1032 | F7: 1032 | G7: 1032 | H7: 1032 | I7: 782
A8: FXAU | B8: D | C8: 41787 | D8: 0 | E8: 1042 | F8: 1044.4 | G8: 1042 | H8: 1044.4 | I8: 803
A9: FXAU | B9: D | C9: 41788 | D9: 0 | E9: 1048 | F9: 1052.6 | G9: 1048 | H9: 1052.6 | I9: 801
A10: FXAU | B10: D | C10: 41789 | D10: 0 | E10: 1050 | F10: 1056.6 | G10: 1047.6 | H10: 1053.7 | I10: 847
A11: FXAU | B11: D | C11: 41792 | D11: 0 | E11: 1055 | F11: 1058.4 | G11: 1055 | H11: 1058.4 | I11: 802
A12: FXAU | B12: D | C12: 41793 | D12: 0 | E12: 1050 | F12: 1050 | G12: 1050 | H12: 1050 | I12: 796
A13: FXAU | B13: D | C13: 41794 | D13: 0 | E13: 1045 | F13: 1050.3 | G13: 1045 | H13: 1050.3 | I13: 800
... A936: FXAU | B936: D | C936: 43260 | D936: 0 | E936: 1846 | F936: 1846 | G936: 1836 | H936: 1842 | I936: 50
E937: =(E936-E2)*100/E2 -> 79.746835

Sheet FXRB
A1: <TICKER> | B1: <PER> | C1: <DATE> | D1: <TIME> | E1: <OPEN> | F1: <HIGH> | G1: <LOW> | H1: <CLOSE> | I1: <VOL>
A2: FXRB | B2: D | C2: 41779 | D2: 0 | E2: 955 | F2: 963.9 | G2: 955 | H2: 963.9 | I2: 801
A3: FXRB | B3: D | C3: 41780 | D3: 0 | E3: 956 | F3: 956 | G3: 956 | H3: 956 | I3: 800
A4: FXRB | B4: D | C4: 41781 | D4: 0 | E4: 960 | F4: 960 | G4: 960 | H4: 960 | I4: 800
A5: FXRB | B5: D | C5: 41782 | D5: 0 | E5: 962 | F5: 962 | G5: 962 | H5: 962 | I5: 800
A6: FXRB | B6: D | C6: 41785 | D6: 0 | E6: 964 | F6: 972 | G6: 964 | H6: 972 | I6: 822
A7: FXRB | B7: D | C7: 41786 | D7: 0 | E7: 968 | F7: 972 | G7: 968 | H7: 972 | I7: 958
A8: FXRB | B8: D | C8: 41787 | D8: 0 | E8: 965 | F8: 968 | G8: 950 | H8: 968 | I8: 900
A9: FXRB | B9: D | C9: 41788 | D9: 0 | E9: 970 | F9: 972.5 | G9: 970 | H9: 972.5 | I9: 1566
A10: FXRB | B10: D | C10: 41789 | D10: 0 | E10: 974 | F10: 978 | G10: 974 | H10: 974 | I10: 1242
A11: FXRB | B11: D | C11: 41792 | D11: 0 | E11: 976 | F11: 988 | G11: 975.2 | H11: 980 | I11: 3414
A12: FXRB | B12: D | C12: 41793 | D12: 0 | E12: 980 | F12: 988.2 | G12: 980 | H12: 988.2 | I12: 908
A13: FXRB | B13: D | C13: 41794 | D13: 0 | E13: 980 | F13: 985.6 | G13: 980 | H13: 981 | I13: 1726
... A1001: FXRB | B1001: D | C1001: 43260 | D1001: 0 | E1001: 1406 | F1001: 1408 | G1001: 1406 | H1001: 1406 | I1001: 805
E1002: =(E1001-E2)*100/E2 -> 47.225131

Sheet FXIT
A1: <TICKER> | B1: <PER> | C1: <DATE> | D1: <TIME> | E1: <OPEN> | F1: <HIGH> | G1: <LOW> | H1: <CLOSE> | I1: <VOL>
A2: FXIT | B2: D | C2: 41779 | D2: 0 | E2: 1181 | F2: 1185.8 | G2: 1174.4 | H2: 1174.4 | I2: 1035
A3: FXIT | B3: D | C3: 41780 | D3: 0 | E3: 1175 | F3: 1175 | G3: 1175 | H3: 1175 | I3: 794
A4: FXIT | B4: D | C4: 41781 | D4: 0 | E4: 1178 | F4: 1178 | G4: 1178 | H4: 1178 | I4: 800
A5: FXIT | B5: D | C5: 41782 | D5: 0 | E5: 1179 | F5: 1179 | G5: 1179 | H5: 1179 | I5: 800
A6: FXIT | B6: D | C6: 41785 | D6: 0 | E6: 1183 | F6: 1188.5 | G6: 1183 | H6: 1188.5 | I6: 797
A7: FXIT | B7: D | C7: 41786 | D7: 0 | E7: 1189 | F7: 1199.6 | G7: 1189 | H7: 1199.6 | I7: 799
A8: FXIT | B8: D | C8: 41787 | D8: 0 | E8: 1208 | F8: 1210.4 | G8: 1208 | H8: 1210.4 | I8: 838
A9: FXIT | B9: D | C9: 41788 | D9: 0 | E9: 1211 | F9: 1211 | G9: 1211 | H9: 1211 | I9: 800
A10: FXIT | B10: D | C10: 41789 | D10: 0 | E10: 1224 | F10: 1224 | G10: 1224 | H10: 1224 | I10: 948
A11: FXIT | B11: D | C11: 41792 | D11: 0 | E11: 1227 | F11: 1227 | G11: 1223.9 | H11: 1223.9 | I11: 806
A12: FXIT | B12: D | C12: 41793 | D12: 0 | E12: 1226 | F12: 1226 | G12: 1226 | H12: 1226 | I12: 796
A13: FXIT | B13: D | C13: 41794 | D13: 0 | E13: 1230 | F13: 1232.7 | G13: 1230 | H13: 1232.6 | I13: 840
... A1002: FXIT | B1002: D | C1002: 43260 | D1002: 0 | E1002: 4370 | F1002: 4391 | G1002: 4370 | H1002: 4389 | I1002: 641
E1003: =(E1002-E2)*100/E2 -> 270.0254

Sheet FXDE
A1: <TICKER> | B1: <PER> | C1: <DATE> | D1: <TIME> | E1: <OPEN> | F1: <HIGH> | G1: <LOW> | H1: <CLOSE> | I1: <VOL>
A2: FXDE | B2: D | C2: 41779 | D2: 0 | E2: 1164 | F2: 1164 | G2: 1164 | H2: 1164 | I2: 800
A3: FXDE | B3: D | C3: 41780 | D3: 0 | E3: 1161 | F3: 1161 | G3: 1161 | H3: 1161 | I3: 800
A4: FXDE | B4: D | C4: 41781 | D4: 0 | E4: 1162 | F4: 1162 | G4: 1154.8 | H4: 1154.8 | I4: 3800
A5: FXDE | B5: D | C5: 41782 | D5: 0 | E5: 1160 | F5: 1160 | G5: 1158.5 | H5: 1158.5 | I5: 801
A6: FXDE | B6: D | C6: 41785 | D6: 0 | E6: 1158 | F6: 1169.2 | G6: 1158 | H6: 1166.8 | I6: 782
A7: FXDE | B7: D | C7: 41786 | D7: 0 | E7: 1173 | F7: 1187.9 | G7: 1173 | H7: 1187.9 | I7: 3810
A8: FXDE | B8: D | C8: 41787 | D8: 0 | E8: 1189 | F8: 1189 | G8: 1187.4 | H8: 1187.4 | I8: 790
A9: FXDE | B9: D | C9: 41788 | D9: 0 | E9: 1189 | F9: 1191.9 | G9: 1189 | H9: 1191.9 | I9: 801
A10: FXDE | B10: D | C10: 41789 | D10: 0 | E10: 1192 | F10: 1197.9 | G10: 1192 | H10: 1197.6 | I10: 816
A11: FXDE | B11: D | C11: 41792 | D11: 0 | E11: 1202 | F11: 1202.3 | G11: 1202 | H11: 1202.3 | I11: 803
A12: FXDE | B12: D | C12: 41793 | D12: 0 | E12: 1203 | F12: 1203 | G12: 1203 | H12: 1203 | I12: 800
A13: FXDE | B13: D | C13: 41794 | D13: 0 | E13: 1203 | F13: 1203 | G13: 1203 | H13: 1203 | I13: 800
... A1007: FXDE | B1007: D | C1007: 43260 | D1007: 0 | E1007: 2223 | F1007: 2225.5 | G1007: 2218 | H1007: 2222.5 | I1007: 127
E1008: =(E1007-E2)*100/E2 -> 90.979381

Sheet FXUS
A1: <TICKER> | B1: <PER> | C1: <DATE> | D1: <TIME> | E1: <OPEN> | F1: <HIGH> | G1: <LOW> | H1: <CLOSE> | I1: <VOL>
A2: FXUS | B2: D | C2: 41779 | D2: 0 | E2: 1147 | F2: 1147 | G2: 1147 | H2: 1147 | I2: 800
A3: FXUS | B3: D | C3: 41780 | D3: 0 | E3: 1140 | F3: 1140 | G3: 1140 | H3: 1140 | I3: 790
A4: FXUS | B4: D | C4: 41781 | D4: 0 | E4: 1143 | F4: 1143 | G4: 1143 | H4: 1143 | I4: 800
A5: FXUS | B5: D | C5: 41782 | D5: 0 | E5: 1145 | F5: 1146.4 | G5: 1142 | H5: 1142 | I5: 802
A6: FXUS | B6: D | C6: 41785 | D6: 0 | E6: 1142 | F6: 1147.7 | G6: 1142 | H6: 1145.3 | I6: 802
A7: FXUS | B7: D | C7: 41786 | D7: 0 | E7: 1149 | F7: 1149 | G7: 1149 | H7: 1149 | I7: 786
A8: FXUS | B8: D | C8: 41787 | D8: 0 | E8: 1162 | F8: 1167.3 | G8: 1162 | H8: 1167.3 | I8: 805
A9: FXUS | B9: D | C9: 41788 | D9: 0 | E9: 1167 | F9: 1168.7 | G9: 1167 | H9: 1168.7 | I9: 801
A10: FXUS | B10: D | C10: 41789 | D10: 0 | E10: 1176 | F10: 1194.7 | G10: 1174.2 | H10: 1178.9 | I10: 3842
A11: FXUS | B11: D | C11: 41792 | D11: 0 | E11: 1184 | F11: 1184 | G11: 1181.2 | H11: 1182.8 | I11: 810
A12: FXUS | B12: D | C12: 41793 | D12: 0 | E12: 1188 | F12: 1188 | G12: 1186.5 | H12: 1186.5 | I12: 800
A13: FXUS | B13: D | C13: 41794 | D13: 0 | E13: 1190 | F13: 1193.3 | G13: 1190 | H13: 1193.3 | I13: 798
... A1009: FXUS | B1009: D | C1009: 43260 | D1009: 0 | E1009: 3065 | F1009: 3072 | G1009: 3062 | H1009: 3072 | I1009: 160
E1010: =(E1009-E2)*100/E2 -> 167.21883

Sheet FXMM
A1: <TICKER> | B1: <PER> | C1: <DATE> | D1: <TIME> | E1: <OPEN> | F1: <HIGH> | G1: <LOW> | H1: <CLOSE> | I1: <VOL>
A2: FXMM | B2: D | C2: 41779 | D2: 0 | E2: 1002.5 | F2: 1002.5 | G2: 1002.5 | H2: 1002.5 | I2: 24
A3: FXMM | B3: D | C3: 41781 | D3: 0 | E3: 1002.7 | F3: 1002.7 | G3: 1002.7 | H3: 1002.7 | I3: 1
A4: FXMM | B4: D | C4: 41786 | D4: 0 | E4: 1004 | F4: 1004 | G4: 1004 | H4: 1004 | I4: 10
A5: FXMM | B5: D | C5: 41795 | D5: 0 | E5: 1005.8 | F5: 1005.8 | G5: 1005.8 | H5: 1005.8 | I5: 2
A6: FXMM | B6: D | C6: 41796 | D6: 0 | E6: 1006 | F6: 1006 | G6: 1006 | H6: 1006 | I6: 1
A7: FXMM | B7: D | C7: 41800 | D7: 0 | E7: 1006.9 | F7: 1006.9 | G7: 1006.9 | H7: 1006.9 | I7: 1
A8: FXMM | B8: D | C8: 41801 | D8: 0 | E8: 1007 | F8: 1007 | G8: 1007 | H8: 1007 | I8: 150
A9: FXMM | B9: D | C9: 41808 | D9: 0 | E9: 1008.1 | F9: 1008.1 | G9: 1008.1 | H9: 1008.1 | I9: 2
A10: FXMM | B10: D | C10: 41809 | D10: 0 | E10: 1008.5 | F10: 1008.5 | G10: 1008.5 | H10: 1008.5 | I10: 105
A11: FXMM | B11: D | C11: 41813 | D11: 0 | E11: 1008.7 | F11: 1008.7 | G11: 1008.7 | H11: 1008.7 | I11: 70
A12: FXMM | B12: D | C12: 41814 | D12: 0 | E12: 1009.7 | F12: 1009.7 | G12: 1009.7 | H12: 1009.7 | I12: 7
A13: FXMM | B13: D | C13: 41815 | D13: 0 | E13: 1009.9 | F13: 1009.9 | G13: 1009.9 | H13: 1009.9 | I13: 5
... A957: FXMM | B957: D | C957: 43260 | D957: 0 | E957: 1437 | F957: 1437.3 | G957: 1437 | H957: 1437.2 | I957: 1950
E958: =(E957-E2)*100/E2 -> 43.341646

Sheet FXUK
A1: <TICKER> | B1: <PER> | C1: <DATE> | D1: <TIME> | E1: <OPEN> | F1: <HIGH> | G1: <LOW> | H1: <CLOSE> | I1: <VOL>
A2: FXUK | B2: D | C2: 41779 | D2: 0 | E2: 1190 | F2: 1190 | G2: 1190 | H2: 1190 | I2: 800
A3: FXUK | B3: D | C3: 41780 | D3: 0 | E3: 1183 | F3: 1183 | G3: 1183 | H3: 1183 | I3: 796
A4: FXUK | B4: D | C4: 41781 | D4: 0 | E4: 1184 | F4: 1184 | G4: 1184 | H4: 1184 | I4: 800
A5: FXUK | B5: D | C5: 41782 | D5: 0 | E5: 1182 | F5: 1182 | G5: 1173.1 | H5: 1173.1 | I5: 801
A6: FXUK | B6: D | C6: 41785 | D6: 0 | E6: 1173 | F6: 1173 | G6: 1173 | H6: 1173 | I6: 792
A7: FXUK | B7: D | C7: 41786 | D7: 0 | E7: 1180 | F7: 1184.1 | G7: 1180 | H7: 1184.1 | I7: 793
A8: FXUK | B8: D | C8: 41787 | D8: 0 | E8: 1185 | F8: 1185 | G8: 1185 | H8: 1185 | I8: 796
A9: FXUK | B9: D | C9: 41788 | D9: 0 | E9: 1185 | F9: 1185 | G9: 1185 | H9: 1185 | I9: 800
A10: FXUK | B10: D | C10: 41789 | D10: 0 | E10: 1195 | F10: 1198.8 | G10: 1195 | H10: 1197.3 | I10: 843
A11: FXUK | B11: D | C11: 41792 | D11: 0 | E11: 1200 | F11: 1200 | G11: 1200 | H11: 1200 | I11: 800
A12: FXUK | B12: D | C12: 41793 | D12: 0 | E12: 1203 | F12: 1203 | G12: 1203 | H12: 1203 | I12: 790
A13: FXUK | B13: D | C13: 41794 | D13: 0 | E13: 1200 | F13: 1200 | G13: 1200 | H13: 1200 | I13: 796
... A941: FXUK | B941: D | C941: 43260 | D941: 0 | E941: 2022 | F941: 2027 | G941: 2019 | H941: 2023 | I941: 42
E942: =(E941-E2)*100/E2 -> 69.915966

Sheet FXRU
A1: <TICKER> | B1: <PER> | C1: <DATE> | D1: <TIME> | E1: <OPEN> | F1: <HIGH> | G1: <LOW> | H1: <CLOSE> | I1: <VOL>
A2: FXRU | B2: D | C2: 41779 | D2: 0 | E2: 3300 | F2: 3317.3 | G2: 3300 | H2: 3317.3 | I2: 260
A3: FXRU | B3: D | C3: 41780 | D3: 0 | E3: 3300 | F3: 3300 | G3: 3300 | H3: 3300 | I3: 240
A4: FXRU | B4: D | C4: 41781 | D4: 0 | E4: 3270 | F4: 3300.7 | G4: 3270 | H4: 3293 | I4: 290
A5: FXRU | B5: D | C5: 41782 | D5: 0 | E5: 3280 | F5: 3296.1 | G5: 3280 | H5: 3286.5 | I5: 488
A6: FXRU | B6: D | C6: 41785 | D6: 0 | E6: 3288 | F6: 3307.3 | G6: 3280 | H6: 3300.9 | I6: 255
A7: FXRU | B7: D | C7: 41786 | D7: 0 | E7: 3290 | F7: 3290 | G7: 3290 | H7: 3290 | I7: 240
A8: FXRU | B8: D | C8: 41787 | D8: 0 | E8: 3320 | F8: 3320 | G8: 3316.9 | H8: 3316.9 | I8: 244
A9: FXRU | B9: D | C9: 41788 | D9: 0 | E9: 3350 | F9: 3350 | G9: 3350 | H9: 3350 | I9: 242
A10: FXRU | B10: D | C10: 41789 | D10: 0 | E10: 3380 | F10: 3380 | G10: 3380 | H10: 3380 | I10: 240
A11: FXRU | B11: D | C11: 41792 | D11: 0 | E11: 3380 | F11: 3380 | G11: 3380 | H11: 3380 | I11: 240
A12: FXRU | B12: D | C12: 41793 | D12: 0 | E12: 3400 | F12: 3400 | G12: 3400 | H12: 3400 | I12: 240
A13: FXRU | B13: D | C13: 41794 | D13: 0 | E13: 3415 | F13: 3415 | G13: 3415 | H13: 3415 | I13: 240
... A1002: FXRU | B1002: D | C1002: 43260 | D1002: 0 | E1002: 6770 | F1002: 6810 | G1002: 6760 | H1002: 6810 | I1002: 94
E1003: =(E1002-E2)*100/E2 -> 105.15152

Sheet FXRL
A1: <TICKER> | B1: <PER> | C1: <DATE> | D1: <TIME> | E1: <OPEN> | F1: <HIGH> | G1: <LOW> | H1: <CLOSE> | I1: <VOL>
A2: FXRL | B2: D | C2: 42431 | D2: 0 | E2: 1547.5 | F2: 1547.5 | G2: 1525.5 | H2: 1529 | I2: 102
A3: FXRL | B3: D | C3: 42432 | D3: 0 | E3: 1545.5 | F3: 1545.5 | G3: 1537 | H3: 1537 | I3: 41
A4: FXRL | B4: D | C4: 42433 | D4: 0 | E4: 1554 | F4: 1566 | G4: 1550 | H4: 1566 | I4: 197
A5: FXRL | B5: D | C5: 42436 | D5: 0 | E5: 1578 | F5: 1594 | G5: 1578 | H5: 1593 | I5: 505
A6: FXRL | B6: D | C6: 42438 | D6: 0 | E6: 1587.5 | F6: 1595.5 | G6: 1574 | H6: 1579.5 | I6: 836
A7: FXRL | B7: D | C7: 42439 | D7: 0 | E7: 1581 | F7: 1587 | G7: 1571 | H7: 1571 | I7: 1569
A8: FXRL | B8: D | C8: 42440 | D8: 0 | E8: 1579.5 | F8: 1579.5 | G8: 1567 | H8: 1567 | I8: 5214
A9: FXRL | B9: D | C9: 42443 | D9: 0 | E9: 1569 | F9: 1569 | G9: 1555 | H9: 1558.5 | I9: 474
A10: FXRL | B10: D | C10: 42444 | D10: 0 | E10: 1570 | F10: 1570 | G10: 1548 | H10: 1554 | I10: 2219
A11: FXRL | B11: D | C11: 42445 | D11: 0 | E11: 1558 | F11: 1576 | G11: 1551 | H11: 1555 | I11: 627
A12: FXRL | B12: D | C12: 42446 | D12: 0 | E12: 1575.5 | F12: 1585 | G12: 1575 | H12: 1582.5 | I12: 928
A13: FXRL | B13: D | C13: 42447 | D13: 0 | E13: 1598 | F13: 1609 | G13: 1590.5 | H13: 1602.5 | I13: 1934
... A574: FXRL | B574: D | C574: 43260 | D574: 0 | E574: 2112.5 | F574: 2112.5 | G574: 2074 | H574: 2074.5 | I574: 141
E575: =(E574-E2)*100/E2 -> 36.510501

Sheet портфель
A1: Доли | B1: FXJP | C1: FXCN | D1: FXAU | E1: FXRB | F1: FXIT | G1: FXDE | H1: FXUS | I1: FXMM | J1: FXUK | K1: FXRU
B2: =$K$4/B4 -> 3.4446764 | C2: =$K$4/C4 -> 3.3673469 | D2: =$K$4/D4 -> 3.2132425 | E2: =$K$4/E4 -> 3.4554974 | F2: =$K$4/F4 -> 2.7942422 | G2: =$K$4/G4 -> 2.8350515 | H2: =$K$4/H4 -> 2.8770706 | I2: =$K$4/I4 -> 3.2917706 | ... K2: =$K$4/K4 -> 1 | Z2: Доходность в процентах
A3: <DATE> | B3: FXJP | C3: FXCN | D3: FXAU | E3: FXRB | F3: FXIT | G3: FXDE | H3: FXUS | I3: FXMM | J3: FXUK | K3: FXRU | L3: Сумма | M3: FXJP | N3: FXCN | O3: FXAU | P3: FXRB | Q3: FXIT | R3: FXDE | S3: FXUS | T3: FXMM | U3: FXUK | V3: FXRU | X3: Портфель | Z3: FXJP | AA3: FXCN | AB3: FXAU | AC3: FXRB | AD3: FXIT | AE3: FXDE | AF3: FXUS | AG3: FXMM | AH3: FXUK | AI3: FXRU
A4: 41779 | B4: 958 | C4: 980 | D4: 1027 | E4: 955 | F4: 1181 | G4: 1164 | H4: 1147 | I4: 1002.5 | J4: 1190 | K4: 3300 | L4: =SUM(B4:K4) -> 12904.5 | M4: =B4*$B$2 -> 3300 | N4: =C4*$C$2 -> 3300 | O4: =D4*$D$2 -> 3300 | P4: =E4*$E$2 -> 3300 | Q4: =F4*$F$2 -> 3300 | R4: =G4*$G$2 -> 3300 | S4: =H4*$H$2 -> 3300 | T4: =I4*$I$2 -> 3300 | U4: =J4*$J$2 -> 3300 | V4: =K4*$K$2 -> 3300 | W4: =A4 -> 41779 | X4: =SUM(M4:V4) -> 33000 | Z4: =FXJP!E953 -> 153.13152 | AA4: =FXCN!E989 -> 196.93878 | AB4: =FXAU!E937 -> 79.746835 | AC4: =FXRB!E1002 -> 47.225131 | AD4: =FXIT!E1003 -> 270.0254 | AE4: =FXDE!E1008 -> 90.979381 | AF4: =FXUS!E1010 -> 167.21883 | AG4: =FXMM!E958 -> 43.341646 | AH4: =FXUK!E942 -> 69.915966 | AI4: =FXRU!E1003 -> 105.15152
A5: 41780 | B5: 958 | C5: 987 | D5: 1021 | E5: 956 | F5: 1175 | G5: 1161 | H5: 1140 | I5: 1002.7 | J5: 1183 | K5: 3300 | M5: =B5*$B$2 -> 3300 | N5: =C5*$C$2 -> 3323.5714 | O5: =D5*$D$2 -> 3280.7205 | P5: =E5*$E$2 -> 3303.4555 | Q5: =F5*$F$2 -> 3283.2345 | R5: =G5*$G$2 -> 3291.4948 | S5: =H5*$H$2 -> 3279.8605 | T5: =I5*$I$2 -> 3300.6584 | U5: =J5*$J$2 -> 3280.5882 | V5: =K5*$K$2 -> 3300 | W5: =A5 -> 41780 | X5: =SUM(M5:V5) -> 32943.584 | Z5: Среднее значение доходности | AD5: =AVERAGE(Z4:AI4) -> 122.3675
A6: 41781 | B6: 961 | C6: 989 | D6: 1028 | E6: 960 | F6: 1178 | G6: 1162 | H6: 1143 | I6: 1004 | J6: 1184 | K6: 3270 | M6: =B6*$B$2 -> 3310.334 | N6: =C6*$C$2 -> 3330.3061 | O6: =D6*$D$2 -> 3303.2132 | P6: =E6*$E$2 -> 3317.2775 | Q6: =F6*$F$2 -> 3291.6173 | R6: =G6*$G$2 -> 3294.3299 | S6: =H6*$H$2 -> 3288.4917 | T6: =I6*$I$2 -> 3304.9377 | U6: =J6*$J$2 -> 3283.3613 | V6: =K6*$K$2 -> 3270 | W6: =A6 -> 41781 | X6: =SUM(M6:V6) -> 32993.869
A7: 41782 | B7: 971 | C7: 993 | D7: 1029 | E7: 962 | F7: 1179 | G7: 1160 | H7: 1145 | I7: 1005.8 | J7: 1182 | K7: 3280 | M7: =B7*$B$2 -> 3344.7808 | N7: =C7*$C$2 -> 3343.7755 | O7: =D7*$D$2 -> 3306.4265 | P7: =E7*$E$2 -> 3324.1885 | Q7: =F7*$F$2 -> 3294.4115 | R7: =G7*$G$2 -> 3288.6598 | S7: =H7*$H$2 -> 3294.2459 | T7: =I7*$I$2 -> 3310.8628 | U7: =J7*$J$2 -> 3277.8151 | V7: =K7*$K$2 -> 3280 | W7: =A7 -> 41782 | X7: =SUM(M7:V7) -> 33065.166 | Z7: Доходность в год, % | AC7: 15
A8: 41785 | B8: 974 | C8: 985 | D8: 1028 | E8: 964 | F8: 1183 | G8: 1158 | H8: 1142 | I8: 1006 | J8: 1173 | K8: 3288 | M8: =B8*$B$2 -> 3355.1148 | N8: =C8*$C$2 -> 3316.8367 | O8: =D8*$D$2 -> 3303.2132 | P8: =E8*$E$2 -> 3331.0995 | Q8: =F8*$F$2 -> 3305.5885 | R8: =G8*$G$2 -> 3282.9897 | S8: =H8*$H$2 -> 3285.6146 | T8: =I8*$I$2 -> 3311.5212 | U8: =J8*$J$2 -> 3252.8571 | V8: =K8*$K$2 -> 3288 | W8: =A8 -> 41785 | X8: =SUM(M8:V8) -> 33032.835 | Z8: Доливка в месяц, руб | AC8: 10000
A9: 41786 | B9: 979 | C9: 988.9 | D9: 1032 | E9: 968 | F9: 1189 | G9: 1173 | H9: 1149 | I9: 1006.9 | J9: 1180 | K9: 3290 | M9: =B9*$B$2 -> 3372.3382 | N9: =C9*$C$2 -> 3329.9694 | O9: =D9*$D$2 -> 3316.0662 | P9: =E9*$E$2 -> 3344.9215 | Q9: =F9*$F$2 -> 3322.3539 | R9: =G9*$G$2 -> 3325.5155 | S9: =H9*$H$2 -> 3305.7541 | T9: =I9*$I$2 -> 3314.4838 | U9: =J9*$J$2 -> 3272.2689 | V9: =K9*$K$2 -> 3290 | W9: =A9 -> 41786 | X9: =SUM(M9:V9) -> 33193.672 | Z9: Доливка в год, руб | AC9: =AC8*12 -> 120000
A10: 41787 | B10: 987 | C10: 1003 | D10: 1042 | E10: 965 | F10: 1208 | G10: 1189 | H10: 1162 | I10: 1007 | J10: 1185 | K10: 3320 | M10: =B10*$B$2 -> 3399.8956 | N10: =C10*$C$2 -> 3377.449 | O10: =D10*$D$2 -> 3348.1986 | P10: =E10*$E$2 -> 3334.555 | Q10: =F10*$F$2 -> 3375.4445 | R10: =G10*$G$2 -> 3370.8763 | S10: =H10*$H$2 -> 3343.1561 | T10: =I10*$I$2 -> 3314.813 | U10: =J10*$J$2 -> 3286.1345 | V10: =K10*$K$2 -> 3320 | W10: =A10 -> 41787 | X10: =SUM(M10:V10) -> 33470.523 | AB10: Год | AC10: Сумма | AD10: %
A11: 41788 | B11: 996 | C11: 1005 | D11: 1048 | E11: 970 | F11: 1211 | G11: 1189 | H11: 1167 | I11: 1008.1 | J11: 1185 | K11: 3350 | M11: =B11*$B$2 -> 3430.8977 | N11: =C11*$C$2 -> 3384.1837 | O11: =D11*$D$2 -> 3367.4781 | P11: =E11*$E$2 -> 3351.8325 | Q11: =F11*$F$2 -> 3383.8273 | R11: =G11*$G$2 -> 3370.8763 | S11: =H11*$H$2 -> 3357.5414 | T11: =I11*$I$2 -> 3318.4339 | U11: =J11*$J$2 -> 3286.1345 | V11: =K11*$K$2 -> 3350 | W11: =A11 -> 41788 | X11: =SUM(M11:V11) -> 33601.205 | AB11: 0 | AC11: 150000
A12: 41789 | B12: 1002 | C12: 1007 | D12: 1050 | E12: 974 | F12: 1224 | G12: 1192 | H12: 1176 | I12: 1008.5 | J12: 1195 | K12: 3380 | M12: =B12*$B$2 -> 3451.5658 | N12: =C12*$C$2 -> 3390.9184 | O12: =D12*$D$2 -> 3373.9046 | P12: =E12*$E$2 -> 3365.6545 | Q12: =F12*$F$2 -> 3420.1524 | R12: =G12*$G$2 -> 3379.3814 | S12: =H12*$H$2 -> 3383.435 | T12: =I12*$I$2 -> 3319.7506 | U12: =J12*$J$2 -> 3313.8655 | V12: =K12*$K$2 -> 3380 | W12: =A12 -> 41789 | X12: =SUM(M12:V12) -> 33778.628 | AB12: =AB11+1 -> 1 | AC12: =AC11+AC11*$AC$7/100+$AC$9 -> 292500 | AD12: =(AC12-$AC$11)*100/$AC$11 -> 95
A13: 41792 | B13: 1020 | C13: 1015 | D13: 1055 | E13: 976 | F13: 1227 | G13: 1202 | H13: 1184 | I13: 1008.7 | J13: 1200 | K13: 3380 | M13: =B13*$B$2 -> 3513.5699 | N13: =C13*$C$2 -> 3417.8571 | O13: =D13*$D$2 -> 3389.9708 | P13: =E13*$E$2 -> 3372.5654 | Q13: =F13*$F$2 -> 3428.5351 | R13: =G13*$G$2 -> 3407.732 | S13: =H13*$H$2 -> 3406.4516 | T13: =I13*$I$2 -> 3320.409 | U13: =J13*$J$2 -> 3327.7311 | V13: =K13*$K$2 -> 3380 | W13: =A13 -> 41792 | X13: =SUM(M13:V13) -> 33964.822 | AB13: =AB12+1 -> 2 | AC13: =AC12+AC12*$AC$7/100+$AC$9 -> 456375 | AD13: =(AC13-$AC$11)*100/$AC$11 -> 204.25
A14: 41793 | B14: 1025 | C14: 1025 | D14: 1050 | E14: 980 | F14: 1226 | G14: 1203 | H14: 1188 | I14: 1009.7 | J14: 1203 | K14: 3400 | M14: =B14*$B$2 -> 3530.7933 | N14: =C14*$C$2 -> 3451.5306 | O14: =D14*$D$2 -> 3373.9046 | P14: =E14*$E$2 -> 3386.3874 | Q14: =F14*$F$2 -> 3425.7409 | R14: =G14*$G$2 -> 3410.567 | S14: =H14*$H$2 -> 3417.9599 | T14: =I14*$I$2 -> 3323.7007 | U14: =J14*$J$2 -> 3336.0504 | V14: =K14*$K$2 -> 3400 | W14: =A14 -> 41793 | X14: =SUM(M14:V14) -> 34056.635 | AB14: =AB13+1 -> 3 | AC14: =AC13+AC13*$AC$7/100+$AC$9 -> 644831.25 | AD14: =(AC14-$AC$11)*100/$AC$11 -> 329.8875
A15: 41794 | B15: 1028 | C15: 1025 | D15: 1045 | E15: 980 | F15: 1230 | G15: 1203 | H15: 1190 | I15: 1009.9 | J15: 1200 | K15: 3415 | M15: =B15*$B$2 -> 3541.1273 | N15: =C15*$C$2 -> 3451.5306 | O15: =D15*$D$2 -> 3357.8384 | P15: =E15*$E$2 -> 3386.3874 | Q15: =F15*$F$2 -> 3436.9179 | R15: =G15*$G$2 -> 3410.567 | S15: =H15*$H$2 -> 3423.714 | T15: =I15*$I$2 -> 3324.3591 | U15: =J15*$J$2 -> 3327.7311 | V15: =K15*$K$2 -> 3415 | W15: =A15 -> 41794 | X15: =SUM(M15:V15) -> 34075.173 | AB15: =AB14+1 -> 4 | AC15: =AC14+AC14*$AC$7/100+$AC$9 -> 861555.94 | AD15: =(AC15-$AC$11)*100/$AC$11 -> 474.37063
A16: 41795 | B16: 1022 | C16: 1020 | D16: 1040 | E16: 983 | F16: 1227 | G16: 1198 | H16: 1187 | I16: 1009.6 | J16: 1195 | K16: 3415.6 | M16: =B16*$B$2 -> 3520.4593 | N16: =C16*$C$2 -> 3434.6939 | O16: =D16*$D$2 -> 3341.7722 | P16: =E16*$E$2 -> 3396.7539 | Q16: =F16*$F$2 -> 3428.5351 | R16: =G16*$G$2 -> 3396.3918 | S16: =H16*$H$2 -> 3415.0828 | T16: =I16*$I$2 -> 3323.3716 | U16: =J16*$J$2 -> 3313.8655 | V16: =K16*$K$2 -> 3415.6 | W16: =A16 -> 41795 | X16: =SUM(M16:V16) -> 33986.526 | AB16: =AB15+1 -> 5 | AC16: =AC15+AC15*$AC$7/100+$AC$9 -> 1110789.3 | AD16: =(AC16-$AC$11)*100/$AC$11 -> 640.52622
A17: 41796 | B17: 1020 | C17: 1012 | D17: 1045 | E17: 980 | F17: 1231 | G17: 1200 | H17: 1186 | I17: 1010.1 | J17: 1190 | K17: 3370 | M17: =B17*$B$2 -> 3513.5699 | N17: =C17*$C$2 -> 3407.7551 | O17: =D17*$D$2 -> 3357.8384 | P17: =E17*$E$2 -> 3386.3874 | Q17: =F17*$F$2 -> 3439.7121 | R17: =G17*$G$2 -> 3402.0619 | S17: =H17*$H$2 -> 3412.2058 | T17: =I17*$I$2 -> 3325.0175 | U17: =J17*$J$2 -> 3300 | V17: =K17*$K$2 -> 3370 | W17: =A17 -> 41796 | X17: =SUM(M17:V17) -> 33914.548 | AB17: =AB16+1 -> 6 | AC17: =AC16+AC16*$AC$7/100+$AC$9 -> 1397407.7 | AD17: =(AC17-$AC$11)*100/$AC$11 -> 831.60515
A18: 41800 | B18: 1000 | C18: 1020 | D18: 1040 | E18: 987 | F18: 1224 | G18: 1185 | H18: 1178 | I18: 1011.9 | J18: 1182 | K18: 3360 | M18: =B18*$B$2 -> 3444.6764 | N18: =C18*$C$2 -> 3434.6939 | O18: =D18*$D$2 -> 3341.7722 | P18: =E18*$E$2 -> 3410.5759 | Q18: =F18*$F$2 -> 3420.1524 | R18: =G18*$G$2 -> 3359.5361 | S18: =H18*$H$2 -> 3389.1892 | T18: =I18*$I$2 -> 3330.9426 | U18: =J18*$J$2 -> 3277.8151 | V18: =K18*$K$2 -> 3360 | W18: =A18 -> 41800 | X18: =SUM(M18:V18) -> 33769.354 | AB18: =AB17+1 -> 7 | AC18: =AC17+AC17*$AC$7/100+$AC$9 -> 1727018.9 | AD18: =(AC18-$AC$11)*100/$AC$11 -> 1051.3459
A19: 41801 | B19: 1012 | C19: 1018 | D19: 1036 | E19: 985 | F19: 1226 | G19: 1183 | H19: 1179 | I19: 1012.9 | J19: 1181 | K19: 3360 | M19: =B19*$B$2 -> 3486.0125 | N19: =C19*$C$2 -> 3427.9592 | O19: =D19*$D$2 -> 3328.9192 | P19: =E19*$E$2 -> 3403.6649 | Q19: =F19*$F$2 -> 3425.7409 | R19: =G19*$G$2 -> 3353.866 | S19: =H19*$H$2 -> 3392.0663 | T19: =I19*$I$2 -> 3334.2344 | U19: =J19*$J$2 -> 3275.042 | V19: =K19*$K$2 -> 3360 | W19: =A19 -> 41801 | X19: =SUM(M19:V19) -> 33787.505 | AB19: =AB18+1 -> 8 | AC19: =AC18+AC18*$AC$7/100+$AC$9 -> 2106071.7 | AD19: =(AC19-$AC$11)*100/$AC$11 -> 1304.0478
A20: 41806 | B20: 1019 | C20: 1034 | D20: 1038 | E20: 998 | F20: 1225 | G20: 1175 | H20: 1175 | I20: 1013.2 | J20: 1187 | K20: 3380 | M20: =B20*$B$2 -> 3510.1253 | N20: =C20*$C$2 -> 3481.8367 | O20: =D20*$D$2 -> 3335.3457 | P20: =E20*$E$2 -> 3448.5864 | Q20: =F20*$F$2 -> 3422.9467 | R20: =G20*$G$2 -> 3331.1856 | S20: =H20*$H$2 -> 3380.558 | T20: =I20*$I$2 -> 3335.2219 | U20: =J20*$J$2 -> 3291.6807 | V20: =K20*$K$2 -> 3380 | W20: =A20 -> 41806 | X20: =SUM(M20:V20) -> 33917.487 | AB20: =AB19+1 -> 9 | AC20: =AC19+AC19*$AC$7/100+$AC$9 -> 2541982.5 | AD20: =(AC20-$AC$11)*100/$AC$11 -> 1594.655
A21: 41807 | B21: 1030 | C21: 1040 | D21: 1040 | E21: 980 | F21: 1239.1 | G21: 1189 | H21: 1191 | I21: 1013.3 | J21: 1200 | K21: 3400 | M21: =B21*$B$2 -> 3548.0167 | N21: =C21*$C$2 -> 3502.0408 | O21: =D21*$D$2 -> 3341.7722 | P21: =E21*$E$2 -> 3386.3874 | Q21: =F21*$F$2 -> 3462.3455 | R21: =G21*$G$2 -> 3370.8763 | S21: =H21*$H$2 -> 3426.5911 | T21: =I21*$I$2 -> 3335.5511 | U21: =J21*$J$2 -> 3327.7311 | V21: =K21*$K$2 -> 3400 | W21: =A21 -> 41807 | X21: =SUM(M21:V21) -> 34101.312 | AB21: =AB20+1 -> 10 | AC21: =AC20+AC20*$AC$7/100+$AC$9 -> 3043279.8 | AD21: =(AC21-$AC$11)*100/$AC$11 -> 1928.8532
A22: 41808 | B22: 1031 | C22: 1027 | D22: 1025 | E22: 991 | F22: 1240.4 | G22: 1188.5 | H22: 1189.7 | I22: 1014.6 | J22: 1200 | K22: 3400 | M22: =B22*$B$2 -> 3551.4614 | N22: =C22*$C$2 -> 3458.2653 | O22: =D22*$D$2 -> 3293.5735 | P22: =E22*$E$2 -> 3424.3979 | Q22: =F22*$F$2 -> 3465.978 | R22: =G22*$G$2 -> 3369.4588 | S22: =H22*$H$2 -> 3422.8509 | T22: =I22*$I$2 -> 3339.8304 | U22: =J22*$J$2 -> 3327.7311 | V22: =K22*$K$2 -> 3400 | W22: =A22 -> 41808 | X22: =SUM(M22:V22) -> 34053.547 | AB22: =AB21+1 -> 11 | AC22: =AC21+AC21*$AC$7/100+$AC$9 -> 3619771.8 | AD22: =(AC22-$AC$11)*100/$AC$11 -> 2313.1812
A23: 41809 | B23: 1043 | C23: 1020 | D23: 1043 | E23: 996.2 | F23: 1231.8 | G23: 1190 | H23: 1185 | I23: 1015 | J23: 1196 | K23: 3371.7 | M23: =B23*$B$2 -> 3592.7975 | N23: =C23*$C$2 -> 3434.6939 | O23: =D23*$D$2 -> 3351.4119 | P23: =E23*$E$2 -> 3442.3665 | Q23: =F23*$F$2 -> 3441.9475 | R23: =G23*$G$2 -> 3373.7113 | S23: =H23*$H$2 -> 3409.3287 | T23: =I23*$I$2 -> 3341.1471 | U23: =J23*$J$2 -> 3316.6387 | V23: =K23*$K$2 -> 3371.7 | W23: =A23 -> 41809 | X23: =SUM(M23:V23) -> 34075.743 | AB23: =AB22+1 -> 12 | AC23: =AC22+AC22*$AC$7/100+$AC$9 -> 4282737.6 | AD23: =(AC23-$AC$11)*100/$AC$11 -> 2755.1584
... A29: 41817 | B29: 1018 | C29: 1007.9 | D29: 1024.7 | E29: 993 | F29: 1200.9 | G29: 1144.7 | H29: 1163 | I29: 1017.6 | J29: 1158.2 | K29: 3326.1 | M29: =B29*$B$2 -> 3506.6806 | N29: =C29*$C$2 -> 3393.949 | O29: =D29*$D$2 -> 3292.6095 | P29: =E29*$E$2 -> 3431.3089 | Q29: =F29*$F$2 -> 3355.6054 | R29: =G29*$G$2 -> 3245.2835 | S29: =H29*$H$2 -> 3346.0331 | T29: =I29*$I$2 -> 3349.7057 | U29: =J29*$J$2 -> 3211.8151 | V29: =K29*$K$2 -> 3326.1 | W29: =A29 -> 41817 | X29: =SUM(M29:V29) -> 33459.091 | AB29: =AB28+1 -> 18 | AC29: =AC28+AC28*$AC$7/100+$AC$9 -> 10956681 | AD29: =(AC29-$AC$11)*100/$AC$11 -> 7204.4539
A30: 41820 | B30: 1033 | C30: 996 | D30: 1022 | E30: 995 | F30: 1215.5 | G30: 1153.6 | H30: 1177 | I30: 1018.8 | J30: 1170.1 | K30: 3340 | M30: =B30*$B$2 -> 3558.3507 | N30: =C30*$C$2 -> 3353.8776 | O30: =D30*$D$2 -> 3283.9338 | P30: =E30*$E$2 -> 3438.2199 | Q30: =F30*$F$2 -> 3396.4014 | R30: =G30*$G$2 -> 3270.5155 | S30: =H30*$H$2 -> 3386.3121 | T30: =I30*$I$2 -> 3353.6559 | U30: =J30*$J$2 -> 3244.8151 | V30: =K30*$K$2 -> 3340 | W30: =A30 -> 41820 | X30: =SUM(M30:V30) -> 33626.082
A31: 41821 | B31: 1054 | C31: 1026.4 | D31: 1036 | E31: 997 | F31: 1234.8 | G31: 1173.3 | H31: 1186.3 | I31: 1019 | J31: 1196 | K31: 3390.9 | M31: =B31*$B$2 -> 3630.6889 | N31: =C31*$C$2 -> 3456.2449 | O31: =D31*$D$2 -> 3328.9192 | P31: =E31*$E$2 -> 3445.1309 | Q31: =F31*$F$2 -> 3450.3302 | R31: =G31*$G$2 -> 3326.366 | S31: =H31*$H$2 -> 3413.0689 | T31: =I31*$I$2 -> 3354.3142 | U31: =J31*$J$2 -> 3316.6387 | V31: =K31*$K$2 -> 3390.9 | W31: =A31 -> 41821 | X31: =SUM(M31:V31) -> 34112.602
A32: 41822 | B32: 1054 | C32: 1043 | D32: 1047 | E32: 999 | F32: 1246 | G32: 1178 | H32: 1189.7 | I32: 1020.9 | J32: 1201 | K32: 3380 | M32: =B32*$B$2 -> 3630.6889 | N32: =C32*$C$2 -> 3512.1429 | O32: =D32*$D$2 -> 3364.2648 | P32: =E32*$E$2 -> 3452.0419 | Q32: =F32*$F$2 -> 3481.6257 | R32: =G32*$G$2 -> 3339.6907 | S32: =H32*$H$2 -> 3422.8509 | T32: =I32*$I$2 -> 3360.5686 | U32: =J32*$J$2 -> 3330.5042 | V32: =K32*$K$2 -> 3380 | W32: =A32 -> 41822 | X32: =SUM(M32:V32) -> 34274.379
A33: 41823 | B33: 1042.5 | C33: 1043 | D33: 1048 | E33: 991.3 | F33: 1246 | G33: 1188 | H33: 1189.7 | I33: 1021.1 | J33: 1210 | K33: 3370 | M33: =B33*$B$2 -> 3591.0752 | N33: =C33*$C$2 -> 3512.1429 | O33: =D33*$D$2 -> 3367.4781 | P33: =E33*$E$2 -> 3425.4346 | Q33: =F33*$F$2 -> 3481.6257 | R33: =G33*$G$2 -> 3368.0412 | S33: =H33*$H$2 -> 3422.8509 | T33: =I33*$I$2 -> 3361.2269 | U33: =J33*$J$2 -> 3355.4622 | V33: =K33*$K$2 -> 3370 | W33: =A33 -> 41823 | X33: =SUM(M33:V33) -> 34255.338
A34: 41824 | B34: 1057 | C34: 1050 | D34: 1054 | E34: 995 | F34: 1250.5 | G34: 1188.9 | H34: 1204 | I34: 1022.1 | J34: 1210 | K34: 3380 | M34: =B34*$B$2 -> 3641.023 | N34: =C34*$C$2 -> 3535.7143 | O34: =D34*$D$2 -> 3386.7575 | P34: =E34*$E$2 -> 3438.2199 | Q34: =F34*$F$2 -> 3494.1998 | R34: =G34*$G$2 -> 3370.5928 | S34: =H34*$H$2 -> 3463.993 | T34: =I34*$I$2 -> 3364.5187 | U34: =J34*$J$2 -> 3355.4622 | V34: =K34*$K$2 -> 3380 | W34: =A34 -> 41824 | X34: =SUM(M34:V34) -> 34430.481
A35: 41827 | B35: 1053 | C35: 1059 | D35: 1056 | E35: 1002 | F35: 1258.9 | G35: 1188 | H35: 1202.1 | I35: 1021.8 | J35: 1207 | K35: 3390.4 | M35: =B35*$B$2 -> 3627.2443 | N35: =C35*$C$2 -> 3566.0204 | O35: =D35*$D$2 -> 3393.184 | P35: =E35*$E$2 -> 3462.4084 | Q35: =F35*$F$2 -> 3517.6715 | R35: =G35*$G$2 -> 3368.0412 | S35: =H35*$H$2 -> 3458.5266 | T35: =I35*$I$2 -> 3363.5312 | U35: =J35*$J$2 -> 3347.1429 | V35: =K35*$K$2 -> 3390.4 | W35: =A35 -> 41827 | X35: =SUM(M35:V35) -> 34494.17
A36: 41828 | B36: 1043 | C36: 1050 | D36: 1046 | E36: 992.3 | F36: 1256.3 | G36: 1165.2 | H36: 1187 | I36: 1022.2 | J36: 1188 | K36: 3380 | M36: =B36*$B$2 -> 3592.7975 | N36: =C36*$C$2 -> 3535.7143 | O36: =D36*$D$2 -> 3361.0516 | P36: =E36*$E$2 -> 3428.8901 | Q36: =F36*$F$2 -> 3510.4064 | R36: =G36*$G$2 -> 3303.4021 | S36: =H36*$H$2 -> 3415.0828 | T36: =I36*$I$2 -> 3364.8479 | U36: =J36*$J$2 -> 3294.4538 | V36: =K36*$K$2 -> 3380 | W36: =A36 -> 41828 | X36: =SUM(M36:V36) -> 34186.646
A37: 41829 | B37: 1037 | C37: 1029 | D37: 1033 | E37: 1005 | F37: 1228 | G37: 1152 | H37: 1182 | I37: 1022.3 | J37: 1170 | K37: 3360 | M37: =B37*$B$2 -> 3572.1294 | N37: =C37*$C$2 -> 3465 | O37: =D37*$D$2 -> 3319.2795 | P37: =E37*$E$2 -> 3472.7749 | Q37: =F37*$F$2 -> 3431.3294 | R37: =G37*$G$2 -> 3265.9794 | S37: =H37*$H$2 -> 3400.6975 | T37: =I37*$I$2 -> 3365.1771 | U37: =J37*$J$2 -> 3244.5378 | V37: =K37*$K$2 -> 3360 | W37: =A37 -> 41829 | X37: =SUM(M37:V37) -> 33896.905
A38: 41830 | B38: 1018 | C38: 1035.2 | D38: 1029 | E38: 1002 | F38: 1226 | G38: 1145.5 | H38: 1177 | I38: 1022.9 | J38: 1167 | K38: 3342.9 | M38: =B38*$B$2 -> 3506.6806 | N38: =C38*$C$2 -> 3485.8776 | O38: =D38*$D$2 -> 3306.4265 | P38: =E38*$E$2 -> 3462.4084 | Q38: =F38*$F$2 -> 3425.7409 | R38: =G38*$G$2 -> 3247.5515 | S38: =H38*$H$2 -> 3386.3121 | T38: =I38*$I$2 -> 3367.1521 | U38: =J38*$J$2 -> 3236.2185 | V38: =K38*$K$2 -> 3342.9 | W38: =A38 -> 41830 | X38: =SUM(M38:V38) -> 33767.268
A39: 41831 | B39: 1027 | C39: 1036 | D39: 1046 | E39: 999 | F39: 1238 | G39: 1139 | H39: 1183 | I39: 1023.4 | J39: 1170 | K39: 3370 | M39: =B39*$B$2 -> 3537.6827 | N39: =C39*$C$2 -> 3488.5714 | O39: =D39*$D$2 -> 3361.0516 | P39: =E39*$E$2 -> 3452.0419 | Q39: =F39*$F$2 -> 3459.2718 | R39: =G39*$G$2 -> 3229.1237 | S39: =H39*$H$2 -> 3403.5745 | T39: =I39*$I$2 -> 3368.798 | U39: =J39*$J$2 -> 3244.5378 | V39: =K39*$K$2 -> 3370 | W39: =A39 -> 41831 | X39: =SUM(M39:V39) -> 33914.653
A40: 41834 | B40: 1045 | C40: 1054 | D40: 1059 | E40: 1000 | F40: 1255 | G40: 1160 | H40: 1194.3 | I40: 1023.6 | J40: 1188 | K40: 3390 | M40: =B40*$B$2 -> 3599.6868 | N40: =C40*$C$2 -> 3549.1837 | O40: =D40*$D$2 -> 3402.8238 | P40: =E40*$E$2 -> 3455.4974 | Q40: =F40*$F$2 -> 3506.7739 | R40: =G40*$G$2 -> 3288.6598 | S40: =H40*$H$2 -> 3436.0854 | T40: =I40*$I$2 -> 3369.4564 | U40: =J40*$J$2 -> 3294.4538 | V40: =K40*$K$2 -> 3390 | W40: =A40 -> 41834 | X40: =SUM(M40:V40) -> 34292.621
A41: 41835 | B41: 1050 | C41: 1061.2 | D41: 1052.4 | E41: 1000 | F41: 1258.7 | G41: 1165 | H41: 1198.3 | I41: 1024.1 | J41: 1190 | K41: 3390 | M41: =B41*$B$2 -> 3616.9102 | N41: =C41*$C$2 -> 3573.4286 | O41: =D41*$D$2 -> 3381.6164 | P41: =E41*$E$2 -> 3455.4974 | Q41: =F41*$F$2 -> 3517.1126 | R41: =G41*$G$2 -> 3302.8351 | S41: =H41*$H$2 -> 3447.5937 | T41: =I41*$I$2 -> 3371.1022 | U41: =J41*$J$2 -> 3300 | V41: =K41*$K$2 -> 3390 | W41: =A41 -> 41835 | X41: =SUM(M41:V41) -> 34356.096
... A938: 43238 | B938: 2423 | C938: 2605 | D938: 1846 | E938: 1435 | F938: 3758 | G938: 2050 | H938: 2719 | I938: 1431.6 | J938: 2014 | K938: 6300 | M938: =B938*$B$2 -> 8346.4509 | N938: =C938*$C$2 -> 8771.9388 | O938: =D938*$D$2 -> 5931.6456 | P938: =E938*$E$2 -> 4958.6387 | Q938: =F938*$F$2 -> 10500.762 | R938: =G938*$G$2 -> 5811.8557 | S938: =H938*$H$2 -> 7822.755 | T938: =I938*$I$2 -> 4712.4988 | U938: =J938*$J$2 -> 5585.042 | V938: =K938*$K$2 -> 6300 | W938: =A938 -> 43238 | X938: =SUM(M938:V938) -> 68741.588

Sheet Лист12
E3: =J3 -> 350000 | F3: 0.04 | J3: 350000 | K3: 0.15 | L3: =12*5000 -> 60000 | M3: =L3*10+J3 -> 950000
D4: 1 | E4: =E3+E3*$F$3+$L$3 -> 424000 | I4: 1 | J4: =J3+J3*$K$3+$L$3 -> 462500 | K4: =(J4-J3)/12 -> 9375
D5: 2 | E5: =E4+E4*$F$3+$L$3 -> 500960 | I5: 2 | J5: =J4+J4*$K$3+$L$3 -> 591875 | K5: =(J5-J4)/12 -> 10781.25
D6: 3 | E6: =E5+E5*$F$3+$L$3 -> 580998.4 | I6: 3 | J6: =J5+J5*$K$3+$L$3 -> 740656.25 | K6: =(J6-J5)/12 -> 12398.438
D7: =D6+1 -> 4 | E7: =E6+E6*$F$3+$L$3 -> 664238.34 | F7: =(E7-E3)/E3 -> 0.89782382 | I7: =I6+1 -> 4 | J7: =J6+J6*$K$3+$L$3 -> 911754.69 | K7: =(J7-J6)/12 -> 14258.203
D8: =D7+1 -> 5 | E8: =E7+E7*$F$3+$L$3 -> 750807.87 | I8: =I7+1 -> 5 | J8: =J7+J7*$K$3+$L$3 -> 1108517.9 | K8: =(J8-J7)/12 -> 16396.934
D9: =D8+1 -> 6 | E9: =E8+E8*$F$3+$L$3 -> 840840.18 | F9: =40000*12 -> 480000 | G9: 15 | I9: =I8+1 -> 6 | J9: =J8+J8*$K$3+$L$3 -> 1334795.6 | K9: =(J9-J8)/12 -> 18856.474
D10: =D9+1 -> 7 | E10: =E9+E9*$F$3+$L$3 -> 934473.79 | F10: x | G10: 100 | I10: =I9+1 -> 7 | J10: =J9+J9*$K$3+$L$3 -> 1595014.9 | K10: =(J10-J9)/12 -> 21684.945
D11: =D10+1 -> 8 | E11: =E10+E10*$F$3+$L$3 -> 1031852.7 | F11: x | G11: =F9*G10/G9 -> 3200000 | H11: =G11/1000000 -> 3.2 | I11: =I10+1 -> 8 | J11: =J10+J10*$K$3+$L$3 -> 1894267.1 | K11: =(J11-J10)/12 -> 24937.686
D12: =D11+1 -> 9 | E12: =E11+E11*$F$3+$L$3 -> 1133126.9 | I12: =I11+1 -> 9 | J12: =J11+J11*$K$3+$L$3 -> 2238407.2 | K12: =(J12-J11)/12 -> 28678.339
D13: =D12+1 -> 10 | E13: =E12+E12*$F$3+$L$3 -> 1238451.9 | I13: =I12+1 -> 10 | J13: =J12+J12*$K$3+$L$3 -> 2634168.3 | K13: =(J13-J12)/12 -> 32980.09
D14: =D13+1 -> 11 | E14: =E13+E13*$F$3+$L$3 -> 1347990 | I14: =I13+1 -> 11 | J14: =J13+J13*$K$3+$L$3 -> 3089293.5 | K14: =(J14-J13)/12 -> 37927.104
D15: =D14+1 -> 12 | E15: =E14+E14*$F$3+$L$3 -> 1461909.6 | I15: =I14+1 -> 12 | J15: =J14+J14*$K$3+$L$3 -> 3612687.6 | K15: =(J15-J14)/12 -> 43616.169
D16: =D15+1 -> 13 | E16: =E15+E15*$F$3+$L$3 -> 1580386 | I16: =I15+1 -> 13 | J16: =J15+J15*$K$3+$L$3 -> 4214590.7 | K16: =(J16-J15)/12 -> 50158.595
D17: =D16+1 -> 14 | E17: =E16+E16*$F$3+$L$3 -> 1703601.4 | I17: =I16+1 -> 14 | J17: =J16+J16*$K$3+$L$3 -> 4906779.3 | K17: =(J17-J16)/12 -> 57682.384
D18: =D17+1 -> 15 | E18: =E17+E17*$F$3+$L$3 -> 1831745.5 | I18: =I17+1 -> 15 | J18: =J17+J17*$K$3+$L$3 -> 5702796.2 | K18: =(J18-J17)/12 -> 66334.742
D19: =D18+1 -> 16 | E19: =E18+E18*$F$3+$L$3 -> 1965015.3 | I19: =I18+1 -> 16 | J19: =J18+J18*$K$3+$L$3 -> 6618215.7 | K19: =(J19-J18)/12 -> 76284.953
D20: =D19+1 -> 17 | E20: =E19+E19*$F$3+$L$3 -> 2103615.9 | I20: =I19+1 -> 17 | J20: =J19+J19*$K$3+$L$3 -> 7670948 | K20: =(J20-J19)/12 -> 87727.696
D21: =D20+1 -> 18 | E21: =E20+E20*$F$3+$L$3 -> 2247760.6 | I21: =I20+1 -> 18 | J21: =J20+J20*$K$3+$L$3 -> 8881590.2 | K21: =(J21-J20)/12 -> 100886.85
D22: =D21+1 -> 19 | E22: =E21+E21*$F$3+$L$3 -> 2397671 | I22: =I21+1 -> 19 | J22: =J21+J21*$K$3+$L$3 -> 10273829 | K22: =(J22-J21)/12 -> 116019.88
D23: =D22+1 -> 20 | E23: =E22+E22*$F$3+$L$3 -> 2553577.8 | I23: =I22+1 -> 20 | J23: =J22+J22*$K$3+$L$3 -> 11874903 | K23: =(J23-J22)/12 -> 133422.86

Sheet Лист1
B2: доходность в баксах за 2017 - 2018 годы
B3: FXJP | C3: FXCN | D3: FXAU | E3: FXRB | F3: FXIT | G3: FXDE | H3: FXUS | I3: FXMM | J3: FXUK | K3: FXRU
B4: 13.4 | C4: 29.4 | D4: 9.7 | E4: 6 | F4: 26.5 | G4: 3.2 | H4: 12.9 | I4: 7.1 | J4: 8.1 | K4: 0.5 | L4: =AVERAGE(B4:K4) -> 11.68
