Workbook

Sheet цена пункта
M2: размер лота
M3: 1 лот - 100000 | T3: =0.0001*100000/1 -> 10
D4: Цена пункта считается в валюте стоящей второй в паре | M4: 0.1 лот - 10000 | T4: =0.01*100000/110.05 -> 9.0867787
M5: 0.01 лот - 1000 | T5: =0.0001*100000/1.329 -> 7.5244545
D6: Ц 1п. = 1п* размер лота / курс валюты котировки к доллару
M7: 1п - размер минимального изменения цены
C8: Примеры расчета: | M8: для 4- значных счетов
D9: eurusd | E9: 1п = 0.0001*100000/1 | M9: 0.0001 | N9: для пар 4 знака после запятой (Пр. 1.1546)
M10: 0.01 | N10: для пар 2 знака после запятой (Пр. 123.15)
D11: usdjpy | E11: 1п=0.01*100000/110.05
M12: курс валюты к доллару -
D13: audcad | E13: 1п= 0.0001*100000/1.3290 | M13: в парах, где вторая валюта доллар - 1/1=1
M14: в парах, где первая валюта доллар - текущая котировка
M15: в кросах - котировка второй валюты к доллару

Sheet маржа1
O1: размер лота
O2: 1 лот - 100000
C3: Маржа - или залог зависят от плеча , депо , лота | O3: 0.1 лот - 10000
O4: 0.01 лот - 1000
C5: Для долларовых депозитов:
C7: в парах, где вторая валюта доллар: | H7: М = размер лота * котировку / кредитное плечо | N7: eurusd | O7: М= 100000*1.1570/500 | R7: =100000*1.157/500 -> 231.4
C9: в парах, где первая валюта доллар | H9: М = размер лота / кредитное плечо | N9: usdjpy | O9: М= 100000/500 | R9: =100000/500 -> 200
C11: в кросах (где нет доллара) | H11: М = размер лота / кредитное плечо * котировка к доллару | N11: audcad | O11: М=100000/500*0.7390 | R11: =100000/500*0.739 -> 147.8
K12: первой валюты в паре)
O13: М=100000/500*0.7390 | R13: =G14/G15*1.1334 -> 226.68
F14: лот | G14: 100000
F15: плечо | G15: 500

Sheet маржа и цена пункта
L1: размер лота
L2: 1 лот - 100000
L3: 0.1 лот - 10000
L4: 0.01 лот - 1000
E6: лот | F6: 100000 | M6: - в поля залитые желтым вписать нужное значение
E7: плечо | F7: 500
D9: пара | E9: eurusd | G9: usdjpy | I9: eurjpy | K9: gbpusd | M9: nzdusd | O9: usdcad | Q9: audusd | S9: usdchf | U9: eurchf | W9: eurgbp | Y9: euraud | AA9: eurcad | AC9: eurnzd | AE9: gbpjpy | AG9: gbpchf | AI9: gbpaud | AK9: gbpcad | AM9: gbpnzd | AO9: audjpy | AQ9: audchf | AS9: audcad | AU9: audnzd | AW9: nzdjpy | AY9: nzdchf | BA9: nzdcad | BC9: cadjpy | BE9: chfjpy
F10: цена | H10: цена | J10: цена | L10: цена | N10: цена | P10: цена | R10: цена | T10: цена | V10: цена | X10: цена | Z10: цена | AB10: цена | AD10: цена | AF10: цена | AH10: цена | AJ10: цена | AL10: цена | AN10: цена | AP10: цена | AR10: цена | AT10: цена | AV10: цена | AX10: цена | AZ10: цена | BB10: цена | BD10: цена | BF10: цена
D11: неделя | E11: маржа | F11: пункта | G11: маржа | H11: пункта | I11: маржа | J11: пункта | K11: маржа | L11: пункта | M11: маржа | N11: пункта | O11: маржа | P11: пункта | Q11: маржа | R11: пункта | S11: маржа | T11: пункта | U11: маржа | V11: пункта | W11: маржа | X11: пункта | Y11: маржа | Z11: пункта | AA11: маржа | AB11: пункта | AC11: маржа | AD11: пункта | AE11: маржа | AF11: пункта | AG11: маржа | AH11: пункта | AI11: маржа | AJ11: пункта | AK11: маржа | AL11: пункта | AM11: маржа | AN11: пункта | AO11: маржа | AP11: пункта | AQ11: маржа | AR11: пункта | AS11: маржа | AT11: пункта | AU11: маржа | AV11: пункта | AW11: маржа | AX11: пункта | AY11: маржа | AZ11: пункта | BA11: маржа | BB11: пункта | BC11: маржа | BD11: пункта | BE11: маржа | BF11: пункта
D12: 40181 | E12: ='EURUSD-Week'!F2*'EURUSD-Week'!E2/'EURUSD-Week'!G2 -> 287.32 | F12: ='EURUSD-Week'!H2*'EURUSD-Week'!F2/1 -> 10 | G12: ='USDJPY-Week'!F2/'USDJPY-Week'!G2 -> 200 | H12: ='USDJPY-Week'!H2*'USDJPY-Week'!F2/'USDJPY-Week'!E2 -> 10.777604 | I12: ='EURUSD-Week'!F2/('EURUSD-Week'!G2*'EURUSD-Week'!E2) -> 139.2176 | J12: ='USDJPY-Week'!H2*'USDJPY-Week'!F2/'USDJPY-Week'!E2 -> 10.777604 | K12: ='GBPUSD-Week'!F2*'GBPUSD-Week'!E2/'GBPUSD-Week'!G2 -> 321.41 | L12: ='GBPUSD-Week'!H2*'GBPUSD-Week'!F2/1 -> 10 | M12: ='NZDUSD-Week'!F2*'NZDUSD-Week'!E2/'NZDUSD-Week'!G2 -> 146.155 | N12: ='NZDUSD-Week'!H2*'NZDUSD-Week'!F2/1 -> 10 | O12: ='USDCAD-Week'!F2/'USDCAD-Week'!G2 -> 200 | P12: ='USDCAD-Week'!F2*'USDCAD-Week'!H2/'USDCAD-Week'!E2 -> 9.6315916 | Q12: ='AUDUSD-Week'!F2*'AUDUSD-Week'!E2/'AUDUSD-Week'!G2 -> 182.37 | R12: ='AUDUSD-Week'!H2*'AUDUSD-Week'!F2/1 -> 10 | S12: ='USDCHF-Week'!F2/'USDCHF-Week'!G2 -> 200 | T12: ='USDCHF-Week'!F2*'USDCHF-Week'!H2/'USDCHF-Week'!E2 -> 9.7172286 | U12: ='EURUSD-Week'!F2/'EURUSD-Week'!G2*'EURUSD-Week'!E2 -> 287.32 | V12: ='USDCHF-Week'!H2*'USDCHF-Week'!F2/'USDCHF-Week'!E2 -> 9.7172286 | W12: ='EURUSD-Week'!F2/'EURUSD-Week'!G2*'EURUSD-Week'!E2 -> 287.32 | X12: ='GBPUSD-Week'!H2*'GBPUSD-Week'!F2/'GBPUSD-Week'!I2 -> 16.0705 | Y12: ='EURUSD-Week'!F2/'EURUSD-Week'!G2*'EURUSD-Week'!E2 -> 287.32 | Z12: ='AUDUSD-Week'!H2*'AUDUSD-Week'!F2/'AUDUSD-Week'!I2 -> 9.1185 | AA12: ='EURUSD-Week'!F2/'EURUSD-Week'!G2*'EURUSD-Week'!E2 -> 287.32 | AB12: ='USDCAD-Week'!H2*'USDCAD-Week'!F2/'USDCAD-Week'!E2 -> 9.6315916 | AC12: ='EURUSD-Week'!F2/'EURUSD-Week'!G2*'EURUSD-Week'!E2 -> 287.32 | AD12: ='NZDUSD-Week'!H2*'NZDUSD-Week'!F2/'NZDUSD-Week'!I2 -> 7.30775 | AE12: ='GBPUSD-Week'!F2/'GBPUSD-Week'!G2*'GBPUSD-Week'!E2 -> 321.41 | AF12: ='USDJPY-Week'!H2*'USDJPY-Week'!F2/'USDJPY-Week'!E2 -> 10.777604 | AG12: ='GBPUSD-Week'!F2/'GBPUSD-Week'!G2*'GBPUSD-Week'!E2 -> 321.41 | AH12: ='USDCHF-Week'!H2*'USDCHF-Week'!F2/'USDCHF-Week'!E2 -> 9.7172286 | AI12: ='GBPUSD-Week'!F2/'GBPUSD-Week'!G2*'GBPUSD-Week'!E2 -> 321.41 | AJ12: ='AUDUSD-Week'!H2*'AUDUSD-Week'!F2/'AUDUSD-Week'!I2 -> 9.1185 | AK12: ='GBPUSD-Week'!F2/'GBPUSD-Week'!G2*'GBPUSD-Week'!E2 -> 321.41 | AL12: ='USDCAD-Week'!H2*'USDCAD-Week'!F2/'USDCAD-Week'!E2 -> 9.6315916 | AM12: ='GBPUSD-Week'!F2/'GBPUSD-Week'!G2*'GBPUSD-Week'!E2 -> 321.41 | AN12: ='NZDUSD-Week'!H2*'NZDUSD-Week'!F2/'NZDUSD-Week'!I2 -> 7.30775 | AO12: ='AUDUSD-Week'!F2/'AUDUSD-Week'!G2*'AUDUSD-Week'!E2 -> 182.37 | AP12: ='USDJPY-Week'!H2*'USDJPY-Week'!F2/'USDJPY-Week'!E2 -> 10.777604 | AQ12: ='AUDUSD-Week'!F2/'AUDUSD-Week'!G2*'AUDUSD-Week'!E2 -> 182.37 | AR12: ='USDCHF-Week'!H2*'USDCHF-Week'!F2/'USDCHF-Week'!E2 -> 9.7172286 | AS12: ='AUDUSD-Week'!F2/'AUDUSD-Week'!G2*'AUDUSD-Week'!E2 -> 182.37 | AT12: ='USDCAD-Week'!H2*'USDCAD-Week'!F2/'USDCAD-Week'!E2 -> 9.6315916 | AU12: ='AUDUSD-Week'!F2/'AUDUSD-Week'!G2*'AUDUSD-Week'!E2 -> 182.37 | AV12: ='NZDUSD-Week'!H2*'NZDUSD-Week'!F2/'NZDUSD-Week'!I2 -> 7.30775 | AW12: ='NZDUSD-Week'!F2/'NZDUSD-Week'!G2*'NZDUSD-Week'!E2 -> 146.155 | AX12: ='USDJPY-Week'!H2*'USDJPY-Week'!F2/'USDJPY-Week'!E2 -> 10.777604 | AY12: ='NZDUSD-Week'!F2/'NZDUSD-Week'!G2*'NZDUSD-Week'!E2 -> 146.155 | AZ12: ='USDCHF-Week'!H2*'USDCHF-Week'!F2/'USDCHF-Week'!E2 -> 9.7172286 | BA12: ='NZDUSD-Week'!F2/'NZDUSD-Week'!G2*'NZDUSD-Week'!E2 -> 146.155 | BB12: ='USDCAD-Week'!H2*'USDCAD-Week'!F2/'USDCAD-Week'!E2 -> 9.6315916 | BC12: ='USDCAD-Week'!F2/'USDCAD-Week'!G2*'USDCAD-Week'!E2 -> 207.65 | BD12: ='USDJPY-Week'!H2*'USDJPY-Week'!F2/'USDJPY-Week'!E2 -> 10.777604 | BE12: ='USDCHF-Week'!F2/'USDCHF-Week'!G2*'USDCHF-Week'!E2 -> 205.82 | BF12: ='USDJPY-Week'!H2*'USDJPY-Week'!F2/'USDJPY-Week'!E2 -> 10.777604
D13: 40188 | E13: ='EURUSD-Week'!F3*'EURUSD-Week'!E3/'EURUSD-Week'!G3 -> 287.96 | F13: ='EURUSD-Week'!H3*'EURUSD-Week'!F3/1 -> 10 | G13: ='USDJPY-Week'!F3/'USDJPY-Week'!G3 -> 200 | H13: ='USDJPY-Week'!H3*'USDJPY-Week'!F3/'USDJPY-Week'!E3 -> 10.909289 | I13: ='EURUSD-Week'!F3/('EURUSD-Week'!G3*'EURUSD-Week'!E3) -> 138.90818 | J13: ='USDJPY-Week'!H3*'USDJPY-Week'!F3/'USDJPY-Week'!E3 -> 10.909289 | K13: ='GBPUSD-Week'!F3*'GBPUSD-Week'!E3/'GBPUSD-Week'!G3 -> 323.21 | L13: ='GBPUSD-Week'!H3*'GBPUSD-Week'!F3/1 -> 10 | M13: ='NZDUSD-Week'!F3*'NZDUSD-Week'!E3/'NZDUSD-Week'!G3 -> 147.63 | N13: ='NZDUSD-Week'!H3*'NZDUSD-Week'!F3/1 -> 10 | O13: 200 | P13: ='USDCAD-Week'!F3*'USDCAD-Week'!H3/'USDCAD-Week'!E3 -> 9.710152 | Q13: ='AUDUSD-Week'!F3*'AUDUSD-Week'!E3/'AUDUSD-Week'!G3 -> 185.03 | R13: ='AUDUSD-Week'!H3*'AUDUSD-Week'!F3/1 -> 10 | S13: ='USDCHF-Week'!F3/'USDCHF-Week'!G3 -> 200 | T13: ='USDCHF-Week'!F3*'USDCHF-Week'!H3/'USDCHF-Week'!E3 -> 9.760859 | U13: ='EURUSD-Week'!F3/'EURUSD-Week'!G3*'EURUSD-Week'!E3 -> 287.96 | V13: ='USDCHF-Week'!H3*'USDCHF-Week'!F3/'USDCHF-Week'!E3 -> 9.760859 | W13: ='EURUSD-Week'!F3/'EURUSD-Week'!G3*'EURUSD-Week'!E3 -> 287.96 | X13: ='GBPUSD-Week'!H3*'GBPUSD-Week'!F3/'GBPUSD-Week'!I3 -> 16.1605 | Y13: ='EURUSD-Week'!F3/'EURUSD-Week'!G3*'EURUSD-Week'!E3 -> 287.96 | Z13: ='AUDUSD-Week'!H3*'AUDUSD-Week'!F3/'AUDUSD-Week'!I3 -> 9.2515 | AA13: ='EURUSD-Week'!F3/'EURUSD-Week'!G3*'EURUSD-Week'!E3 -> 287.96 | AB13: ='USDCAD-Week'!H3*'USDCAD-Week'!F3/'USDCAD-Week'!E3 -> 9.710152 | AC13: ='EURUSD-Week'!F3/'EURUSD-Week'!G3*'EURUSD-Week'!E3 -> 287.96 | AD13: ='NZDUSD-Week'!H3*'NZDUSD-Week'!F3/'NZDUSD-Week'!I3 -> 7.3815 | AE13: ='GBPUSD-Week'!F3/'GBPUSD-Week'!G3*'GBPUSD-Week'!E3 -> 323.21 | AF13: ='USDJPY-Week'!H3*'USDJPY-Week'!F3/'USDJPY-Week'!E3 -> 10.909289 | AG13: ='GBPUSD-Week'!F3/'GBPUSD-Week'!G3*'GBPUSD-Week'!E3 -> 323.21 | AH13: ='USDCHF-Week'!H3*'USDCHF-Week'!F3/'USDCHF-Week'!E3 -> 9.760859 | AI13: ='GBPUSD-Week'!F3/'GBPUSD-Week'!G3*'GBPUSD-Week'!E3 -> 323.21 | AJ13: ='AUDUSD-Week'!H3*'AUDUSD-Week'!F3/'AUDUSD-Week'!I3 -> 9.2515 | AK13: ='GBPUSD-Week'!F3/'GBPUSD-Week'!G3*'GBPUSD-Week'!E3 -> 323.21 | AL13: ='USDCAD-Week'!H3*'USDCAD-Week'!F3/'USDCAD-Week'!E3 -> 9.710152 | AM13: ='GBPUSD-Week'!F3/'GBPUSD-Week'!G3*'GBPUSD-Week'!E3 -> 323.21 | AN13: ='NZDUSD-Week'!H3*'NZDUSD-Week'!F3/'NZDUSD-Week'!I3 -> 7.3815 | AO13: ='AUDUSD-Week'!F3/'AUDUSD-Week'!G3*'AUDUSD-Week'!E3 -> 185.03 | AP13: ='USDJPY-Week'!H3*'USDJPY-Week'!F3/'USDJPY-Week'!E3 -> 10.909289 | AQ13: ='AUDUSD-Week'!F3/'AUDUSD-Week'!G3*'AUDUSD-Week'!E3 -> 185.03 | AR13: ='USDCHF-Week'!H3*'USDCHF-Week'!F3/'USDCHF-Week'!E3 -> 9.760859 | AS13: ='AUDUSD-Week'!F3/'AUDUSD-Week'!G3*'AUDUSD-Week'!E3 -> 185.03 | AT13: ='USDCAD-Week'!H3*'USDCAD-Week'!F3/'USDCAD-Week'!E3 -> 9.710152 | AU13: ='AUDUSD-Week'!F3/'AUDUSD-Week'!G3*'AUDUSD-Week'!E3 -> 185.03 | AV13: ='NZDUSD-Week'!H3*'NZDUSD-Week'!F3/'NZDUSD-Week'!I3 -> 7.3815 | AW13: ='NZDUSD-Week'!F3/'NZDUSD-Week'!G3*'NZDUSD-Week'!E3 -> 147.63 | AX13: ='USDJPY-Week'!H3*'USDJPY-Week'!F3/'USDJPY-Week'!E3 -> 10.909289 | AY13: ='NZDUSD-Week'!F3/'NZDUSD-Week'!G3*'NZDUSD-Week'!E3 -> 147.63 | AZ13: ='USDCHF-Week'!H3*'USDCHF-Week'!F3/'USDCHF-Week'!E3 -> 9.760859 | BA13: ='NZDUSD-Week'!F3/'NZDUSD-Week'!G3*'NZDUSD-Week'!E3 -> 147.63 | BB13: ='USDCAD-Week'!H3*'USDCAD-Week'!F3/'USDCAD-Week'!E3 -> 9.710152 | BC13: ='USDCAD-Week'!F3/'USDCAD-Week'!G3*'USDCAD-Week'!E3 -> 205.97 | BD13: ='USDJPY-Week'!H3*'USDJPY-Week'!F3/'USDJPY-Week'!E3 -> 10.909289 | BE13: ='USDCHF-Week'!F3/'USDCHF-Week'!G3*'USDCHF-Week'!E3 -> 204.9 | BF13: ='USDJPY-Week'!H3*'USDJPY-Week'!F3/'USDJPY-Week'!E3 -> 10.909289
D14: 40195 | E14: ='EURUSD-Week'!F4*'EURUSD-Week'!E4/'EURUSD-Week'!G4 -> 284.84 | F14: ='EURUSD-Week'!H4*'EURUSD-Week'!F4/1 -> 10 | G14: ='USDJPY-Week'!F4/'USDJPY-Week'!G4 -> 200 | H14: ='USDJPY-Week'!H4*'USDJPY-Week'!F4/'USDJPY-Week'!E4 -> 11.067456 | I14: ='EURUSD-Week'!F4/('EURUSD-Week'!G4*'EURUSD-Week'!E4) -> 140.42971 | J14: ='USDJPY-Week'!H4*'USDJPY-Week'!F4/'USDJPY-Week'!E4 -> 11.067456 | K14: ='GBPUSD-Week'!F4*'GBPUSD-Week'!E4/'GBPUSD-Week'!G4 -> 323.81 | L14: ='GBPUSD-Week'!H4*'GBPUSD-Week'!F4/1 -> 10 | M14: ='NZDUSD-Week'!F4*'NZDUSD-Week'!E4/'NZDUSD-Week'!G4 -> 144.39 | N14: ='NZDUSD-Week'!H4*'NZDUSD-Week'!F4/1 -> 10 | O14: ='USDCAD-Week'!F4/'USDCAD-Week'!G4 -> 200 | P14: ='USDCAD-Week'!F4*'USDCAD-Week'!H4/'USDCAD-Week'!E4 -> 9.5812973 | Q14: ='AUDUSD-Week'!F4*'AUDUSD-Week'!E4/'AUDUSD-Week'!G4 -> 182.08 | R14: ='AUDUSD-Week'!H4*'AUDUSD-Week'!F4/1 -> 10 | S14: ='USDCHF-Week'!F4/'USDCHF-Week'!G4 -> 200 | T14: ='USDCHF-Week'!F4*'USDCHF-Week'!H4/'USDCHF-Week'!E4 -> 9.6665056 | U14: ='EURUSD-Week'!F4/'EURUSD-Week'!G4*'EURUSD-Week'!E4 -> 284.84 | V14: ='USDCHF-Week'!H4*'USDCHF-Week'!F4/'USDCHF-Week'!E4 -> 9.6665056 | W14: ='EURUSD-Week'!F4/'EURUSD-Week'!G4*'EURUSD-Week'!E4 -> 284.84 | X14: ='GBPUSD-Week'!H4*'GBPUSD-Week'!F4/'GBPUSD-Week'!I4 -> 16.1905 | Y14: ='EURUSD-Week'!F4/'EURUSD-Week'!G4*'EURUSD-Week'!E4 -> 284.84 | Z14: ='AUDUSD-Week'!H4*'AUDUSD-Week'!F4/'AUDUSD-Week'!I4 -> 9.104 | AA14: ='EURUSD-Week'!F4/'EURUSD-Week'!G4*'EURUSD-Week'!E4 -> 284.84 | AB14: ='USDCAD-Week'!H4*'USDCAD-Week'!F4/'USDCAD-Week'!E4 -> 9.5812973 | AC14: ='EURUSD-Week'!F4/'EURUSD-Week'!G4*'EURUSD-Week'!E4 -> 284.84 | AD14: ='NZDUSD-Week'!H4*'NZDUSD-Week'!F4/'NZDUSD-Week'!I4 -> 7.2195 | AE14: ='GBPUSD-Week'!F4/'GBPUSD-Week'!G4*'GBPUSD-Week'!E4 -> 323.81 | AF14: ='USDJPY-Week'!H4*'USDJPY-Week'!F4/'USDJPY-Week'!E4 -> 11.067456 | AG14: ='GBPUSD-Week'!F4/'GBPUSD-Week'!G4*'GBPUSD-Week'!E4 -> 323.81 | AH14: ='USDCHF-Week'!H4*'USDCHF-Week'!F4/'USDCHF-Week'!E4 -> 9.6665056 | AI14: ='GBPUSD-Week'!F4/'GBPUSD-Week'!G4*'GBPUSD-Week'!E4 -> 323.81 | AJ14: ='AUDUSD-Week'!H4*'AUDUSD-Week'!F4/'AUDUSD-Week'!I4 -> 9.104 | AK14: ='GBPUSD-Week'!F4/'GBPUSD-Week'!G4*'GBPUSD-Week'!E4 -> 323.81 | AL14: ='USDCAD-Week'!H4*'USDCAD-Week'!F4/'USDCAD-Week'!E4 -> 9.5812973 | AM14: ='GBPUSD-Week'!F4/'GBPUSD-Week'!G4*'GBPUSD-Week'!E4 -> 323.81 | AN14: ='NZDUSD-Week'!H4*'NZDUSD-Week'!F4/'NZDUSD-Week'!I4 -> 7.2195 | AO14: ='AUDUSD-Week'!F4/'AUDUSD-Week'!G4*'AUDUSD-Week'!E4 -> 182.08 | AP14: ='USDJPY-Week'!H4*'USDJPY-Week'!F4/'USDJPY-Week'!E4 -> 11.067456 | AQ14: ='AUDUSD-Week'!F4/'AUDUSD-Week'!G4*'AUDUSD-Week'!E4 -> 182.08 | AR14: ='USDCHF-Week'!H4*'USDCHF-Week'!F4/'USDCHF-Week'!E4 -> 9.6665056 | AS14: ='AUDUSD-Week'!F4/'AUDUSD-Week'!G4*'AUDUSD-Week'!E4 -> 182.08 | AT14: ='USDCAD-Week'!H4*'USDCAD-Week'!F4/'USDCAD-Week'!E4 -> 9.5812973 | AU14: ='AUDUSD-Week'!F4/'AUDUSD-Week'!G4*'AUDUSD-Week'!E4 -> 182.08 | AV14: ='NZDUSD-Week'!H4*'NZDUSD-Week'!F4/'NZDUSD-Week'!I4 -> 7.2195 | AW14: ='NZDUSD-Week'!F4/'NZDUSD-Week'!G4*'NZDUSD-Week'!E4 -> 144.39 | AX14: ='USDJPY-Week'!H4*'USDJPY-Week'!F4/'USDJPY-Week'!E4 -> 11.067456 | AY14: ='NZDUSD-Week'!F4/'NZDUSD-Week'!G4*'NZDUSD-Week'!E4 -> 144.39 | AZ14: ='USDCHF-Week'!H4*'USDCHF-Week'!F4/'USDCHF-Week'!E4 -> 9.6665056 | BA14: ='NZDUSD-Week'!F4/'NZDUSD-Week'!G4*'NZDUSD-Week'!E4 -> 144.39 | BB14: ='USDCAD-Week'!H4*'USDCAD-Week'!F4/'USDCAD-Week'!E4 -> 9.5812973 | BC14: ='USDCAD-Week'!F4/'USDCAD-Week'!G4*'USDCAD-Week'!E4 -> 208.74 | BD14: ='USDJPY-Week'!H4*'USDJPY-Week'!F4/'USDJPY-Week'!E4 -> 11.067456 | BE14: ='USDCHF-Week'!F4/'USDCHF-Week'!G4*'USDCHF-Week'!E4 -> 206.9 | BF14: ='USDJPY-Week'!H4*'USDJPY-Week'!F4/'USDJPY-Week'!E4 -> 11.067456
D15: 40202 | E15: ='EURUSD-Week'!F5*'EURUSD-Week'!E5/'EURUSD-Week'!G5 -> 280.11 | F15: ='EURUSD-Week'!H5*'EURUSD-Week'!F5/1 -> 10 | G15: ='USDJPY-Week'!F5/'USDJPY-Week'!G5 -> 200 | H15: ='USDJPY-Week'!H5*'USDJPY-Week'!F5/'USDJPY-Week'!E5 -> 11.100011 | I15: ='EURUSD-Week'!F5/('EURUSD-Week'!G5*'EURUSD-Week'!E5) -> 142.80104 | J15: ='USDJPY-Week'!H5*'USDJPY-Week'!F5/'USDJPY-Week'!E5 -> 11.100011 | K15: ='GBPUSD-Week'!F5*'GBPUSD-Week'!E5/'GBPUSD-Week'!G5 -> 320.88 | L15: ='GBPUSD-Week'!H5*'GBPUSD-Week'!F5/1 -> 10 | M15: ='NZDUSD-Week'!F5*'NZDUSD-Week'!E5/'NZDUSD-Week'!G5 -> 141.28 | N15: ='NZDUSD-Week'!H5*'NZDUSD-Week'!F5/1 -> 10 | O15: ='USDCAD-Week'!F5/'USDCAD-Week'!G5 -> 200 | P15: ='USDCAD-Week'!F5*'USDCAD-Week'!H5/'USDCAD-Week'!E5 -> 9.4046835 | Q15: ='AUDUSD-Week'!F5*'AUDUSD-Week'!E5/'AUDUSD-Week'!G5 -> 178.54 | R15: ='AUDUSD-Week'!H5*'AUDUSD-Week'!F5/1 -> 10 | S15: ='USDCHF-Week'!F5/'USDCHF-Week'!G5 -> 200 | T15: ='USDCHF-Week'!F5*'USDCHF-Week'!H5/'USDCHF-Week'!E5 -> 9.520636 | U15: ='EURUSD-Week'!F5/'EURUSD-Week'!G5*'EURUSD-Week'!E5 -> 280.11 | V15: ='USDCHF-Week'!H5*'USDCHF-Week'!F5/'USDCHF-Week'!E5 -> 9.520636 | W15: ='EURUSD-Week'!F5/'EURUSD-Week'!G5*'EURUSD-Week'!E5 -> 280.11 | X15: ='GBPUSD-Week'!H5*'GBPUSD-Week'!F5/'GBPUSD-Week'!I5 -> 16.044 | Y15: ='EURUSD-Week'!F5/'EURUSD-Week'!G5*'EURUSD-Week'!E5 -> 280.11 | Z15: ='AUDUSD-Week'!H5*'AUDUSD-Week'!F5/'AUDUSD-Week'!I5 -> 8.927 | AA15: ='EURUSD-Week'!F5/'EURUSD-Week'!G5*'EURUSD-Week'!E5 -> 280.11 | AB15: ='USDCAD-Week'!H5*'USDCAD-Week'!F5/'USDCAD-Week'!E5 -> 9.4046835 | AC15: ='EURUSD-Week'!F5/'EURUSD-Week'!G5*'EURUSD-Week'!E5 -> 280.11 | AD15: ='NZDUSD-Week'!H5*'NZDUSD-Week'!F5/'NZDUSD-Week'!I5 -> 7.064 | AE15: ='GBPUSD-Week'!F5/'GBPUSD-Week'!G5*'GBPUSD-Week'!E5 -> 320.88 | AF15: ='USDJPY-Week'!H5*'USDJPY-Week'!F5/'USDJPY-Week'!E5 -> 11.100011 | AG15: ='GBPUSD-Week'!F5/'GBPUSD-Week'!G5*'GBPUSD-Week'!E5 -> 320.88 | AH15: ='USDCHF-Week'!H5*'USDCHF-Week'!F5/'USDCHF-Week'!E5 -> 9.520636 | AI15: ='GBPUSD-Week'!F5/'GBPUSD-Week'!G5*'GBPUSD-Week'!E5 -> 320.88 | AJ15: ='AUDUSD-Week'!H5*'AUDUSD-Week'!F5/'AUDUSD-Week'!I5 -> 8.927 | AK15: ='GBPUSD-Week'!F5/'GBPUSD-Week'!G5*'GBPUSD-Week'!E5 -> 320.88 | AL15: ='USDCAD-Week'!H5*'USDCAD-Week'!F5/'USDCAD-Week'!E5 -> 9.4046835 | AM15: ='GBPUSD-Week'!F5/'GBPUSD-Week'!G5*'GBPUSD-Week'!E5 -> 320.88 | AN15: ='NZDUSD-Week'!H5*'NZDUSD-Week'!F5/'NZDUSD-Week'!I5 -> 7.064 | AO15: ='AUDUSD-Week'!F5/'AUDUSD-Week'!G5*'AUDUSD-Week'!E5 -> 178.54 | AP15: ='USDJPY-Week'!H5*'USDJPY-Week'!F5/'USDJPY-Week'!E5 -> 11.100011 | AQ15: ='AUDUSD-Week'!F5/'AUDUSD-Week'!G5*'AUDUSD-Week'!E5 -> 178.54 | AR15: ='USDCHF-Week'!H5*'USDCHF-Week'!F5/'USDCHF-Week'!E5 -> 9.520636 | AS15: ='AUDUSD-Week'!F5/'AUDUSD-Week'!G5*'AUDUSD-Week'!E5 -> 178.54 | AT15: ='USDCAD-Week'!H5*'USDCAD-Week'!F5/'USDCAD-Week'!E5 -> 9.4046835 | AU15: ='AUDUSD-Week'!F5/'AUDUSD-Week'!G5*'AUDUSD-Week'!E5 -> 178.54 | AV15: ='NZDUSD-Week'!H5*'NZDUSD-Week'!F5/'NZDUSD-Week'!I5 -> 7.064 | AW15: ='NZDUSD-Week'!F5/'NZDUSD-Week'!G5*'NZDUSD-Week'!E5 -> 141.28 | AX15: ='USDJPY-Week'!H5*'USDJPY-Week'!F5/'USDJPY-Week'!E5 -> 11.100011 | AY15: ='NZDUSD-Week'!F5/'NZDUSD-Week'!G5*'NZDUSD-Week'!E5 -> 141.28 | AZ15: ='USDCHF-Week'!H5*'USDCHF-Week'!F5/'USDCHF-Week'!E5 -> 9.520636 | BA15: ='NZDUSD-Week'!F5/'NZDUSD-Week'!G5*'NZDUSD-Week'!E5 -> 141.28 | BB15: ='USDCAD-Week'!H5*'USDCAD-Week'!F5/'USDCAD-Week'!E5 -> 9.4046835 | BC15: ='USDCAD-Week'!F5/'USDCAD-Week'!G5*'USDCAD-Week'!E5 -> 212.66 | BD15: ='USDJPY-Week'!H5*'USDJPY-Week'!F5/'USDJPY-Week'!E5 -> 11.100011 | BE15: ='USDCHF-Week'!F5/'USDCHF-Week'!G5*'USDCHF-Week'!E5 -> 210.07 | BF15: ='USDJPY-Week'!H5*'USDJPY-Week'!F5/'USDJPY-Week'!E5 -> 11.100011
D16: 40209 | E16: ='EURUSD-Week'!F6*'EURUSD-Week'!E6/'EURUSD-Week'!G6 -> 275.4 | F16: ='EURUSD-Week'!H6*'EURUSD-Week'!F6/1 -> 10 | G16: ='USDJPY-Week'!F6/'USDJPY-Week'!G6 -> 200 | H16: ='USDJPY-Week'!H6*'USDJPY-Week'!F6/'USDJPY-Week'!E6 -> 11.147029 | I16: ='EURUSD-Week'!F6/('EURUSD-Week'!G6*'EURUSD-Week'!E6) -> 145.24328 | J16: ='USDJPY-Week'!H6*'USDJPY-Week'!F6/'USDJPY-Week'!E6 -> 11.147029 | K16: ='GBPUSD-Week'!F6*'GBPUSD-Week'!E6/'GBPUSD-Week'!G6 -> 315.83 | L16: ='GBPUSD-Week'!H6*'GBPUSD-Week'!F6/1 -> 10 | M16: ='NZDUSD-Week'!F6*'NZDUSD-Week'!E6/'NZDUSD-Week'!G6 -> 139.2 | N16: ='NZDUSD-Week'!H6*'NZDUSD-Week'!F6/1 -> 10 | O16: ='USDCAD-Week'!F6/'USDCAD-Week'!G6 -> 200 | P16: ='USDCAD-Week'!F6*'USDCAD-Week'!H6/'USDCAD-Week'!E6 -> 9.344921 | Q16: ='AUDUSD-Week'!F6*'AUDUSD-Week'!E6/'AUDUSD-Week'!G6 -> 175.09 | R16: ='AUDUSD-Week'!H6*'AUDUSD-Week'!F6/1 -> 10 | S16: ='USDCHF-Week'!F6/'USDCHF-Week'!G6 -> 200 | T16: ='USDCHF-Week'!F6*'USDCHF-Week'!H6/'USDCHF-Week'!E6 -> 9.3738283 | U16: ='EURUSD-Week'!F6/'EURUSD-Week'!G6*'EURUSD-Week'!E6 -> 275.4 | V16: ='USDCHF-Week'!H6*'USDCHF-Week'!F6/'USDCHF-Week'!E6 -> 9.3738283 | W16: ='EURUSD-Week'!F6/'EURUSD-Week'!G6*'EURUSD-Week'!E6 -> 275.4 | X16: ='GBPUSD-Week'!H6*'GBPUSD-Week'!F6/'GBPUSD-Week'!I6 -> 15.7915 | Y16: ='EURUSD-Week'!F6/'EURUSD-Week'!G6*'EURUSD-Week'!E6 -> 275.4 | Z16: ='AUDUSD-Week'!H6*'AUDUSD-Week'!F6/'AUDUSD-Week'!I6 -> 8.7545 | AA16: ='EURUSD-Week'!F6/'EURUSD-Week'!G6*'EURUSD-Week'!E6 -> 275.4 | AB16: ='USDCAD-Week'!H6*'USDCAD-Week'!F6/'USDCAD-Week'!E6 -> 9.344921 | AC16: ='EURUSD-Week'!F6/'EURUSD-Week'!G6*'EURUSD-Week'!E6 -> 275.4 | AD16: ='NZDUSD-Week'!H6*'NZDUSD-Week'!F6/'NZDUSD-Week'!I6 -> 6.96 | AE16: ='GBPUSD-Week'!F6/'GBPUSD-Week'!G6*'GBPUSD-Week'!E6 -> 315.83 | AF16: ='USDJPY-Week'!H6*'USDJPY-Week'!F6/'USDJPY-Week'!E6 -> 11.147029 | AG16: ='GBPUSD-Week'!F6/'GBPUSD-Week'!G6*'GBPUSD-Week'!E6 -> 315.83 | AH16: ='USDCHF-Week'!H6*'USDCHF-Week'!F6/'USDCHF-Week'!E6 -> 9.3738283 | AI16: ='GBPUSD-Week'!F6/'GBPUSD-Week'!G6*'GBPUSD-Week'!E6 -> 315.83 | AJ16: ='AUDUSD-Week'!H6*'AUDUSD-Week'!F6/'AUDUSD-Week'!I6 -> 8.7545 | AK16: ='GBPUSD-Week'!F6/'GBPUSD-Week'!G6*'GBPUSD-Week'!E6 -> 315.83 | AL16: ='USDCAD-Week'!H6*'USDCAD-Week'!F6/'USDCAD-Week'!E6 -> 9.344921 | AM16: ='GBPUSD-Week'!F6/'GBPUSD-Week'!G6*'GBPUSD-Week'!E6 -> 315.83 | AN16: ='NZDUSD-Week'!H6*'NZDUSD-Week'!F6/'NZDUSD-Week'!I6 -> 6.96 | AO16: ='AUDUSD-Week'!F6/'AUDUSD-Week'!G6*'AUDUSD-Week'!E6 -> 175.09 | AP16: ='USDJPY-Week'!H6*'USDJPY-Week'!F6/'USDJPY-Week'!E6 -> 11.147029 | AQ16: ='AUDUSD-Week'!F6/'AUDUSD-Week'!G6*'AUDUSD-Week'!E6 -> 175.09 | AR16: ='USDCHF-Week'!H6*'USDCHF-Week'!F6/'USDCHF-Week'!E6 -> 9.3738283 | AS16: ='AUDUSD-Week'!F6/'AUDUSD-Week'!G6*'AUDUSD-Week'!E6 -> 175.09 | AT16: ='USDCAD-Week'!H6*'USDCAD-Week'!F6/'USDCAD-Week'!E6 -> 9.344921 | AU16: ='AUDUSD-Week'!F6/'AUDUSD-Week'!G6*'AUDUSD-Week'!E6 -> 175.09 | AV16: ='NZDUSD-Week'!H6*'NZDUSD-Week'!F6/'NZDUSD-Week'!I6 -> 6.96 | AW16: ='NZDUSD-Week'!F6/'NZDUSD-Week'!G6*'NZDUSD-Week'!E6 -> 139.2 | AX16: ='USDJPY-Week'!H6*'USDJPY-Week'!F6/'USDJPY-Week'!E6 -> 11.147029 | AY16: ='NZDUSD-Week'!F6/'NZDUSD-Week'!G6*'NZDUSD-Week'!E6 -> 139.2 | AZ16: ='USDCHF-Week'!H6*'USDCHF-Week'!F6/'USDCHF-Week'!E6 -> 9.3738283 | BA16: ='NZDUSD-Week'!F6/'NZDUSD-Week'!G6*'NZDUSD-Week'!E6 -> 139.2 | BB16: ='USDCAD-Week'!H6*'USDCAD-Week'!F6/'USDCAD-Week'!E6 -> 9.344921 | BC16: ='USDCAD-Week'!F6/'USDCAD-Week'!G6*'USDCAD-Week'!E6 -> 214.02 | BD16: ='USDJPY-Week'!H6*'USDJPY-Week'!F6/'USDJPY-Week'!E6 -> 11.147029 | BE16: ='USDCHF-Week'!F6/'USDCHF-Week'!G6*'USDCHF-Week'!E6 -> 213.36 | BF16: ='USDJPY-Week'!H6*'USDJPY-Week'!F6/'USDJPY-Week'!E6 -> 11.147029
D17: 40216 | E17: ='EURUSD-Week'!F7*'EURUSD-Week'!E7/'EURUSD-Week'!G7 -> 272.86 | F17: ='EURUSD-Week'!H7*'EURUSD-Week'!F7/1 -> 10 | G17: ='USDJPY-Week'!F7/'USDJPY-Week'!G7 -> 200 | H17: ='USDJPY-Week'!H7*'USDJPY-Week'!F7/'USDJPY-Week'!E7 -> 11.168817 | I17: ='EURUSD-Week'!F7/('EURUSD-Week'!G7*'EURUSD-Week'!E7) -> 146.59532 | J17: ='USDJPY-Week'!H7*'USDJPY-Week'!F7/'USDJPY-Week'!E7 -> 11.168817 | K17: ='GBPUSD-Week'!F7*'GBPUSD-Week'!E7/'GBPUSD-Week'!G7 -> 312.95 | L17: ='GBPUSD-Week'!H7*'GBPUSD-Week'!F7/1 -> 10 | M17: ='NZDUSD-Week'!F7*'NZDUSD-Week'!E7/'NZDUSD-Week'!G7 -> 138.59 | N17: ='NZDUSD-Week'!H7*'NZDUSD-Week'!F7/1 -> 10 | O17: ='USDCAD-Week'!F7/'USDCAD-Week'!G7 -> 200 | P17: ='USDCAD-Week'!F7*'USDCAD-Week'!H7/'USDCAD-Week'!E7 -> 9.4330724 | Q17: ='AUDUSD-Week'!F7*'AUDUSD-Week'!E7/'AUDUSD-Week'!G7 -> 175.53 | R17: ='AUDUSD-Week'!H7*'AUDUSD-Week'!F7/1 -> 10 | S17: ='USDCHF-Week'!F7/'USDCHF-Week'!G7 -> 200 | T17: ='USDCHF-Week'!F7*'USDCHF-Week'!H7/'USDCHF-Week'!E7 -> 9.2962722 | U17: ='EURUSD-Week'!F7/'EURUSD-Week'!G7*'EURUSD-Week'!E7 -> 272.86 | V17: ='USDCHF-Week'!H7*'USDCHF-Week'!F7/'USDCHF-Week'!E7 -> 9.2962722 | W17: ='EURUSD-Week'!F7/'EURUSD-Week'!G7*'EURUSD-Week'!E7 -> 272.86 | X17: ='GBPUSD-Week'!H7*'GBPUSD-Week'!F7/'GBPUSD-Week'!I7 -> 15.6475 | Y17: ='EURUSD-Week'!F7/'EURUSD-Week'!G7*'EURUSD-Week'!E7 -> 272.86 | Z17: ='AUDUSD-Week'!H7*'AUDUSD-Week'!F7/'AUDUSD-Week'!I7 -> 8.7765 | AA17: ='EURUSD-Week'!F7/'EURUSD-Week'!G7*'EURUSD-Week'!E7 -> 272.86 | AB17: ='USDCAD-Week'!H7*'USDCAD-Week'!F7/'USDCAD-Week'!E7 -> 9.4330724 | AC17: ='EURUSD-Week'!F7/'EURUSD-Week'!G7*'EURUSD-Week'!E7 -> 272.86 | AD17: ='NZDUSD-Week'!H7*'NZDUSD-Week'!F7/'NZDUSD-Week'!I7 -> 6.9295 | AE17: ='GBPUSD-Week'!F7/'GBPUSD-Week'!G7*'GBPUSD-Week'!E7 -> 312.95 | AF17: ='USDJPY-Week'!H7*'USDJPY-Week'!F7/'USDJPY-Week'!E7 -> 11.168817 | AG17: ='GBPUSD-Week'!F7/'GBPUSD-Week'!G7*'GBPUSD-Week'!E7 -> 312.95 | AH17: ='USDCHF-Week'!H7*'USDCHF-Week'!F7/'USDCHF-Week'!E7 -> 9.2962722 | AI17: ='GBPUSD-Week'!F7/'GBPUSD-Week'!G7*'GBPUSD-Week'!E7 -> 312.95 | AJ17: ='AUDUSD-Week'!H7*'AUDUSD-Week'!F7/'AUDUSD-Week'!I7 -> 8.7765 | AK17: ='GBPUSD-Week'!F7/'GBPUSD-Week'!G7*'GBPUSD-Week'!E7 -> 312.95 | AL17: ='USDCAD-Week'!H7*'USDCAD-Week'!F7/'USDCAD-Week'!E7 -> 9.4330724 | AM17: ='GBPUSD-Week'!F7/'GBPUSD-Week'!G7*'GBPUSD-Week'!E7 -> 312.95 | AN17: ='NZDUSD-Week'!H7*'NZDUSD-Week'!F7/'NZDUSD-Week'!I7 -> 6.9295 | AO17: ='AUDUSD-Week'!F7/'AUDUSD-Week'!G7*'AUDUSD-Week'!E7 -> 175.53 | AP17: ='USDJPY-Week'!H7*'USDJPY-Week'!F7/'USDJPY-Week'!E7 -> 11.168817 | AQ17: ='AUDUSD-Week'!F7/'AUDUSD-Week'!G7*'AUDUSD-Week'!E7 -> 175.53 | AR17: ='USDCHF-Week'!H7*'USDCHF-Week'!F7/'USDCHF-Week'!E7 -> 9.2962722 | AS17: ='AUDUSD-Week'!F7/'AUDUSD-Week'!G7*'AUDUSD-Week'!E7 -> 175.53 | AT17: ='USDCAD-Week'!H7*'USDCAD-Week'!F7/'USDCAD-Week'!E7 -> 9.4330724 | AU17: ='AUDUSD-Week'!F7/'AUDUSD-Week'!G7*'AUDUSD-Week'!E7 -> 175.53 | AV17: ='NZDUSD-Week'!H7*'NZDUSD-Week'!F7/'NZDUSD-Week'!I7 -> 6.9295 | AW17: ='NZDUSD-Week'!F7/'NZDUSD-Week'!G7*'NZDUSD-Week'!E7 -> 138.59 | AX17: ='USDJPY-Week'!H7*'USDJPY-Week'!F7/'USDJPY-Week'!E7 -> 11.168817 | AY17: ='NZDUSD-Week'!F7/'NZDUSD-Week'!G7*'NZDUSD-Week'!E7 -> 138.59 | AZ17: ='USDCHF-Week'!H7*'USDCHF-Week'!F7/'USDCHF-Week'!E7 -> 9.2962722 | BA17: ='NZDUSD-Week'!F7/'NZDUSD-Week'!G7*'NZDUSD-Week'!E7 -> 138.59 | BB17: ='USDCAD-Week'!H7*'USDCAD-Week'!F7/'USDCAD-Week'!E7 -> 9.4330724 | BC17: ='USDCAD-Week'!F7/'USDCAD-Week'!G7*'USDCAD-Week'!E7 -> 212.02 | BD17: ='USDJPY-Week'!H7*'USDJPY-Week'!F7/'USDJPY-Week'!E7 -> 11.168817 | BE17: ='USDCHF-Week'!F7/'USDCHF-Week'!G7*'USDCHF-Week'!E7 -> 215.14 | BF17: ='USDJPY-Week'!H7*'USDJPY-Week'!F7/'USDJPY-Week'!E7 -> 11.168817
D18: 40223 | E18: ='EURUSD-Week'!F8*'EURUSD-Week'!E8/'EURUSD-Week'!G8 -> 272.26 | F18: ='EURUSD-Week'!H8*'EURUSD-Week'!F8/1 -> 10 | G18: ='USDJPY-Week'!F8/'USDJPY-Week'!G8 -> 200 | H18: ='USDJPY-Week'!H8*'USDJPY-Week'!F8/'USDJPY-Week'!E8 -> 11.019891 | I18: ='EURUSD-Week'!F8/('EURUSD-Week'!G8*'EURUSD-Week'!E8) -> 146.91839 | J18: ='USDJPY-Week'!H8*'USDJPY-Week'!F8/'USDJPY-Week'!E8 -> 11.019891 | K18: ='GBPUSD-Week'!F8*'GBPUSD-Week'!E8/'GBPUSD-Week'!G8 -> 311.36 | L18: ='GBPUSD-Week'!H8*'GBPUSD-Week'!F8/1 -> 10 | M18: ='NZDUSD-Week'!F8*'NZDUSD-Week'!E8/'NZDUSD-Week'!G8 -> 139.44 | N18: ='NZDUSD-Week'!H8*'NZDUSD-Week'!F8/1 -> 10 | O18: ='USDCAD-Week'!F8/'USDCAD-Week'!G8 -> 200 | P18: ='USDCAD-Week'!F8*'USDCAD-Week'!H8/'USDCAD-Week'!E8 -> 9.5670892 | Q18: ='AUDUSD-Week'!F8*'AUDUSD-Week'!E8/'AUDUSD-Week'!G8 -> 178.56 | R18: ='AUDUSD-Week'!H8*'AUDUSD-Week'!F8/1 -> 10 | S18: ='USDCHF-Week'!F8/'USDCHF-Week'!G8 -> 200 | T18: ='USDCHF-Week'!F8*'USDCHF-Week'!H8/'USDCHF-Week'!E8 -> 9.2923849 | U18: ='EURUSD-Week'!F8/'EURUSD-Week'!G8*'EURUSD-Week'!E8 -> 272.26 | V18: ='USDCHF-Week'!H8*'USDCHF-Week'!F8/'USDCHF-Week'!E8 -> 9.2923849 | W18: ='EURUSD-Week'!F8/'EURUSD-Week'!G8*'EURUSD-Week'!E8 -> 272.26 | X18: ='GBPUSD-Week'!H8*'GBPUSD-Week'!F8/'GBPUSD-Week'!I8 -> 15.568 | Y18: ='EURUSD-Week'!F8/'EURUSD-Week'!G8*'EURUSD-Week'!E8 -> 272.26 | Z18: ='AUDUSD-Week'!H8*'AUDUSD-Week'!F8/'AUDUSD-Week'!I8 -> 8.928 | AA18: ='EURUSD-Week'!F8/'EURUSD-Week'!G8*'EURUSD-Week'!E8 -> 272.26 | AB18: ='USDCAD-Week'!H8*'USDCAD-Week'!F8/'USDCAD-Week'!E8 -> 9.5670892 | AC18: ='EURUSD-Week'!F8/'EURUSD-Week'!G8*'EURUSD-Week'!E8 -> 272.26 | AD18: ='NZDUSD-Week'!H8*'NZDUSD-Week'!F8/'NZDUSD-Week'!I8 -> 6.972 | AE18: ='GBPUSD-Week'!F8/'GBPUSD-Week'!G8*'GBPUSD-Week'!E8 -> 311.36 | AF18: ='USDJPY-Week'!H8*'USDJPY-Week'!F8/'USDJPY-Week'!E8 -> 11.019891 | AG18: ='GBPUSD-Week'!F8/'GBPUSD-Week'!G8*'GBPUSD-Week'!E8 -> 311.36 | AH18: ='USDCHF-Week'!H8*'USDCHF-Week'!F8/'USDCHF-Week'!E8 -> 9.2923849 | AI18: ='GBPUSD-Week'!F8/'GBPUSD-Week'!G8*'GBPUSD-Week'!E8 -> 311.36 | AJ18: ='AUDUSD-Week'!H8*'AUDUSD-Week'!F8/'AUDUSD-Week'!I8 -> 8.928 | AK18: ='GBPUSD-Week'!F8/'GBPUSD-Week'!G8*'GBPUSD-Week'!E8 -> 311.36 | AL18: ='USDCAD-Week'!H8*'USDCAD-Week'!F8/'USDCAD-Week'!E8 -> 9.5670892 | AM18: ='GBPUSD-Week'!F8/'GBPUSD-Week'!G8*'GBPUSD-Week'!E8 -> 311.36 | AN18: ='NZDUSD-Week'!H8*'NZDUSD-Week'!F8/'NZDUSD-Week'!I8 -> 6.972 | AO18: ='AUDUSD-Week'!F8/'AUDUSD-Week'!G8*'AUDUSD-Week'!E8 -> 178.56 | AP18: ='USDJPY-Week'!H8*'USDJPY-Week'!F8/'USDJPY-Week'!E8 -> 11.019891 | AQ18: ='AUDUSD-Week'!F8/'AUDUSD-Week'!G8*'AUDUSD-Week'!E8 -> 178.56 | AR18: ='USDCHF-Week'!H8*'USDCHF-Week'!F8/'USDCHF-Week'!E8 -> 9.2923849 | AS18: ='AUDUSD-Week'!F8/'AUDUSD-Week'!G8*'AUDUSD-Week'!E8 -> 178.56 | AT18: ='USDCAD-Week'!H8*'USDCAD-Week'!F8/'USDCAD-Week'!E8 -> 9.5670892 | AU18: ='AUDUSD-Week'!F8/'AUDUSD-Week'!G8*'AUDUSD-Week'!E8 -> 178.56 | AV18: ='NZDUSD-Week'!H8*'NZDUSD-Week'!F8/'NZDUSD-Week'!I8 -> 6.972 | AW18: ='NZDUSD-Week'!F8/'NZDUSD-Week'!G8*'NZDUSD-Week'!E8 -> 139.44 | AX18: ='USDJPY-Week'!H8*'USDJPY-Week'!F8/'USDJPY-Week'!E8 -> 11.019891 | AY18: ='NZDUSD-Week'!F8/'NZDUSD-Week'!G8*'NZDUSD-Week'!E8 -> 139.44 | AZ18: ='USDCHF-Week'!H8*'USDCHF-Week'!F8/'USDCHF-Week'!E8 -> 9.2923849 | BA18: ='NZDUSD-Week'!F8/'NZDUSD-Week'!G8*'NZDUSD-Week'!E8 -> 139.44 | BB18: ='USDCAD-Week'!H8*'USDCAD-Week'!F8/'USDCAD-Week'!E8 -> 9.5670892 | BC18: ='USDCAD-Week'!F8/'USDCAD-Week'!G8*'USDCAD-Week'!E8 -> 209.05 | BD18: ='USDJPY-Week'!H8*'USDJPY-Week'!F8/'USDJPY-Week'!E8 -> 11.019891 | BE18: ='USDCHF-Week'!F8/'USDCHF-Week'!G8*'USDCHF-Week'!E8 -> 215.23 | BF18: ='USDJPY-Week'!H8*'USDJPY-Week'!F8/'USDJPY-Week'!E8 -> 11.019891
D19: 40230 | E19: ='EURUSD-Week'!F9*'EURUSD-Week'!E9/'EURUSD-Week'!G9 -> 272.43 | F19: ='EURUSD-Week'!H9*'EURUSD-Week'!F9/1 -> 10 | G19: ='USDJPY-Week'!F9/'USDJPY-Week'!G9 -> 200 | H19: ='USDJPY-Week'!H9*'USDJPY-Week'!F9/'USDJPY-Week'!E9 -> 11.07481 | I19: ='EURUSD-Week'!F9/('EURUSD-Week'!G9*'EURUSD-Week'!E9) -> 146.82671 | J19: ='USDJPY-Week'!H9*'USDJPY-Week'!F9/'USDJPY-Week'!E9 -> 11.07481 | K19: ='GBPUSD-Week'!F9*'GBPUSD-Week'!E9/'GBPUSD-Week'!G9 -> 306.9 | L19: ='GBPUSD-Week'!H9*'GBPUSD-Week'!F9/1 -> 10 | M19: ='NZDUSD-Week'!F9*'NZDUSD-Week'!E9/'NZDUSD-Week'!G9 -> 139.74 | N19: ='NZDUSD-Week'!H9*'NZDUSD-Week'!F9/1 -> 10 | O19: ='USDCAD-Week'!F9/'USDCAD-Week'!G9 -> 200 | P19: ='USDCAD-Week'!F9*'USDCAD-Week'!H9/'USDCAD-Week'!E9 -> 9.5684623 | Q19: ='AUDUSD-Week'!F9*'AUDUSD-Week'!E9/'AUDUSD-Week'!G9 -> 179.49 | R19: ='AUDUSD-Week'!H9*'AUDUSD-Week'!F9/1 -> 10 | S19: ='USDCHF-Week'!F9/'USDCHF-Week'!G9 -> 200 | T19: ='USDCHF-Week'!F9*'USDCHF-Week'!H9/'USDCHF-Week'!E9 -> 9.3023256 | U19: ='EURUSD-Week'!F9/'EURUSD-Week'!G9*'EURUSD-Week'!E9 -> 272.43 | V19: ='USDCHF-Week'!H9*'USDCHF-Week'!F9/'USDCHF-Week'!E9 -> 9.3023256 | W19: ='EURUSD-Week'!F9/'EURUSD-Week'!G9*'EURUSD-Week'!E9 -> 272.43 | X19: ='GBPUSD-Week'!H9*'GBPUSD-Week'!F9/'GBPUSD-Week'!I9 -> 15.345 | Y19: ='EURUSD-Week'!F9/'EURUSD-Week'!G9*'EURUSD-Week'!E9 -> 272.43 | Z19: ='AUDUSD-Week'!H9*'AUDUSD-Week'!F9/'AUDUSD-Week'!I9 -> 8.9745 | AA19: ='EURUSD-Week'!F9/'EURUSD-Week'!G9*'EURUSD-Week'!E9 -> 272.43 | AB19: ='USDCAD-Week'!H9*'USDCAD-Week'!F9/'USDCAD-Week'!E9 -> 9.5684623 | AC19: ='EURUSD-Week'!F9/'EURUSD-Week'!G9*'EURUSD-Week'!E9 -> 272.43 | AD19: ='NZDUSD-Week'!H9*'NZDUSD-Week'!F9/'NZDUSD-Week'!I9 -> 6.987 | AE19: ='GBPUSD-Week'!F9/'GBPUSD-Week'!G9*'GBPUSD-Week'!E9 -> 306.9 | AF19: ='USDJPY-Week'!H9*'USDJPY-Week'!F9/'USDJPY-Week'!E9 -> 11.07481 | AG19: ='GBPUSD-Week'!F9/'GBPUSD-Week'!G9*'GBPUSD-Week'!E9 -> 306.9 | AH19: ='USDCHF-Week'!H9*'USDCHF-Week'!F9/'USDCHF-Week'!E9 -> 9.3023256 | AI19: ='GBPUSD-Week'!F9/'GBPUSD-Week'!G9*'GBPUSD-Week'!E9 -> 306.9 | AJ19: ='AUDUSD-Week'!H9*'AUDUSD-Week'!F9/'AUDUSD-Week'!I9 -> 8.9745 | AK19: ='GBPUSD-Week'!F9/'GBPUSD-Week'!G9*'GBPUSD-Week'!E9 -> 306.9 | AL19: ='USDCAD-Week'!H9*'USDCAD-Week'!F9/'USDCAD-Week'!E9 -> 9.5684623 | AM19: ='GBPUSD-Week'!F9/'GBPUSD-Week'!G9*'GBPUSD-Week'!E9 -> 306.9 | AN19: ='NZDUSD-Week'!H9*'NZDUSD-Week'!F9/'NZDUSD-Week'!I9 -> 6.987 | AO19: ='AUDUSD-Week'!F9/'AUDUSD-Week'!G9*'AUDUSD-Week'!E9 -> 179.49 | AP19: ='USDJPY-Week'!H9*'USDJPY-Week'!F9/'USDJPY-Week'!E9 -> 11.07481 | AQ19: ='AUDUSD-Week'!F9/'AUDUSD-Week'!G9*'AUDUSD-Week'!E9 -> 179.49 | AR19: ='USDCHF-Week'!H9*'USDCHF-Week'!F9/'USDCHF-Week'!E9 -> 9.3023256 | AS19: ='AUDUSD-Week'!F9/'AUDUSD-Week'!G9*'AUDUSD-Week'!E9 -> 179.49 | AT19: ='USDCAD-Week'!H9*'USDCAD-Week'!F9/'USDCAD-Week'!E9 -> 9.5684623 | AU19: ='AUDUSD-Week'!F9/'AUDUSD-Week'!G9*'AUDUSD-Week'!E9 -> 179.49 | AV19: ='NZDUSD-Week'!H9*'NZDUSD-Week'!F9/'NZDUSD-Week'!I9 -> 6.987 | AW19: ='NZDUSD-Week'!F9/'NZDUSD-Week'!G9*'NZDUSD-Week'!E9 -> 139.74 | AX19: ='USDJPY-Week'!H9*'USDJPY-Week'!F9/'USDJPY-Week'!E9 -> 11.07481 | AY19: ='NZDUSD-Week'!F9/'NZDUSD-Week'!G9*'NZDUSD-Week'!E9 -> 139.74 | AZ19: ='USDCHF-Week'!H9*'USDCHF-Week'!F9/'USDCHF-Week'!E9 -> 9.3023256 | BA19: ='NZDUSD-Week'!F9/'NZDUSD-Week'!G9*'NZDUSD-Week'!E9 -> 139.74 | BB19: ='USDCAD-Week'!H9*'USDCAD-Week'!F9/'USDCAD-Week'!E9 -> 9.5684623 | BC19: ='USDCAD-Week'!F9/'USDCAD-Week'!G9*'USDCAD-Week'!E9 -> 209.02 | BD19: ='USDJPY-Week'!H9*'USDJPY-Week'!F9/'USDJPY-Week'!E9 -> 11.07481 | BE19: ='USDCHF-Week'!F9/'USDCHF-Week'!G9*'USDCHF-Week'!E9 -> 215 | BF19: ='USDJPY-Week'!H9*'USDJPY-Week'!F9/'USDJPY-Week'!E9 -> 11.07481
D20: 40237 | E20: ='EURUSD-Week'!F10*'EURUSD-Week'!E10/'EURUSD-Week'!G10 -> 272.41 | F20: ='EURUSD-Week'!H10*'EURUSD-Week'!F10/1 -> 10 | G20: ='USDJPY-Week'!F10/'USDJPY-Week'!G10 -> 200 | H20: ='USDJPY-Week'!H10*'USDJPY-Week'!F10/'USDJPY-Week'!E10 -> 11.161337 | I20: ='EURUSD-Week'!F10/('EURUSD-Week'!G10*'EURUSD-Week'!E10) -> 146.83749 | J20: ='USDJPY-Week'!H10*'USDJPY-Week'!F10/'USDJPY-Week'!E10 -> 11.161337 | K20: ='GBPUSD-Week'!F10*'GBPUSD-Week'!E10/'GBPUSD-Week'!G10 -> 302.91 | L20: ='GBPUSD-Week'!H10*'GBPUSD-Week'!F10/1 -> 10 | M20: ='NZDUSD-Week'!F10*'NZDUSD-Week'!E10/'NZDUSD-Week'!G10 -> 139.59 | N20: ='NZDUSD-Week'!H10*'NZDUSD-Week'!F10/1 -> 10 | O20: ='USDCAD-Week'!F10/'USDCAD-Week'!G10 -> 200 | P20: ='USDCAD-Week'!F10*'USDCAD-Week'!H10/'USDCAD-Week'!E10 -> 9.6126117 | Q20: ='AUDUSD-Week'!F10*'AUDUSD-Week'!E10/'AUDUSD-Week'!G10 -> 180.45 | R20: ='AUDUSD-Week'!H10*'AUDUSD-Week'!F10/1 -> 10 | S20: ='USDCHF-Week'!F10/'USDCHF-Week'!G10 -> 200 | T20: ='USDCHF-Week'!F10*'USDCHF-Week'!H10/'USDCHF-Week'!E10 -> 9.310987 | U20: ='EURUSD-Week'!F10/'EURUSD-Week'!G10*'EURUSD-Week'!E10 -> 272.41 | V20: ='USDCHF-Week'!H10*'USDCHF-Week'!F10/'USDCHF-Week'!E10 -> 9.310987 | W20: ='EURUSD-Week'!F10/'EURUSD-Week'!G10*'EURUSD-Week'!E10 -> 272.41 | X20: ='GBPUSD-Week'!H10*'GBPUSD-Week'!F10/'GBPUSD-Week'!I10 -> 15.1455 | Y20: ='EURUSD-Week'!F10/'EURUSD-Week'!G10*'EURUSD-Week'!E10 -> 272.41 | Z20: ='AUDUSD-Week'!H10*'AUDUSD-Week'!F10/'AUDUSD-Week'!I10 -> 9.0225 | AA20: ='EURUSD-Week'!F10/'EURUSD-Week'!G10*'EURUSD-Week'!E10 -> 272.41 | AB20: ='USDCAD-Week'!H10*'USDCAD-Week'!F10/'USDCAD-Week'!E10 -> 9.6126117 | AC20: ='EURUSD-Week'!F10/'EURUSD-Week'!G10*'EURUSD-Week'!E10 -> 272.41 | AD20: ='NZDUSD-Week'!H10*'NZDUSD-Week'!F10/'NZDUSD-Week'!I10 -> 6.9795 | AE20: ='GBPUSD-Week'!F10/'GBPUSD-Week'!G10*'GBPUSD-Week'!E10 -> 302.91 | AF20: ='USDJPY-Week'!H10*'USDJPY-Week'!F10/'USDJPY-Week'!E10 -> 11.161337 | AG20: ='GBPUSD-Week'!F10/'GBPUSD-Week'!G10*'GBPUSD-Week'!E10 -> 302.91 | AH20: ='USDCHF-Week'!H10*'USDCHF-Week'!F10/'USDCHF-Week'!E10 -> 9.310987 | AI20: ='GBPUSD-Week'!F10/'GBPUSD-Week'!G10*'GBPUSD-Week'!E10 -> 302.91 | AJ20: ='AUDUSD-Week'!H10*'AUDUSD-Week'!F10/'AUDUSD-Week'!I10 -> 9.0225 | AK20: ='GBPUSD-Week'!F10/'GBPUSD-Week'!G10*'GBPUSD-Week'!E10 -> 302.91 | AL20: ='USDCAD-Week'!H10*'USDCAD-Week'!F10/'USDCAD-Week'!E10 -> 9.6126117 | AM20: ='GBPUSD-Week'!F10/'GBPUSD-Week'!G10*'GBPUSD-Week'!E10 -> 302.91 | AN20: ='NZDUSD-Week'!H10*'NZDUSD-Week'!F10/'NZDUSD-Week'!I10 -> 6.9795 | AO20: ='AUDUSD-Week'!F10/'AUDUSD-Week'!G10*'AUDUSD-Week'!E10 -> 180.45 | AP20: ='USDJPY-Week'!H10*'USDJPY-Week'!F10/'USDJPY-Week'!E10 -> 11.161337 | AQ20: ='AUDUSD-Week'!F10/'AUDUSD-Week'!G10*'AUDUSD-Week'!E10 -> 180.45 | AR20: ='USDCHF-Week'!H10*'USDCHF-Week'!F10/'USDCHF-Week'!E10 -> 9.310987 | AS20: ='AUDUSD-Week'!F10/'AUDUSD-Week'!G10*'AUDUSD-Week'!E10 -> 180.45 | AT20: ='USDCAD-Week'!H10*'USDCAD-Week'!F10/'USDCAD-Week'!E10 -> 9.6126117 | AU20: ='AUDUSD-Week'!F10/'AUDUSD-Week'!G10*'AUDUSD-Week'!E10 -> 180.45 | AV20: ='NZDUSD-Week'!H10*'NZDUSD-Week'!F10/'NZDUSD-Week'!I10 -> 6.9795 | AW20: ='NZDUSD-Week'!F10/'NZDUSD-Week'!G10*'NZDUSD-Week'!E10 -> 139.59 | AX20: ='USDJPY-Week'!H10*'USDJPY-Week'!F10/'USDJPY-Week'!E10 -> 11.161337 | AY20: ='NZDUSD-Week'!F10/'NZDUSD-Week'!G10*'NZDUSD-Week'!E10 -> 139.59 | AZ20: ='USDCHF-Week'!H10*'USDCHF-Week'!F10/'USDCHF-Week'!E10 -> 9.310987 | BA20: ='NZDUSD-Week'!F10/'NZDUSD-Week'!G10*'NZDUSD-Week'!E10 -> 139.59 | BB20: ='USDCAD-Week'!H10*'USDCAD-Week'!F10/'USDCAD-Week'!E10 -> 9.6126117 | BC20: ='USDCAD-Week'!F10/'USDCAD-Week'!G10*'USDCAD-Week'!E10 -> 208.06 | BD20: ='USDJPY-Week'!H10*'USDJPY-Week'!F10/'USDJPY-Week'!E10 -> 11.161337 | BE20: ='USDCHF-Week'!F10/'USDCHF-Week'!G10*'USDCHF-Week'!E10 -> 214.8 | BF20: ='USDJPY-Week'!H10*'USDJPY-Week'!F10/'USDJPY-Week'!E10 -> 11.161337
D21: 40244 | E21: ='EURUSD-Week'!F11*'EURUSD-Week'!E11/'EURUSD-Week'!G11 -> 274.08 | F21: ='EURUSD-Week'!H11*'EURUSD-Week'!F11/1 -> 10 | G21: ='USDJPY-Week'!F11/'USDJPY-Week'!G11 -> 200 | H21: ='USDJPY-Week'!H11*'USDJPY-Week'!F11/'USDJPY-Week'!E11 -> 11.052777 | I21: ='EURUSD-Week'!F11/('EURUSD-Week'!G11*'EURUSD-Week'!E11) -> 145.94279 | J21: ='USDJPY-Week'!H11*'USDJPY-Week'!F11/'USDJPY-Week'!E11 -> 11.052777 | K21: ='GBPUSD-Week'!F11*'GBPUSD-Week'!E11/'GBPUSD-Week'!G11 -> 303.56 | L21: ='GBPUSD-Week'!H11*'GBPUSD-Week'!F11/1 -> 10 | M21: ='NZDUSD-Week'!F11*'NZDUSD-Week'!E11/'NZDUSD-Week'!G11 -> 140.1 | N21: ='NZDUSD-Week'!H11*'NZDUSD-Week'!F11/1 -> 10 | O21: ='USDCAD-Week'!F11/'USDCAD-Week'!G11 -> 200 | P21: ='USDCAD-Week'!F11*'USDCAD-Week'!H11/'USDCAD-Week'!E11 -> 9.7742156 | Q21: ='AUDUSD-Week'!F11*'AUDUSD-Week'!E11/'AUDUSD-Week'!G11 -> 182.46 | R21: ='AUDUSD-Week'!H11*'AUDUSD-Week'!F11/1 -> 10 | S21: ='USDCHF-Week'!F11/'USDCHF-Week'!G11 -> 200 | T21: ='USDCHF-Week'!F11*'USDCHF-Week'!H11/'USDCHF-Week'!E11 -> 9.3892306 | U21: ='EURUSD-Week'!F11/'EURUSD-Week'!G11*'EURUSD-Week'!E11 -> 274.08 | V21: ='USDCHF-Week'!H11*'USDCHF-Week'!F11/'USDCHF-Week'!E11 -> 9.3892306 | W21: ='EURUSD-Week'!F11/'EURUSD-Week'!G11*'EURUSD-Week'!E11 -> 274.08 | X21: ='GBPUSD-Week'!H11*'GBPUSD-Week'!F11/'GBPUSD-Week'!I11 -> 15.178 | Y21: ='EURUSD-Week'!F11/'EURUSD-Week'!G11*'EURUSD-Week'!E11 -> 274.08 | Z21: ='AUDUSD-Week'!H11*'AUDUSD-Week'!F11/'AUDUSD-Week'!I11 -> 9.123 | AA21: ='EURUSD-Week'!F11/'EURUSD-Week'!G11*'EURUSD-Week'!E11 -> 274.08 | AB21: ='USDCAD-Week'!H11*'USDCAD-Week'!F11/'USDCAD-Week'!E11 -> 9.7742156 | AC21: ='EURUSD-Week'!F11/'EURUSD-Week'!G11*'EURUSD-Week'!E11 -> 274.08 | AD21: ='NZDUSD-Week'!H11*'NZDUSD-Week'!F11/'NZDUSD-Week'!I11 -> 7.005 | AE21: ='GBPUSD-Week'!F11/'GBPUSD-Week'!G11*'GBPUSD-Week'!E11 -> 303.56 | AF21: ='USDJPY-Week'!H11*'USDJPY-Week'!F11/'USDJPY-Week'!E11 -> 11.052777 | AG21: ='GBPUSD-Week'!F11/'GBPUSD-Week'!G11*'GBPUSD-Week'!E11 -> 303.56 | AH21: ='USDCHF-Week'!H11*'USDCHF-Week'!F11/'USDCHF-Week'!E11 -> 9.3892306 | AI21: ='GBPUSD-Week'!F11/'GBPUSD-Week'!G11*'GBPUSD-Week'!E11 -> 303.56 | AJ21: ='AUDUSD-Week'!H11*'AUDUSD-Week'!F11/'AUDUSD-Week'!I11 -> 9.123 | AK21: ='GBPUSD-Week'!F11/'GBPUSD-Week'!G11*'GBPUSD-Week'!E11 -> 303.56 | AL21: ='USDCAD-Week'!H11*'USDCAD-Week'!F11/'USDCAD-Week'!E11 -> 9.7742156 | AM21: ='GBPUSD-Week'!F11/'GBPUSD-Week'!G11*'GBPUSD-Week'!E11 -> 303.56 | AN21: ='NZDUSD-Week'!H11*'NZDUSD-Week'!F11/'NZDUSD-Week'!I11 -> 7.005 | AO21: ='AUDUSD-Week'!F11/'AUDUSD-Week'!G11*'AUDUSD-Week'!E11 -> 182.46 | AP21: ='USDJPY-Week'!H11*'USDJPY-Week'!F11/'USDJPY-Week'!E11 -> 11.052777 | AQ21: ='AUDUSD-Week'!F11/'AUDUSD-Week'!G11*'AUDUSD-Week'!E11 -> 182.46 | AR21: ='USDCHF-Week'!H11*'USDCHF-Week'!F11/'USDCHF-Week'!E11 -> 9.3892306 | AS21: ='AUDUSD-Week'!F11/'AUDUSD-Week'!G11*'AUDUSD-Week'!E11 -> 182.46 | AT21: ='USDCAD-Week'!H11*'USDCAD-Week'!F11/'USDCAD-Week'!E11 -> 9.7742156 | AU21: ='AUDUSD-Week'!F11/'AUDUSD-Week'!G11*'AUDUSD-Week'!E11 -> 182.46 | AV21: ='NZDUSD-Week'!H11*'NZDUSD-Week'!F11/'NZDUSD-Week'!I11 -> 7.005 | AW21: ='NZDUSD-Week'!F11/'NZDUSD-Week'!G11*'NZDUSD-Week'!E11 -> 140.1 | AX21: ='USDJPY-Week'!H11*'USDJPY-Week'!F11/'USDJPY-Week'!E11 -> 11.052777 | AY21: ='NZDUSD-Week'!F11/'NZDUSD-Week'!G11*'NZDUSD-Week'!E11 -> 140.1 | AZ21: ='USDCHF-Week'!H11*'USDCHF-Week'!F11/'USDCHF-Week'!E11 -> 9.3892306 | BA21: ='NZDUSD-Week'!F11/'NZDUSD-Week'!G11*'NZDUSD-Week'!E11 -> 140.1 | BB21: ='USDCAD-Week'!H11*'USDCAD-Week'!F11/'USDCAD-Week'!E11 -> 9.7742156 | BC21: ='USDCAD-Week'!F11/'USDCAD-Week'!G11*'USDCAD-Week'!E11 -> 204.62 | BD21: ='USDJPY-Week'!H11*'USDJPY-Week'!F11/'USDJPY-Week'!E11 -> 11.052777 | BE21: ='USDCHF-Week'!F11/'USDCHF-Week'!G11*'USDCHF-Week'!E11 -> 213.01 | BF21: ='USDJPY-Week'!H11*'USDJPY-Week'!F11/'USDJPY-Week'!E11 -> 11.052777
D22: 40251 | E22: ='EURUSD-Week'!F12*'EURUSD-Week'!E12/'EURUSD-Week'!G12 -> 272.9 | F22: ='EURUSD-Week'!H12*'EURUSD-Week'!F12/1 -> 10 | G22: ='USDJPY-Week'!F12/'USDJPY-Week'!G12 -> 200 | H22: ='USDJPY-Week'!H12*'USDJPY-Week'!F12/'USDJPY-Week'!E12 -> 11.042403 | I22: ='EURUSD-Week'!F12/('EURUSD-Week'!G12*'EURUSD-Week'!E12) -> 146.57384 | J22: ='USDJPY-Week'!H12*'USDJPY-Week'!F12/'USDJPY-Week'!E12 -> 11.042403 | K22: ='GBPUSD-Week'!F12*'GBPUSD-Week'!E12/'GBPUSD-Week'!G12 -> 302.16 | L22: ='GBPUSD-Week'!H12*'GBPUSD-Week'!F12/1 -> 10 | M22: ='NZDUSD-Week'!F12*'NZDUSD-Week'!E12/'NZDUSD-Week'!G12 -> 141.07 | N22: ='NZDUSD-Week'!H12*'NZDUSD-Week'!F12/1 -> 10 | O22: ='USDCAD-Week'!F12/'USDCAD-Week'!G12 -> 200 | P22: ='USDCAD-Week'!F12*'USDCAD-Week'!H12/'USDCAD-Week'!E12 -> 9.8318749 | Q22: ='AUDUSD-Week'!F12*'AUDUSD-Week'!E12/'AUDUSD-Week'!G12 -> 183.22 | R22: ='AUDUSD-Week'!H12*'AUDUSD-Week'!F12/1 -> 10 | S22: ='USDCHF-Week'!F12/'USDCHF-Week'!G12 -> 200 | T22: ='USDCHF-Week'!F12*'USDCHF-Week'!H12/'USDCHF-Week'!E12 -> 9.4348523 | U22: ='EURUSD-Week'!F12/'EURUSD-Week'!G12*'EURUSD-Week'!E12 -> 272.9 | V22: ='USDCHF-Week'!H12*'USDCHF-Week'!F12/'USDCHF-Week'!E12 -> 9.4348523 | W22: ='EURUSD-Week'!F12/'EURUSD-Week'!G12*'EURUSD-Week'!E12 -> 272.9 | X22: ='GBPUSD-Week'!H12*'GBPUSD-Week'!F12/'GBPUSD-Week'!I12 -> 15.108 | Y22: ='EURUSD-Week'!F12/'EURUSD-Week'!G12*'EURUSD-Week'!E12 -> 272.9 | Z22: ='AUDUSD-Week'!H12*'AUDUSD-Week'!F12/'AUDUSD-Week'!I12 -> 9.161 | AA22: ='EURUSD-Week'!F12/'EURUSD-Week'!G12*'EURUSD-Week'!E12 -> 272.9 | AB22: ='USDCAD-Week'!H12*'USDCAD-Week'!F12/'USDCAD-Week'!E12 -> 9.8318749 | AC22: ='EURUSD-Week'!F12/'EURUSD-Week'!G12*'EURUSD-Week'!E12 -> 272.9 | AD22: ='NZDUSD-Week'!H12*'NZDUSD-Week'!F12/'NZDUSD-Week'!I12 -> 7.0535 | AE22: ='GBPUSD-Week'!F12/'GBPUSD-Week'!G12*'GBPUSD-Week'!E12 -> 302.16 | AF22: ='USDJPY-Week'!H12*'USDJPY-Week'!F12/'USDJPY-Week'!E12 -> 11.042403 | AG22: ='GBPUSD-Week'!F12/'GBPUSD-Week'!G12*'GBPUSD-Week'!E12 -> 302.16 | AH22: ='USDCHF-Week'!H12*'USDCHF-Week'!F12/'USDCHF-Week'!E12 -> 9.4348523 | AI22: ='GBPUSD-Week'!F12/'GBPUSD-Week'!G12*'GBPUSD-Week'!E12 -> 302.16 | AJ22: ='AUDUSD-Week'!H12*'AUDUSD-Week'!F12/'AUDUSD-Week'!I12 -> 9.161 | AK22: ='GBPUSD-Week'!F12/'GBPUSD-Week'!G12*'GBPUSD-Week'!E12 -> 302.16 | AL22: ='USDCAD-Week'!H12*'USDCAD-Week'!F12/'USDCAD-Week'!E12 -> 9.8318749 | AM22: ='GBPUSD-Week'!F12/'GBPUSD-Week'!G12*'GBPUSD-Week'!E12 -> 302.16 | AN22: ='NZDUSD-Week'!H12*'NZDUSD-Week'!F12/'NZDUSD-Week'!I12 -> 7.0535 | AO22: ='AUDUSD-Week'!F12/'AUDUSD-Week'!G12*'AUDUSD-Week'!E12 -> 183.22 | AP22: ='USDJPY-Week'!H12*'USDJPY-Week'!F12/'USDJPY-Week'!E12 -> 11.042403 | AQ22: ='AUDUSD-Week'!F12/'AUDUSD-Week'!G12*'AUDUSD-Week'!E12 -> 183.22 | AR22: ='USDCHF-Week'!H12*'USDCHF-Week'!F12/'USDCHF-Week'!E12 -> 9.4348523 | AS22: ='AUDUSD-Week'!F12/'AUDUSD-Week'!G12*'AUDUSD-Week'!E12 -> 183.22 | AT22: ='USDCAD-Week'!H12*'USDCAD-Week'!F12/'USDCAD-Week'!E12 -> 9.8318749 | AU22: ='AUDUSD-Week'!F12/'AUDUSD-Week'!G12*'AUDUSD-Week'!E12 -> 183.22 | AV22: ='NZDUSD-Week'!H12*'NZDUSD-Week'!F12/'NZDUSD-Week'!I12 -> 7.0535 | AW22: ='NZDUSD-Week'!F12/'NZDUSD-Week'!G12*'NZDUSD-Week'!E12 -> 141.07 | AX22: ='USDJPY-Week'!H12*'USDJPY-Week'!F12/'USDJPY-Week'!E12 -> 11.042403 | AY22: ='NZDUSD-Week'!F12/'NZDUSD-Week'!G12*'NZDUSD-Week'!E12 -> 141.07 | AZ22: ='USDCHF-Week'!H12*'USDCHF-Week'!F12/'USDCHF-Week'!E12 -> 9.4348523 | BA22: ='NZDUSD-Week'!F12/'NZDUSD-Week'!G12*'NZDUSD-Week'!E12 -> 141.07 | BB22: ='USDCAD-Week'!H12*'USDCAD-Week'!F12/'USDCAD-Week'!E12 -> 9.8318749 | BC22: ='USDCAD-Week'!F12/'USDCAD-Week'!G12*'USDCAD-Week'!E12 -> 203.42 | BD22: ='USDJPY-Week'!H12*'USDJPY-Week'!F12/'USDJPY-Week'!E12 -> 11.042403 | BE22: ='USDCHF-Week'!F12/'USDCHF-Week'!G12*'USDCHF-Week'!E12 -> 211.98 | BF22: ='USDJPY-Week'!H12*'USDJPY-Week'!F12/'USDJPY-Week'!E12 -> 11.042403
D23: 40258 | E23: ='EURUSD-Week'!F13*'EURUSD-Week'!E13/'EURUSD-Week'!G13 -> 269.3 | F23: ='EURUSD-Week'!H13*'EURUSD-Week'!F13/1 -> 10 | G23: ='USDJPY-Week'!F13/'USDJPY-Week'!G13 -> 200 | H23: ='USDJPY-Week'!H13*'USDJPY-Week'!F13/'USDJPY-Week'!E13 -> 10.914647 | I23: ='EURUSD-Week'!F13/('EURUSD-Week'!G13*'EURUSD-Week'!E13) -> 148.53323 | J23: ='USDJPY-Week'!H13*'USDJPY-Week'!F13/'USDJPY-Week'!E13 -> 10.914647 | K23: ='GBPUSD-Week'!F13*'GBPUSD-Week'!E13/'GBPUSD-Week'!G13 -> 298.88 | L23: ='GBPUSD-Week'!H13*'GBPUSD-Week'!F13/1 -> 10 | M23: ='NZDUSD-Week'!F13*'NZDUSD-Week'!E13/'NZDUSD-Week'!G13 -> 140.89 | N23: ='NZDUSD-Week'!H13*'NZDUSD-Week'!F13/1 -> 10 | O23: ='USDCAD-Week'!F13/'USDCAD-Week'!G13 -> 200 | P23: ='USDCAD-Week'!F13*'USDCAD-Week'!H13/'USDCAD-Week'!E13 -> 9.7837785 | Q23: ='AUDUSD-Week'!F13*'AUDUSD-Week'!E13/'AUDUSD-Week'!G13 -> 182.19 | R23: ='AUDUSD-Week'!H13*'AUDUSD-Week'!F13/1 -> 10 | S23: ='USDCHF-Week'!F13/'USDCHF-Week'!G13 -> 200 | T23: ='USDCHF-Week'!F13*'USDCHF-Week'!H13/'USDCHF-Week'!E13 -> 9.4095507 | U23: ='EURUSD-Week'!F13/'EURUSD-Week'!G13*'EURUSD-Week'!E13 -> 269.3 | V23: ='USDCHF-Week'!H13*'USDCHF-Week'!F13/'USDCHF-Week'!E13 -> 9.4095507 | W23: ='EURUSD-Week'!F13/'EURUSD-Week'!G13*'EURUSD-Week'!E13 -> 269.3 | X23: ='GBPUSD-Week'!H13*'GBPUSD-Week'!F13/'GBPUSD-Week'!I13 -> 14.944 | Y23: ='EURUSD-Week'!F13/'EURUSD-Week'!G13*'EURUSD-Week'!E13 -> 269.3 | Z23: ='AUDUSD-Week'!H13*'AUDUSD-Week'!F13/'AUDUSD-Week'!I13 -> 9.1095 | AA23: ='EURUSD-Week'!F13/'EURUSD-Week'!G13*'EURUSD-Week'!E13 -> 269.3 | AB23: ='USDCAD-Week'!H13*'USDCAD-Week'!F13/'USDCAD-Week'!E13 -> 9.7837785 | AC23: ='EURUSD-Week'!F13/'EURUSD-Week'!G13*'EURUSD-Week'!E13 -> 269.3 | AD23: ='NZDUSD-Week'!H13*'NZDUSD-Week'!F13/'NZDUSD-Week'!I13 -> 7.0445 | AE23: ='GBPUSD-Week'!F13/'GBPUSD-Week'!G13*'GBPUSD-Week'!E13 -> 298.88 | AF23: ='USDJPY-Week'!H13*'USDJPY-Week'!F13/'USDJPY-Week'!E13 -> 10.914647 | AG23: ='GBPUSD-Week'!F13/'GBPUSD-Week'!G13*'GBPUSD-Week'!E13 -> 298.88 | AH23: ='USDCHF-Week'!H13*'USDCHF-Week'!F13/'USDCHF-Week'!E13 -> 9.4095507 | AI23: ='GBPUSD-Week'!F13/'GBPUSD-Week'!G13*'GBPUSD-Week'!E13 -> 298.88 | AJ23: ='AUDUSD-Week'!H13*'AUDUSD-Week'!F13/'AUDUSD-Week'!I13 -> 9.1095 | AK23: ='GBPUSD-Week'!F13/'GBPUSD-Week'!G13*'GBPUSD-Week'!E13 -> 298.88 | AL23: ='USDCAD-Week'!H13*'USDCAD-Week'!F13/'USDCAD-Week'!E13 -> 9.7837785 | AM23: ='GBPUSD-Week'!F13/'GBPUSD-Week'!G13*'GBPUSD-Week'!E13 -> 298.88 | AN23: ='NZDUSD-Week'!H13*'NZDUSD-Week'!F13/'NZDUSD-Week'!I13 -> 7.0445 | AO23: ='AUDUSD-Week'!F13/'AUDUSD-Week'!G13*'AUDUSD-Week'!E13 -> 182.19 | AP23: ='USDJPY-Week'!H13*'USDJPY-Week'!F13/'USDJPY-Week'!E13 -> 10.914647 | AQ23: ='AUDUSD-Week'!F13/'AUDUSD-Week'!G13*'AUDUSD-Week'!E13 -> 182.19 | AR23: ='USDCHF-Week'!H13*'USDCHF-Week'!F13/'USDCHF-Week'!E13 -> 9.4095507 | AS23: ='AUDUSD-Week'!F13/'AUDUSD-Week'!G13*'AUDUSD-Week'!E13 -> 182.19 | AT23: ='USDCAD-Week'!H13*'USDCAD-Week'!F13/'USDCAD-Week'!E13 -> 9.7837785 | AU23: ='AUDUSD-Week'!F13/'AUDUSD-Week'!G13*'AUDUSD-Week'!E13 -> 182.19 | AV23: ='NZDUSD-Week'!H13*'NZDUSD-Week'!F13/'NZDUSD-Week'!I13 -> 7.0445 | AW23: ='NZDUSD-Week'!F13/'NZDUSD-Week'!G13*'NZDUSD-Week'!E13 -> 140.89 | AX23: ='USDJPY-Week'!H13*'USDJPY-Week'!F13/'USDJPY-Week'!E13 -> 10.914647 | AY23: ='NZDUSD-Week'!F13/'NZDUSD-Week'!G13*'NZDUSD-Week'!E13 -> 140.89 | AZ23: ='USDCHF-Week'!H13*'USDCHF-Week'!F13/'USDCHF-Week'!E13 -> 9.4095507 | BA23: ='NZDUSD-Week'!F13/'NZDUSD-Week'!G13*'NZDUSD-Week'!E13 -> 140.89 | BB23: ='USDCAD-Week'!H13*'USDCAD-Week'!F13/'USDCAD-Week'!E13 -> 9.7837785 | BC23: ='USDCAD-Week'!F13/'USDCAD-Week'!G13*'USDCAD-Week'!E13 -> 204.42 | BD23: ='USDJPY-Week'!H13*'USDJPY-Week'!F13/'USDJPY-Week'!E13 -> 10.914647 | BE23: ='USDCHF-Week'!F13/'USDCHF-Week'!G13*'USDCHF-Week'!E13 -> 212.55 | BF23: ='USDJPY-Week'!H13*'USDJPY-Week'!F13/'USDJPY-Week'!E13 -> 10.914647
D24: 40265 | E24: ='EURUSD-Week'!F14*'EURUSD-Week'!E14/'EURUSD-Week'!G14 -> 269.76 | F24: ='EURUSD-Week'!H14*'EURUSD-Week'!F14/1 -> 10 | G24: ='USDJPY-Week'!F14/'USDJPY-Week'!G14 -> 200 | H24: ='USDJPY-Week'!H14*'USDJPY-Week'!F14/'USDJPY-Week'!E14 -> 10.694043 | I24: ='EURUSD-Week'!F14/('EURUSD-Week'!G14*'EURUSD-Week'!E14) -> 148.27995 | J24: ='USDJPY-Week'!H14*'USDJPY-Week'!F14/'USDJPY-Week'!E14 -> 10.694043 | K24: ='GBPUSD-Week'!F14*'GBPUSD-Week'!E14/'GBPUSD-Week'!G14 -> 301.61 | L24: ='GBPUSD-Week'!H14*'GBPUSD-Week'!F14/1 -> 10 | M24: ='NZDUSD-Week'!F14*'NZDUSD-Week'!E14/'NZDUSD-Week'!G14 -> 141.02 | N24: ='NZDUSD-Week'!H14*'NZDUSD-Week'!F14/1 -> 10 | O24: ='USDCAD-Week'!F14/'USDCAD-Week'!G14 -> 200 | P24: ='USDCAD-Week'!F14*'USDCAD-Week'!H14/'USDCAD-Week'!E14 -> 9.8231827 | Q24: ='AUDUSD-Week'!F14*'AUDUSD-Week'!E14/'AUDUSD-Week'!G14 -> 182.32 | R24: ='AUDUSD-Week'!H14*'AUDUSD-Week'!F14/1 -> 10 | S24: ='USDCHF-Week'!F14/'USDCHF-Week'!G14 -> 200 | T24: ='USDCHF-Week'!F14*'USDCHF-Week'!H14/'USDCHF-Week'!E14 -> 9.4326275 | U24: ='EURUSD-Week'!F14/'EURUSD-Week'!G14*'EURUSD-Week'!E14 -> 269.76 | V24: ='USDCHF-Week'!H14*'USDCHF-Week'!F14/'USDCHF-Week'!E14 -> 9.4326275 | W24: ='EURUSD-Week'!F14/'EURUSD-Week'!G14*'EURUSD-Week'!E14 -> 269.76 | X24: ='GBPUSD-Week'!H14*'GBPUSD-Week'!F14/'GBPUSD-Week'!I14 -> 15.0805 | Y24: ='EURUSD-Week'!F14/'EURUSD-Week'!G14*'EURUSD-Week'!E14 -> 269.76 | Z24: ='AUDUSD-Week'!H14*'AUDUSD-Week'!F14/'AUDUSD-Week'!I14 -> 9.116 | AA24: ='EURUSD-Week'!F14/'EURUSD-Week'!G14*'EURUSD-Week'!E14 -> 269.76 | AB24: ='USDCAD-Week'!H14*'USDCAD-Week'!F14/'USDCAD-Week'!E14 -> 9.8231827 | AC24: ='EURUSD-Week'!F14/'EURUSD-Week'!G14*'EURUSD-Week'!E14 -> 269.76 | AD24: ='NZDUSD-Week'!H14*'NZDUSD-Week'!F14/'NZDUSD-Week'!I14 -> 7.051 | AE24: ='GBPUSD-Week'!F14/'GBPUSD-Week'!G14*'GBPUSD-Week'!E14 -> 301.61 | AF24: ='USDJPY-Week'!H14*'USDJPY-Week'!F14/'USDJPY-Week'!E14 -> 10.694043 | AG24: ='GBPUSD-Week'!F14/'GBPUSD-Week'!G14*'GBPUSD-Week'!E14 -> 301.61 | AH24: ='USDCHF-Week'!H14*'USDCHF-Week'!F14/'USDCHF-Week'!E14 -> 9.4326275 | AI24: ='GBPUSD-Week'!F14/'GBPUSD-Week'!G14*'GBPUSD-Week'!E14 -> 301.61 | AJ24: ='AUDUSD-Week'!H14*'AUDUSD-Week'!F14/'AUDUSD-Week'!I14 -> 9.116 | AK24: ='GBPUSD-Week'!F14/'GBPUSD-Week'!G14*'GBPUSD-Week'!E14 -> 301.61 | AL24: ='USDCAD-Week'!H14*'USDCAD-Week'!F14/'USDCAD-Week'!E14 -> 9.8231827 | AM24: ='GBPUSD-Week'!F14/'GBPUSD-Week'!G14*'GBPUSD-Week'!E14 -> 301.61 | AN24: ='NZDUSD-Week'!H14*'NZDUSD-Week'!F14/'NZDUSD-Week'!I14 -> 7.051 | AO24: ='AUDUSD-Week'!F14/'AUDUSD-Week'!G14*'AUDUSD-Week'!E14 -> 182.32 | AP24: ='USDJPY-Week'!H14*'USDJPY-Week'!F14/'USDJPY-Week'!E14 -> 10.694043 | AQ24: ='AUDUSD-Week'!F14/'AUDUSD-Week'!G14*'AUDUSD-Week'!E14 -> 182.32 | AR24: ='USDCHF-Week'!H14*'USDCHF-Week'!F14/'USDCHF-Week'!E14 -> 9.4326275 | AS24: ='AUDUSD-Week'!F14/'AUDUSD-Week'!G14*'AUDUSD-Week'!E14 -> 182.32 | AT24: ='USDCAD-Week'!H14*'USDCAD-Week'!F14/'USDCAD-Week'!E14 -> 9.8231827 | AU24: ='AUDUSD-Week'!F14/'AUDUSD-Week'!G14*'AUDUSD-Week'!E14 -> 182.32 | AV24: ='NZDUSD-Week'!H14*'NZDUSD-Week'!F14/'NZDUSD-Week'!I14 -> 7.051 | AW24: ='NZDUSD-Week'!F14/'NZDUSD-Week'!G14*'NZDUSD-Week'!E14 -> 141.02 | AX24: ='USDJPY-Week'!H14*'USDJPY-Week'!F14/'USDJPY-Week'!E14 -> 10.694043 | AY24: ='NZDUSD-Week'!F14/'NZDUSD-Week'!G14*'NZDUSD-Week'!E14 -> 141.02 | AZ24: ='USDCHF-Week'!H14*'USDCHF-Week'!F14/'USDCHF-Week'!E14 -> 9.4326275 | BA24: ='NZDUSD-Week'!F14/'NZDUSD-Week'!G14*'NZDUSD-Week'!E14 -> 141.02 | BB24: ='USDCAD-Week'!H14*'USDCAD-Week'!F14/'USDCAD-Week'!E14 -> 9.8231827 | BC24: ='USDCAD-Week'!F14/'USDCAD-Week'!G14*'USDCAD-Week'!E14 -> 203.6 | BD24: ='USDJPY-Week'!H14*'USDJPY-Week'!F14/'USDJPY-Week'!E14 -> 10.694043 | BE24: ='USDCHF-Week'!F14/'USDCHF-Week'!G14*'USDCHF-Week'!E14 -> 212.03 | BF24: ='USDJPY-Week'!H14*'USDJPY-Week'!F14/'USDJPY-Week'!E14 -> 10.694043
D25: 40272 | E25: ='EURUSD-Week'!F15*'EURUSD-Week'!E15/'EURUSD-Week'!G15 -> 269.88 | F25: ='EURUSD-Week'!H15*'EURUSD-Week'!F15/1 -> 10 | G25: ='USDJPY-Week'!F15/'USDJPY-Week'!G15 -> 200 | H25: ='USDJPY-Week'!H15*'USDJPY-Week'!F15/'USDJPY-Week'!E15 -> 10.647359 | I25: ='EURUSD-Week'!F15/('EURUSD-Week'!G15*'EURUSD-Week'!E15) -> 148.21402 | J25: ='USDJPY-Week'!H15*'USDJPY-Week'!F15/'USDJPY-Week'!E15 -> 10.647359 | K25: ='GBPUSD-Week'!F15*'GBPUSD-Week'!E15/'GBPUSD-Week'!G15 -> 306.33 | L25: ='GBPUSD-Week'!H15*'GBPUSD-Week'!F15/1 -> 10 | M25: ='NZDUSD-Week'!F15*'NZDUSD-Week'!E15/'NZDUSD-Week'!G15 -> 142.21 | N25: ='NZDUSD-Week'!H15*'NZDUSD-Week'!F15/1 -> 10 | O25: ='USDCAD-Week'!F15/'USDCAD-Week'!G15 -> 200 | P25: ='USDCAD-Week'!F15*'USDCAD-Week'!H15/'USDCAD-Week'!E15 -> 9.9457954 | Q25: ='AUDUSD-Week'!F15*'AUDUSD-Week'!E15/'AUDUSD-Week'!G15 -> 185.18 | R25: ='AUDUSD-Week'!H15*'AUDUSD-Week'!F15/1 -> 10 | S25: ='USDCHF-Week'!F15/'USDCHF-Week'!G15 -> 200 | T25: ='USDCHF-Week'!F15*'USDCHF-Week'!H15/'USDCHF-Week'!E15 -> 9.403357 | U25: ='EURUSD-Week'!F15/'EURUSD-Week'!G15*'EURUSD-Week'!E15 -> 269.88 | V25: ='USDCHF-Week'!H15*'USDCHF-Week'!F15/'USDCHF-Week'!E15 -> 9.403357 | W25: ='EURUSD-Week'!F15/'EURUSD-Week'!G15*'EURUSD-Week'!E15 -> 269.88 | X25: ='GBPUSD-Week'!H15*'GBPUSD-Week'!F15/'GBPUSD-Week'!I15 -> 15.3165 | Y25: ='EURUSD-Week'!F15/'EURUSD-Week'!G15*'EURUSD-Week'!E15 -> 269.88 | Z25: ='AUDUSD-Week'!H15*'AUDUSD-Week'!F15/'AUDUSD-Week'!I15 -> 9.259 | AA25: ='EURUSD-Week'!F15/'EURUSD-Week'!G15*'EURUSD-Week'!E15 -> 269.88 | AB25: ='USDCAD-Week'!H15*'USDCAD-Week'!F15/'USDCAD-Week'!E15 -> 9.9457954 | AC25: ='EURUSD-Week'!F15/'EURUSD-Week'!G15*'EURUSD-Week'!E15 -> 269.88 | AD25: ='NZDUSD-Week'!H15*'NZDUSD-Week'!F15/'NZDUSD-Week'!I15 -> 7.1105 | AE25: ='GBPUSD-Week'!F15/'GBPUSD-Week'!G15*'GBPUSD-Week'!E15 -> 306.33 | AF25: ='USDJPY-Week'!H15*'USDJPY-Week'!F15/'USDJPY-Week'!E15 -> 10.647359 | AG25: ='GBPUSD-Week'!F15/'GBPUSD-Week'!G15*'GBPUSD-Week'!E15 -> 306.33 | AH25: ='USDCHF-Week'!H15*'USDCHF-Week'!F15/'USDCHF-Week'!E15 -> 9.403357 | AI25: ='GBPUSD-Week'!F15/'GBPUSD-Week'!G15*'GBPUSD-Week'!E15 -> 306.33 | AJ25: ='AUDUSD-Week'!H15*'AUDUSD-Week'!F15/'AUDUSD-Week'!I15 -> 9.259 | AK25: ='GBPUSD-Week'!F15/'GBPUSD-Week'!G15*'GBPUSD-Week'!E15 -> 306.33 | AL25: ='USDCAD-Week'!H15*'USDCAD-Week'!F15/'USDCAD-Week'!E15 -> 9.9457954 | AM25: ='GBPUSD-Week'!F15/'GBPUSD-Week'!G15*'GBPUSD-Week'!E15 -> 306.33 | AN25: ='NZDUSD-Week'!H15*'NZDUSD-Week'!F15/'NZDUSD-Week'!I15 -> 7.1105 | AO25: ='AUDUSD-Week'!F15/'AUDUSD-Week'!G15*'AUDUSD-Week'!E15 -> 185.18 | AP25: ='USDJPY-Week'!H15*'USDJPY-Week'!F15/'USDJPY-Week'!E15 -> 10.647359 | AQ25: ='AUDUSD-Week'!F15/'AUDUSD-Week'!G15*'AUDUSD-Week'!E15 -> 185.18 | AR25: ='USDCHF-Week'!H15*'USDCHF-Week'!F15/'USDCHF-Week'!E15 -> 9.403357 | AS25: ='AUDUSD-Week'!F15/'AUDUSD-Week'!G15*'AUDUSD-Week'!E15 -> 185.18 | AT25: ='USDCAD-Week'!H15*'USDCAD-Week'!F15/'USDCAD-Week'!E15 -> 9.9457954 | AU25: ='AUDUSD-Week'!F15/'AUDUSD-Week'!G15*'AUDUSD-Week'!E15 -> 185.18 | AV25: ='NZDUSD-Week'!H15*'NZDUSD-Week'!F15/'NZDUSD-Week'!I15 -> 7.1105 | AW25: ='NZDUSD-Week'!F15/'NZDUSD-Week'!G15*'NZDUSD-Week'!E15 -> 142.21 | AX25: ='USDJPY-Week'!H15*'USDJPY-Week'!F15/'USDJPY-Week'!E15 -> 10.647359 | AY25: ='NZDUSD-Week'!F15/'NZDUSD-Week'!G15*'NZDUSD-Week'!E15 -> 142.21 | AZ25: ='USDCHF-Week'!H15*'USDCHF-Week'!F15/'USDCHF-Week'!E15 -> 9.403357 | BA25: ='NZDUSD-Week'!F15/'NZDUSD-Week'!G15*'NZDUSD-Week'!E15 -> 142.21 | BB25: ='USDCAD-Week'!H15*'USDCAD-Week'!F15/'USDCAD-Week'!E15 -> 9.9457954 | BC25: ='USDCAD-Week'!F15/'USDCAD-Week'!G15*'USDCAD-Week'!E15 -> 201.09 | BD25: ='USDJPY-Week'!H15*'USDJPY-Week'!F15/'USDJPY-Week'!E15 -> 10.647359 | BE25: ='USDCHF-Week'!F15/'USDCHF-Week'!G15*'USDCHF-Week'!E15 -> 212.69 | BF25: ='USDJPY-Week'!H15*'USDJPY-Week'!F15/'USDJPY-Week'!E15 -> 10.647359
... D429: 43100 | E429: ='EURUSD-Week'!F419*'EURUSD-Week'!E419/'EURUSD-Week'!G419 -> 240.66 | F429: ='EURUSD-Week'!H419*'EURUSD-Week'!F419/1 -> 10 | G429: ='USDJPY-Week'!F419/'USDJPY-Week'!G419 -> 200 | H429: ='USDJPY-Week'!H419*'USDJPY-Week'!F419/'USDJPY-Week'!E419 -> 8.8624983 | I429: ='EURUSD-Week'!F419/('EURUSD-Week'!G419*'EURUSD-Week'!E419) -> 166.20959 | J429: ='USDJPY-Week'!H419*'USDJPY-Week'!F419/'USDJPY-Week'!E419 -> 8.8624983 | K429: ='GBPUSD-Week'!F419*'GBPUSD-Week'!E419/'GBPUSD-Week'!G419 -> 271 | L429: ='GBPUSD-Week'!H419*'GBPUSD-Week'!F419/1 -> 10 | M429: ='NZDUSD-Week'!F419*'NZDUSD-Week'!E419/'NZDUSD-Week'!G419 -> #DIV/0! | N429: ='NZDUSD-Week'!H419*'NZDUSD-Week'!F419/1 -> 0 | O429: ='USDCAD-Week'!F419/'USDCAD-Week'!G419 -> 200 | P429: ='USDCAD-Week'!F419*'USDCAD-Week'!H419/'USDCAD-Week'!E419 -> #DIV/0! | Q429: ='AUDUSD-Week'!F419*'AUDUSD-Week'!E419/'AUDUSD-Week'!G419 -> 156.95 | R429: ='AUDUSD-Week'!H419*'AUDUSD-Week'!F419/1 -> 10 | S429: ='USDCHF-Week'!F419/'USDCHF-Week'!G419 -> 200 | T429: ='USDCHF-Week'!F419*'USDCHF-Week'!H419/'USDCHF-Week'!E419 -> 10.269576 | U429: ='EURUSD-Week'!F419/'EURUSD-Week'!G419*'EURUSD-Week'!E419 -> 240.66 | V429: ='USDCHF-Week'!H419*'USDCHF-Week'!F419/'USDCHF-Week'!E419 -> 10.269576 | W429: ='EURUSD-Week'!F419/'EURUSD-Week'!G419*'EURUSD-Week'!E419 -> 240.66 | X429: ='GBPUSD-Week'!H419*'GBPUSD-Week'!F419/'GBPUSD-Week'!I419 -> 13.55 | Y429: ='EURUSD-Week'!F419/'EURUSD-Week'!G419*'EURUSD-Week'!E419 -> 240.66 | Z429: ='AUDUSD-Week'!H419*'AUDUSD-Week'!F419/'AUDUSD-Week'!I419 -> 7.8475 | AA429: ='EURUSD-Week'!F419/'EURUSD-Week'!G419*'EURUSD-Week'!E419 -> 240.66 | AB429: ='USDCAD-Week'!H419*'USDCAD-Week'!F419/'USDCAD-Week'!E419 -> #DIV/0! | AC429: ='EURUSD-Week'!F419/'EURUSD-Week'!G419*'EURUSD-Week'!E419 -> 240.66 | AD429: ='NZDUSD-Week'!H419*'NZDUSD-Week'!F419/'NZDUSD-Week'!I419 -> #DIV/0! | AE429: ='GBPUSD-Week'!F419/'GBPUSD-Week'!G419*'GBPUSD-Week'!E419 -> 271 | AF429: ='USDJPY-Week'!H419*'USDJPY-Week'!F419/'USDJPY-Week'!E419 -> 8.8624983 | AG429: ='GBPUSD-Week'!F419/'GBPUSD-Week'!G419*'GBPUSD-Week'!E419 -> 271 | AH429: ='USDCHF-Week'!H419*'USDCHF-Week'!F419/'USDCHF-Week'!E419 -> 10.269576 | AI429: ='GBPUSD-Week'!F419/'GBPUSD-Week'!G419*'GBPUSD-Week'!E419 -> 271 | AJ429: ='AUDUSD-Week'!H419*'AUDUSD-Week'!F419/'AUDUSD-Week'!I419 -> 7.8475 | AK429: ='GBPUSD-Week'!F419/'GBPUSD-Week'!G419*'GBPUSD-Week'!E419 -> 271 | AL429: ='USDCAD-Week'!H419*'USDCAD-Week'!F419/'USDCAD-Week'!E419 -> #DIV/0! | AM429: ='GBPUSD-Week'!F419/'GBPUSD-Week'!G419*'GBPUSD-Week'!E419 -> 271 | AN429: ='NZDUSD-Week'!H419*'NZDUSD-Week'!F419/'NZDUSD-Week'!I419 -> #DIV/0! | AO429: ='AUDUSD-Week'!F419/'AUDUSD-Week'!G419*'AUDUSD-Week'!E419 -> 156.95 | AP429: ='USDJPY-Week'!H419*'USDJPY-Week'!F419/'USDJPY-Week'!E419 -> 8.8624983 | AQ429: ='AUDUSD-Week'!F419/'AUDUSD-Week'!G419*'AUDUSD-Week'!E419 -> 156.95 | AR429: ='USDCHF-Week'!H419*'USDCHF-Week'!F419/'USDCHF-Week'!E419 -> 10.269576 | AS429: ='AUDUSD-Week'!F419/'AUDUSD-Week'!G419*'AUDUSD-Week'!E419 -> 156.95 | AT429: ='USDCAD-Week'!H419*'USDCAD-Week'!F419/'USDCAD-Week'!E419 -> #DIV/0! | AU429: ='AUDUSD-Week'!F419/'AUDUSD-Week'!G419*'AUDUSD-Week'!E419 -> 156.95 | AV429: ='NZDUSD-Week'!H419*'NZDUSD-Week'!F419/'NZDUSD-Week'!I419 -> #DIV/0! | AW429: ='NZDUSD-Week'!F419/'NZDUSD-Week'!G419*'NZDUSD-Week'!E419 -> #DIV/0! | AX429: ='USDJPY-Week'!H419*'USDJPY-Week'!F419/'USDJPY-Week'!E419 -> 8.8624983 | AY429: ='NZDUSD-Week'!F419/'NZDUSD-Week'!G419*'NZDUSD-Week'!E419 -> #DIV/0! | AZ429: ='USDCHF-Week'!H419*'USDCHF-Week'!F419/'USDCHF-Week'!E419 -> 10.269576 | BA429: ='NZDUSD-Week'!F419/'NZDUSD-Week'!G419*'NZDUSD-Week'!E419 -> #DIV/0! | BB429: ='USDCAD-Week'!H419*'USDCAD-Week'!F419/'USDCAD-Week'!E419 -> #DIV/0! | BC429: ='USDCAD-Week'!F419/'USDCAD-Week'!G419*'USDCAD-Week'!E419 -> 0 | BD429: ='USDJPY-Week'!H419*'USDJPY-Week'!F419/'USDJPY-Week'!E419 -> 8.8624983 | BE429: ='USDCHF-Week'!F419/'USDCHF-Week'!G419*'USDCHF-Week'!E419 -> 194.75 | BF429: ='USDJPY-Week'!H419*'USDJPY-Week'!F419/'USDJPY-Week'!E419 -> 8.8624983
D430: 43107 | F430: ='EURUSD-Week'!H420*'EURUSD-Week'!F420/1 -> 0 | G430: ='USDJPY-Week'!F420/'USDJPY-Week'!G420 -> #DIV/0! | H430: ='USDJPY-Week'!H420*'USDJPY-Week'!F420/'USDJPY-Week'!E420 -> #DIV/0! | I430: ='EURUSD-Week'!F420/('EURUSD-Week'!G420*'EURUSD-Week'!E420) -> #DIV/0! | J430: ='USDJPY-Week'!H420*'USDJPY-Week'!F420/'USDJPY-Week'!E420 -> #DIV/0! | L430: ='GBPUSD-Week'!H420*'GBPUSD-Week'!F420/1 -> 10 | N430: ='NZDUSD-Week'!H420*'NZDUSD-Week'!F420/1 -> 0 | O430: ='USDCAD-Week'!F420/'USDCAD-Week'!G420 -> 200 | P430: ='USDCAD-Week'!F420*'USDCAD-Week'!H420/'USDCAD-Week'!E420 -> #DIV/0! | Q430: ='AUDUSD-Week'!F420*'AUDUSD-Week'!E420/'AUDUSD-Week'!G420 -> 0 | R430: ='AUDUSD-Week'!H420*'AUDUSD-Week'!F420/1 -> 10 | S430: ='USDCHF-Week'!F420/'USDCHF-Week'!G420 -> 200 | T430: ='USDCHF-Week'!F420*'USDCHF-Week'!H420/'USDCHF-Week'!E420 -> #DIV/0! | U430: ='EURUSD-Week'!F420/'EURUSD-Week'!G420*'EURUSD-Week'!E420 -> #DIV/0! | V430: ='USDCHF-Week'!H420*'USDCHF-Week'!F420/'USDCHF-Week'!E420 -> #DIV/0! | W430: ='EURUSD-Week'!F420/'EURUSD-Week'!G420*'EURUSD-Week'!E420 -> #DIV/0! | X430: ='GBPUSD-Week'!H420*'GBPUSD-Week'!F420/'GBPUSD-Week'!I420 -> #DIV/0! | Y430: ='EURUSD-Week'!F420/'EURUSD-Week'!G420*'EURUSD-Week'!E420 -> #DIV/0! | Z430: ='AUDUSD-Week'!H420*'AUDUSD-Week'!F420/'AUDUSD-Week'!I420 -> #DIV/0! | AA430: ='EURUSD-Week'!F420/'EURUSD-Week'!G420*'EURUSD-Week'!E420 -> #DIV/0! | AB430: ='USDCAD-Week'!H420*'USDCAD-Week'!F420/'USDCAD-Week'!E420 -> #DIV/0! | AC430: ='EURUSD-Week'!F420/'EURUSD-Week'!G420*'EURUSD-Week'!E420 -> #DIV/0! | AD430: ='NZDUSD-Week'!H420*'NZDUSD-Week'!F420/'NZDUSD-Week'!I420 -> #DIV/0! | AE430: ='GBPUSD-Week'!F420/'GBPUSD-Week'!G420*'GBPUSD-Week'!E420 -> 0 | AF430: ='USDJPY-Week'!H420*'USDJPY-Week'!F420/'USDJPY-Week'!E420 -> #DIV/0! | AG430: ='GBPUSD-Week'!F420/'GBPUSD-Week'!G420*'GBPUSD-Week'!E420 -> 0 | AH430: ='USDCHF-Week'!H420*'USDCHF-Week'!F420/'USDCHF-Week'!E420 -> #DIV/0! | AI430: ='GBPUSD-Week'!F420/'GBPUSD-Week'!G420*'GBPUSD-Week'!E420 -> 0 | AJ430: ='AUDUSD-Week'!H420*'AUDUSD-Week'!F420/'AUDUSD-Week'!I420 -> #DIV/0! | AK430: ='GBPUSD-Week'!F420/'GBPUSD-Week'!G420*'GBPUSD-Week'!E420 -> 0 | AL430: ='USDCAD-Week'!H420*'USDCAD-Week'!F420/'USDCAD-Week'!E420 -> #DIV/0! | AM430: ='GBPUSD-Week'!F420/'GBPUSD-Week'!G420*'GBPUSD-Week'!E420 -> 0 | AN430: ='NZDUSD-Week'!H420*'NZDUSD-Week'!F420/'NZDUSD-Week'!I420 -> #DIV/0! | AO430: ='AUDUSD-Week'!F420/'AUDUSD-Week'!G420*'AUDUSD-Week'!E420 -> 0 | AP430: ='USDJPY-Week'!H420*'USDJPY-Week'!F420/'USDJPY-Week'!E420 -> #DIV/0! | AQ430: ='AUDUSD-Week'!F420/'AUDUSD-Week'!G420*'AUDUSD-Week'!E420 -> 0 | AR430: ='USDCHF-Week'!H420*'USDCHF-Week'!F420/'USDCHF-Week'!E420 -> #DIV/0! | AS430: ='AUDUSD-Week'!F420/'AUDUSD-Week'!G420*'AUDUSD-Week'!E420 -> 0 | AT430: ='USDCAD-Week'!H420*'USDCAD-Week'!F420/'USDCAD-Week'!E420 -> #DIV/0! | AU430: ='AUDUSD-Week'!F420/'AUDUSD-Week'!G420*'AUDUSD-Week'!E420 -> 0 | AV430: ='NZDUSD-Week'!H420*'NZDUSD-Week'!F420/'NZDUSD-Week'!I420 -> #DIV/0! | AW430: ='NZDUSD-Week'!F420/'NZDUSD-Week'!G420*'NZDUSD-Week'!E420 -> #DIV/0! | AX430: ='USDJPY-Week'!H420*'USDJPY-Week'!F420/'USDJPY-Week'!E420 -> #DIV/0! | AY430: ='NZDUSD-Week'!F420/'NZDUSD-Week'!G420*'NZDUSD-Week'!E420 -> #DIV/0! | AZ430: ='USDCHF-Week'!H420*'USDCHF-Week'!F420/'USDCHF-Week'!E420 -> #DIV/0! | BA430: ='NZDUSD-Week'!F420/'NZDUSD-Week'!G420*'NZDUSD-Week'!E420 -> #DIV/0! | BB430: ='USDCAD-Week'!H420*'USDCAD-Week'!F420/'USDCAD-Week'!E420 -> #DIV/0! | BC430: ='USDCAD-Week'!F420/'USDCAD-Week'!G420*'USDCAD-Week'!E420 -> 0 | BD430: ='USDJPY-Week'!H420*'USDJPY-Week'!F420/'USDJPY-Week'!E420 -> #DIV/0! | BE430: ='USDCHF-Week'!F420/'USDCHF-Week'!G420*'USDCHF-Week'!E420 -> 0 | BF430: ='USDJPY-Week'!H420*'USDJPY-Week'!F420/'USDJPY-Week'!E420 -> #DIV/0!

Sheet EURUSD-Week
C1: цена открытия | D1: цена закрытия | E1: средняя за неделю | F1: лот | G1: плечо | H1: 1п
A2: 2010.01.03,00:00,1.4324,1.4482,1.4257,1.4408,262693 | C2: 1.4324 | D2: 1.4408 | E2: =(C2+D2)/2 -> 1.4366 | F2: ='маржа и цена пункта'!F6 -> 100000 | G2: ='маржа и цена пункта'!F7 -> 500 | H2: ='цена пункта'!M9 -> 0.0001
A3: 2010.01.10,00:00,1.4411,1.4578,1.4336,1.4385,270562 | C3: 1.4411 | D3: 1.4385 | E3: =(C3+D3)/2 -> 1.4398 | F3: =F2 -> 100000 | G3: =G2 -> 500 | H3: =H2 -> 0.0001
A4: 2010.01.17,00:00,1.4348,1.4413,1.4028,1.4136,289396 | C4: 1.4348 | D4: 1.4136 | E4: =(C4+D4)/2 -> 1.4242 | F4: =F3 -> 100000 | G4: =G3 -> 500 | H4: =H3 -> 0.0001
A5: 2010.01.24,00:00,1.4150,1.4193,1.3861,1.3861,287208 | C5: 1.415 | D5: 1.3861 | E5: =(C5+D5)/2 -> 1.40055 | F5: =F4 -> 100000 | G5: =G4 -> 500 | H5: =H4 -> 0.0001
A6: 2010.01.31,00:00,1.3862,1.4025,1.3586,1.3678,284637 | C6: 1.3862 | D6: 1.3678 | E6: =(C6+D6)/2 -> 1.377 | F6: =F5 -> 100000 | G6: =G5 -> 500 | H6: =H5 -> 0.0001
A7: 2010.02.07,00:00,1.3655,1.3837,1.3531,1.3631,292022 | C7: 1.3655 | D7: 1.3631 | E7: =(C7+D7)/2 -> 1.3643 | F7: =F6 -> 100000 | G7: =G6 -> 500 | H7: =H6 -> 0.0001
A8: 2010.02.14,00:00,1.3615,1.3787,1.3444,1.3611,258901 | C8: 1.3615 | D8: 1.3611 | E8: =(C8+D8)/2 -> 1.3613 | F8: =F7 -> 100000 | G8: =G7 -> 500 | H8: =H7 -> 0.0001
A9: 2010.02.21,00:00,1.3613,1.3691,1.3451,1.3630,265884 | C9: 1.3613 | D9: 1.363 | E9: =(C9+D9)/2 -> 1.36215 | F9: =F8 -> 100000 | G9: =G8 -> 500 | H9: =H8 -> 0.0001
A10: 2010.02.28,00:00,1.3622,1.3734,1.3435,1.3619,259978 | C10: 1.3622 | D10: 1.3619 | E10: =(C10+D10)/2 -> 1.36205 | F10: =F9 -> 100000 | G10: =G9 -> 500 | H10: =H9 -> 0.0001
A11: 2010.03.07,00:00,1.3641,1.3794,1.3537,1.3767,165210 | C11: 1.3641 | D11: 1.3767 | E11: =(C11+D11)/2 -> 1.3704 | F11: =F10 -> 100000 | G11: =G10 -> 500 | H11: =H10 -> 0.0001
A12: 2010.03.14,00:00,1.3760,1.3816,1.3503,1.3530,187353 | C12: 1.376 | D12: 1.353 | E12: =(C12+D12)/2 -> 1.3645 | F12: =F11 -> 100000 | G12: =G11 -> 500 | H12: =H11 -> 0.0001
A13: 2010.03.21,00:00,1.3517,1.3568,1.3267,1.3413,206033 | C13: 1.3517 | D13: 1.3413 | E13: =(C13+D13)/2 -> 1.3465 | F13: =F12 -> 100000 | G13: =G12 -> 500 | H13: =H12 -> 0.0001
A14: 2010.03.28,00:00,1.3473,1.3590,1.3384,1.3503,181064 | C14: 1.3473 | D14: 1.3503 | E14: =(C14+D14)/2 -> 1.3488 | F14: =F13 -> 100000 | G14: =G13 -> 500 | H14: =H13 -> 0.0001
... A221: 2014.03.16,00:00,1.3912,1.3947,1.3749,1.3793,27246 | C221: 1.3912 | D221: 1.3793 | E221: =(C221+D221)/2 -> 1.38525 | F221: =F220 -> 100000 | G221: =G220 -> 500 | H221: =H220 -> 0.0001
A222: 2014.03.23,00:00,1.3800,1.3875,1.3704,1.3751,29305 | C222: 1.38 | D222: 1.3751 | E222: =(C223+D222)/2 -> 1.3756 | F222: =F221 -> 100000 | G222: =G221 -> 500 | H222: =H221 -> 0.0001
A223: 2014.03.30,00:00,1.3761,1.3819,1.3672,1.3702,27757 | C223: 1.3761 | D223: 1.3702 | E223: =(C224+D223)/2 -> 1.36995 | F223: =F222 -> 100000 | G223: =G222 -> 500 | H223: =H222 -> 0.0001
A224: 2014.04.06,00:00,1.3697,1.3905,1.3695,1.3884,25288 | C224: 1.3697 | D224: 1.3884 | E224: =(C225+D224)/2 -> 1.38635 | F224: =F223 -> 100000 | G224: =G223 -> 500 | H224: =H223 -> 0.0001
A225: 2014.04.13,00:00,1.3843,1.3864,1.3789,1.3815,21433 | C225: 1.3843 | D225: 1.3815 | E225: =(C226+D225)/2 -> 1.38135 | F225: =F224 -> 100000 | G225: =G224 -> 500 | H225: =H224 -> 0.0001
A226: 2014.04.20,00:00,1.3812,1.3854,1.3784,1.3834,18799 | C226: 1.3812 | D226: 1.3834 | E226: =(C226+D226)/2 -> 1.3823 | F226: =F225 -> 100000 | G226: =G225 -> 500 | H226: =H225 -> 0.0001
A227: 2014.04.27,00:00,1.3845,1.3888,1.3774,1.3873,21604 | C227: 1.3845 | D227: 1.3873 | E227: =(C227+D227)/2 -> 1.3859 | F227: =F226 -> 100000 | G227: =G226 -> 500 | H227: =H226 -> 0.0001
A228: 2014.05.04,00:00,1.3884,1.3993,1.3744,1.3760,23382 | C228: 1.3884 | D228: 1.376 | E228: =(C228+D228)/2 -> 1.3822 | F228: =F227 -> 100000 | G228: =G227 -> 500 | H228: =H227 -> 0.0001
A229: 2014.05.11,00:00,1.3752,1.3774,1.3648,1.3694,23139 | C229: 1.3752 | D229: 1.3694 | E229: =(C229+D229)/2 -> 1.3723 | F229: =F228 -> 100000 | G229: =G228 -> 500 | H229: =H228 -> 0.0001
A230: 2014.05.18,00:00,1.3693,1.3733,1.3615,1.3631,23717 | C230: 1.3693 | D230: 1.3631 | E230: =(C230+D230)/2 -> 1.3662 | F230: =F229 -> 100000 | G230: =G229 -> 500 | H230: =H229 -> 0.0001
A231: 2014.05.25,00:00,1.3623,1.3668,1.3585,1.3632,24757 | C231: 1.3623 | D231: 1.3632 | E231: =(C231+D231)/2 -> 1.36275 | F231: =F230 -> 100000 | G231: =G230 -> 500 | H231: =H230 -> 0.0001
A232: 2014.06.01,00:00,1.3636,1.3676,1.3502,1.3642,34999 | C232: 1.3636 | D232: 1.3642 | E232: =(C232+D232)/2 -> 1.3639 | F232: =F231 -> 100000 | G232: =G231 -> 500 | H232: =H231 -> 0.0001
A233: 2014.06.08,00:00,1.3643,1.3668,1.3511,1.3540,29127 | C233: 1.3643 | D233: 1.354 | E233: =(C233+D233)/2 -> 1.35915 | F233: =F232 -> 100000 | G233: =G232 -> 500 | H233: =H232 -> 0.0001
A234: 2014.06.15,00:00,1.3541,1.3643,1.3512,1.3599,28431 | C234: 1.3541 | D234: 1.3599 | E234: =(C234+D234)/2 -> 1.357 | F234: =F233 -> 100000 | G234: =G233 -> 500 | H234: =H233 -> 0.0001
A235: 2014.06.22,00:00,1.3590,1.3650,1.3573,1.3648,24974 | C235: 1.359 | D235: 1.3648 | E235: =(C235+D235)/2 -> 1.3619 | F235: =F234 -> 100000 | G235: =G234 -> 500 | H235: =H234 -> 0.0001
A236: 2014.06.29,00:00,1.3643,1.3700,1.3585,1.3594,22035 | C236: 1.3643 | D236: 1.3594 | E236: =(C236+D236)/2 -> 1.36185 | F236: =F235 -> 100000 | G236: =G235 -> 500 | H236: =H235 -> 0.0001
A237: 2014.07.06,00:00,1.3593,1.3650,1.3575,1.3607,21859 | C237: 1.3593 | D237: 1.3607 | E237: =(C237+D237)/2 -> 1.36 | F237: =F236 -> 100000 | G237: =G236 -> 500 | H237: =H236 -> 0.0001
... A419: 2017.12.31,00:00,1.2035,1.2088,1.2000,1.2031,29334 | C419: 1.2035 | D419: 1.2031 | E419: =(C419+D419)/2 -> 1.2033 | F419: =F418 -> 100000 | G419: =G418 -> 500 | H419: =H418 -> 0.0001
A420: 2018.01.07,00:00,1.2028,1.2218,1.1915,1.2200,53408
A421: 2018.01.14,00:00,1.2195,1.2322,1.2164,1.2217,66112
A422: 2018.01.21,00:00,1.2269,1.2537,1.2213,1.2428,83174
A423: 2018.01.28,00:00,1.2424,1.2522,1.2334,1.2456,81015
A424: 2018.02.04,00:00,1.2435,1.2474,1.2205,1.2251,92524
A425: 2018.02.11,00:00,1.2246,1.2554,1.2234,1.2410,65128
A426: 2018.02.18,00:00,1.2403,1.2434,1.2259,1.2295,58417
A427: 2018.02.25,00:00,1.2291,1.2354,1.2154,1.2319,57935
A428: 2018.03.04,00:00,1.2331,1.2445,1.2268,1.2305,59551
A429: 2018.03.11,00:00,1.2312,1.2412,1.2259,1.2288,44217
A430: 2018.03.18,00:00,1.2287,1.2388,1.2239,1.2353,58591
A431: 2018.03.25,00:00,1.2350,1.2476,1.2283,1.2317,53190
... A443: 2018.06.17,00:00,1.1588,1.1644,1.1530,1.1549,49765

Sheet USDJPY-Week
C1: цена открытия | D1: цена закрытия | E1: средняя за неделю | F1: лот | G1: плечо | H1: 1п
A2: 2010.01.03,00:00,92.92,93.75,91.25,92.65,262156 | C2: 92.92 | D2: 92.65 | E2: =(C2+D2)/2 -> 92.785 | F2: ='маржа и цена пункта'!F6 -> 100000 | G2: ='маржа и цена пункта'!F7 -> 500 | H2: ='цена пункта'!M10 -> 0.01
A3: 2010.01.10,00:00,92.57,92.64,90.60,90.76,242435 | C3: 92.57 | D3: 90.76 | E3: =(C3+D3)/2 -> 91.665 | F3: =F2 -> 100000 | G3: =G2 -> 500 | H3: =H2 -> 0.01
A4: 2010.01.17,00:00,90.90,91.86,89.78,89.81,294261 | C4: 90.9 | D4: 89.81 | E4: =(C4+D4)/2 -> 90.355 | F4: =F3 -> 100000 | G4: =G3 -> 500 | H4: =H3 -> 0.01
A5: 2010.01.24,00:00,89.93,90.90,89.13,90.25,304529 | C5: 89.93 | D5: 90.25 | E5: =(C5+D5)/2 -> 90.09 | F5: =F4 -> 100000 | G5: =G4 -> 500 | H5: =H4 -> 0.01
A6: 2010.01.31,00:00,90.19,91.25,88.56,89.23,276589 | C6: 90.19 | D6: 89.23 | E6: =(C6+D6)/2 -> 89.71 | F6: =F5 -> 100000 | G6: =G5 -> 500 | H6: =H5 -> 0.01
A7: 2010.02.07,00:00,89.14,90.39,89.13,89.93,248700 | C7: 89.14 | D7: 89.93 | E7: =(C7+D7)/2 -> 89.535 | F7: =F6 -> 100000 | G7: =G6 -> 500 | H7: =H6 -> 0.01
A8: 2010.02.14,00:00,90.00,92.13,89.70,91.49,245898 | C8: 90 | D8: 91.49 | E8: =(C8+D8)/2 -> 90.745 | F8: =F7 -> 100000 | G8: =G7 -> 500 | H8: =H7 -> 0.01
A9: 2010.02.21,00:00,91.63,91.89,88.74,88.96,224476 | C9: 91.63 | D9: 88.96 | E9: =(C9+D9)/2 -> 90.295 | F9: =F8 -> 100000 | G9: =G8 -> 500 | H9: =H8 -> 0.01
A10: 2010.02.28,00:00,88.92,90.58,88.14,90.27,221340 | C10: 88.92 | D10: 90.27 | E10: =(C10+D10)/2 -> 89.595 | F10: =F9 -> 100000 | G10: =G9 -> 500 | H10: =H9 -> 0.01
A11: 2010.03.07,00:00,90.41,91.08,89.63,90.54,134799 | C11: 90.41 | D11: 90.54 | E11: =(C11+D11)/2 -> 90.475 | F11: =F10 -> 100000 | G11: =G10 -> 500 | H11: =H10 -> 0.01
A12: 2010.03.14,00:00,90.59,90.78,89.75,90.53,161289 | C12: 90.59 | D12: 90.53 | E12: =(C12+D12)/2 -> 90.56 | F12: =F11 -> 100000 | G12: =G11 -> 500 | H12: =H11 -> 0.01
A13: 2010.03.21,00:00,90.49,92.94,89.83,92.75,157208 | C13: 90.49 | D13: 92.75 | E13: =(C13+D13)/2 -> 91.62 | F13: =F12 -> 100000 | G13: =G12 -> 500 | H13: =H12 -> 0.01
A14: 2010.03.28,00:00,92.43,94.68,92.12,94.59,168175 | C14: 92.43 | D14: 94.59 | E14: =(C14+D14)/2 -> 93.51 | F14: =F13 -> 100000 | G14: =G13 -> 500 | H14: =H13 -> 0.01
... A419: 2017.12.31,00:00,112.62,113.30,112.05,113.05,23332 | C419: 112.62 | D419: 113.05 | E419: =(C419+D419)/2 -> 112.835 | F419: =F418 -> 100000 | G419: =G418 -> 500 | H419: =H418 -> 0.01
A420: 2018.01.07,00:00,113.13,113.38,110.90,111.01,44597 | E420: =(C420+D420)/2 -> 0
A421: 2018.01.14,00:00,111.08,111.47,110.18,110.83,50344 | E421: =(C421+D421)/2 -> 0
A422: 2018.01.21,00:00,110.56,111.21,108.27,108.61,65434 | E422: =(C422+D422)/2 -> 0
A423: 2018.01.28,00:00,108.69,110.47,108.40,110.16,65846 | E423: =(C423+D423)/2 -> 0
A424: 2018.02.04,00:00,110.19,110.28,108.04,108.78,112070 | E424: =(C424+D424)/2 -> 0
A425: 2018.02.11,00:00,108.85,108.88,105.54,106.30,73332 | E425: =(C425+D425)/2 -> 0
A426: 2018.02.18,00:00,106.33,107.89,106.09,106.88,50098 | E426: =(C426+D426)/2 -> 0
A427: 2018.02.25,00:00,107.14,107.67,105.24,105.72,59234 | E427: =(C427+D427)/2 -> 0
A428: 2018.03.04,00:00,105.49,107.04,105.34,106.83,56513 | E428: =(C428+D428)/2 -> 0
A429: 2018.03.11,00:00,106.76,107.29,105.59,105.96,44631 | E429: =(C429+D429)/2 -> 0
A430: 2018.03.18,00:00,106.00,106.63,104.63,104.73,58941 | E430: =(C430+D430)/2 -> 0
A431: 2018.03.25,00:00,104.65,107.00,104.63,106.29,59490 | E431: =(C431+D431)/2 -> 0
... A441: 2018.06.03,00:00,109.45,110.00,109.36,109.64,13404 | E441: =(C441+D441)/2 -> 0

Sheet GBPUSD-Week
C1: цена открытия | D1: цена закрытия | E1: средняя за неделю | F1: лот | G1: плечо | H1: 1п | I1: котировка к доллару
A2: 2010.01.03,00:00,1.6120,1.6237,1.5896,1.6021,315192 | C2: 1.612 | D2: 1.6021 | E2: =(C2+D2)/2 -> 1.60705 | F2: ='маржа и цена пункта'!F6 -> 100000 | G2: ='маржа и цена пункта'!F7 -> 500 | H2: ='цена пункта'!M9 -> 0.0001 | I2: =1/E2 -> 0.62225817
A3: 2010.01.10,00:00,1.6059,1.6354,1.6058,1.6262,320629 | C3: 1.6059 | D3: 1.6262 | E3: =(C3+D3)/2 -> 1.61605 | F3: =F2 -> 100000 | G3: =G2 -> 500 | H3: =H2 -> 0.0001 | I3: =1/E3 -> 0.61879274
A4: 2010.01.17,00:00,1.6269,1.6456,1.6077,1.6112,351130 | C4: 1.6269 | D4: 1.6112 | E4: =(C4+D4)/2 -> 1.61905 | F4: =F3 -> 100000 | G4: =G3 -> 500 | H4: =H3 -> 0.0001 | I4: =1/E4 -> 0.61764615
A5: 2010.01.24,00:00,1.6105,1.6274,1.5978,1.5983,350003 | C5: 1.6105 | D5: 1.5983 | E5: =(C5+D5)/2 -> 1.6044 | F5: =F4 -> 100000 | G5: =G4 -> 500 | H5: =H4 -> 0.0001 | I5: =1/E5 -> 0.62328596
A6: 2010.01.31,00:00,1.5943,1.6067,1.5558,1.5640,340426 | C6: 1.5943 | D6: 1.564 | E6: =(C6+D6)/2 -> 1.57915 | F6: =F5 -> 100000 | G6: =G5 -> 500 | H6: =H5 -> 0.0001 | I6: =1/E6 -> 0.63325207
A7: 2010.02.07,00:00,1.5596,1.5762,1.5534,1.5699,347518 | C7: 1.5596 | D7: 1.5699 | E7: =(C7+D7)/2 -> 1.56475 | F7: =F6 -> 100000 | G7: =G6 -> 500 | H7: =H6 -> 0.0001 | I7: =1/E7 -> 0.63907973
A8: 2010.02.14,00:00,1.5664,1.5813,1.5350,1.5472,305150 | C8: 1.5664 | D8: 1.5472 | E8: =(C8+D8)/2 -> 1.5568 | F8: =F7 -> 100000 | G8: =G7 -> 500 | H8: =H7 -> 0.0001 | I8: =1/E8 -> 0.64234327
A9: 2010.02.21,00:00,1.5455,1.5574,1.5152,1.5235,320623 | C9: 1.5455 | D9: 1.5235 | E9: =(C9+D9)/2 -> 1.5345 | F9: =F8 -> 100000 | G9: =G8 -> 500 | H9: =H8 -> 0.0001 | I9: =1/E9 -> 0.65167807
A10: 2010.02.28,00:00,1.5154,1.5202,1.4784,1.5137,319703 | C10: 1.5154 | D10: 1.5137 | E10: =(C10+D10)/2 -> 1.51455 | F10: =F9 -> 100000 | G10: =G9 -> 500 | H10: =H9 -> 0.0001 | I10: =1/E10 -> 0.66026212
A11: 2010.03.07,00:00,1.5153,1.5216,1.4873,1.5203,232981 | C11: 1.5153 | D11: 1.5203 | E11: =(C11+D11)/2 -> 1.5178 | F11: =F10 -> 100000 | G11: =G10 -> 500 | H11: =H10 -> 0.0001 | I11: =1/E11 -> 0.65884833
A12: 2010.03.14,00:00,1.5175,1.5379,1.4976,1.5041,251785 | C12: 1.5175 | D12: 1.5041 | E12: =(C12+D12)/2 -> 1.5108 | F12: =F11 -> 100000 | G12: =G11 -> 500 | H12: =H11 -> 0.0001 | I12: =1/E12 -> 0.66190098
A13: 2010.03.21,00:00,1.4987,1.5111,1.4798,1.4901,264700 | C13: 1.4987 | D13: 1.4901 | E13: =(C13+D13)/2 -> 1.4944 | F13: =F12 -> 100000 | G13: =G12 -> 500 | H13: =H12 -> 0.0001 | I13: =1/E13 -> 0.66916488
A14: 2010.03.28,00:00,1.4955,1.5296,1.4891,1.5206,235226 | C14: 1.4955 | D14: 1.5206 | E14: =(C14+D14)/2 -> 1.50805 | F14: =F13 -> 100000 | G14: =G13 -> 500 | H14: =H13 -> 0.0001 | I14: =1/E14 -> 0.66310799
... A419: 2017.12.31,00:00,1.3534,1.3612,1.3493,1.3566,45708 | C419: 1.3534 | D419: 1.3566 | E419: =(C419+D419)/2 -> 1.355 | F419: =F418 -> 100000 | G419: =G418 -> 500 | H419: =H418 -> 0.0001 | I419: =1/E419 -> 0.73800738
A420: 2018.01.07,00:00,1.3561,1.3743,1.3457,1.3728,67190 | E420: =(C420+D420)/2 -> 0 | F420: =F419 -> 100000 | G420: =G419 -> 500 | H420: =H419 -> 0.0001 | I420: =1/E420 -> #DIV/0!
A421: 2018.01.14,00:00,1.3729,1.3944,1.3726,1.3853,83370 | E421: =(C421+D421)/2 -> 0 | F421: =F420 -> 100000 | G421: =G420 -> 500 | H421: =H420 -> 0.0001 | I421: =1/E421 -> #DIV/0!
A422: 2018.01.21,00:00,1.3893,1.4345,1.3856,1.4162,107450 | E422: =(C422+D422)/2 -> 0 | F422: =F421 -> 100000 | G422: =G421 -> 500 | H422: =H421 -> 0.0001 | I422: =1/E422 -> #DIV/0!
A423: 2018.01.28,00:00,1.4142,1.4278,1.3979,1.4122,119880 | E423: =(C423+D423)/2 -> 0 | F423: =F422 -> 100000 | G423: =G422 -> 500 | H423: =H422 -> 0.0001 | I423: =1/E423 -> #DIV/0!
A424: 2018.02.04,00:00,1.4103,1.4150,1.3764,1.3825,137965 | E424: =(C424+D424)/2 -> 0 | F424: =F423 -> 100000 | G424: =G423 -> 500 | H424: =H423 -> 0.0001 | I424: =1/E424 -> #DIV/0!
A425: 2018.02.11,00:00,1.3812,1.4144,1.3795,1.4037,94153 | E425: =(C425+D425)/2 -> 0 | F425: =F424 -> 100000 | G425: =G424 -> 500 | H425: =H424 -> 0.0001 | I425: =1/E425 -> #DIV/0!
A426: 2018.02.18,00:00,1.4017,1.4048,1.3856,1.3971,80719 | E426: =(C426+D426)/2 -> 0 | F426: =F425 -> 100000 | G426: =G425 -> 500 | H426: =H425 -> 0.0001 | I426: =1/E426 -> #DIV/0!
A427: 2018.02.25,00:00,1.3990,1.4069,1.3711,1.3802,89626 | E427: =(C427+D427)/2 -> 0 | F427: =F426 -> 100000 | G427: =G426 -> 500 | H427: =H426 -> 0.0001 | I427: =1/E427 -> #DIV/0!
A428: 2018.03.04,00:00,1.3797,1.3929,1.3766,1.3849,93987 | E428: =(C428+D428)/2 -> 0 | F428: =F427 -> 100000 | G428: =G427 -> 500 | H428: =H427 -> 0.0001 | I428: =1/E428 -> #DIV/0!
A429: 2018.03.11,00:00,1.3851,1.3995,1.3840,1.3944,75326 | E429: =(C429+D429)/2 -> 0 | F429: =F428 -> 100000 | G429: =G428 -> 500 | H429: =H428 -> 0.0001 | I429: =1/E429 -> #DIV/0!
A430: 2018.03.18,00:00,1.3945,1.4219,1.3912,1.4132,81557 | E430: =(C430+D430)/2 -> 0 | F430: =F429 -> 100000 | G430: =G429 -> 500 | H430: =H429 -> 0.0001 | I430: =1/E430 -> #DIV/0!
A431: 2018.03.25,00:00,1.4139,1.4244,1.4010,1.4023,86512 | E431: =(C431+D431)/2 -> 0 | F431: =F430 -> 100000 | G431: =G430 -> 500 | H431: =H430 -> 0.0001 | I431: =1/E431 -> #DIV/0!
... A441: 2018.06.03,00:00,1.3345,1.3398,1.3294,1.3363,29527 | E441: =(C441+D441)/2 -> 0 | F441: =F440 -> 100000 | G441: =G440 -> 500 | H441: =H440 -> 0.0001 | I441: =1/E441 -> #DIV/0!

Sheet NZDUSD-Week
C1: цена открытия | D1: цена закрытия | E1: средняя за неделю | F1: лот | G1: плечо | H1: 1п | I1: котировка к доллару
A2: 2010.01.03,00:00,0.7252,0.7426,0.7194,0.7363,150726 | C2: 0.72525 | D2: 0.7363 | E2: =(C2+D2)/2 -> 0.730775 | F2: ='маржа и цена пункта'!F6 -> 100000 | G2: ='маржа и цена пункта'!F7 -> 500 | H2: ='цена пункта'!M9 -> 0.0001 | I2: =1/E2 -> 1.3684102
A3: 2010.01.10,00:00,0.7388,0.7439,0.7359,0.7375,147291 | C3: 0.7388 | D3: 0.7375 | E3: =(C3+D3)/2 -> 0.73815 | F3: =F2 -> 100000 | G3: =G2 -> 500 | H3: =H2 -> 0.0001 | I3: =1/E3 -> 1.3547382
A4: 2010.01.17,00:00,0.7345,0.7406,0.7090,0.7094,169070 | C4: 0.7345 | D4: 0.7094 | E4: =(C4+D4)/2 -> 0.72195 | F4: =F3 -> 100000 | G4: =G3 -> 500 | H4: =H3 -> 0.0001 | I4: =1/E4 -> 1.3851375
A5: 2010.01.24,00:00,0.7121,0.7167,0.7006,0.7007,183908 | C5: 0.7121 | D5: 0.7007 | E5: =(C5+D5)/2 -> 0.7064 | F5: =F4 -> 100000 | G5: =G4 -> 500 | H5: =H4 -> 0.0001 | I5: =1/E5 -> 1.4156285
A6: 2010.01.31,00:00,0.7028,0.7148,0.6807,0.6892,186884 | C6: 0.7028 | D6: 0.6892 | E6: =(C6+D6)/2 -> 0.696 | F6: =F5 -> 100000 | G6: =G5 -> 500 | H6: =H5 -> 0.0001 | I6: =1/E6 -> 1.4367816
A7: 2010.02.07,00:00,0.6887,0.7023,0.6816,0.6972,176634 | C7: 0.6887 | D7: 0.6972 | E7: =(C7+D7)/2 -> 0.69295 | F7: =F6 -> 100000 | G7: =G6 -> 500 | H7: =H6 -> 0.0001 | I7: =1/E7 -> 1.4431056
A8: 2010.02.14,00:00,0.6953,0.7077,0.6929,0.6991,200667 | C8: 0.6953 | D8: 0.6991 | E8: =(C8+D8)/2 -> 0.6972 | F8: =F7 -> 100000 | G8: =G7 -> 500 | H8: =H7 -> 0.0001 | I8: =1/E8 -> 1.4343087
A9: 2010.02.21,00:00,0.6997,0.7056,0.6846,0.6977,214233 | C9: 0.6997 | D9: 0.6977 | E9: =(C9+D9)/2 -> 0.6987 | F9: =F8 -> 100000 | G9: =G8 -> 500 | H9: =H8 -> 0.0001 | I9: =1/E9 -> 1.4312294
A10: 2010.02.28,00:00,0.6993,0.7014,0.6850,0.6966,192733 | C10: 0.6993 | D10: 0.6966 | E10: =(C10+D10)/2 -> 0.69795 | F10: =F9 -> 100000 | G10: =G9 -> 500 | H10: =H9 -> 0.0001 | I10: =1/E10 -> 1.4327674
A11: 2010.03.07,00:00,0.6996,0.7096,0.6961,0.7014,131136 | C11: 0.6996 | D11: 0.7014 | E11: =(C11+D11)/2 -> 0.7005 | F11: =F10 -> 100000 | G11: =G10 -> 500 | H11: =H10 -> 0.0001 | I11: =1/E11 -> 1.4275517
A12: 2010.03.14,00:00,0.7028,0.7176,0.6986,0.7079,131258 | C12: 0.7028 | D12: 0.7079 | E12: =(C12+D12)/2 -> 0.70535 | F12: =F11 -> 100000 | G12: =G11 -> 500 | H12: =H11 -> 0.0001 | I12: =1/E12 -> 1.4177359
A13: 2010.03.21,00:00,0.7060,0.7099,0.6993,0.7029,119705 | C13: 0.706 | D13: 0.7029 | E13: =(C13+D13)/2 -> 0.70445 | F13: =F12 -> 100000 | G13: =G12 -> 500 | H13: =H12 -> 0.0001 | I13: =1/E13 -> 1.4195472
A14: 2010.03.28,00:00,0.7044,0.7130,0.7034,0.7058,96331 | C14: 0.7044 | D14: 0.7058 | E14: =(C14+D14)/2 -> 0.7051 | F14: =F13 -> 100000 | G14: =G13 -> 500 | H14: =H13 -> 0.0001 | I14: =1/E14 -> 1.4182385
... A372: 2017.02.05,00:00,0.7306,0.7374,0.7171,0.7201,51892 | C372: 0.7306 | D372: 0.7201 | E372: =(C372+D372)/2 -> 0.72535 | F372: =F371 -> 100000 | G372: =G371 -> 500 | H372: =H371 -> 0.0001 | I372: =1/E372 -> 1.3786448
A373: 2017.02.12,00:00,0.7203,0.7241,0.7133,0.7181,60205 | C373: 0.7203 | D373: 0.7181 | E373: =(C374+D373)/2 -> 0.71875 | F373: =F372 -> 100000 | G373: =G372 -> 500 | H373: =H372 -> 0.0001 | I373: =1/E373 -> 1.3913043
A374: 2017.02.19,00:00,0.7194,0.7245,0.7128,0.7193,47580 | C374: 0.7194 | D374: 0.7193 | E374: =(C375+D374)/2 -> 0.71945 | F374: =F373 -> 100000 | G374: =G373 -> 500 | H374: =H373 -> 0.0001 | I374: =1/E374 -> 1.3899507
A375: 2017.02.26,00:00,0.7196,0.7235,0.7000,0.7045,59304 | C375: 0.7196 | D375: 0.7045 | E375: =(C376+D375)/2 -> 0.7035 | F375: =F374 -> 100000 | G375: =G374 -> 500 | H375: =H374 -> 0.0001 | I375: =1/E375 -> 1.4214641
A376: 2017.03.05,00:00,0.7025,0.7044,0.6888,0.6921,45579 | C376: 0.7025 | D376: 0.6921 | E376: =(C377+D376)/2 -> 0.69265 | F376: =F375 -> 100000 | G376: =G375 -> 500 | H376: =H375 -> 0.0001 | I376: =1/E376 -> 1.4437306
A377: 2017.03.12,00:00,0.6932,0.7047,0.6892,0.7016,50343 | C377: 0.6932 | D377: 0.7016 | E377: =(C377+D377)/2 -> 0.6974 | F377: =F376 -> 100000 | G377: =G376 -> 500 | H377: =H376 -> 0.0001 | I377: =1/E377 -> 1.4338973
A378: 2017.03.19,00:00,0.7017,0.7088,0.6993,0.7025,45852 | C378: 0.7017 | D378: 0.7025 | E378: =(C378+D378)/2 -> 0.7021 | F378: =F377 -> 100000 | G378: =G377 -> 500 | H378: =H377 -> 0.0001 | I378: =1/E378 -> 1.4242985
A379: 2017.03.26,00:00,0.7033,0.7066,0.6974,0.7003,39152 | C379: 0.7033 | D379: 0.7003 | E379: =(C379+D379)/2 -> 0.7018 | F379: =F378 -> 100000 | G379: =G378 -> 500 | H379: =H378 -> 0.0001 | I379: =1/E379 -> 1.4249074
A380: 2017.04.02,00:00,0.7000,0.7020,0.6929,0.6933,41172 | C380: 0.7 | D380: 0.6933 | E380: =(C380+D380)/2 -> 0.69665 | F380: =F379 -> 100000 | G380: =G379 -> 500 | H380: =H379 -> 0.0001 | I380: =1/E380 -> 1.435441
A381: 2017.04.09,00:00,0.6934,0.7013,0.6907,0.7004,39279 | C381: 0.6934 | D381: 0.7004 | E381: =(C381+D381)/2 -> 0.6969 | F381: =F380 -> 100000 | G381: =G380 -> 500 | H381: =H380 -> 0.0001 | I381: =1/E381 -> 1.4349261
A382: 2017.04.16,00:00,0.6995,0.7051,0.6982,0.7030,37757 | C382: 0.6995 | D382: 0.703 | E382: =(C382+D382)/2 -> 0.70125 | F382: =F381 -> 100000 | G382: =G381 -> 500 | H382: =H381 -> 0.0001 | I382: =1/E382 -> 1.426025
A383: 2017.04.23,00:00,0.7045,0.7051,0.6846,0.6864,36998 | C383: 0.7045 | D383: 0.6864 | E383: =(C383+D383)/2 -> 0.69545 | F383: =F382 -> 100000 | G383: =G382 -> 500 | H383: =H382 -> 0.0001 | I383: =1/E383 -> 1.4379179
A384: 2017.04.30,00:00,0.6862,0.6967,0.6838,0.6920,31966 | C384: 0.6862 | D384: 0.692 | E384: =(C384+D384)/2 -> 0.6891 | F384: =F383 -> 100000 | G384: =G383 -> 500 | H384: =H383 -> 0.0001 | I384: =1/E384 -> 1.4511682
A385: 2017.05.07,00:00,0.6903,0.6949,0.6816,0.6855,39843 | C385: 0.6903 | D385: 0.6855 | E385: =(C385+D385)/2 -> 0.6879 | F385: =F384 -> 100000 | G385: =G384 -> 500 | H385: =H384 -> 0.0001 | I385: =1/E385 -> 1.4536997
A386: 2017.05.14,00:00,0.6859,0.6949,0.6850,0.6924,47857 | C386: 0.6859 | D386: 0.6924 | E386: =(C386+D386)/2 -> 0.68915 | F386: =F385 -> 100000 | G386: =G385 -> 500 | H386: =H385 -> 0.0001 | I386: =1/E386 -> 1.4510629
A387: 2017.05.21,00:00,0.6922,0.7075,0.6916,0.7061,39256 | C387: 0.6922 | D387: 0.7061 | E387: =(C387+D387)/2 -> 0.69915 | F387: =F386 -> 100000 | G387: =G386 -> 500 | H387: =H386 -> 0.0001 | I387: =1/E387 -> 1.4303082
A388: 2017.05.28,00:00,0.7054,0.7145,0.7033,0.7144,38945 | C388: 0.7054 | D388: 0.7144 | E388: =(C388+D388)/2 -> 0.7099 | F388: =F387 -> 100000 | G388: =G387 -> 500 | H388: =H387 -> 0.0001 | I388: =1/E388 -> 1.4086491
... A412: 2017.11.12,00:00,0.6921,0.6936,0.6782,0.6786,26739 | C412: 0.6921 | D412: 0.6786 | E412: =(C412+D412)/2 -> 0.68535 | F412: =F411 -> 100000 | G412: =G411 -> 500 | H412: =H411 -> 0.0001 | I412: =1/E412 -> 1.4591085

Sheet USDCAD-Week
C1: цена открытия | D1: цена закрытия | E1: средняя за неделю | F1: лот | G1: плечо | H1: 1п
A2: 2010.01.03,00:00,1.0468,1.0515,1.0291,1.0297,229481 | C2: 1.0468 | D2: 1.0297 | E2: =(C2+D2)/2 -> 1.03825 | F2: ='маржа и цена пункта'!F6 -> 100000 | G2: ='маржа и цена пункта'!F7 -> 500 | H2: ='цена пункта'!M9 -> 0.0001
A3: 2010.01.10,00:00,1.0308,1.0412,1.0224,1.0289,232199 | C3: 1.0308 | D3: 1.0289 | E3: =(C3+D3)/2 -> 1.02985 | F3: =F2 -> 100000 | G3: =G2 -> 500 | H3: =H2 -> 0.0001
A4: 2010.01.17,00:00,1.0297,1.0600,1.0248,1.0577,258569 | C4: 1.0297 | D4: 1.0577 | E4: =(C4+D4)/2 -> 1.0437 | F4: =F3 -> 100000 | G4: =G3 -> 500 | H4: =H3 -> 0.0001
A5: 2010.01.24,00:00,1.0564,1.0703,1.0532,1.0702,253814 | C5: 1.0564 | D5: 1.0702 | E5: =(C5+D5)/2 -> 1.0633 | F5: =F4 -> 100000 | G5: =G4 -> 500 | H5: =H4 -> 0.0001
A6: 2010.01.31,00:00,1.0688,1.0778,1.0544,1.0714,244286 | C6: 1.0688 | D6: 1.0714 | E6: =(C6+D6)/2 -> 1.0701 | F6: =F5 -> 100000 | G6: =G5 -> 500 | H6: =H5 -> 0.0001
A7: 2010.02.07,00:00,1.0700,1.0771,1.0479,1.0502,289456 | C7: 1.07 | D7: 1.0502 | E7: =(C7+D7)/2 -> 1.0601 | F7: =F6 -> 100000 | G7: =G6 -> 500 | H7: =H6 -> 0.0001
A8: 2010.02.14,00:00,1.0514,1.0531,1.0388,1.0391,247477 | C8: 1.0514 | D8: 1.0391 | E8: =(C8+D8)/2 -> 1.04525 | F8: =F7 -> 100000 | G8: =G7 -> 500 | H8: =H7 -> 0.0001
A9: 2010.02.21,00:00,1.0387,1.0678,1.0369,1.0515,258760 | C9: 1.0387 | D9: 1.0515 | E9: =(C9+D9)/2 -> 1.0451 | F9: =F8 -> 100000 | G9: =G8 -> 500 | H9: =H8 -> 0.0001
A10: 2010.02.28,00:00,1.0518,1.0571,1.0260,1.0288,235567 | C10: 1.0518 | D10: 1.0288 | E10: =(C10+D10)/2 -> 1.0403 | F10: =F9 -> 100000 | G10: =G9 -> 500 | H10: =H9 -> 0.0001
A11: 2010.03.07,00:00,1.0271,1.0319,1.0154,1.0191,152085 | C11: 1.0271 | D11: 1.0191 | E11: =(C11+D11)/2 -> 1.0231 | F11: =F10 -> 100000 | G11: =G10 -> 500 | H11: =H10 -> 0.0001
A12: 2010.03.14,00:00,1.0171,1.0231,1.0061,1.0171,167335 | C12: 1.0171 | D12: 1.0171 | E12: =(C12+D12)/2 -> 1.0171 | F12: =F11 -> 100000 | G12: =G11 -> 500 | H12: =H11 -> 0.0001
A13: 2010.03.21,00:00,1.0162,1.0301,1.0147,1.0280,159898 | C13: 1.0162 | D13: 1.028 | E13: =(C13+D13)/2 -> 1.0221 | F13: =F12 -> 100000 | G13: =G12 -> 500 | H13: =H12 -> 0.0001
A14: 2010.03.28,00:00,1.0252,1.0271,1.0066,1.0108,141570 | C14: 1.0252 | D14: 1.0108 | E14: =(C14+D14)/2 -> 1.018 | F14: =F13 -> 100000 | G14: =G13 -> 500 | H14: =H13 -> 0.0001
... A232: 2014.06.01,00:00,1.0841,1.0959,1.0839,1.0929,22449 | C232: 1.0841 | D232: 1.0929 | E232: =(C232+D232)/2 -> 1.0885 | F232: =F231 -> 100000 | G232: =G231 -> 500 | H232: =H231 -> 0.0001
A233: 2014.06.08,00:00,1.0925,1.0939,1.0840,1.0852,19852 | C233: 1.0925 | D233: 1.0852 | E233: =(C234+D233)/2 -> 1.08535 | F233: =F232 -> 100000 | G233: =G232 -> 500 | H233: =H232 -> 0.0001
A234: 2014.06.15,00:00,1.0855,1.0894,1.0750,1.0756,21033 | C234: 1.0855 | D234: 1.0756 | E234: =(C235+D234)/2 -> 1.07575 | F234: =F233 -> 100000 | G234: =G233 -> 500 | H234: =H233 -> 0.0001
A235: 2014.06.22,00:00,1.0759,1.0760,1.0658,1.0665,17157 | C235: 1.0759 | D235: 1.0665 | E235: =(C235+D235)/2 -> 1.0712 | F235: =F234 -> 100000 | G235: =G234 -> 500 | H235: =H234 -> 0.0001
A236: 2014.06.29,00:00,1.0667,1.0695,1.0619,1.0649,19695 | C236: 1.0667 | D236: 1.0649 | E236: =(C236+D236)/2 -> 1.0658 | F236: =F235 -> 100000 | G236: =G235 -> 500 | H236: =H235 -> 0.0001
A237: 2014.07.06,00:00,1.0647,1.0735,1.0629,1.0733,22401 | C237: 1.0647 | D237: 1.0733 | E237: =(C237+D237)/2 -> 1.069 | F237: =F236 -> 100000 | G237: =G236 -> 500 | H237: =H236 -> 0.0001
A238: 2014.07.13,00:00,1.0735,1.0792,1.0707,1.0732,24435 | C238: 1.0735 | D238: 1.0732 | E238: =(C238+D238)/2 -> 1.07335 | F238: =F237 -> 100000 | G238: =G237 -> 500 | H238: =H237 -> 0.0001
A239: 2014.07.20,00:00,1.0731,1.0820,1.0708,1.0816,19392 | C239: 1.0731 | D239: 1.0816 | E239: =(C239+D239)/2 -> 1.07735 | F239: =F238 -> 100000 | G239: =G238 -> 500 | H239: =H238 -> 0.0001
A240: 2014.07.27,00:00,1.0815,1.0942,1.0795,1.0921,26826 | C240: 1.0815 | D240: 1.0921 | E240: =(C240+D240)/2 -> 1.0868 | F240: =F239 -> 100000 | G240: =G239 -> 500 | H240: =H239 -> 0.0001
A241: 2014.08.03,00:00,1.0917,1.0984,1.0902,1.0972,17795 | C241: 1.0917 | D241: 1.0972 | E241: =(C241+D241)/2 -> 1.09445 | F241: =F240 -> 100000 | G241: =G240 -> 500 | H241: =H240 -> 0.0001
A242: 2014.08.10,00:00,1.0969,1.0976,1.0858,1.0898,16770 | C242: 1.0969 | D242: 1.0898 | E242: =(C242+D242)/2 -> 1.09335 | F242: =F241 -> 100000 | G242: =G241 -> 500 | H242: =H241 -> 0.0001
A243: 2014.08.17,00:00,1.0885,1.0985,1.0874,1.0943,16344 | C243: 1.0885 | D243: 1.0943 | E243: =(C243+D243)/2 -> 1.0914 | F243: =F242 -> 100000 | G243: =G242 -> 500 | H243: =H242 -> 0.0001
A244: 2014.08.24,00:00,1.0962,1.0996,1.0809,1.0876,19008 | C244: 1.0962 | D244: 1.0876 | E244: =(C244+D244)/2 -> 1.0919 | F244: =F243 -> 100000 | G244: =G243 -> 500 | H244: =H243 -> 0.0001
A245: 2014.08.31,00:00,1.0873,1.0941,1.0819,1.0881,19230 | C245: 1.0873 | D245: 1.0881 | E245: =(C245+D245)/2 -> 1.0877 | F245: =F244 -> 100000 | G245: =G244 -> 500 | H245: =H244 -> 0.0001
A246: 2014.09.07,00:00,1.0880,1.1096,1.0880,1.1090,29008 | C246: 1.088 | D246: 1.109 | E246: =(C246+D246)/2 -> 1.0985 | F246: =F245 -> 100000 | G246: =G245 -> 500 | H246: =H245 -> 0.0001
... A416: 2017.12.10,00:00,1.2854,1.2893,1.2712,1.2868,43046 | C416: 1.2854 | D416: 1.2868 | E416: =(C416+D416)/2 -> 1.2861 | F416: =F415 -> 100000 | G416: =G415 -> 500 | H416: =H415 -> 0.0001
A417: 2017.12.17,00:00,1.2870,1.2918,1.2696,1.2721,40799 | E417: =(C417+D417)/2 -> 0 | F417: =F416 -> 100000 | G417: =G416 -> 500 | H417: =H416 -> 0.0001
A418: 2017.12.24,00:00,1.2711,1.2726,1.2513,1.2580,23964 | E418: =(C418+D418)/2 -> 0 | F418: =F417 -> 100000 | G418: =G417 -> 500 | H418: =H417 -> 0.0001
A419: 2017.12.31,00:00,1.2524,1.2553,1.2353,1.2411,30686 | E419: =(C419+D419)/2 -> 0 | F419: =F418 -> 100000 | G419: =G418 -> 500 | H419: =H418 -> 0.0001
A420: 2018.01.07,00:00,1.2412,1.2588,1.2377,1.2459,47780 | E420: =(C420+D420)/2 -> 0 | F420: =F419 -> 100000 | G420: =G419 -> 500 | H420: =H419 -> 0.0001
A421: 2018.01.14,00:00,1.2462,1.2539,1.2363,1.2496,57081 | E421: =(C421+D421)/2 -> 0 | F421: =F420 -> 100000 | G421: =G420 -> 500 | H421: =H420 -> 0.0001
A422: 2018.01.21,00:00,1.2475,1.2495,1.2281,1.2316,57720 | E422: =(C422+D422)/2 -> 0 | F422: =F421 -> 100000 | G422: =G421 -> 500 | H422: =H421 -> 0.0001
A423: 2018.01.28,00:00,1.2317,1.2436,1.2248,1.2425,61905 | E423: =(C423+D423)/2 -> 0 | F423: =F422 -> 100000 | G423: =G422 -> 500 | H423: =H422 -> 0.0001
A424: 2018.02.04,00:00,1.2435,1.2687,1.2396,1.2579,89352 | E424: =(C424+D424)/2 -> 0 | F424: =F423 -> 100000 | G424: =G423 -> 500 | H424: =H423 -> 0.0001
A425: 2018.02.11,00:00,1.2588,1.2647,1.2449,1.2557,56507 | E425: =(C425+D425)/2 -> 0 | F425: =F424 -> 100000 | G425: =G424 -> 500 | H425: =H424 -> 0.0001
A426: 2018.02.18,00:00,1.2559,1.2757,1.2526,1.2629,49869 | E426: =(C426+D426)/2 -> 0 | F426: =F425 -> 100000 | G426: =G425 -> 500 | H426: =H425 -> 0.0001
A427: 2018.02.25,00:00,1.2638,1.2914,1.2613,1.2883,53649 | E427: =(C427+D427)/2 -> 0 | F427: =F426 -> 100000 | G427: =G426 -> 500 | H427: =H426 -> 0.0001
A428: 2018.03.04,00:00,1.2880,1.2999,1.2807,1.2810,75566 | E428: =(C428+D428)/2 -> 0 | F428: =F427 -> 100000 | G428: =G427 -> 500 | H428: =H427 -> 0.0001
... A441: 2018.06.03,00:00,1.2956,1.3006,1.2898,1.2981,17013 | E441: =(C441+D441)/2 -> 0 | F441: =F440 -> 100000 | G441: =G440 -> 500 | H441: =H440 -> 0.0001

Sheet USDCHF-Week
C1: цена открытия | D1: цена закрытия | E1: средняя за неделю | F1: лот | G1: плечо | H1: 1п
A2: 2010.01.03,00:00,1.0346,1.0418,1.0215,1.0236,251132 | C2: 1.0346 | D2: 1.0236 | E2: =(C2+D2)/2 -> 1.0291 | F2: ='маржа и цена пункта'!F6 -> 100000 | G2: ='маржа и цена пункта'!F7 -> 500 | H2: ='цена пункта'!M9 -> 0.0001
A3: 2010.01.10,00:00,1.0239,1.0285,1.0132,1.0251,251644 | C3: 1.0239 | D3: 1.0251 | E3: =(C3+D3)/2 -> 1.0245 | F3: =F2 -> 100000 | G3: =G2 -> 500 | H3: =H2 -> 0.0001
A4: 2010.01.17,00:00,1.0279,1.0494,1.0227,1.0411,286017 | C4: 1.0279 | D4: 1.0411 | E4: =(C4+D4)/2 -> 1.0345 | F4: =F3 -> 100000 | G4: =G3 -> 500 | H4: =H3 -> 0.0001
A5: 2010.01.24,00:00,1.0403,1.0639,1.0367,1.0604,293920 | C5: 1.0403 | D5: 1.0604 | E5: =(C5+D5)/2 -> 1.05035 | F5: =F4 -> 100000 | G5: =G4 -> 500 | H5: =H4 -> 0.0001
A6: 2010.01.31,00:00,1.0614,1.0792,1.0497,1.0722,288878 | C6: 1.0614 | D6: 1.0722 | E6: =(C6+D6)/2 -> 1.0668 | F6: =F5 -> 100000 | G6: =G5 -> 500 | H6: =H5 -> 0.0001
A7: 2010.02.07,00:00,1.0760,1.0826,1.0608,1.0754,286332 | C7: 1.076 | D7: 1.0754 | E7: =(C7+D7)/2 -> 1.0757 | F7: =F6 -> 100000 | G7: =G6 -> 500 | H7: =H6 -> 0.0001
A8: 2010.02.14,00:00,1.0768,1.0897,1.0647,1.0755,254058 | C8: 1.0768 | D8: 1.0755 | E8: =(C8+D8)/2 -> 1.07615 | F8: =F7 -> 100000 | G8: =G7 -> 500 | H8: =H7 -> 0.0001
A9: 2010.02.21,00:00,1.0767,1.0877,1.0694,1.0733,283753 | C9: 1.0767 | D9: 1.0733 | E9: =(C9+D9)/2 -> 1.075 | F9: =F8 -> 100000 | G9: =G8 -> 500 | H9: =H8 -> 0.0001
A10: 2010.02.28,00:00,1.0741,1.0885,1.0648,1.0739,281895 | C10: 1.0741 | D10: 1.0739 | E10: =(C10+D10)/2 -> 1.074 | F10: =F9 -> 100000 | G10: =G9 -> 500 | H10: =H9 -> 0.0001
A11: 2010.03.07,00:00,1.0724,1.0803,1.0576,1.0577,171030 | C11: 1.0724 | D11: 1.0577 | E11: =(C11+D11)/2 -> 1.06505 | F11: =F10 -> 100000 | G11: =G10 -> 500 | H11: =H10 -> 0.0001
A12: 2010.03.14,00:00,1.0588,1.0645,1.0506,1.0610,184170 | C12: 1.0588 | D12: 1.061 | E12: =(C12+D12)/2 -> 1.0599 | F12: =F11 -> 100000 | G12: =G11 -> 500 | H12: =H11 -> 0.0001
A13: 2010.03.21,00:00,1.0606,1.0750,1.0546,1.0649,205246 | C13: 1.0606 | D13: 1.0649 | E13: =(C13+D13)/2 -> 1.06275 | F13: =F12 -> 100000 | G13: =G12 -> 500 | H13: =H12 -> 0.0001
A14: 2010.03.28,00:00,1.0596,1.0689,1.0435,1.0607,171660 | C14: 1.0596 | D14: 1.0607 | E14: =(C14+D14)/2 -> 1.06015 | F14: =F13 -> 100000 | G14: =G13 -> 500 | H14: =H13 -> 0.0001
... A419: 2017.12.31,00:00,0.9730,0.9796,0.9698,0.9745,23677 | C419: 0.973 | D419: 0.9745 | E419: =(C419+D419)/2 -> 0.97375 | F419: =F418 -> 100000 | G419: =G418 -> 500 | H419: =H418 -> 0.0001
A420: 2018.01.07,00:00,0.9751,0.9842,0.9664,0.9673,39666 | E420: =(C420+D420)/2 -> 0 | F420: =F419 -> 100000 | G420: =G419 -> 500 | H420: =H419 -> 0.0001
A421: 2018.01.14,00:00,0.9680,0.9681,0.9534,0.9639,50212 | E421: =(C421+D421)/2 -> 0 | F421: =F420 -> 100000 | G421: =G420 -> 500 | H421: =H420 -> 0.0001
A422: 2018.01.21,00:00,0.9607,0.9638,0.9287,0.9334,64106 | E422: =(C422+D422)/2 -> 0 | F422: =F421 -> 100000 | G422: =G421 -> 500 | H422: =H421 -> 0.0001
A423: 2018.01.28,00:00,0.9344,0.9390,0.9253,0.9311,65632 | E423: =(C423+D423)/2 -> 0 | F423: =F422 -> 100000 | G423: =G422 -> 500 | H423: =H422 -> 0.0001
A424: 2018.02.04,00:00,0.9326,0.9468,0.9285,0.9394,73575 | E424: =(C424+D424)/2 -> 0 | F424: =F423 -> 100000 | G424: =G423 -> 500 | H424: =H423 -> 0.0001
A425: 2018.02.11,00:00,0.9399,0.9404,0.9186,0.9272,48826 | E425: =(C425+D425)/2 -> 0 | F425: =F424 -> 100000 | G425: =G424 -> 500 | H425: =H424 -> 0.0001
A426: 2018.02.18,00:00,0.9278,0.9407,0.9259,0.9361,40935 | E426: =(C426+D426)/2 -> 0 | F426: =F425 -> 100000 | G426: =G425 -> 500 | H426: =H425 -> 0.0001
A427: 2018.02.25,00:00,0.9364,0.9489,0.9324,0.9377,46399 | E427: =(C427+D427)/2 -> 0 | F427: =F426 -> 100000 | G427: =G426 -> 500 | H427: =H426 -> 0.0001
A428: 2018.03.04,00:00,0.9372,0.9531,0.9345,0.9512,53959 | E428: =(C428+D428)/2 -> 0 | F428: =F427 -> 100000 | G428: =G427 -> 500 | H428: =H427 -> 0.0001
A429: 2018.03.11,00:00,0.9510,0.9546,0.9420,0.9519,36172 | E429: =(C429+D429)/2 -> 0 | F429: =F428 -> 100000 | G429: =G428 -> 500 | H429: =H428 -> 0.0001
A430: 2018.03.18,00:00,0.9522,0.9568,0.9441,0.9473,46110 | E430: =(C430+D430)/2 -> 0 | F430: =F429 -> 100000 | G430: =G429 -> 500 | H430: =H429 -> 0.0001
A431: 2018.03.25,00:00,0.9471,0.9582,0.9431,0.9539,39194 | E431: =(C431+D431)/2 -> 0 | F431: =F430 -> 100000 | G431: =G430 -> 500 | H431: =H430 -> 0.0001
... A441: 2018.06.03,00:00,0.9886,0.9891,0.9828,0.9870,12871 | E441: =(C441+D441)/2 -> 0 | F441: =F440 -> 100000 | G441: =G440 -> 500 | H441: =H440 -> 0.0001

Sheet AUDUSD-Week
C1: цена открытия | D1: цена закрытия | E1: средняя за неделю | F1: лот | G1: плечо | H1: 1п | I1: котировка к доллару
A2: 2010.01.03,00:00,0.8993,0.9264,0.8937,0.9244,192964 | C2: 0.8993 | D2: 0.9244 | E2: =(C2+D2)/2 -> 0.91185 | F2: ='маржа и цена пункта'!F6 -> 100000 | G2: ='маржа и цена пункта'!F7 -> 500 | H2: ='цена пункта'!M9 -> 0.0001 | I2: =1/E2 -> 1.0966716
A3: 2010.01.10,00:00,0.9278,0.9327,0.9170,0.9225,205090 | C3: 0.9278 | D3: 0.9225 | E3: =(C3+D3)/2 -> 0.92515 | F3: =F2 -> 100000 | G3: =G2 -> 500 | H3: =H2 -> 0.0001 | I3: =1/E3 -> 1.0809058
A4: 2010.01.17,00:00,0.9204,0.9277,0.8981,0.9004,245535 | C4: 0.9204 | D4: 0.9004 | E4: =(C4+D4)/2 -> 0.9104 | F4: =F3 -> 100000 | G4: =G3 -> 500 | H4: =H3 -> 0.0001 | I4: =1/E4 -> 1.0984183
A5: 2010.01.24,00:00,0.9019,0.9091,0.8833,0.8835,272752 | C5: 0.9019 | D5: 0.8835 | E5: =(C5+D5)/2 -> 0.8927 | F5: =F4 -> 100000 | G5: =G4 -> 500 | H5: =H4 -> 0.0001 | I5: =1/E5 -> 1.1201972
A6: 2010.01.31,00:00,0.8829,0.8924,0.8577,0.8680,273777 | C6: 0.8829 | D6: 0.868 | E6: =(C6+D6)/2 -> 0.87545 | F6: =F5 -> 100000 | G6: =G5 -> 500 | H6: =H5 -> 0.0001 | I6: =1/E6 -> 1.1422697
A7: 2010.02.07,00:00,0.8677,0.8918,0.8613,0.8876,256087 | C7: 0.8677 | D7: 0.8876 | E7: =(C7+D7)/2 -> 0.87765 | F7: =F6 -> 100000 | G7: =G6 -> 500 | H7: =H6 -> 0.0001 | I7: =1/E7 -> 1.1394064
A8: 2010.02.14,00:00,0.8871,0.9034,0.8848,0.8985,218359 | C8: 0.8871 | D8: 0.8985 | E8: =(C8+D8)/2 -> 0.8928 | F8: =F7 -> 100000 | G8: =G7 -> 500 | H8: =H7 -> 0.0001 | I8: =1/E8 -> 1.1200717
A9: 2010.02.21,00:00,0.8998,0.9070,0.8800,0.8951,238036 | C9: 0.8998 | D9: 0.8951 | E9: =(C9+D9)/2 -> 0.89745 | F9: =F8 -> 100000 | G9: =G8 -> 500 | H9: =H8 -> 0.0001 | I9: =1/E9 -> 1.1142682
A10: 2010.02.28,00:00,0.8971,0.9091,0.8935,0.9074,220313 | C10: 0.8971 | D10: 0.9074 | E10: =(C10+D10)/2 -> 0.90225 | F10: =F9 -> 100000 | G10: =G9 -> 500 | H10: =H9 -> 0.0001 | I10: =1/E10 -> 1.1083403
A11: 2010.03.07,00:00,0.9096,0.9192,0.9054,0.9150,152659 | C11: 0.9096 | D11: 0.915 | E11: =(C11+D11)/2 -> 0.9123 | F11: =F10 -> 100000 | G11: =G10 -> 500 | H11: =H10 -> 0.0001 | I11: =1/E11 -> 1.0961307
A12: 2010.03.14,00:00,0.9170,0.9249,0.9095,0.9152,177521 | C12: 0.917 | D12: 0.9152 | E12: =(C12+D12)/2 -> 0.9161 | F12: =F11 -> 100000 | G12: =G11 -> 500 | H12: =H11 -> 0.0001 | I12: =1/E12 -> 1.0915839
A13: 2010.03.21,00:00,0.9135,0.9196,0.9001,0.9084,181361 | C13: 0.9135 | D13: 0.9084 | E13: =(C13+D13)/2 -> 0.91095 | F13: =F12 -> 100000 | G13: =G12 -> 500 | H13: =H12 -> 0.0001 | I13: =1/E13 -> 1.0977551
A14: 2010.03.28,00:00,0.9040,0.9215,0.9032,0.9192,152566 | C14: 0.904 | D14: 0.9192 | E14: =(C14+D14)/2 -> 0.9116 | F14: =F13 -> 100000 | G14: =G13 -> 500 | H14: =H13 -> 0.0001 | I14: =1/E14 -> 1.0969724
... A419: 2017.12.31,00:00,0.7834,0.7873,0.7803,0.7861,16593 | C419: 0.7834 | D419: 0.7861 | E419: =(C419+D419)/2 -> 0.78475 | F419: =F418 -> 100000 | G419: =G418 -> 500 | H419: =H418 -> 0.0001 | I419: =1/E419 -> 1.2742912
A420: 2018.01.07,00:00,0.7863,0.7923,0.7806,0.7915,27169 | E420: =(C420+D420)/2 -> 0 | F420: =F419 -> 100000 | G420: =G419 -> 500 | H420: =H419 -> 0.0001 | I420: =1/E420 -> #DIV/0!
A421: 2018.01.14,00:00,0.7904,0.8037,0.7904,0.7984,30991 | E421: =(C421+D421)/2 -> 0 | F421: =F420 -> 100000 | G421: =G420 -> 500 | H421: =H420 -> 0.0001 | I421: =1/E421 -> #DIV/0!
A422: 2018.01.21,00:00,0.8000,0.8134,0.7955,0.8108,41657 | E422: =(C422+D422)/2 -> 0 | F422: =F421 -> 100000 | G422: =G421 -> 500 | H422: =H421 -> 0.0001 | I422: =1/E422 -> #DIV/0!
A423: 2018.01.28,00:00,0.8100,0.8116,0.7916,0.7921,45143 | E423: =(C423+D423)/2 -> 0 | F423: =F422 -> 100000 | G423: =G422 -> 500 | H423: =H422 -> 0.0001 | I423: =1/E423 -> #DIV/0!
A424: 2018.02.04,00:00,0.7912,0.7952,0.7757,0.7812,63088 | E424: =(C424+D424)/2 -> 0 | F424: =F423 -> 100000 | G424: =G423 -> 500 | H424: =H423 -> 0.0001 | I424: =1/E424 -> #DIV/0!
A425: 2018.02.11,00:00,0.7813,0.7987,0.7771,0.7907,42231 | E425: =(C425+D425)/2 -> 0 | F425: =F424 -> 100000 | G425: =G424 -> 500 | H425: =H424 -> 0.0001 | I425: =1/E425 -> #DIV/0!
A426: 2018.02.18,00:00,0.7906,0.7933,0.7788,0.7839,35976 | E426: =(C426+D426)/2 -> 0 | F426: =F425 -> 100000 | G426: =G425 -> 500 | H426: =H425 -> 0.0001 | I426: =1/E426 -> #DIV/0!
A427: 2018.02.25,00:00,0.7841,0.7891,0.7711,0.7762,41829 | E427: =(C427+D427)/2 -> 0 | F427: =F426 -> 100000 | G427: =G426 -> 500 | H427: =H426 -> 0.0001 | I427: =1/E427 -> #DIV/0!
A428: 2018.03.04,00:00,0.7761,0.7852,0.7724,0.7845,39883 | E428: =(C428+D428)/2 -> 0 | F428: =F427 -> 100000 | G428: =G427 -> 500 | H428: =H427 -> 0.0001 | I428: =1/E428 -> #DIV/0!
A429: 2018.03.11,00:00,0.7849,0.7915,0.7708,0.7711,25692 | E429: =(C429+D429)/2 -> 0 | F429: =F428 -> 100000 | G429: =G428 -> 500 | H429: =H428 -> 0.0001 | I429: =1/E429 -> #DIV/0!
A430: 2018.03.18,00:00,0.7713,0.7784,0.7671,0.7694,35976 | E430: =(C430+D430)/2 -> 0 | F430: =F429 -> 100000 | G430: =G429 -> 500 | H430: =H429 -> 0.0001 | I430: =1/E430 -> #DIV/0!
A431: 2018.03.25,00:00,0.7702,0.7756,0.7641,0.7677,52950 | E431: =(C431+D431)/2 -> 0 | F431: =F430 -> 100000 | G431: =G430 -> 500 | H431: =H430 -> 0.0001 | I431: =1/E431 -> #DIV/0!
... A441: 2018.06.03,00:00,0.7563,0.7664,0.7559,0.7613,14788 | E441: =(C441+D441)/2 -> 0 | F441: =F440 -> 100000 | G441: =G440 -> 500 | H441: =H440 -> 0.0001 | I441: =1/E441 -> #DIV/0!
