Workbook

Sheet цена пункта
M2: размер лота
M3: 1 лот - 100000 | T3: =0.0001*100000/1 -> 10
D4: Цена пункта считается в валюте стоящей второй в паре | M4: 0.1 лот - 10000 | T4: =0.01*100000/110.05 -> 9.0867787
M5: 0.01 лот - 1000 | T5: =0.0001*100000/1.329 -> 7.5244545
D6: Ц 1п. = 1п* размер лота / курс валюты котировки к доллару
M7: 1п - размер минимального изменения цены
C8: Примеры расчета: | M8: для 4- значных счетов
D9: eurusd | E9: 1п = 0.0001*100000/1 | M9: 0.0001 | N9: для пар 4 знака после запятой (Пр. 1.1546)
M10: 0.01 | N10: для пар 2 знака после запятой (Пр. 123.15)
D11: usdjpy | E11: 1п=0.01*100000/110.05
M12: курс валюты к доллару -
D13: audcad | E13: 1п= 0.0001*100000/1.3290 | M13: в парах, где вторая валюта доллар - 1/1=1
M14: в парах, где первая валюта доллар - текущая котировка
M15: в кросах - котировка второй валюты к доллару

Sheet маржа1
O1: размер лота
O2: 1 лот - 100000
C3: Маржа - или залог зависят от плеча , депо , лота | O3: 0.1 лот - 10000
O4: 0.01 лот - 1000
C5: Для долларовых депозитов:
C7: в парах, где вторая валюта доллар: | H7: М = размер лота * котировку / кредитное плечо | N7: eurusd | O7: М= 100000*1.1570/500 | R7: =100000*1.157/500 -> 231.4
C9: в парах, где первая валюта доллар | H9: М = размер лота / кредитное плечо | N9: usdjpy | O9: М= 100000/500 | R9: =100000/500 -> 200
C11: в кросах (где нет доллара) | H11: М = размер лота / кредитное плечо * котировка к доллару | N11: audcad | O11: М=100000/500*0.7390 | R11: =100000/500*0.739 -> 147.8
K12: первой валюты в паре)
O13: М=100000/500*0.7390 | R13: =G14/G15*1.1334 -> 226.68
F14: лот | G14: 100000
F15: плечо | G15: 500

Sheet маржа и цена пункта
L1: размер лота
L2: 1 лот - 100000
L3: 0.1 лот - 10000
L4: 0.01 лот - 1000
E6: лот | F6: 100000 | M6: - в поля залитые желтым вписать нужное значение
E7: плечо | F7: 500
D9: пара | E9: eurusd | G9: usdjpy | I9: eurjpy | K9: gbpusd | M9: nzdusd | O9: usdcad | Q9: audusd | S9: usdchf | U9: eurchf | W9: eurgbp | Y9: euraud | AA9: eurcad | AC9: eurnzd | AE9: gbpjpy | AG9: gbpchf | AI9: gbpaud | AK9: gbpcad | AM9: gbpnzd | AO9: audjpy | AQ9: audchf | AS9: audcad | AU9: audnzd | AW9: nzdjpy | AY9: nzdchf | BA9: nzdcad | BC9: cadjpy | BE9: chfjpy
F10: цена | H10: цена | J10: цена | L10: цена | N10: цена | P10: цена | R10: цена | T10: цена | V10: цена | X10: цена | Z10: цена | AB10: цена | AD10: цена | AF10: цена | AH10: цена | AJ10: цена | AL10: цена | AN10: цена | AP10: цена | AR10: цена | AT10: цена | AV10: цена | AX10: цена | AZ10: цена | BB10: цена | BD10: цена | BF10: цена
D11: неделя | E11: маржа | F11: пункта | G11: маржа | H11: пункта | I11: маржа | J11: пункта | K11: маржа | L11: пункта | M11: маржа | N11: пункта | O11: маржа | P11: пункта | Q11: маржа | R11: пункта | S11: маржа | T11: пункта | U11: маржа | V11: пункта | W11: маржа | X11: пункта | Y11: маржа | Z11: пункта | AA11: маржа | AB11: пункта | AC11: маржа | AD11: пункта | AE11: маржа | AF11: пункта | AG11: маржа | AH11: пункта | AI11: маржа | AJ11: пункта | AK11: маржа | AL11: пункта | AM11: маржа | AN11: пункта | AO11: маржа | AP11: пункта | AQ11: маржа | AR11: пункта | AS11: маржа | AT11: пункта | AU11: маржа | AV11: пункта | AW11: маржа | AX11: пункта | AY11: маржа | AZ11: пункта | BA11: маржа | BB11: пункта | BC11: маржа | BD11: пункта | BE11: маржа | BF11: пункта
D12: 40181 | E12: ='EURUSD-Week'!F2*'EURUSD-Week'!E2/'EURUSD-Week'!G2 -> 287.32 | F12: ='EURUSD-Week'!H2*'EURUSD-Week'!F2/1 -> 10 | G12: ='USDJPY-Week'!F2/'USDJPY-Week'!G2 -> 200 | H12: ='USDJPY-Week'!H2*'USDJPY-Week'!F2/'USDJPY-Week'!E2 -> 10.777604 | I12: ='EURUSD-Week'!F2/('EURUSD-Week'!G2*'EURUSD-Week'!E2) -> 139.2176 | J12: ='USDJPY-Week'!H2*'USDJPY-Week'!F2/'USDJPY-Week'!E2 -> 10.777604 | K12: ='GBPUSD-Week'!F2*'GBPUSD-Week'!E2/'GBPUSD-Week'!G2 -> 321.41 | L12: ='GBPUSD-Week'!H2*'GBPUSD-Week'!F2/1 -> 10 | M12: ='NZDUSD-Week'!F2*'NZDUSD-Week'!E2/'NZDUSD-Week'!G2 -> 146.155 | N12: ='NZDUSD-Week'!H2*'NZDUSD-Week'!F2/1 -> 10 | O12: ='USDCAD-Week'!F2/'USDCAD-Week'!G2 -> 200 | P12: ='USDCAD-Week'!F2*'USDCAD-Week'!H2/'USDCAD-Week'!E2 -> 9.6315916 | Q12: ='AUDUSD-Week'!F2*'AUDUSD-Week'!E2/'AUDUSD-Week'!G2 -> 182.37 | R12: ='AUDUSD-Week'!H2*'AUDUSD-Week'!F2/1 -> 10 | S12: ='USDCHF-Week'!F2/'USDCHF-Week'!G2 -> 200 | T12: ='USDCHF-Week'!F2*'USDCHF-Week'!H2/'USDCHF-Week'!E2 -> 9.7172286 | U12: ='EURUSD-Week'!F2/'EURUSD-Week'!G2*'EURUSD-Week'!E2 -> 287.32 | V12: ='USDCHF-Week'!H2*'USDCHF-Week'!F2/'USDCHF-Week'!E2 -> 9.7172286 | W12: ='EURUSD-Week'!F2/'EURUSD-Week'!G2*'EURUSD-Week'!E2 -> 287.32 | X12: ='GBPUSD-Week'!H2*'GBPUSD-Week'!F2/'GBPUSD-Week'!I2 -> 16.0705 | Y12: ='EURUSD-Week'!F2/'EURUSD-Week'!G2*'EURUSD-Week'!E2 -> 287.32 | Z12: ='AUDUSD-Week'!H2*'AUDUSD-Week'!F2/'AUDUSD-Week'!I2 -> 9.1185 | AA12: ='EURUSD-Week'!F2/'EURUSD-Week'!G2*'EURUSD-Week'!E2 -> 287.32 | AB12: ='USDCAD-Week'!H2*'USDCAD-Week'!F2/'USDCAD-Week'!E2 -> 9.6315916 | AC12: ='EURUSD-Week'!F2/'EURUSD-Week'!G2*'EURUSD-Week'!E2 -> 287.32 | AD12: ='NZDUSD-Week'!H2*'NZDUSD-Week'!F2/'NZDUSD-Week'!I2 -> 7.30775 | AE12: ='GBPUSD-Week'!F2/'GBPUSD-Week'!G2*'GBPUSD-Week'!E2 -> 321.41 | AF12: ='USDJPY-Week'!H2*'USDJPY-Week'!F2/'USDJPY-Week'!E2 -> 10.777604 | AG12: ='GBPUSD-Week'!F2/'GBPUSD-Week'!G2*'GBPUSD-Week'!E2 -> 321.41 | AH12: ='USDCHF-Week'!H2*'USDCHF-Week'!F2/'USDCHF-Week'!E2 -> 9.7172286 | AI12: ='GBPUSD-Week'!F2/'GBPUSD-Week'!G2*'GBPUSD-Week'!E2 -> 321.41 | AJ12: ='AUDUSD-Week'!H2*'AUDUSD-Week'!F2/'AUDUSD-Week'!I2 -> 9.1185 | AK12: ='GBPUSD-Week'!F2/'GBPUSD-Week'!G2*'GBPUSD-Week'!E2 -> 321.41 | AL12: ='USDCAD-Week'!H2*'USDCAD-Week'!F2/'USDCAD-Week'!E2 -> 9.6315916 | AM12: ='GBPUSD-Week'!F2/'GBPUSD-Week'!G2*'GBPUSD-Week'!E2 -> 321.41 | AN12: ='NZDUSD-Week'!H2*'NZDUSD-Week'!F2/'NZDUSD-Week'!I2 -> 7.30775 | AO12: ='AUDUSD-Week'!F2/'AUDUSD-Week'!G2*'AUDUSD-Week'!E2 -> 182.37 | AP12: ='USDJPY-Week'!H2*'USDJPY-Week'!F2/'USDJPY-Week'!E2 -> 10.777604 | AQ12: ='AUDUSD-Week'!F2/'AUDUSD-Week'!G2*'AUDUSD-Week'!E2 -> 182.37 | AR12: ='USDCHF-Week'!H2*'USDCHF-Week'!F2/'USDCHF-Week'!E2 -> 9.7172286 | AS12: ='AUDUSD-Week'!F2/'AUDUSD-Week'!G2*'AUDUSD-Week'!E2 -> 182.37 | AT12: ='USDCAD-Week'!H2*'USDCAD-Week'!F2/'USDCAD-Week'!E2 -> 9.6315916 | AU12: ='AUDUSD-Week'!F2/'AUDUSD-Week'!G2*'AUDUSD-Week'!E2 -> 182.37 | AV12: ='NZDUSD-Week'!H2*'NZDUSD-Week'!F2/'NZDUSD-Week'!I2 -> 7.30775 | AW12: ='NZDUSD-Week'!F2/'NZDUSD-Week'!G2*'NZDUSD-Week'!E2 -> 146.155 | AX12: ='USDJPY-Week'!H2*'USDJPY-Week'!F2/'USDJPY-Week'!E2 -> 10.777604 | AY12: ='NZDUSD-Week'!F2/'NZDUSD-Week'!G2*'NZDUSD-Week'!E2 -> 146.155 | AZ12: ='USDCHF-Week'!H2*'USDCHF-Week'!F2/'USDCHF-Week'!E2 -> 9.7172286 | BA12: ='NZDUSD-Week'!F2/'NZDUSD-Week'!G2*'NZDUSD-Week'!E2 -> 146.155 | BB12: ='USDCAD-Week'!H2*'USDCAD-Week'!F2/'USDCAD-Week'!E2 -> 9.6315916 | BC12: ='USDCAD-Week'!F2/'USDCAD-Week'!G2*'USDCAD-Week'!E2 -> 207.65 | BD12: ='USDJPY-Week'!H2*'USDJPY-Week'!F2/'USDJPY-Week'!E2 -> 10.777604 | BE12: ='USDCHF-Week'!F2/'USDCHF-Week'!G2*'USDCHF-Week'!E2 -> 205.82 | BF12: ='USDJPY-Week'!H2*'USDJPY-Week'!F2/'USDJPY-Week'!E2 -> 10.777604
D13: 40188 | E13: ='EURUSD-Week'!F3*'EURUSD-Week'!E3/'EURUSD-Week'!G3 -> 287.96 | F13: ='EURUSD-Week'!H3*'EURUSD-Week'!F3/1 -> 10 | G13: ='USDJPY-Week'!F3/'USDJPY-Week'!G3 -> 200 | H13: ='USDJPY-Week'!H3*'USDJPY-Week'!F3/'USDJPY-Week'!E3 -> 10.909289 | I13: ='EURUSD-Week'!F3/('EURUSD-Week'!G3*'EURUSD-Week'!E3) -> 138.90818 | J13: ='USDJPY-Week'!H3*'USDJPY-Week'!F3/'USDJPY-Week'!E3 -> 10.909289 | K13: ='GBPUSD-Week'!F3*'GBPUSD-Week'!E3/'GBPUSD-Week'!G3 -> 323.21 | L13: ='GBPUSD-Week'!H3*'GBPUSD-Week'!F3/1 -> 10 | M13: ='NZDUSD-Week'!F3*'NZDUSD-Week'!E3/'NZDUSD-Week'!G3 -> 147.63 | N13: ='NZDUSD-Week'!H3*'NZDUSD-Week'!F3/1 -> 10 | O13: 200 | P13: ='USDCAD-Week'!F3*'USDCAD-Week'!H3/'USDCAD-Week'!E3 -> 9.710152 | Q13: ='AUDUSD-Week'!F3*'AUDUSD-Week'!E3/'AUDUSD-Week'!G3 -> 185.03 | R13: ='AUDUSD-Week'!H3*'AUDUSD-Week'!F3/1 -> 10 | S13: ='USDCHF-Week'!F3/'USDCHF-Week'!G3 -> 200 | T13: ='USDCHF-Week'!F3*'USDCHF-Week'!H3/'USDCHF-Week'!E3 -> 9.760859 | U13: ='EURUSD-Week'!F3/'EURUSD-Week'!G3*'EURUSD-Week'!E3 -> 287.96 | V13: ='USDCHF-Week'!H3*'USDCHF-Week'!F3/'USDCHF-Week'!E3 -> 9.760859 | W13: ='EURUSD-Week'!F3/'EURUSD-Week'!G3*'EURUSD-Week'!E3 -> 287.96 | X13: ='GBPUSD-Week'!H3*'GBPUSD-Week'!F3/'GBPUSD-Week'!I3 -> 16.1605 | Y13: ='EURUSD-Week'!F3/'EURUSD-Week'!G3*'EURUSD-Week'!E3 -> 287.96 | Z13: ='AUDUSD-Week'!H3*'AUDUSD-Week'!F3/'AUDUSD-Week'!I3 -> 9.2515 | AA13: ='EURUSD-Week'!F3/'EURUSD-Week'!G3*'EURUSD-Week'!E3 -> 287.96 | AB13: ='USDCAD-Week'!H3*'USDCAD-Week'!F3/'USDCAD-Week'!E3 -> 9.710152 | AC13: ='EURUSD-Week'!F3/'EURUSD-Week'!G3*'EURUSD-Week'!E3 -> 287.96 | AD13: ='NZDUSD-Week'!H3*'NZDUSD-Week'!F3/'NZDUSD-Week'!I3 -> 7.3815 | AE13: ='GBPUSD-Week'!F3/'GBPUSD-Week'!G3*'GBPUSD-Week'!E3 -> 323.21 | AF13: ='USDJPY-Week'!H3*'USDJPY-Week'!F3/'USDJPY-Week'!E3 -> 10.909289 | AG13: ='GBPUSD-Week'!F3/'GBPUSD-Week'!G3*'GBPUSD-Week'!E3 -> 323.21 | AH13: ='USDCHF-Week'!H3*'USDCHF-Week'!F3/'USDCHF-Week'!E3 -> 9.760859 | AI13: ='GBPUSD-Week'!F3/'GBPUSD-Week'!G3*'GBPUSD-Week'!E3 -> 323.21 | AJ13: ='AUDUSD-Week'!H3*'AUDUSD-Week'!F3/'AUDUSD-Week'!I3 -> 9.2515 | AK13: ='GBPUSD-Week'!F3/'GBPUSD-Week'!G3*'GBPUSD-Week'!E3 -> 323.21 | AL13: ='USDCAD-Week'!H3*'USDCAD-Week'!F3/'USDCAD-Week'!E3 -> 9.710152 | AM13: ='GBPUSD-Week'!F3/'GBPUSD-Week'!G3*'GBPUSD-Week'!E3 -> 323.21 | AN13: ='NZDUSD-Week'!H3*'NZDUSD-Week'!F3/'NZDUSD-Week'!I3 -> 7.3815 | AO13: ='AUDUSD-Week'!F3/'AUDUSD-Week'!G3*'AUDUSD-Week'!E3 -> 185.03 | AP13: ='USDJPY-Week'!H3*'USDJPY-Week'!F3/'USDJPY-Week'!E3 -> 10.909289 | AQ13: ='AUDUSD-Week'!F3/'AUDUSD-Week'!G3*'AUDUSD-Week'!E3 -> 185.03 | AR13: ='USDCHF-Week'!H3*'USDCHF-Week'!F3/'USDCHF-Week'!E3 -> 9.760859 | AS13: ='AUDUSD-Week'!F3/'AUDUSD-Week'!G3*'AUDUSD-Week'!E3 -> 185.03 | AT13: ='USDCAD-Week'!H3*'USDCAD-Week'!F3/'USDCAD-Week'!E3 -> 9.710152 | AU13: ='AUDUSD-Week'!F3/'AUDUSD-Week'!G3*'AUDUSD-Week'!E3 -> 185.03 | AV13: ='NZDUSD-Week'!H3*'NZDUSD-Week'!F3/'NZDUSD-Week'!I3 -> 7.3815 | AW13: ='NZDUSD-Week'!F3/'NZDUSD-Week'!G3*'NZDUSD-Week'!E3 -> 147.63 | AX13: ='USDJPY-Week'!H3*'USDJPY-Week'!F3/'USDJPY-Week'!E3 -> 10.909289 | AY13: ='NZDUSD-Week'!F3/'NZDUSD-Week'!G3*'NZDUSD-Week'!E3 -> 147.63 | AZ13: ='USDCHF-Week'!H3*'USDCHF-Week'!F3/'USDCHF-Week'!E3 -> 9.760859 | BA13: ='NZDUSD-Week'!F3/'NZDUSD-Week'!G3*'NZDUSD-Week'!E3 -> 147.63 | BB13: ='USDCAD-Week'!H3*'USDCAD-Week'!F3/'USDCAD-Week'!E3 -> 9.710152 | BC13: ='USDCAD-Week'!F3/'USDCAD-Week'!G3*'USDCAD-Week'!E3 -> 205.97 | BD13: ='USDJPY-Week'!H3*'USDJPY-Week'!F3/'USDJPY-Week'!E3 -> 10.909289 | BE13: ='USDCHF-Week'!F3/'USDCHF-Week'!G3*'USDCHF-Week'!E3 -> 204.9 | BF13: ='USDJPY-Week'!H3*'USDJPY-Week'!F3/'USDJPY-Week'!E3 -> 10.909289
D14: 40195 | E14: ='EURUSD-Week'!F4*'EURUSD-Week'!E4/'EURUSD-Week'!G4 -> 284.84 | F14: ='EURUSD-Week'!H4*'EURUSD-Week'!F4/1 -> 10 | G14: ='USDJPY-Week'!F4/'USDJPY-Week'!G4 -> 200 | H14: ='USDJPY-Week'!H4*'USDJPY-Week'!F4/'USDJPY-Week'!E4 -> 11.067456 | I14: ='EURUSD-Week'!F4/('EURUSD-Week'!G4*'EURUSD-Week'!E4) -> 140.42971 | J14: ='USDJPY-Week'!H4*'USDJPY-Week'!F4/'USDJPY-Week'!E4 -> 11.067456 | K14: ='GBPUSD-Week'!F4*'GBPUSD-Week'!E4/'GBPUSD-Week'!G4 -> 323.81 | L14: ='GBPUSD-Week'!H4*'GBPUSD-Week'!F4/1 -> 10 | M14: ='NZDUSD-Week'!F4*'NZDUSD-Week'!E4/'NZDUSD-Week'!G4 -> 144.39 | N14: ='NZDUSD-Week'!H4*'NZDUSD-Week'!F4/1 -> 10 | O14: ='USDCAD-Week'!F4/'USDCAD-Week'!G4 -> 200 | P14: ='USDCAD-Week'!F4*'USDCAD-Week'!H4/'USDCAD-Week'!E4 -> 9.5812973 | Q14: ='AUDUSD-Week'!F4*'AUDUSD-Week'!E4/'AUDUSD-Week'!G4 -> 182.08 | R14: ='AUDUSD-Week'!H4*'AUDUSD-Week'!F4/1 -> 10 | S14: ='USDCHF-Week'!F4/'USDCHF-Week'!G4 -> 200 | T14: ='USDCHF-Week'!F4*'USDCHF-Week'!H4/'USDCHF-Week'!E4 -> 9.6665056 | U14: ='EURUSD-Week'!F4/'EURUSD-Week'!G4*'EURUSD-Week'!E4 -> 284.84 | V14: ='USDCHF-Week'!H4*'USDCHF-Week'!F4/'USDCHF-Week'!E4 -> 9.6665056 | W14: ='EURUSD-Week'!F4/'EURUSD-Week'!G4*'EURUSD-Week'!E4 -> 284.84 | X14: ='GBPUSD-Week'!H4*'GBPUSD-Week'!F4/'GBPUSD-Week'!I4 -> 16.1905 | Y14: ='EURUSD-Week'!F4/'EURUSD-Week'!G4*'EURUSD-Week'!E4 -> 284.84 | Z14: ='AUDUSD-Week'!H4*'AUDUSD-Week'!F4/'AUDUSD-Week'!I4 -> 9.104 | AA14: ='EURUSD-Week'!F4/'EURUSD-Week'!G4*'EURUSD-Week'!E4 -> 284.84 | AB14: ='USDCAD-Week'!H4*'USDCAD-Week'!F4/'USDCAD-Week'!E4 -> 9.5812973 | AC14: ='EURUSD-Week'!F4/'EURUSD-Week'!G4*'EURUSD-Week'!E4 -> 284.84 | AD14: ='NZDUSD-Week'!H4*'NZDUSD-Week'!F4/'NZDUSD-Week'!I4 -> 7.2195 | AE14: ='GBPUSD-Week'!F4/'GBPUSD-Week'!G4*'GBPUSD-Week'!E4 -> 323.81 | AF14: ='USDJPY-Week'!H4*'USDJPY-Week'!F4/'USDJPY-Week'!E4 -> 11.067456 | AG14: ='GBPUSD-Week'!F4/'GBPUSD-Week'!G4*'GBPUSD-Week'!E4 -> 323.81 | AH14: ='USDCHF-Week'!H4*'USDCHF-Week'!F4/'USDCHF-Week'!E4 -> 9.6665056 | AI14: ='GBPUSD-Week'!F4/'GBPUSD-Week'!G4*'GBPUSD-Week'!E4 -> 323.81 | AJ14: ='AUDUSD-Week'!H4*'AUDUSD-Week'!F4/'AUDUSD-Week'!I4 -> 9.104 | AK14: ='GBPUSD-Week'!F4/'GBPUSD-Week'!G4*'GBPUSD-Week'!E4 -> 323.81 | AL14: ='USDCAD-Week'!H4*'USDCAD-Week'!F4/'USDCAD-Week'!E4 -> 9.5812973 | AM14: ='GBPUSD-Week'!F4/'GBPUSD-Week'!G4*'GBPUSD-Week'!E4 -> 323.81 | AN14: ='NZDUSD-Week'!H4*'NZDUSD-Week'!F4/'NZDUSD-Week'!I4 -> 7.2195 | AO14: ='AUDUSD-Week'!F4/'AUDUSD-Week'!G4*'AUDUSD-Week'!E4 -> 182.08 | AP14: ='USDJPY-Week'!H4*'USDJPY-Week'!F4/'USDJPY-Week'!E4 -> 11.067456 | AQ14: ='AUDUSD-Week'!F4/'AUDUSD-Week'!G4*'AUDUSD-Week'!E4 -> 182.08 | AR14: ='USDCHF-Week'!H4*'USDCHF-Week'!F4/'USDCHF-Week'!E4 -> 9.6665056 | AS14: ='AUDUSD-Week'!F4/'AUDUSD-Week'!G4*'AUDUSD-Week'!E4 -> 182.08 | AT14: ='USDCAD-Week'!H4*'USDCAD-Week'!F4/'USDCAD-Week'!E4 -> 9.5812973 | AU14: ='AUDUSD-Week'!F4/'AUDUSD-Week'!G4*'AUDUSD-Week'!E4 -> 182.08 | AV14: ='NZDUSD-Week'!H4*'NZDUSD-Week'!F4/'NZDUSD-Week'!I4 -> 7.2195 | AW14: ='NZDUSD-Week'!F4/'NZDUSD-Week'!G4*'NZDUSD-Week'!E4 -> 144.39 | AX14: ='USDJPY-Week'!H4*'USDJPY-Week'!F4/'USDJPY-Week'!E4 -> 11.067456 | AY14: ='NZDUSD-Week'!F4/'NZDUSD-Week'!G4*'NZDUSD-Week'!E4 -> 144.39 | AZ14: ='USDCHF-Week'!H4*'USDCHF-Week'!F4/'USDCHF-Week'!E4 -> 9.6665056 | BA14: ='NZDUSD-Week'!F4/'NZDUSD-Week'!G4*'NZDUSD-Week'!E4 -> 144.39 | BB14: ='USDCAD-Week'!H4*'USDCAD-Week'!F4/'USDCAD-Week'!E4 -> 9.5812973 | BC14: ='USDCAD-Week'!F4/'USDCAD-Week'!G4*'USDCAD-Week'!E4 -> 208.74 | BD14: ='USDJPY-Week'!H4*'USDJPY-Week'!F4/'USDJPY-Week'!E4 -> 11.067456 | BE14: ='USDCHF-Week'!F4/'USDCHF-Week'!G4*'USDCHF-Week'!E4 -> 206.9 | BF14: ='USDJPY-Week'!H4*'USDJPY-Week'!F4/'USDJPY-Week'!E4 -> 11.067456
D15: 40202 | E15: ='EURUSD-Week'!F5*'EURUSD-Week'!E5/'EURUSD-Week'!G5 -> 280.11 | F15: ='EURUSD-Week'!H5*'EURUSD-Week'!F5/1 -> 10 | G15: ='USDJPY-Week'!F5/'USDJPY-Week'!G5 -> 200 | H15: ='USDJPY-Week'!H5*'USDJPY-Week'!F5/'USDJPY-Week'!E5 -> 11.100011 | I15: ='EURUSD-Week'!F5/('EURUSD-Week'!G5*'EURUSD-Week'!E5) -> 142.80104 | J15: ='USDJPY-Week'!H5*'USDJPY-Week'!F5/'USDJPY-Week'!E5 -> 11.100011 | K15: ='GBPUSD-Week'!F5*'GBPUSD-Week'!E5/'GBPUSD-Week'!G5 -> 320.88 | L15: ='GBPUSD-Week'!H5*'GBPUSD-Week'!F5/1 -> 10 | M15: ='NZDUSD-Week'!F5*'NZDUSD-Week'!E5/'NZDUSD-Week'!G5 -> 141.28 | N15: ='NZDUSD-Week'!H5*'NZDUSD-Week'!F5/1 -> 10 | O15: ='USDCAD-Week'!F5/'USDCAD-Week'!G5 -> 200 | P15: ='USDCAD-Week'!F5*'USDCAD-Week'!H5/'USDCAD-Week'!E5 -> 9.4046835 | Q15: ='AUDUSD-Week'!F5*'AUDUSD-Week'!E5/'AUDUSD-Week'!G5 -> 178.54 | R15: ='AUDUSD-Week'!H5*'AUDUSD-Week'!F5/1 -> 10 | S15: ='USDCHF-Week'!F5/'USDCHF-Week'!G5 -> 200 | T15: ='USDCHF-Week'!F5*'USDCHF-Week'!H5/'USDCHF-Week'!E5 -> 9.520636 | U15: ='EURUSD-Week'!F5/'EURUSD-Week'!G5*'EURUSD-Week'!E5 -> 280.11 | V15: ='USDCHF-Week'!H5*'USDCHF-Week'!F5/'USDCHF-Week'!E5 -> 9.520636 | W15: ='EURUSD-Week'!F5/'EURUSD-Week'!G5*'EURUSD-Week'!E5 -> 280.11 | X15: ='GBPUSD-Week'!H5*'GBPUSD-Week'!F5/'GBPUSD-Week'!I5 -> 16.044 | Y15: ='EURUSD-Week'!F5/'EURUSD-Week'!G5*'EURUSD-Week'!E5 -> 280.11 | Z15: ='AUDUSD-Week'!H5*'AUDUSD-Week'!F5/'AUDUSD-Week'!I5 -> 8.927 | AA15: ='EURUSD-Week'!F5/'EURUSD-Week'!G5*'EURUSD-Week'!E5 -> 280.11 | AB15: ='USDCAD-Week'!H5*'USDCAD-Week'!F5/'USDCAD-Week'!E5 -> 9.4046835 | AC15: ='EURUSD-Week'!F5/'EURUSD-Week'!G5*'EURUSD-Week'!E5 -> 280.11 | AD15: ='NZDUSD-Week'!H5*'NZDUSD-Week'!F5/'NZDUSD-Week'!I5 -> 7.064 | AE15: ='GBPUSD-Week'!F5/'GBPUSD-Week'!G5*'GBPUSD-Week'!E5 -> 320.88 | AF15: ='USDJPY-Week'!H5*'USDJPY-Week'!F5/'USDJPY-Week'!E5 -> 11.100011 | AG15: ='GBPUSD-Week'!F5/'GBPUSD-Week'!G5*'GBPUSD-Week'!E5 -> 320.88 | AH15: ='USDCHF-Week'!H5*'USDCHF-Week'!F5/'USDCHF-Week'!E5 -> 9.520636 | AI15: ='GBPUSD-Week'!F5/'GBPUSD-Week'!G5*'GBPUSD-Week'!E5 -> 320.88 | AJ15: ='AUDUSD-Week'!H5*'AUDUSD-Week'!F5/'AUDUSD-Week'!I5 -> 8.927 | AK15: ='GBPUSD-Week'!F5/'GBPUSD-Week'!G5*'GBPUSD-Week'!E5 -> 320.88 | AL15: ='USDCAD-Week'!H5*'USDCAD-Week'!F5/'USDCAD-Week'!E5 -> 9.4046835 | AM15: ='GBPUSD-Week'!F5/'GBPUSD-Week'!G5*'GBPUSD-Week'!E5 -> 320.88 | AN15: ='NZDUSD-Week'!H5*'NZDUSD-Week'!F5/'NZDUSD-Week'!I5 -> 7.064 | AO15: ='AUDUSD-Week'!F5/'AUDUSD-Week'!G5*'AUDUSD-Week'!E5 -> 178.54 | AP15: ='USDJPY-Week'!H5*'USDJPY-Week'!F5/'USDJPY-Week'!E5 -> 11.100011 | AQ15: ='AUDUSD-Week'!F5/'AUDUSD-Week'!G5*'AUDUSD-Week'!E5 -> 178.54 | AR15: ='USDCHF-Week'!H5*'USDCHF-Week'!F5/'USDCHF-Week'!E5 -> 9.520636 | AS15: ='AUDUSD-Week'!F5/'AUDUSD-Week'!G5*'AUDUSD-Week'!E5 -> 178.54 | AT15: ='USDCAD-Week'!H5*'USDCAD-Week'!F5/'USDCAD-Week'!E5 -> 9.4046835 | AU15: ='AUDUSD-Week'!F5/'AUDUSD-Week'!G5*'AUDUSD-Week'!E5 -> 178.54 | AV15: ='NZDUSD-Week'!H5*'NZDUSD-Week'!F5/'NZDUSD-Week'!I5 -> 7.064 | AW15: ='NZDUSD-Week'!F5/'NZDUSD-Week'!G5*'NZDUSD-Week'!E5 -> 141.28 | AX15: ='USDJPY-Week'!H5*'USDJPY-Week'!F5/'USDJPY-Week'!E5 -> 11.100011 | AY15: ='NZDUSD-Week'!F5/'NZDUSD-Week'!G5*'NZDUSD-Week'!E5 -> 141.28 | AZ15: ='USDCHF-Week'!H5*'USDCHF-Week'!F5/'USDCHF-Week'!E5 -> 9.520636 | BA15: ='NZDUSD-Week'!F5/'NZDUSD-Week'!G5*'NZDUSD-Week'!E5 -> 141.28 | BB15: ='USDCAD-Week'!H5*'USDCAD-Week'!F5/'USDCAD-Week'!E5 -> 9.4046835 | BC15: ='USDCAD-Week'!F5/'USDCAD-Week'!G5*'USDCAD-Week'!E5 -> 212.66 | BD15: ='USDJPY-Week'!H5*'USDJPY-Week'!F5/'USDJPY-Week'!E5 -> 11.100011 | BE15: ='USDCHF-Week'!F5/'USDCHF-Week'!G5*'USDCHF-Week'!E5 -> 210.07 | BF15: ='USDJPY-Week'!H5*'USDJPY-Week'!F5/'USDJPY-Week'!E5 -> 11.100011
D16: 40209 | E16: ='EURUSD-Week'!F6*'EURUSD-Week'!E6/'EURUSD-Week'!G6 -> 275.4 | F16: ='EURUSD-Week'!H6*'EURUSD-Week'!F6/1 -> 10 | G16: ='USDJPY-Week'!F6/'USDJPY-Week'!G6 -> 200 | H16: ='USDJPY-Week'!H6*'USDJPY-Week'!F6/'USDJPY-Week'!E6 -> 11.147029 | I16: ='EURUSD-Week'!F6/('EURUSD-Week'!G6*'EURUSD-Week'!E6) -> 145.24328 | J16: ='USDJPY-Week'!H6*'USDJPY-Week'!F6/'USDJPY-Week'!E6 -> 11.147029 | K16: ='GBPUSD-Week'!F6*'GBPUSD-Week'!E6/'GBPUSD-Week'!G6 -> 315.83 | L16: ='GBPUSD-Week'!H6*'GBPUSD-Week'!F6/1 -> 10 | M16: ='NZDUSD-Week'!F6*'NZDUSD-Week'!E6/'NZDUSD-Week'!G6 -> 139.2 | N16: ='NZDUSD-Week'!H6*'NZDUSD-Week'!F6/1 -> 10 | O16: ='USDCAD-Week'!F6/'USDCAD-Week'!G6 -> 200 | P16: ='USDCAD-Week'!F6*'USDCAD-Week'!H6/'USDCAD-Week'!E6 -> 9.344921 | Q16: ='AUDUSD-Week'!F6*'AUDUSD-Week'!E6/'AUDUSD-Week'!G6 -> 175.09 | R16: ='AUDUSD-Week'!H6*'AUDUSD-Week'!F6/1 -> 10 | S16: ='USDCHF-Week'!F6/'USDCHF-Week'!G6 -> 200 | T16: ='USDCHF-Week'!F6*'USDCHF-Week'!H6/'USDCHF-Week'!E6 -> 9.3738283 | U16: ='EURUSD-Week'!F6/'EURUSD-Week'!G6*'EURUSD-Week'!E6 -> 275.4 | V16: ='USDCHF-Week'!H6*'USDCHF-Week'!F6/'USDCHF-Week'!E6 -> 9.3738283 | W16: ='EURUSD-Week'!F6/'EURUSD-Week'!G6*'EURUSD-Week'!E6 -> 275.4 | X16: ='GBPUSD-Week'!H6*'GBPUSD-Week'!F6/'GBPUSD-Week'!I6 -> 15.7915 | Y16: ='EURUSD-Week'!F6/'EURUSD-Week'!G6*'EURUSD-Week'!E6 -> 275.4 | Z16: ='AUDUSD-Week'!H6*'AUDUSD-Week'!F6/'AUDUSD-Week'!I6 -> 8.7545 | AA16: ='EURUSD-Week'!F6/'EURUSD-Week'!G6*'EURUSD-Week'!E6 -> 275.4 | AB16: ='USDCAD-Week'!H6*'USDCAD-Week'!F6/'USDCAD-Week'!E6 -> 9.344921 | AC16: ='EURUSD-Week'!F6/'EURUSD-Week'!G6*'EURUSD-Week'!E6 -> 275.4 | AD16: ='NZDUSD-Week'!H6*'NZDUSD-Week'!F6/'NZDUSD-Week'!I6 -> 6.96 | AE16: ='GBPUSD-Week'!F6/'GBPUSD-Week'!G6*'GBPUSD-Week'!E6 -> 315.83 | AF16: ='USDJPY-Week'!H6*'USDJPY-Week'!F6/'USDJPY-Week'!E6 -> 11.147029 | AG16: ='GBPUSD-Week'!F6/'GBPUSD-Week'!G6*'GBPUSD-Week'!E6 -> 315.83 | AH16: ='USDCHF-Week'!H6*'USDCHF-Week'!F6/'USDCHF-Week'!E6 -> 9.3738283 | AI16: ='GBPUSD-Week'!F6/'GBPUSD-Week'!G6*'GBPUSD-Week'!E6 -> 315.83 | AJ16: ='AUDUSD-Week'!H6*'AUDUSD-Week'!F6/'AUDUSD-Week'!I6 -> 8.7545 | AK16: ='GBPUSD-Week'!F6/'GBPUSD-Week'!G6*'GBPUSD-Week'!E6 -> 315.83 | AL16: ='USDCAD-Week'!H6*'USDCAD-Week'!F6/'USDCAD-Week'!E6 -> 9.344921 | AM16: ='GBPUSD-Week'!F6/'GBPUSD-Week'!G6*'GBPUSD-Week'!E6 -> 315.83 | AN16: ='NZDUSD-Week'!H6*'NZDUSD-Week'!F6/'NZDUSD-Week'!I6 -> 6.96 | AO16: ='AUDUSD-Week'!F6/'AUDUSD-Week'!G6*'AUDUSD-Week'!E6 -> 175.09 | AP16: ='USDJPY-Week'!H6*'USDJPY-Week'!F6/'USDJPY-Week'!E6 -> 11.147029 | AQ16: ='AUDUSD-Week'!F6/'AUDUSD-Week'!G6*'AUDUSD-Week'!E6 -> 175.09 | AR16: ='USDCHF-Week'!H6*'USDCHF-Week'!F6/'USDCHF-Week'!E6 -> 9.3738283 | AS16: ='AUDUSD-Week'!F6/'AUDUSD-Week'!G6*'AUDUSD-Week'!E6 -> 175.09 | AT16: ='USDCAD-Week'!H6*'USDCAD-Week'!F6/'USDCAD-Week'!E6 -> 9.344921 | AU16: ='AUDUSD-Week'!F6/'AUDUSD-Week'!G6*'AUDUSD-Week'!E6 -> 175.09 | AV16: ='NZDUSD-Week'!H6*'NZDUSD-Week'!F6/'NZDUSD-Week'!I6 -> 6.96 | AW16: ='NZDUSD-Week'!F6/'NZDUSD-Week'!G6*'NZDUSD-Week'!E6 -> 139.2 | AX16: ='USDJPY-Week'!H6*'USDJPY-Week'!F6/'USDJPY-Week'!E6 -> 11.147029 | AY16: ='NZDUSD-Week'!F6/'NZDUSD-Week'!G6*'NZDUSD-Week'!E6 -> 139.2 | AZ16: ='USDCHF-Week'!H6*'USDCHF-Week'!F6/'USDCHF-Week'!E6 -> 9.3738283 | BA16: ='NZDUSD-Week'!F6/'NZDUSD-Week'!G6*'NZDUSD-Week'!E6 -> 139.2 | BB16: ='USDCAD-Week'!H6*'USDCAD-Week'!F6/'USDCAD-Week'!E6 -> 9.344921 | BC16: ='USDCAD-Week'!F6/'USDCAD-Week'!G6*'USDCAD-Week'!E6 -> 214.02 | BD16: ='USDJPY-Week'!H6*'USDJPY-Week'!F6/'USDJPY-Week'!E6 -> 11.147029 | BE16: ='USDCHF-Week'!F6/'USDCHF-Week'!G6*'USDCHF-Week'!E6 -> 213.36 | BF16: ='USDJPY-Week'!H6*'USDJPY-Week'!F6/'USDJPY-Week'!E6 -> 11.147029
D17: 40216 | E17: ='EURUSD-Week'!F7*'EURUSD-Week'!E7/'EURUSD-Week'!G7 -> 272.86 | F17: ='EURUSD-Week'!H7*'EURUSD-Week'!F7/1 -> 10 | G17: ='USDJPY-Week'!F7/'USDJPY-Week'!G7 -> 200 | H17: ='USDJPY-Week'!H7*'USDJPY-Week'!F7/'USDJPY-Week'!E7 -> 11.168817 | I17: ='EURUSD-Week'!F7/('EURUSD-Week'!G7*'EURUSD-Week'!E7) -> 146.59532 | J17: ='USDJPY-Week'!H7*'USDJPY-Week'!F7/'USDJPY-Week'!E7 -> 11.168817 | K17: ='GBPUSD-Week'!F7*'GBPUSD-Week'!E7/'GBPUSD-Week'!G7 -> 312.95 | L17: ='GBPUSD-Week'!H7*'GBPUSD-Week'!F7/1 -> 10 | M17: ='NZDUSD-Week'!F7*'NZDUSD-Week'!E7/'NZDUSD-Week'!G7 -> 138.59 | N17: ='NZDUSD-Week'!H7*'NZDUSD-Week'!F7/1 -> 10 | O17: ='USDCAD-Week'!F7/'USDCAD-Week'!G7 -> 200 | P17: ='USDCAD-Week'!F7*'USDCAD-Week'!H7/'USDCAD-Week'!E7 -> 9.4330724 | Q17: ='AUDUSD-Week'!F7*'AUDUSD-Week'!E7/'AUDUSD-Week'!G7 -> 175.53 | R17: ='AUDUSD-Week'!H7*'AUDUSD-Week'!F7/1 -> 10 | S17: ='USDCHF-Week'!F7/'USDCHF-Week'!G7 -> 200 | T17: ='USDCHF-Week'!F7*'USDCHF-Week'!H7/'USDCHF-Week'!E7 -> 9.2962722 | U17: ='EURUSD-Week'!F7/'EURUSD-Week'!G7*'EURUSD-Week'!E7 -> 272.86 | V17: ='USDCHF-Week'!H7*'USDCHF-Week'!F7/'USDCHF-Week'!E7 -> 9.2962722 | W17: ='EURUSD-Week'!F7/'EURUSD-Week'!G7*'EURUSD-Week'!E7 -> 272.86 | X17: ='GBPUSD-Week'!H7*'GBPUSD-Week'!F7/'GBPUSD-Week'!I7 -> 15.6475 | Y17: ='EURUSD-Week'!F7/'EURUSD-Week'!G7*'EURUSD-Week'!E7 -> 272.86 | Z17: ='AUDUSD-Week'!H7*'AUDUSD-Week'!F7/'AUDUSD-Week'!I7 -> 8.7765 | AA17: ='EURUSD-Week'!F7/'EURUSD-Week'!G7*'EURUSD-Week'!E7 -> 272.86 | AB17: ='USDCAD-Week'!H7*'USDCAD-Week'!F7/'USDCAD-Week'!E7 -> 9.4330724 | AC17: ='EURUSD-Week'!F7/'EURUSD-Week'!G7*'EURUSD-Week'!E7 -> 272.86 | AD17: ='NZDUSD-Week'!H7*'NZDUSD-Week'!F7/'NZDUSD-Week'!I7 -> 6.9295 | AE17: ='GBPUSD-Week'!F7/'GBPUSD-Week'!G7*'GBPUSD-Week'!E7 -> 312.95 | AF17: ='USDJPY-Week'!H7*'USDJPY-Week'!F7/'USDJPY-Week'!E7 -> 11.168817 | AG17: ='GBPUSD-Week'!F7/'GBPUSD-Week'!G7*'GBPUSD-Week'!E7 -> 312.95 | AH17: ='USDCHF-Week'!H7*'USDCHF-Week'!F7/'USDCHF-Week'!E7 -> 9.2962722 | AI17: ='GBPUSD-Week'!F7/'GBPUSD-Week'!G7*'GBPUSD-Week'!E7 -> 312.95 | AJ17: ='AUDUSD-Week'!H7*'AUDUSD-Week'!F7/'AUDUSD-Week'!I7 -> 8.7765 | AK17: ='GBPUSD-Week'!F7/'GBPUSD-Week'!G7*'GBPUSD-Week'!E7 -> 312.95 | AL17: ='USDCAD-Week'!H7*'USDCAD-Week'!F7/'USDCAD-Week'!E7 -> 9.4330724 | AM17: ='GBPUSD-Week'!F7/'GBPUSD-Week'!G7*'GBPUSD-Week'!E7 -> 312.95 | AN17: ='NZDUSD-Week'!H7*'NZDUSD-Week'!F7/'NZDUSD-Week'!I7 -> 6.9295 | AO17: ='AUDUSD-Week'!F7/'AUDUSD-Week'!G7*'AUDUSD-Week'!E7 -> 175.53 | AP17: ='USDJPY-Week'!H7*'USDJPY-Week'!F7/'USDJPY-Week'!E7 -> 11.168817 | AQ17: ='AUDUSD-Week'!F7/'AUDUSD-Week'!G7*'AUDUSD-Week'!E7 -> 175.53 | AR17: ='USDCHF-Week'!H7*'USDCHF-Week'!F7/'USDCHF-Week'!E7 -> 9.2962722 | AS17: ='AUDUSD-Week'!F7/'AUDUSD-Week'!G7*'AUDUSD-Week'!E7 -> 175.53 | AT17: ='USDCAD-Week'!H7*'USDCAD-Week'!F7/'USDCAD-Week'!E7 -> 9.4330724 | AU17: ='AUDUSD-Week'!F7/'AUDUSD-Week'!G7*'AUDUSD-Week'!E7 -> 175.53 | AV17: ='NZDUSD-Week'!H7*'NZDUSD-Week'!F7/'NZDUSD-Week'!I7 -> 6.9295 | AW17: ='NZDUSD-Week'!F7/'NZDUSD-Week'!G7*'NZDUSD-Week'!E7 -> 138.59 | AX17: ='USDJPY-Week'!H7*'USDJPY-Week'!F7/'USDJPY-Week'!E7 -> 11.168817 | AY17: ='NZDUSD-Week'!F7/'NZDUSD-Week'!G7*'NZDUSD-Week'!E7 -> 138.59 | AZ17: ='USDCHF-Week'!H7*'USDCHF-Week'!F7/'USDCHF-Week'!E7 -> 9.2962722 | BA17: ='NZDUSD-Week'!F7/'NZDUSD-Week'!G7*'NZDUSD-Week'!E7 -> 138.59 | BB17: ='USDCAD-Week'!H7*'USDCAD-Week'!F7/'USDCAD-Week'!E7 -> 9.4330724 | BC17: ='USDCAD-Week'!F7/'USDCAD-Week'!G7*'USDCAD-Week'!E7 -> 212.02 | BD17: ='USDJPY-Week'!H7*'USDJPY-Week'!F7/'USDJPY-Week'!E7 -> 11.168817 | BE17: ='USDCHF-Week'!F7/'USDCHF-Week'!G7*'USDCHF-Week'!E7 -> 215.14 | BF17: ='USDJPY-Week'!H7*'USDJPY-Week'!F7/'USDJPY-Week'!E7 -> 11.168817
D18: 40223 | E18: ='EURUSD-Week'!F8*'EURUSD-Week'!E8/'EURUSD-Week'!G8 -> 272.26 | F18: ='EURUSD-Week'!H8*'EURUSD-Week'!F8/1 -> 10 | G18: ='USDJPY-Week'!F8/'USDJPY-Week'!G8 -> 200 | H18: ='USDJPY-Week'!H8*'USDJPY-Week'!F8/'USDJPY-Week'!E8 -> 11.019891 | I18: ='EURUSD-Week'!F8/('EURUSD-Week'!G8*'EURUSD-Week'!E8) -> 146.91839 | J18: ='USDJPY-Week'!H8*'USDJPY-Week'!F8/'USDJPY-Week'!E8 -> 11.019891 | K18: ='GBPUSD-Week'!F8*'GBPUSD-Week'!E8/'GBPUSD-Week'!G8 -> 311.36 | L18: ='GBPUSD-Week'!H8*'GBPUSD-Week'!F8/1 -> 10 | M18: ='NZDUSD-Week'!F8*'NZDUSD-Week'!E8/'NZDUSD-Week'!G8 -> 139.44 | N18: ='NZDUSD-Week'!H8*'NZDUSD-Week'!F8/1 -> 10 | O18: ='USDCAD-Week'!F8/'USDCAD-Week'!G8 -> 200 | P18: ='USDCAD-Week'!F8*'USDCAD-Week'!H8/'USDCAD-Week'!E8 -> 9.5670892 | Q18: ='AUDUSD-Week'!F8*'AUDUSD-Week'!E8/'AUDUSD-Week'!G8 -> 178.56 | R18: ='AUDUSD-Week'!H8*'AUDUSD-Week'!F8/1 -> 10 | S18: ='USDCHF-Week'!F8/'USDCHF-Week'!G8 -> 200 | T18: ='USDCHF-Week'!F8*'USDCHF-Week'!H8/'USDCHF-Week'!E8 -> 9.2923849 | U18: ='EURUSD-Week'!F8/'EURUSD-Week'!G8*'EURUSD-Week'!E8 -> 272.26 | V18: ='USDCHF-Week'!H8*'USDCHF-Week'!F8/'USDCHF-Week'!E8 -> 9.2923849 | W18: ='EURUSD-Week'!F8/'EURUSD-Week'!G8*'EURUSD-Week'!E8 -> 272.26 | X18: ='GBPUSD-Week'!H8*'GBPUSD-Week'!F8/'GBPUSD-Week'!I8 -> 15.568 | Y18: ='EURUSD-Week'!F8/'EURUSD-Week'!G8*'EURUSD-Week'!E8 -> 272.26 | Z18: ='AUDUSD-Week'!H8*'AUDUSD-Week'!F8/'AUDUSD-Week'!I8 -> 8.928 | AA18: ='EURUSD-Week'!F8/'EURUSD-Week'!G8*'EURUSD-Week'!E8 -> 272.26 | AB18: ='USDCAD-Week'!H8*'USDCAD-Week'!F8/'USDCAD-Week'!E8 -> 9.5670892 | AC18: ='EURUSD-Week'!F8/'EURUSD-Week'!G8*'EURUSD-Week'!E8 -> 272.26 | AD18: ='NZDUSD-Week'!H8*'NZDUSD-Week'!F8/'NZDUSD-Week'!I8 -> 6.972 | AE18: ='GBPUSD-Week'!F8/'GBPUSD-Week'!G8*'GBPUSD-Week'!E8 -> 311.36 | AF18: ='USDJPY-Week'!H8*'USDJPY-Week'!F8/'USDJPY-Week'!E8 -> 11.019891 | AG18: ='GBPUSD-Week'!F8/'GBPUSD-Week'!G8*'GBPUSD-Week'!E8 -> 311.36 | AH18: ='USDCHF-Week'!H8*'USDCHF-Week'!F8/'USDCHF-Week'!E8 -> 9.2923849 | AI18: ='GBPUSD-Week'!F8/'GBPUSD-Week'!G8*'GBPUSD-Week'!E8 -> 311.36 | AJ18: ='AUDUSD-Week'!H8*'AUDUSD-Week'!F8/'AUDUSD-Week'!I8 -> 8.928 | AK18: ='GBPUSD-Week'!F8/'GBPUSD-Week'!G8*'GBPUSD-Week'!E8 -> 311.36 | AL18: ='USDCAD-Week'!H8*'USDCAD-Week'!F8/'USDCAD-Week'!E8 -> 9.5670892 | AM18: ='GBPUSD-Week'!F8/'GBPUSD-Week'!G8*'GBPUSD-Week'!E8 -> 311.36 | AN18: ='NZDUSD-Week'!H8*'NZDUSD-Week'!F8/'NZDUSD-Week'!I8 -> 6.972 | AO18: ='AUDUSD-Week'!F8/'AUDUSD-Week'!G8*'AUDUSD-Week'!E8 -> 178.56 | AP18: ='USDJPY-Week'!H8*'USDJPY-Week'!F8/'USDJPY-Week'!E8 -> 11.019891 | AQ18: ='AUDUSD-Week'!F8/'AUDUSD-Week'!G8*'AUDUSD-Week'!E8 -> 178.56 | AR18: ='USDCHF-Week'!H8*'USDCHF-Week'!F8/'USDCHF-Week'!E8 -> 9.2923849 | AS18: ='AUDUSD-Week'!F8/'AUDUSD-Week'!G8*'AUDUSD-Week'!E8 -> 178.56 | AT18: ='USDCAD-Week'!H8*'USDCAD-Week'!F8/'USDCAD-Week'!E8 -> 9.5670892 | AU18: ='AUDUSD-Week'!F8/'AUDUSD-Week'!G8*'AUDUSD-Week'!E8 -> 178.56 | AV18: ='NZDUSD-Week'!H8*'NZDUSD-Week'!F8/'NZDUSD-Week'!I8 -> 6.972 | AW18: ='NZDUSD-Week'!F8/'NZDUSD-Week'!G8*'NZDUSD-Week'!E8 -> 139.44 | AX18: ='USDJPY-Week'!H8*'USDJPY-Week'!F8/'USDJPY-Week'!E8 -> 11.019891 | AY18: ='NZDUSD-Week'!F8/'NZDUSD-Week'!G8*'NZDUSD-Week'!E8 -> 139.44 | AZ18: ='USDCHF-Week'!H8*'USDCHF-Week'!F8/'USDCHF-Week'!E8 -> 9.2923849 | BA18: ='NZDUSD-Week'!F8/'NZDUSD-Week'!G8*'NZDUSD-Week'!E8 -> 139.44 | BB18: ='USDCAD-Week'!H8*'USDCAD-Week'!F8/'USDCAD-Week'!E8 -> 9.5670892 | BC18: ='USDCAD-Week'!F8/'USDCAD-Week'!G8*'USDCAD-Week'!E8 -> 209.05 | BD18: ='USDJPY-Week'!H8*'USDJPY-Week'!F8/'USDJPY-Week'!E8 -> 11.019891 | BE18: ='USDCHF-Week'!F8/'USDCHF-Week'!G8*'USDCHF-Week'!E8 -> 215.23 | BF18: ='USDJPY-Week'!H8*'USDJPY-Week'!F8/'USDJPY-Week'!E8 -> 11.019891
D19: 40230 | E19: ='EURUSD-Week'!F9*'EURUSD-Week'!E9/'EURUSD-Week'!G9 -> 272.43 | F19: ='EURUSD-Week'!H9*'EURUSD-Week'!F9/1 -> 10 | G19: ='USDJPY-Week'!F9/'USDJPY-Week'!G9 -> 200 | H19: ='USDJPY-Week'!H9*'USDJPY-Week'!F9/'USDJPY-Week'!E9 -> 11.07481 | I19: ='EURUSD-Week'!F9/('EURUSD-Week'!G9*'EURUSD-Week'!E9) -> 146.82671 | J19: ='USDJPY-Week'!H9*'USDJPY-Week'!F9/'USDJPY-Week'!E9 -> 11.07481 | K19: ='GBPUSD-Week'!F9*'GBPUSD-Week'!E9/'GBPUSD-Week'!G9 -> 306.9 | L19: ='GBPUSD-Week'!H9*'GBPUSD-Week'!F9/1 -> 10 | M19: ='NZDUSD-Week'!F9*'NZDUSD-Week'!E9/'NZDUSD-Week'!G9 -> 139.74 | N19: ='NZDUSD-Week'!H9*'NZDUSD-Week'!F9/1 -> 10 | O19: ='USDCAD-Week'!F9/'USDCAD-Week'!G9 -> 200 | P19: ='USDCAD-Week'!F9*'USDCAD-Week'!H9/'USDCAD-Week'!E9 -> 9.5684623 | Q19: ='AUDUSD-Week'!F9*'AUDUSD-Week'!E9/'AUDUSD-Week'!G9 -> 179.49 | R19: ='AUDUSD-Week'!H9*'AUDUSD-Week'!F9/1 -> 10 | S19: ='USDCHF-Week'!F9/'USDCHF-Week'!G9 -> 200 | T19: ='USDCHF-Week'!F9*'USDCHF-Week'!H9/'USDCHF-Week'!E9 -> 9.3023256 | U19: ='EURUSD-Week'!F9/'EURUSD-Week'!G9*'EURUSD-Week'!E9 -> 272.43 | V19: ='USDCHF-Week'!H9*'USDCHF-Week'!F9/'USDCHF-Week'!E9 -> 9.3023256 | W19: ='EURUSD-Week'!F9/'EURUSD-Week'!G9*'EURUSD-Week'!E9 -> 272.43 | X19: ='GBPUSD-Week'!H9*'GBPUSD-Week'!F9/'GBPUSD-Week'!I9 -> 15.345 | Y19: ='EURUSD-Week'!F9/'EURUSD-Week'!G9*'EURUSD-Week'!E9 -> 272.43 | Z19: ='AUDUSD-Week'!H9*'AUDUSD-Week'!F9/'AUDUSD-Week'!I9 -> 8.9745 | AA19: ='EURUSD-Week'!F9/'EURUSD-Week'!G9*'EURUSD-Week'!E9 -> 272.43 | AB19: ='USDCAD-Week'!H9*'USDCAD-Week'!F9/'USDCAD-Week'!E9 -> 9.5684623 | AC19: ='EURUSD-Week'!F9/'EURUSD-Week'!G9*'EURUSD-Week'!E9 -> 272.43 | AD19: ='NZDUSD-Week'!H9*'NZDUSD-Week'!F9/'NZDUSD-Week'!I9 -> 6.987 | AE19: ='GBPUSD-Week'!F9/'GBPUSD-Week'!G9*'GBPUSD-Week'!E9 -> 306.9 | AF19: ='USDJPY-Week'!H9*'USDJPY-Week'!F9/'USDJPY-Week'!E9 -> 11.07481 | AG19: ='GBPUSD-Week'!F9/'GBPUSD-Week'!G9*'GBPUSD-Week'!E9 -> 306.9 | AH19: ='USDCHF-Week'!H9*'USDCHF-Week'!F9/'USDCHF-Week'!E9 -> 9.3023256 | AI19: ='GBPUSD-Week'!F9/'GBPUSD-Week'!G9*'GBPUSD-Week'!E9 -> 306.9 | AJ19: ='AUDUSD-Week'!H9*'AUDUSD-Week'!F9/'AUDUSD-Week'!I9 -> 8.9745 | AK19: ='GBPUSD-Week'!F9/'GBPUSD-Week'!G9*'GBPUSD-Week'!E9 -> 306.9 | AL19: ='USDCAD-Week'!H9*'USDCAD-Week'!F9/'USDCAD-Week'!E9 -> 9.5684623 | AM19: ='GBPUSD-Week'!F9/'GBPUSD-Week'!G9*'GBPUSD-Week'!E9 -> 306.9 | AN19: ='NZDUSD-Week'!H9*'NZDUSD-Week'!F9/'NZDUSD-Week'!I9 -> 6.987 | AO19: ='AUDUSD-Week'!F9/'AUDUSD-Week'!G9*'AUDUSD-Week'!E9 -> 179.49 | AP19: ='USDJPY-Week'!H9*'USDJPY-Week'!F9/'USDJPY-Week'!E9 -> 11.07481 | AQ19: ='AUDUSD-Week'!F9/'AUDUSD-Week'!G9*'AUDUSD-Week'!E9 -> 179.49 | AR19: ='USDCHF-Week'!H9*'USDCHF-Week'!F9/'USDCHF-Week'!E9 -> 9.3023256 | AS19: ='AUDUSD-Week'!F9/'AUDUSD-Week'!G9*'AUDUSD-Week'!E9 -> 179.49 | AT19: ='USDCAD-Week'!H9*'USDCAD-Week'!F9/'USDCAD-Week'!E9 -> 9.5684623 | AU19: ='AUDUSD-Week'!F9/'AUDUSD-Week'!G9*'AUDUSD-Week'!E9 -> 179.49 | AV19: ='NZDUSD-Week'!H9*'NZDUSD-Week'!F9/'NZDUSD-Week'!I9 -> 6.987 | AW19: ='NZDUSD-Week'!F9/'NZDUSD-Week'!G9*'NZDUSD-Week'!E9 -> 139.74 | AX19: ='USDJPY-Week'!H9*'USDJPY-Week'!F9/'USDJPY-Week'!E9 -> 11.07481 | AY19: ='NZDUSD-Week'!F9/'NZDUSD-Week'!G9*'NZDUSD-Week'!E9 -> 139.74 | AZ19: ='USDCHF-Week'!H9*'USDCHF-Week'!F9/'USDCHF-Week'!E9 -> 9.3023256 | BA19: ='NZDUSD-Week'!F9/'NZDUSD-Week'!G9*'NZDUSD-Week'!E9 -> 139.74 | BB19: ='USDCAD-Week'!H9*'USDCAD-Week'!F9/'USDCAD-Week'!E9 -> 9.5684623 | BC19: ='USDCAD-Week'!F9/'USDCAD-Week'!G9*'USDCAD-Week'!E9 -> 209.02 | BD19: ='USDJPY-Week'!H9*'USDJPY-Week'!F9/'USDJPY-Week'!E9 -> 11.07481 | BE19: ='USDCHF-Week'!F9/'USDCHF-Week'!G9*'USDCHF-Week'!E9 -> 215 | BF19: ='USDJPY-Week'!H9*'USDJPY-Week'!F9/'USDJPY-Week'!E9 -> 11.07481
D20: 40237 | E20: ='EURUSD-Week'!F10*'EURUSD-Week'!E10/'EURUSD-Week'!G10 -> 272.41 | F20: ='EURUSD-Week'!H10*'EURUSD-Week'!F10/1 -> 10 | G20: ='USDJPY-Week'!F10/'USDJPY-Week'!G10 -> 200 | H20: ='USDJPY-Week'!H10*'USDJPY-Week'!F10/'USDJPY-Week'!E10 -> 11.161337 | I20: ='EURUSD-Week'!F10/('EURUSD-Week'!G10*'EURUSD-Week'!E10) -> 146.83749 | J20: ='USDJPY-Week'!H10*'USDJPY-Week'!F10/'USDJPY-Week'!E10 -> 11.161337 | K20: ='GBPUSD-Week'!F10*'GBPUSD-Week'!E10/'GBPUSD-Week'!G10 -> 302.91 | L20: ='GBPUSD-Week'!H10*'GBPUSD-Week'!F10/1 -> 10 | M20: ='NZDUSD-Week'!F10*'NZDUSD-Week'!E10/'NZDUSD-Week'!G10 -> 139.59 | N20: ='NZDUSD-Week'!H10*'NZDUSD-Week'!F10/1 -> 10 | O20: ='USDCAD-Week'!F10/'USDCAD-Week'!G10 -> 200 | P20: ='USDCAD-Week'!F10*'USDCAD-Week'!H10/'USDCAD-Week'!E10 -> 9.6126117 | Q20: ='AUDUSD-Week'!F10*'AUDUSD-Week'!E10/'AUDUSD-Week'!G10 -> 180.45 | R20: ='AUDUSD-Week'!H10*'AUDUSD-Week'!F10/1 -> 10 | S20: ='USDCHF-Week'!F10/'USDCHF-Week'!G10 -> 200 | T20: ='USDCHF-Week'!F10*'USDCHF-Week'!H10/'USDCHF-Week'!E10 -> 9.310987 | U20: ='EURUSD-Week'!F10/'EURUSD-Week'!G10*'EURUSD-Week'!E10 -> 272.41 | V20: ='USDCHF-Week'!H10*'USDCHF-Week'!F10/'USDCHF-Week'!E10 -> 9.310987 | W20: ='EURUSD-Week'!F10/'EURUSD-Week'!G10*'EURUSD-Week'!E10 -> 272.41 | X20: ='GBPUSD-Week'!H10*'GBPUSD-Week'!F10/'GBPUSD-Week'!I10 -> 15.1455 | Y20: ='EURUSD-Week'!F10/'EURUSD-Week'!G10*'EURUSD-Week'!E10 -> 272.41 | Z20: ='AUDUSD-Week'!H10*'AUDUSD-Week'!F10/'AUDUSD-Week'!I10 -> 9.0225 | AA20: ='EURUSD-Week'!F10/'EURUSD-Week'!G10*'EURUSD-Week'!E10 -> 272.41 | AB20: ='USDCAD-Week'!H10*'USDCAD-Week'!F10/'USDCAD-Week'!E10 -> 9.6126117 | AC20: ='EURUSD-Week'!F10/'EURUSD-Week'!G10*'EURUSD-Week'!E10 -> 272.41 | AD20: ='NZDUSD-Week'!H10*'NZDUSD-Week'!F10/'NZDUSD-Week'!I10 -> 6.9795 | AE20: ='GBPUSD-Week'!F10/'GBPUSD-Week'!G10*'GBPUSD-Week'!E10 -> 302.91 | AF20: ='USDJPY-Week'!H10*'USDJPY-Week'!F10/'USDJPY-Week'!E10 -> 11.161337 | AG20: ='GBPUSD-Week'!F10/'GBPUSD-Week'!G10*'GBPUSD-Week'!E10 -> 302.91 | AH20: ='USDCHF-Week'!H10*'USDCHF-Week'!F10/'USDCHF-Week'!E10 -> 9.310987 | AI20: ='GBPUSD-Week'!F10/'GBPUSD-Week'!G10*'GBPUSD-Week'!E10 -> 302.91 | AJ20: ='AUDUSD-Week'!H10*'AUDUSD-Week'!F10/'AUDUSD-Week'!I10 -> 9.0225 | AK20: ='GBPUSD-Week'!F10/'GBPUSD-Week'!G10*'GBPUSD-Week'!E10 -> 302.91 | AL20: ='USDCAD-Week'!H10*'USDCAD-Week'!F10/'USDCAD-Week'!E10 -> 9.6126117 | AM20: ='GBPUSD-Week'!F10/'GBPUSD-Week'!G10*'GBPUSD-Week'!E10 -> 302.91 | AN20: ='NZDUSD-Week'!H10*'NZDUSD-Week'!F10/'NZDUSD-Week'!I10 -> 6.9795 | AO20: ='AUDUSD-Week'!F10/'AUDUSD-Week'!G10*'AUDUSD-Week'!E10 -> 180.45 | AP20: ='USDJPY-Week'!H10*'USDJPY-Week'!F10/'USDJPY-Week'!E10 -> 11.161337 | AQ20: ='AUDUSD-Week'!F10/'AUDUSD-Week'!G10*'AUDUSD-Week'!E10 -> 180.45 | AR20: ='USDCHF-Week'!H10*'USDCHF-Week'!F10/'USDCHF-Week'!E10 -> 9.310987 | AS20: ='AUDUSD-Week'!F10/'AUDUSD-Week'!G10*'AUDUSD-Week'!E10 -> 180.45 | AT20: ='USDCAD-Week'!H10*'USDCAD-Week'!F10/'USDCAD-Week'!E10 -> 9.6126117 | AU20: ='AUDUSD-Week'!F10/'AUDUSD-Week'!G10*'AUDUSD-Week'!E10 -> 180.45 | AV20: ='NZDUSD-Week'!H10*'NZDUSD-Week'!F10/'NZDUSD-Week'!I10 -> 6.9795 | AW20: ='NZDUSD-Week'!F10/'NZDUSD-Week'!G10*'NZDUSD-Week'!E10 -> 139.59 | AX20: ='USDJPY-Week'!H10*'USDJPY-Week'!F10/'USDJPY-Week'!E10 -> 11.161337 | AY20: ='NZDUSD-Week'!F10/'NZDUSD-Week'!G10*'NZDUSD-Week'!E10 -> 139.59 | AZ20: ='USDCHF-Week'!H10*'USDCHF-Week'!F10/'USDCHF-Week'!E10 -> 9.310987 | BA20: ='NZDUSD-Week'!F10/'NZDUSD-Week'!G10*'NZDUSD-Week'!E10 -> 139.59 | BB20: ='USDCAD-Week'!H10*'USDCAD-Week'!F10/'USDCAD-Week'!E10 -> 9.6126117 | BC20: ='USDCAD-Week'!F10/'USDCAD-Week'!G10*'USDCAD-Week'!E10 -> 208.06 | BD20: ='USDJPY-Week'!H10*'USDJPY-Week'!F10/'USDJPY-Week'!E10 -> 11.161337 | BE20: ='USDCHF-Week'!F10/'USDCHF-Week'!G10*'USDCHF-Week'!E10 -> 214.8 | BF20: ='USDJPY-Week'!H10*'USDJPY-Week'!F10/'USDJPY-Week'!E10 -> 11.161337
D21: 40244 | E21: ='EURUSD-Week'!F11*'EURUSD-Week'!E11/'EURUSD-Week'!G11 -> 274.08 | F21: ='EURUSD-Week'!H11*'EURUSD-Week'!F11/1 -> 10 | G21: ='USDJPY-Week'!F11/'USDJPY-Week'!G11 -> 200 | H21: ='USDJPY-Week'!H11*'USDJPY-Week'!F11/'USDJPY-Week'!E11 -> 11.052777 | I21: ='EURUSD-Week'!F11/('EURUSD-Week'!G11*'EURUSD-Week'!E11) -> 145.94279 | J21: ='USDJPY-Week'!H11*'USDJPY-Week'!F11/'USDJPY-Week'!E11 -> 11.052777 | K21: ='GBPUSD-Week'!F11*'GBPUSD-Week'!E11/'GBPUSD-Week'!G11 -> 303.56 | L21: ='GBPUSD-Week'!H11*'GBPUSD-Week'!F11/1 -> 10 | M21: ='NZDUSD-Week'!F11*'NZDUSD-Week'!E11/'NZDUSD-Week'!G11 -> 140.1 | N21: ='NZDUSD-Week'!H11*'NZDUSD-Week'!F11/1 -> 10 | O21: ='USDCAD-Week'!F11/'USDCAD-Week'!G11 -> 200 | P21: ='USDCAD-Week'!F11*'USDCAD-Week'!H11/'USDCAD-Week'!E11 -> 9.7742156 | Q21: ='AUDUSD-Week'!F11*'AUDUSD-Week'!E11/'AUDUSD-Week'!G11 -> 182.46 | R21: ='AUDUSD-Week'!H11*'AUDUSD-Week'!F11/1 -> 10 | S21: ='USDCHF-Week'!F11/'USDCHF-Week'!G11 -> 200 | T21: ='USDCHF-Week'!F11*'USDCHF-Week'!H11/'USDCHF-Week'!E11 -> 9.3892306 | U21: ='EURUSD-Week'!F11/'EURUSD-Week'!G11*'EURUSD-Week'!E11 -> 274.08 | V21: ='USDCHF-Week'!H11*'USDCHF-Week'!F11/'USDCHF-Week'!E11 -> 9.3892306 | W21: ='EURUSD-Week'!F11/'EURUSD-Week'!G11*'EURUSD-Week'!E11 -> 274.08 | X21: ='GBPUSD-Week'!H11*'GBPUSD-Week'!F11/'GBPUSD-Week'!I11 -> 15.178 | Y21: ='EURUSD-Week'!F11/'EURUSD-Week'!G11*'EURUSD-Week'!E11 -> 274.08 | Z21: ='AUDUSD-Week'!H11*'AUDUSD-Week'!F11/'AUDUSD-Week'!I11 -> 9.123 | AA21: ='EURUSD-Week'!F11/'EURUSD-Week'!G11*'EURUSD-Week'!E11 -> 274.08 | AB21: ='USDCAD-Week'!H11*'USDCAD-Week'!F11/'USDCAD-Week'!E11 -> 9.7742156 | AC21: ='EURUSD-Week'!F11/'EURUSD-Week'!G11*'EURUSD-Week'!E11 -> 274.08 | AD21: ='NZDUSD-Week'!H11*'NZDUSD-Week'!F11/'NZDUSD-Week'!I11 -> 7.005 | AE21: ='GBPUSD-Week'!F11/'GBPUSD-Week'!G11*'GBPUSD-Week'!E11 -> 303.56 | AF21: ='USDJPY-Week'!H11*'USDJPY-Week'!F11/'USDJPY-Week'!E11 -> 11.052777 | AG21: ='GBPUSD-Week'!F11/'GBPUSD-Week'!G11*'GBPUSD-Week'!E11 -> 303.56 | AH21: ='USDCHF-Week'!H11*'USDCHF-Week'!F11/'USDCHF-Week'!E11 -> 9.3892306 | AI21: ='GBPUSD-Week'!F11/'GBPUSD-Week'!G11*'GBPUSD-Week'!E11 -> 303.56 | AJ21: ='AUDUSD-Week'!H11*'AUDUSD-Week'!F11/'AUDUSD-Week'!I11 -> 9.123 | AK21: ='GBPUSD-Week'!F11/'GBPUSD-Week'!G11*'GBPUSD-Week'!E11 -> 303.56 | AL21: ='USDCAD-Week'!H11*'USDCAD-Week'!F11/'USDCAD-Week'!E11 -> 9.7742156 | AM21: ='GBPUSD-Week'!F11/'GBPUSD-Week'!G11*'GBPUSD-Week'!E11 -> 303.56 | AN21: ='NZDUSD-Week'!H11*'NZDUSD-Week'!F11/'NZDUSD-Week'!I11 -> 7.005 | AO21: ='AUDUSD-Week'!F11/'AUDUSD-Week'!G11*'AUDUSD-Week'!E11 -> 182.46 | AP21: ='USDJPY-Week'!H11*'USDJPY-Week'!F11/'USDJPY-Week'!E11 -> 11.052777 | AQ21: ='AUDUSD-Week'!F11/'AUDUSD-Week'!G11*'AUDUSD-Week'!E11 -> 182.46 | AR21: ='USDCHF-Week'!H11*'USDCHF-Week'!F11/'USDCHF-Week'!E11 -> 9.3892306 | AS21: ='AUDUSD-Week'!F11/'AUDUSD-Week'!G11*'AUDUSD-Week'!E11 -> 182.46 | AT21: ='USDCAD-Week'!H11*'USDCAD-Week'!F11/'USDCAD-Week'!E11 -> 9.7742156 | AU21: ='AUDUSD-Week'!F11/'AUDUSD-Week'!G11*'AUDUSD-Week'!E11 -> 182.46 | AV21: ='NZDUSD-Week'!H11*'NZDUSD-Week'!F11/'NZDUSD-Week'!I11 -> 7.005 | AW21: ='NZDUSD-Week'!F11/'NZDUSD-Week'!G11*'NZDUSD-Week'!E11 -> 140.1 | AX21: ='USDJPY-Week'!H11*'USDJPY-Week'!F11/'USDJPY-Week'!E11 -> 11.052777 | AY21: ='NZDUSD-Week'!F11/'NZDUSD-Week'!G11*'NZDUSD-Week'!E11 -> 140.1 | AZ21: ='USDCHF-Week'!H11*'USDCHF-Week'!F11/'USDCHF-Week'!E11 -> 9.3892306 | BA21: ='NZDUSD-Week'!F11/'NZDUSD-Week'!G11*'NZDUSD-Week'!E11 -> 140.1 | BB21: ='USDCAD-Week'!H11*'USDCAD-Week'!F11/'USDCAD-Week'!E11 -> 9.7742156 | BC21: ='USDCAD-Week'!F11/'USDCAD-Week'!G11*'USDCAD-Week'!E11 -> 204.62 | BD21: ='USDJPY-Week'!H11*'USDJPY-Week'!F11/'USDJPY-Week'!E11 -> 11.052777 | BE21: ='USDCHF-Week'!F11/'USDCHF-Week'!G11*'USDCHF-Week'!E11 -> 213.01 | BF21: ='USDJPY-Week'!H11*'USDJPY-Week'!F11/'USDJPY-Week'!E11 -> 11.052777
D22: 40251 | E22: ='EURUSD-Week'!F12*'EURUSD-Week'!E12/'EURUSD-Week'!G12 -> 272.9 | F22: ='EURUSD-Week'!H12*'EURUSD-Week'!F12/1 -> 10 | G22: ='USDJPY-Week'!F12/'USDJPY-Week'!G12 -> 200 | H22: ='USDJPY-Week'!H12*'USDJPY-Week'!F12/'USDJPY-Week'!E12 -> 11.042403 | I22: ='EURUSD-Week'!F12/('EURUSD-Week'!G12*'EURUSD-Week'!E12) -> 146.57384 | J22: ='USDJPY-Week'!H12*'USDJPY-Week'!F12/'USDJPY-Week'!E12 -> 11.042403 | K22: ='GBPUSD-Week'!F12*'GBPUSD-Week'!E12/'GBPUSD-Week'!G12 -> 302.16 | L22: ='GBPUSD-Week'!H12*'GBPUSD-Week'!F12/1 -> 10 | M22: ='NZDUSD-Week'!F12*'NZDUSD-Week'!E12/'NZDUSD-Week'!G12 -> 141.07 | N22: ='NZDUSD-Week'!H12*'NZDUSD-Week'!F12/1 -> 10 | O22: ='USDCAD-Week'!F12/'USDCAD-Week'!G12 -> 200 | P22: ='USDCAD-Week'!F12*'USDCAD-Week'!H12/'USDCAD-Week'!E12 -> 9.8318749 | Q22: ='AUDUSD-Week'!F12*'AUDUSD-Week'!E12/'AUDUSD-Week'!G12 -> 183.22 | R22: ='AUDUSD-Week'!H12*'AUDUSD-Week'!F12/1 -> 10 | S22: ='USDCHF-Week'!F12/'USDCHF-Week'!G12 -> 200 | T22: ='USDCHF-Week'!F12*'USDCHF-Week'!H12/'USDCHF-Week'!E12 -> 9.4348523 | U22: ='EURUSD-Week'!F12/'EURUSD-Week'!G12*'EURUSD-Week'!E12 -> 272.9 | V22: ='USDCHF-Week'!H12*'USDCHF-Week'!F12/'USDCHF-Week'!E12 -> 9.4348523 | W22: ='EURUSD-Week'!F12/'EURUSD-Week'!G12*'EURUSD-Week'!E12 -> 272.9 | X22: ='GBPUSD-Week'!H12*'GBPUSD-Week'!F12/'GBPUSD-Week'!I12 -> 15.108 | Y22: ='EURUSD-Week'!F12/'EURUSD-Week'!G12*'EURUSD-Week'!E12 -> 272.9 | Z22: ='AUDUSD-Week'!H12*'AUDUSD-Week'!F12/'AUDUSD-Week'!I12 -> 9.161 | AA22: ='EURUSD-Week'!F12/'EURUSD-Week'!G12*'EURUSD-Week'!E12 -> 272.9 | AB22: ='USDCAD-Week'!H12*'USDCAD-Week'!F12/'USDCAD-Week'!E12 -> 9.8318749 | AC22: ='EURUSD-Week'!F12/'EURUSD-Week'!G12*'EURUSD-Week'!E12 -> 272.9 | AD22: ='NZDUSD-Week'!H12*'NZDUSD-Week'!F12/'NZDUSD-Week'!I12 -> 7.0535 | AE22: ='GBPUSD-Week'!F12/'GBPUSD-Week'!G12*'GBPUSD-Week'!E12 -> 302.16 | AF22: ='USDJPY-Week'!H12*'USDJPY-Week'!F12/'USDJPY-Week'!E12 -> 11.042403 | AG22: ='GBPUSD-Week'!F12/'GBPUSD-Week'!G12*'GBPUSD-Week'!E12 -> 302.16 | AH22: ='USDCHF-Week'!H12*'USDCHF-Week'!F12/'USDCHF-Week'!E12 -> 9.4348523 | AI22: ='GBPUSD-Week'!F12/'GBPUSD-Week'!G12*'GBPUSD-Week'!E12 -> 302.16 | AJ22: ='AUDUSD-Week'!H12*'AUDUSD-Week'!F12/'AUDUSD-Week'!I12 -> 9.161 | AK22: ='GBPUSD-Week'!F12/'GBPUSD-Week'!G12*'GBPUSD-Week'!E12 -> 302.16 | AL22: ='USDCAD-Week'!H12*'USDCAD-Week'!F12/'USDCAD-Week'!E12 -> 9.8318749 | AM22: ='GBPUSD-Week'!F12/'GBPUSD-Week'!G12*'GBPUSD-Week'!E12 -> 302.16 | AN22: ='NZDUSD-Week'!H12*'NZDUSD-Week'!F12/'NZDUSD-Week'!I12 -> 7.0535 | AO22: ='AUDUSD-Week'!F12/'AUDUSD-Week'!G12*'AUDUSD-Week'!E12 -> 183.22 | AP22: ='USDJPY-Week'!H12*'USDJPY-Week'!F12/'USDJPY-Week'!E12 -> 11.042403 | AQ22: ='AUDUSD-Week'!F12/'AUDUSD-Week'!G12*'AUDUSD-Week'!E12 -> 183.22 | AR22: ='USDCHF-Week'!H12*'USDCHF-Week'!F12/'USDCHF-Week'!E12 -> 9.4348523 | AS22: ='AUDUSD-Week'!F12/'AUDUSD-Week'!G12*'AUDUSD-Week'!E12 -> 183.22 | AT22: ='USDCAD-Week'!H12*'USDCAD-Week'!F12/'USDCAD-Week'!E12 -> 9.8318749 | AU22: ='AUDUSD-Week'!F12/'AUDUSD-Week'!G12*'AUDUSD-Week'!E12 -> 183.22 | AV22: ='NZDUSD-Week'!H12*'NZDUSD-Week'!F12/'NZDUSD-Week'!I12 -> 7.0535 | AW22: ='NZDUSD-Week'!F12/'NZDUSD-Week'!G12*'NZDUSD-Week'!E12 -> 141.07 | AX22: ='USDJPY-Week'!H12*'USDJPY-Week'!F12/'USDJPY-Week'!E12 -> 11.042403 | AY22: ='NZDUSD-Week'!F12/'NZDUSD-Week'!G12*'NZDUSD-Week'!E12 -> 141.07 | AZ22: ='USDCHF-Week'!H12*'USDCHF-Week'!F12/'USDCHF-Week'!E12 -> 9.4348523 | BA22: ='NZDUSD-Week'!F12/'NZDUSD-Week'!G12*'NZDUSD-Week'!E12 -> 141.07 | BB22: ='USDCAD-Week'!H12*'USDCAD-Week'!F12/'USDCAD-Week'!E12 -> 9.8318749 | BC22: ='USDCAD-Week'!F12/'USDCAD-Week'!G12*'USDCAD-Week'!E12 -> 203.42 | BD22: ='USDJPY-Week'!H12*'USDJPY-Week'!F12/'USDJPY-Week'!E12 -> 11.042403 | BE22: ='USDCHF-Week'!F12/'USDCHF-Week'!G12*'USDCHF-Week'!E12 -> 211.98 | BF22: ='USDJPY-Week'!H12*'USDJPY-Week'!F12/'USDJPY-Week'!E12 -> 11.042403
D23: 40258 | E23: ='EURUSD-Week'!F13*'EURUSD-Week'!E13/'EURUSD-Week'!G13 -> 269.3 | F23: ='EURUSD-Week'!H13*'EURUSD-Week'!F13/1 -> 10 | G23: ='USDJPY-Week'!F13/'USDJPY-Week'!G13 -> 200 | H23: ='USDJPY-Week'!H13*'USDJPY-Week'!F13/'USDJPY-Week'!E13 -> 10.914647 | I23: ='EURUSD-Week'!F13/('EURUSD-Week'!G13*'EURUSD-Week'!E13) -> 148.53323 | J23: ='USDJPY-Week'!H13*'USDJPY-Week'!F13/'USDJPY-Week'!E13 -> 10.914647 | K23: ='GBPUSD-Week'!F13*'GBPUSD-Week'!E13/'GBPUSD-Week'!G13 -> 298.88 | L23: ='GBPUSD-Week'!H13*'GBPUSD-Week'!F13/1 -> 10 | M23: ='NZDUSD-Week'!F13*'NZDUSD-Week'!E13/'NZDUSD-Week'!G13 -> 140.89 | N23: ='NZDUSD-Week'!H13*'NZDUSD-Week'!F13/1 -> 10 | O23: ='USDCAD-Week'!F13/'USDCAD-Week'!G13 -> 200 | P23: ='USDCAD-Week'!F13*'USDCAD-Week'!H13/'USDCAD-Week'!E13 -> 9.7837785 | Q23: ='AUDUSD-Week'!F13*'AUDUSD-Week'!E13/'AUDUSD-Week'!G13 -> 182.19 | R23: ='AUDUSD-Week'!H13*'AUDUSD-Week'!F13/1 -> 10 | S23: ='USDCHF-Week'!F13/'USDCHF-Week'!G13 -> 200 | T23: ='USDCHF-Week'!F13*'USDCHF-Week'!H13/'USDCHF-Week'!E13 -> 9.4095507 | U23: ='EURUSD-Week'!F13/'EURUSD-Week'!G13*'EURUSD-Week'!E13 -> 269.3 | V23: ='USDCHF-Week'!H13*'USDCHF-Week'!F13/'USDCHF-Week'!E13 -> 9.4095507 | W23: ='EURUSD-Week'!F13/'EURUSD-Week'!G13*'EURUSD-Week'!E13 -> 269.3 | X23: ='GBPUSD-Week'!H13*'GBPUSD-Week'!F13/'GBPUSD-Week'!I13 -> 14.944 | Y23: ='EURUSD-Week'!F13/'EURUSD-Week'!G13*'EURUSD-Week'!E13 -> 269.3 | Z23: ='AUDUSD-Week'!H13*'AUDUSD-Week'!F13/'AUDUSD-Week'!I13 -> 9.1095 | AA23: ='EURUSD-Week'!F13/'EURUSD-Week'!G13*'EURUSD-Week'!E13 -> 269.3 | AB23: ='USDCAD-Week'!H13*'USDCAD-Week'!F13/'USDCAD-Week'!E13 -> 9.7837785 | AC23: ='EURUSD-Week'!F13/'EURUSD-Week'!G13*'EURUSD-Week'!E13 -> 269.3 | AD23: ='NZDUSD-Week'!H13*'NZDUSD-Week'!F13/'NZDUSD-Week'!I13 -> 7.0445 | AE23: ='GBPUSD-Week'!F13/'GBPUSD-Week'!G13*'GBPUSD-Week'!E13 -> 298.88 | AF23: ='USDJPY-Week'!H13*'USDJPY-Week'!F13/'USDJPY-Week'!E13 -> 10.914647 | AG23: ='GBPUSD-Week'!F13/'GBPUSD-Week'!G13*'GBPUSD-Week'!E13 -> 298.88 | AH23: ='USDCHF-Week'!H13*'USDCHF-Week'!F13/'USDCHF-Week'!E13 -> 9.4095507 | AI23: ='GBPUSD-Week'!F13/'GBPUSD-Week'!G13*'GBPUSD-Week'!E13 -> 298.88 | AJ23: ='AUDUSD-Week'!H13*'AUDUSD-Week'!F13/'AUDUSD-Week'!I13 -> 9.1095 | AK23: ='GBPUSD-Week'!F13/'GBPUSD-Week'!G13*'GBPUSD-Week'!E13 -> 298.88 | AL23: ='USDCAD-Week'!H13*'USDCAD-Week'!F13/'USDCAD-Week'!E13 -> 9.7837785 | AM23: ='GBPUSD-Week'!F13/'GBPUSD-Week'!G13*'GBPUSD-Week'!E13 -> 298.88 | AN23: ='NZDUSD-Week'!H13*'NZDUSD-Week'!F13/'NZDUSD-Week'!I13 -> 7.0445 | AO23: ='AUDUSD-Week'!F13/'AUDUSD-Week'!G13*'AUDUSD-Week'!E13 -> 182.19 | AP23: ='USDJPY-Week'!H13*'USDJPY-Week'!F13/'USDJPY-Week'!E13 -> 10.914647 | AQ23: ='AUDUSD-Week'!F13/'AUDUSD-Week'!G13*'AUDUSD-Week'!E13 -> 182.19 | AR23: ='USDCHF-Week'!H13*'USDCHF-Week'!F13/'USDCHF-Week'!E13 -> 9.4095507 | AS23: ='AUDUSD-Week'!F13/'AUDUSD-Week'!G13*'AUDUSD-Week'!E13 -> 182.19 | AT23: ='USDCAD-Week'!H13*'USDCAD-Week'!F13/'USDCAD-Week'!E13 -> 9.7837785 | AU23: ='AUDUSD-Week'!F13/'AUDUSD-Week'!G13*'AUDUSD-Week'!E13 -> 182.19 | AV23: ='NZDUSD-Week'!H13*'NZDUSD-Week'!F13/'NZDUSD-Week'!I13 -> 7.0445 | AW23: ='NZDUSD-Week'!F13/'NZDUSD-Week'!G13*'NZDUSD-Week'!E13 -> 140.89 | AX23: ='USDJPY-Week'!H13*'USDJPY-Week'!F13/'USDJPY-Week'!E13 -> 10.914647 | AY23: ='NZDUSD-Week'!F13/'NZDUSD-Week'!G13*'NZDUSD-Week'!E13 -> 140.89 | AZ23: ='USDCHF-Week'!H13*'USDCHF-Week'!F13/'USDCHF-Week'!E13 -> 9.4095507 | BA23: ='NZDUSD-Week'!F13/'NZDUSD-Week'!G13*'NZDUSD-Week'!E13 -> 140.89 | BB23: ='USDCAD-Week'!H13*'USDCAD-Week'!F13/'USDCAD-Week'!E13 -> 9.7837785 | BC23: ='USDCAD-Week'!F13/'USDCAD-Week'!G13*'USDCAD-Week'!E13 -> 204.42 | BD23: ='USDJPY-Week'!H13*'USDJPY-Week'!F13/'USDJPY-Week'!E13 -> 10.914647 | BE23: ='USDCHF-Week'!F13/'USDCHF-Week'!G13*'USDCHF-Week'!E13 -> 212.55 | BF23: ='USDJPY-Week'!H13*'USDJPY-Week'!F13/'USDJPY-Week'!E13 -> 10.914647
D24: 40265 | E24: ='EURUSD-Week'!F14*'EURUSD-Week'!E14/'EURUSD-Week'!G14 -> 269.76 | F24: ='EURUSD-Week'!H14*'EURUSD-Week'!F14/1 -> 10 | G24: ='USDJPY-Week'!F14/'USDJPY-Week'!G14 -> 200 | H24: ='USDJPY-Week'!H14*'USDJPY-Week'!F14/'USDJPY-Week'!E14 -> 10.694043 | I24: ='EURUSD-Week'!F14/('EURUSD-Week'!G14*'EURUSD-Week'!E14) -> 148.27995 | J24: ='USDJPY-Week'!H14*'USDJPY-Week'!F14/'USDJPY-Week'!E14 -> 10.694043 | K24: ='GBPUSD-Week'!F14*'GBPUSD-Week'!E14/'GBPUSD-Week'!G14 -> 301.61 | L24: ='GBPUSD-Week'!H14*'GBPUSD-Week'!F14/1 -> 10 | M24: ='NZDUSD-Week'!F14*'NZDUSD-Week'!E14/'NZDUSD-Week'!G14 -> 141.02 | N24: ='NZDUSD-Week'!H14*'NZDUSD-Week'!F14/1 -> 10 | O24: ='USDCAD-Week'!F14/'USDCAD-Week'!G14 -> 200 | P24: ='USDCAD-Week'!F14*'USDCAD-Week'!H14/'USDCAD-Week'!E14 -> 9.8231827 | Q24: ='AUDUSD-Week'!F14*'AUDUSD-Week'!E14/'AUDUSD-Week'!G14 -> 182.32 | R24: ='AUDUSD-Week'!H14*'AUDUSD-Week'!F14/1 -> 10 | S24: ='USDCHF-Week'!F14/'USDCHF-Week'!G14 -> 200 | T24: ='USDCHF-Week'!F14*'USDCHF-Week'!H14/'USDCHF-Week'!E14 -> 9.4326275 | U24: ='EURUSD-Week'!F14/'EURUSD-Week'!G14*'EURUSD-Week'!E14 -> 269.76 | V24: ='USDCHF-Week'!H14*'USDCHF-Week'!F14/'USDCHF-Week'!E14 -> 9.4326275 | W24: ='EURUSD-Week'!F14/'EURUSD-Week'!G14*'EURUSD-Week'!E14 -> 269.76 | X24: ='GBPUSD-Week'!H14*'GBPUSD-Week'!F14/'GBPUSD-Week'!I14 -> 15.0805 | Y24: ='EURUSD-Week'!F14/'EURUSD-Week'!G14*'EURUSD-Week'!E14 -> 269.76 | Z24: ='AUDUSD-Week'!H14*'AUDUSD-Week'!F14/'AUDUSD-Week'!I14 -> 9.116 | AA24: ='EURUSD-Week'!F14/'EURUSD-Week'!G14*'EURUSD-Week'!E14 -> 269.76 | AB24: ='USDCAD-Week'!H14*'USDCAD-Week'!F14/'USDCAD-Week'!E14 -> 9.8231827 | AC24: ='EURUSD-Week'!F14/'EURUSD-Week'!G14*'EURUSD-Week'!E14 -> 269.76 | AD24: ='NZDUSD-Week'!H14*'NZDUSD-Week'!F14/'NZDUSD-Week'!I14 -> 7.051 | AE24: ='GBPUSD-Week'!F14/'GBPUSD-Week'!G14*'GBPUSD-Week'!E14 -> 301.61 | AF24: ='USDJPY-Week'!H14*'USDJPY-Week'!F14/'USDJPY-Week'!E14 -> 10.694043 | AG24: ='GBPUSD-Week'!F14/'GBPUSD-Week'!G14*'GBPUSD-Week'!E14 -> 301.61 | AH24: ='USDCHF-Week'!H14*'USDCHF-Week'!F14/'USDCHF-Week'!E14 -> 9.4326275 | AI24: ='GBPUSD-Week'!F14/'GBPUSD-Week'!G14*'GBPUSD-Week'!E14 -> 301.61 | AJ24: ='AUDUSD-Week'!H14*'AUDUSD-Week'!F14/'AUDUSD-Week'!I14 -> 9.116 | AK24: ='GBPUSD-Week'!F14/'GBPUSD-Week'!G14*'GBPUSD-Week'!E14 -> 301.61 | AL24: ='USDCAD-Week'!H14*'USDCAD-Week'!F14/'USDCAD-Week'!E14 -> 9.8231827 | AM24: ='GBPUSD-Week'!F14/'GBPUSD-Week'!G14*'GBPUSD-Week'!E14 -> 301.61 | AN24: ='NZDUSD-Week'!H14*'NZDUSD-Week'!F14/'NZDUSD-Week'!I14 -> 7.051 | AO24: ='AUDUSD-Week'!F14/'AUDUSD-Week'!G14*'AUDUSD-Week'!E14 -> 182.32 | AP24: ='USDJPY-Week'!H14*'USDJPY-Week'!F14/'USDJPY-Week'!E14 -> 10.694043 | AQ24: ='AUDUSD-Week'!F14/'AUDUSD-Week'!G14*'AUDUSD-Week'!E14 -> 182.32 | AR24: ='USDCHF-Week'!H14*'USDCHF-Week'!F14/'USDCHF-Week'!E14 -> 9.4326275 | AS24: ='AUDUSD-Week'!F14/'AUDUSD-Week'!G14*'AUDUSD-Week'!E14 -> 182.32 | AT24: ='USDCAD-Week'!H14*'USDCAD-Week'!F14/'USDCAD-Week'!E14 -> 9.8231827 | AU24: ='AUDUSD-Week'!F14/'AUDUSD-Week'!G14*'AUDUSD-Week'!E14 -> 182.32 | AV24: ='NZDUSD-Week'!H14*'NZDUSD-Week'!F14/'NZDUSD-Week'!I14 -> 7.051 | AW24: ='NZDUSD-Week'!F14/'NZDUSD-Week'!G14*'NZDUSD-Week'!E14 -> 141.02 | AX24: ='USDJPY-Week'!H14*'USDJPY-Week'!F14/'USDJPY-Week'!E14 -> 10.694043 | AY24: ='NZDUSD-Week'!F14/'NZDUSD-Week'!G14*'NZDUSD-Week'!E14 -> 141.02 | AZ24: ='USDCHF-Week'!H14*'USDCHF-Week'!F14/'USDCHF-Week'!E14 -> 9.4326275 | BA24: ='NZDUSD-Week'!F14/'NZDUSD-Week'!G14*'NZDUSD-Week'!E14 -> 141.02 | BB24: ='USDCAD-Week'!H14*'USDCAD-Week'!F14/'USDCAD-Week'!E14 -> 9.8231827 | BC24: ='USDCAD-Week'!F14/'USDCAD-Week'!G14*'USDCAD-Week'!E14 -> 203.6 | BD24: ='USDJPY-Week'!H14*'USDJPY-Week'!F14/'USDJPY-Week'!E14 -> 10.694043 | BE24: ='USDCHF-Week'!F14/'USDCHF-Week'!G14*'USDCHF-Week'!E14 -> 212.03 | BF24: ='USDJPY-Week'!H14*'USDJPY-Week'!F14/'USDJPY-Week'!E14 -> 10.694043
D25: 40272 | E25: ='EURUSD-Week'!F15*'EURUSD-Week'!E15/'EURUSD-Week'!G15 -> 269.88 | F25: ='EURUSD-Week'!H15*'EURUSD-Week'!F15/1 -> 10 | G25: ='USDJPY-Week'!F15/'USDJPY-Week'!G15 -> 200 | H25: ='USDJPY-Week'!H15*'USDJPY-Week'!F15/'USDJPY-Week'!E15 -> 10.647359 | I25: ='EURUSD-Week'!F15/('EURUSD-Week'!G15*'EURUSD-Week'!E15) -> 148.21402 | J25: ='USDJPY-Week'!H15*'USDJPY-Week'!F15/'USDJPY-Week'!E15 -> 10.647359 | K25: ='GBPUSD-Week'!F15*'GBPUSD-Week'!E15/'GBPUSD-Week'!G15 -> 306.33 | L25: ='GBPUSD-Week'!H15*'GBPUSD-Week'!F15/1 -> 10 | M25: ='NZDUSD-Week'!F15*'NZDUSD-Week'!E15/'NZDUSD-Week'!G15 -> 142.21 | N25: ='NZDUSD-Week'!H15*'NZDUSD-Week'!F15/1 -> 10 | O25: ='USDCAD-Week'!F15/'USDCAD-Week'!G15 -> 200 | P25: ='USDCAD-Week'!F15*'USDCAD-Week'!H15/'USDCAD-Week'!E15 -> 9.9457954 | Q25: ='AUDUSD-Week'!F15*'AUDUSD-Week'!E15/'AUDUSD-Week'!G15 -> 185.18 | R25: ='AUDUSD-Week'!H15*'AUDUSD-Week'!F15/1 -> 10 | S25: ='USDCHF-Week'!F15/'USDCHF-Week'!G15 -> 200 | T25: ='USDCHF-Week'!F15*'USDCHF-Week'!H15/'USDCHF-Week'!E15 -> 9.403357 | U25: ='EURUSD-Week'!F15/'EURUSD-Week'!G15*'EURUSD-Week'!E15 -> 269.88 | V25: ='USDCHF-Week'!H15*'USDCHF-Week'!F15/'USDCHF-Week'!E15 -> 9.403357 | W25: ='EURUSD-Week'!F15/'EURUSD-Week'!G15*'EURUSD-Week'!E15 -> 269.88 | X25: ='GBPUSD-Week'!H15*'GBPUSD-Week'!F15/'GBPUSD-Week'!I15 -> 15.3165 | Y25: ='EURUSD-Week'!F15/'EURUSD-Week'!G15*'EURUSD-Week'!E15 -> 269.88 | Z25: ='AUDUSD-Week'!H15*'AUDUSD-Week'!F15/'AUDUSD-Week'!I15 -> 9.259 | AA25: ='EURUSD-Week'!F15/'EURUSD-Week'!G15*'EURUSD-Week'!E15 -> 269.88 | AB25: ='USDCAD-Week'!H15*'USDCAD-Week'!F15/'USDCAD-Week'!E15 -> 9.9457954 | AC25: ='EURUSD-Week'!F15/'EURUSD-Week'!G15*'EURUSD-Week'!E15 -> 269.88 | AD25: ='NZDUSD-Week'!H15*'NZDUSD-Week'!F15/'NZDUSD-Week'!I15 -> 7.1105 | AE25: ='GBPUSD-Week'!F15/'GBPUSD-Week'!G15*'GBPUSD-Week'!E15 -> 306.33 | AF25: ='USDJPY-Week'!H15*'USDJPY-Week'!F15/'USDJPY-Week'!E15 -> 10.647359 | AG25: ='GBPUSD-Week'!F15/'GBPUSD-Week'!G15*'GBPUSD-Week'!E15 -> 306.33 | AH25: ='USDCHF-Week'!H15*'USDCHF-Week'!F15/'USDCHF-Week'!E15 -> 9.403357 | AI25: ='GBPUSD-Week'!F15/'GBPUSD-Week'!G15*'GBPUSD-Week'!E15 -> 306.33 | AJ25: ='AUDUSD-Week'!H15*'AUDUSD-Week'!F15/'AUDUSD-Week'!I15 -> 9.259 | AK25: ='GBPUSD-Week'!F15/'GBPUSD-Week'!G15*'GBPUSD-Week'!E15 -> 306.33 | AL25: ='USDCAD-Week'!H15*'USDCAD-Week'!F15/'USDCAD-Week'!E15 -> 9.9457954 | AM25: ='GBPUSD-Week'!F15/'GBPUSD-Week'!G15*'GBPUSD-Week'!E15 -> 306.33 | AN25: ='NZDUSD-Week'!H15*'NZDUSD-Week'!F15/'NZDUSD-Week'!I15 -> 7.1105 | AO25: ='AUDUSD-Week'!F15/'AUDUSD-Week'!G15*'AUDUSD-Week'!E15 -> 185.18 | AP25: ='USDJPY-Week'!H15*'USDJPY-Week'!F15/'USDJPY-Week'!E15 -> 10.647359 | AQ25: ='AUDUSD-Week'!F15/'AUDUSD-Week'!G15*'AUDUSD-Week'!E15 -> 185.18 | AR25: ='USDCHF-Week'!H15*'USDCHF-Week'!F15/'USDCHF-Week'!E15 -> 9.403357 | AS25: ='AUDUSD-Week'!F15/'AUDUSD-Week'!G15*'AUDUSD-Week'!E15 -> 185.18 | AT25: ='USDCAD-Week'!H15*'USDCAD-Week'!F15/'USDCAD-Week'!E15 -> 9.9457954 | AU25: ='AUDUSD-Week'!F15/'AUDUSD-Week'!G15*'AUDUSD-Week'!E15 -> 185.18 | AV25: ='NZDUSD-Week'!H15*'NZDUSD-Week'!F15/'NZDUSD-Week'!I15 -> 7.1105 | AW25: ='NZDUSD-Week'!F15/'NZDUSD-Week'!G15*'NZDUSD-Week'!E15 -> 142.21 | AX25: ='USDJPY-Week'!H15*'USDJPY-Week'!F15/'USDJPY-Week'!E15 -> 10.647359 | AY25: ='NZDUSD-Week'!F15/'NZDUSD-Week'!G15*'NZDUSD-Week'!E15 -> 142.21 | AZ25: ='USDCHF-Week'!H15*'USDCHF-Week'!F15/'USDCHF-Week'!E15 -> 9.403357 | BA25: ='NZDUSD-Week'!F15/'NZDUSD-Week'!G15*'NZDUSD-Week'!E15 -> 142.21 | BB25: ='USDCAD-Week'!H15*'USDCAD-Week'!F15/'USDCAD-Week'!E15 -> 9.9457954 | BC25: ='USDCAD-Week'!F15/'USDCAD-Week'!G15*'USDCAD-Week'!E15 -> 201.09 | BD25: ='USDJPY-Week'!H15*'USDJPY-Week'!F15/'USDJPY-Week'!E15 -> 10.647359 | BE25: ='USDCHF-Week'!F15/'USDCHF-Week'!G15*'USDCHF-Week'!E15 -> 212.69 | BF25: ='USDJPY-Week'!H15*'USDJPY-Week'!F15/'USDJPY-Week'!E15 -> 10.647359
... D429: 43100 | E429: ='EURUSD-Week'!F419*'EURUSD-Week'!E419/'EURUSD-Week'!G419 -> 240.66 | F429: ='EURUSD-Week'!H419*'EURUSD-Week'!F419/1 -> 10 | G429: ='USDJPY-Week'!F419/'USDJPY-Week'!G419 -> 200 | H429: ='USDJPY-Week'!H419*'USDJPY-Week'!F419/'USDJPY-Week'!E419 -> 8.8624983 | I429: ='EURUSD-Week'!F419/('EURUSD-Week'!G419*'EURUSD-Week'!E419) -> 166.20959 | J429: ='USDJPY-Week'!H419*'USDJPY-Week'!F419/'USDJPY-Week'!E419 -> 8.8624983 | K429: ='GBPUSD-Week'!F419*'GBPUSD-Week'!E419/'GBPUSD-Week'!G419 -> 271 | L429: ='GBPUSD-Week'!H419*'GBPUSD-Week'!F419/1 -> 10 | M429: ='NZDUSD-Week'!F419*'NZDUSD-Week'!E419/'NZDUSD-Week'!G419 -> #DIV/0! | N429: ='NZDUSD-Week'!H419*'NZDUSD-Week'!F419/1 -> 0 | O429: ='USDCAD-Week'!F419/'USDCAD-Week'!G419 -> 200 | P429: ='USDCAD-Week'!F419*'USDCAD-Week'!H419/'USDCAD-Week'!E419 -> #DIV/0! | Q429: ='AUDUSD-Week'!F419*'AUDUSD-Week'!E419/'AUDUSD-Week'!G419 -> 156.95 | R429: ='AUDUSD-Week'!H419*'AUDUSD-Week'!F419/1 -> 10 | S429: ='USDCHF-Week'!F419/'USDCHF-Week'!G419 -> 200 | T429: ='USDCHF-Week'!F419*'USDCHF-Week'!H419/'USDCHF-Week'!E419 -> 10.269576 | U429: ='EURUSD-Week'!F419/'EURUSD-Week'!G419*'EURUSD-Week'!E419 -> 240.66 | V429: ='USDCHF-Week'!H419*'USDCHF-Week'!F419/'USDCHF-Week'!E419 -> 10.269576 | W429: ='EURUSD-Week'!F419/'EURUSD-Week'!G419*'EURUSD-Week'!E419 -> 240.66 | X429: ='GBPUSD-Week'!H419*'GBPUSD-Week'!F419/'GBPUSD-Week'!I419 -> 13.55 | Y429: ='EURUSD-Week'!F419/'EURUSD-Week'!G419*'EURUSD-Week'!E419 -> 240.66 | Z429: ='AUDUSD-Week'!H419*'AUDUSD-Week'!F419/'AUDUSD-Week'!I419 -> 7.8475 | AA429: ='EURUSD-Week'!F419/'EURUSD-Week'!G419*'EURUSD-Week'!E419 -> 240.66 | AB429: ='USDCAD-Week'!H419*'USDCAD-Week'!F419/'USDCAD-Week'!E419 -> #DIV/0! | AC429: ='EURUSD-Week'!F419/'EURUSD-Week'!G419*'EURUSD-Week'!E419 -> 240.66 | AD429: ='NZDUSD-Week'!H419*'NZDUSD-Week'!F419/'NZDUSD-Week'!I419 -> #DIV/0! | AE429: ='GBPUSD-Week'!F419/'GBPUSD-Week'!G419*'GBPUSD-Week'!E419 -> 271 | AF429: ='USDJPY-Week'!H419*'USDJPY-Week'!F419/'USDJPY-Week'!E419 -> 8.8624983 | AG429: ='GBPUSD-Week'!F419/'GBPUSD-Week'!G419*'GBPUSD-Week'!E419 -> 271 | AH429: ='USDCHF-Week'!H419*'USDCHF-Week'!F419/'USDCHF-Week'!E419 -> 10.269576 | AI429: ='GBPUSD-Week'!F419/'GBPUSD-Week'!G419*'GBPUSD-Week'!E419 -> 271 | AJ429: ='AUDUSD-Week'!H419*'AUDUSD-Week'!F419/'AUDUSD-Week'!I419 -> 7.8475 | AK429: ='GBPUSD-Week'!F419/'GBPUSD-Week'!G419*'GBPUSD-Week'!E419 -> 271 | AL429: ='USDCAD-Week'!H419*'USDCAD-Week'!F419/'USDCAD-Week'!E419 -> #DIV/0! | AM429: ='GBPUSD-Week'!F419/'GBPUSD-Week'!G419*'GBPUSD-Week'!E419 -> 271 | AN429: ='NZDUSD-Week'!H419*'NZDUSD-Week'!F419/'NZDUSD-Week'!I419 -> #DIV/0! | AO429: ='AUDUSD-Week'!F419/'AUDUSD-Week'!G419*'AUDUSD-Week'!E419 -> 156.95 | AP429: ='USDJPY-Week'!H419*'USDJPY-Week'!F419/'USDJPY-Week'!E419 -> 8.8624983 | AQ429: ='AUDUSD-Week'!F419/'AUDUSD-Week'!G419*'AUDUSD-Week'!E419 -> 156.95 | AR429: ='USDCHF-Week'!H419*'USDCHF-Week'!F419/'USDCHF-Week'!E419 -> 10.269576 | AS429: ='AUDUSD-Week'!F419/'AUDUSD-Week'!G419*'AUDUSD-Week'!E419 -> 156.95 | AT429: ='USDCAD-Week'!H419*'USDCAD-Week'!F419/'USDCAD-Week'!E419 -> #DIV/0! | AU429: ='AUDUSD-Week'!F419/'AUDUSD-Week'!G419*'AUDUSD-Week'!E419 -> 156.95 | AV429: ='NZDUSD-Week'!H419*'NZDUSD-Week'!F419/'NZDUSD-Week'!I419 -> #DIV/0! | AW429: ='NZDUSD-Week'!F419/'NZDUSD-Week'!G419*'NZDUSD-Week'!E419 -> #DIV/0! | AX429: ='USDJPY-Week'!H419*'USDJPY-Week'!F419/'USDJPY-Week'!E419 -> 8.8624983 | AY429: ='NZDUSD-Week'!F419/'NZDUSD-Week'!G419*'NZDUSD-Week'!E419 -> #DIV/0! | AZ429: ='USDCHF-Week'!H419*'USDCHF-Week'!F419/'USDCHF-Week'!E419 -> 10.269576 | BA429: ='NZDUSD-Week'!F419/'NZDUSD-Week'!G419*'NZDUSD-Week'!E419 -> #DIV/0! | BB429: ='USDCAD-Week'!H419*'USDCAD-Week'!F419/'USDCAD-Week'!E419 -> #DIV/0! | BC429: ='USDCAD-Week'!F419/'USDCAD-Week'!G419*'USDCAD-Week'!E419 -> 0 | BD429: ='USDJPY-Week'!H419*'USDJPY-Week'!F419/'USDJPY-Week'!E419 -> 8.8624983 | BE429: ='USDCHF-Week'!F419/'USDCHF-Week'!G419*'USDCHF-Week'!E419 -> 194.75 | BF429: ='USDJPY-Week'!H419*'USDJPY-Week'!F419/'USDJPY-Week'!E419 -> 8.8624983
