Workbook

Sheet Сводная МОДЕЛЬ 1x1
I1: CalcLotType | J1: =IF(K$1=0,"LastOrder",IF(K$1=1,"MinOrder","ОШИБКА")) -> LastOrder | K1: 0
A2: TakeProffit | B2: =IF(C$2<=0,"д.б. >0","") | C2: 15 | E2: GridStep | F2: =IF(G$2<2,"д.б. >1","") | G2: 4 | I2: MinLot | J2: =IF(K$2<0,"д.б. >0","") | K2: 0.01 | M2: Пара | O2: eurusd | AN2: Статистика сеток из отчета тестера стратегий
I3: Mult | J3: =IF(K$3<0,"д.б. >0","") | K3: 1.7 | M3: Значность | O3: 4
I4: MultStart | J4: =IF(K$4<2,"д.б. >1","") | K4: 2 | M4: Цена пипса, $ | O4: 10 | AN4: (EA) - Setka v1.43 ADX-IMP EURUSD - bespaniki 20190410- 126 points 15steps - 10000USD DD60percent reinvest -OPT 20181015-20190331 - StrategyTester.htm
BO5: 1
A6: TakeProffit_Level1 | C6: 5 | E6: GridLevel | F6: =IF(G$6<0,"д.б. >=0","") | G6: 3 | I6: MultLevel2 | J6: =IF(K$6<0,"д.б. >=0","") | K6: 6 | M6: Комиссия, $ | O6: 0 | AN6: EURUSD
A7: TakeProffit_Level1Corr | C7: -1 | E7: GridStep_AddPips | G7: 1 | I7: MultCorr | J7: =IF(AND(K$6=0,K$7<>0),"д.б. =0","") | K7: -0.1 | M7: Залог 1 лот, $ | O7: 187 | AN7: 1 Минута (M1) 2018.04.09 00:00 - 2019.04.08 23:59 (2018.10.15 - 2019.03.31)
B8: =IF(OR(C$6=1,C$6<0,C$9=1,C$9<0,C$12=1,C$12<0,AND(C$6>1,C$9>1,C$6>=C$9),AND(C$6>1,C$12>1,C$6>=C$12),AND(C$9>1,C$12>1,C$9>=C$12)),"ОШИБКА в № колен","") | F8: =IF(OR(G$6=1,G$6<0,G$9=1,G$9<0,G$12=1,G$12<0,G$15<0,AND(G$6>1,G$9>1,G$6>=G$9),AND(G$6>1,G$12>1,G$6>=G$12),AND(G$9>1,G$12>1,G$9>=G$12),AND(G$6>1,G$15>0,G$6>G$15),AND(G$9>1,G$15>0,G$9>G$15),AND(G$12>1,G$15>0,G$12>G$15)),"ОШИБКА в №№ колен","") | J8: =IF(OR(K$6=1,K$6<0,K$9=1,K$9<0,K$12=1,K$12<0,K$15<0,AND(K$6>0,K$4>=K$6),AND(K$9>0,K$4>=K$9),AND(K$12>0,K$4>=K$12),AND(K$6>1,K$9>1,K$6>=K$9),AND(K$6>1,K$12>1,K$6>=K$12),AND(K$9>1,K$12>1,K$9>=K$12),AND(K$15>0,K$4>K$15),AND(K$6>1,K$15>0,K$6>K$15),AND(K$9>1,K$15>0,K$9>K$15),AND(K$12>1,K$15>0,K$12>K$15)),"ОШИБКА № колен","") | M8: StopOut, % | O8: 0
A9: TakeProffit_Level1_5 | C9: 10 | E9: GridStep_Level2 | G9: 10 | I9: MultLevel3 | J9: =IF(K$9<0,"д.б. >=0","") | K9: 8 | AN9: Начальный депозит | AQ9: 20000
A10: TakeProffit_Level1_5Corr | C10: -2 | E10: GridStep_Level2_AddPips | G10: 0 | I10: MultСorrLevel3 | J10: =IF(AND(K$9=0,K$10<>0),"д.б. =0","") | K10: 0.01 | M10: Депо, $ | O10: 7000
AN11: Чистая прибыль | AQ11: 108308.93
A12: TakeProffit_Level2 | C12: 12 | E12: Grid3 | F12: =IF(G$12<0,"д.б. >=0","") | G12: 0 | I12: Mult3 | J12: =IF(K$12<0,"д.б. >=0","") | K12: 12
A13: TakeProffit_Level2FixPips | C13: 3 | E13: Grid3Add | F13: =IF(AND(G$12=0,G$13<>0),"д.б. =0","") | G13: 0 | I13: Mult3Add | J13: =IF(AND(K$12=0,K$13<>0),"д.б. =0","") | K13: -0.15 | AN13: Максимальная просадка | AQ13: 32954.15 (30.43%)
AJ14: eurusd
E15: GridStop | F15: =IF(G$15<0,"д.б. >=0","") | G15: 0 | I15: MultStop | J15: =IF(K$15<0,"д.б. >=0","") | K15: 12 | AN15: Рентабельность (месяц) | AQ15: 0.98462664 | AS15: (год) | AT15: 10.830893
A16: MaxOpenOrders | C16: 15 | I16: MaxLotCoef | J16: =IF(K$16<0,"д.б. >=0","") | K16: 0
A18: №№ колен | B18: Кор-рект | C18: TP | E18: Коррект | F18: Шаг, пипсов | G18: Сетка пипсов от 1-го ордера | I18: Мульт | J18: Ордер | K18: Лотов сумма | M18: Прибыль | O18: $/пипс | P18: Просадка | R18: Безубыток | T18: ТР | W18: Залог, $ | X18: Просадка + залог, $ (включая комиссию) Min депо | Z18: Св.Маржа = Депо - просадка-залог, $ | AA18: Просадка + залог = %%депо | AB18: Max просадка до StopOut в пипсах от: | AD18: №№ ко-лен | AF18: Залог к просадке (включая комиссию) | AG18: Залог к депо, % | AI18: №№ ко-лен | AJ18: Кол-во сеток | AM18: Суммарный лот сеток | AP18: Общая прибыль | AS18: Средняя прибыль | AV18: % от общей прибыли | AY18: Макс размер сетки в пунктах | BA18: Средний размер сетки в пунктах | BD18: Макс кол-во пунктов до тп сетки | BF18: Среднее кол-во пунктов до тп сетки | BI18: Макс время сетки, Часы:Минуты | BK18: Среднее время существования сетки, Часы:Минуты
M19: $ | N19: % депо | P19: $ | Q19: % депо | R19: Пипсов | S19: %% | T19: Пипсов | U19: %% | AB19: Колена N | AC19: 1го ордера | AJ19: sell | AK19: buy | AL19: sell+buy | AM19: sell | AN19: buy | AO19: sell+buy | AP19: sell | AQ19: buy | AR19: sell+buy | AS19: sell | AT19: buy | AU19: sell+buy | AV19: sell | AW19: buy | AX19: sell+buy | AY19: sell | AZ19: buy | BA19: sell | BB19: buy | BC19: sell+buy | BD19: sell | BE19: buy | BF19: sell | BG19: buy | BH19: sell+buy | BI19: sell | BJ19: buy | BK19: sell | BL19: buy | BM19: sell+buy
A20: 1 | B20: 0 | C20: =C$2 -> 15 | E20: =IF(OR($A20<2,AND(G$15>0,$A20>G$15)),0,IF(AND($A20>=G$12,G$12>0),G$13,IF(AND($A20>=G$9,G$9>0),G$10,IF(AND($A20>=G$6,G$6>0),G$7,0)))) -> 0 | F20: 0 | G20: =F20 -> 0 | I20: =IF(($A20<K$4),1,IF(AND($A20>K$15,K$15>0),I19,IF(AND($A20>=K$12,K$12>0),ROUND(I19+K$13,4),IF(AND($A20>=K$9,K$9>0),ROUND(I19+K$10,4),IF(AND($A20>=K$6,K$6>0),ROUND(I19+K$7,4),K$3))))) -> 1 | J20: =IF($A20<K$4, K$2, IF(K$1=0,IF(K$16>0,IF(K$2*K$16<ROUND(J19*I20, 3),K$2*K$16,ROUND(J19*I20, 3)),ROUND(J19*I20, 3)),IF(K$16>0,IF(K$2*K$16<ROUND(K$2*I20, 3),K$2*K$16,ROUND(K$2*I20, 3)),ROUND(K$2*I20, 3)))) -> 0.01 | K20: =J20 -> 0.01 | M20: =ROUND(C20*O20-K20*$O$6,2) -> 1.5 | N20: =IF($O$10>0,M20/$O$10,0) -> 0.00021428571 | O20: =ROUND(ROUND(K20,2)*$O$4,2) -> 0.1 | P20: =ROUND(J20*$O$6,2) -> 0 | Q20: =P20/$O$10 -> 0 | R20: =ROUND(P20/O20,0) -> 0 | S20: 0 | T20: =R20+C20 -> 15 | U20: 0 | W20: =ROUND(K20*$O$7,2) -> 1.87 | X20: =ROUND(P20+W20,2) -> 1.87 | Z20: =IF($O$10>0,ROUND($O$10-X20,2),0) -> 6998.13 | AA20: =IF($O$10>0,ROUND(X20/$O$10,2),0) -> 0 | AB20: =IF(AND(Z20>0,$O$4>0),($O$10-P20-W20*$O$8)/O20,0) -> 70000 | AC20: =IF(AB20>0,AB20+G20,0) -> 70000 | AD20: 1 | AF20: =IF(P20>0,ROUND(W20/P20,2),0) -> 0 | AG20: =IF($O$10>0,ROUND(W20/$O$10,2),0) -> 0 | AI20: 1 | AJ20: =COUNTIFS('[1]Данные из терминала'!C:C,AI20,'[1]Данные из терминала'!B:B,"sell") -> 80 | AK20: =COUNTIFS('[1]Данные из терминала'!C:C,AI20,'[1]Данные из терминала'!B:B,"buy") -> 58 | AL20: =COUNTIFS('[1]Данные из терминала'!C:C,AI20) -> 138 | AM20: =SUMIFS('[1]Данные из терминала'!E:E,'[1]Данные из терминала'!C:C,AI20,'[1]Данные из терминала'!B:B,"sell") -> 4.64 | AN20: =SUMIFS('[1]Данные из терминала'!E:E,'[1]Данные из терминала'!C:C,AI20,'[1]Данные из терминала'!B:B,"buy") -> 3.22 | AO20: =SUMIFS('[1]Данные из терминала'!E:E,'[1]Данные из терминала'!C:C,AI20) -> 7.86 | AP20: =SUMIFS('[1]Данные из терминала'!N:N,'[1]Данные из терминала'!C:C,AI20,'[1]Данные из терминала'!B:B,"sell") -> 695.9 | AQ20: =SUMIFS('[1]Данные из терминала'!N:N,'[1]Данные из терминала'!C:C,AI20,'[1]Данные из терминала'!B:B,"buy") -> 482.97 | AR20: =SUMIFS('[1]Данные из терминала'!N:N,'[1]Данные из терминала'!C:C,AI20) -> 1178.87 | AS20: =ROUND(IF(AJ20>0,AVERAGEIFS('[1]Данные из терминала'!N:N,'[1]Данные из терминала'!C:C,AI20,'[1]Данные из терминала'!B:B,"sell"),0),2) -> 8.7 | AT20: =ROUND(IF(AK20>0,AVERAGEIFS('[1]Данные из терминала'!N:N,'[1]Данные из терминала'!C:C,AI20,'[1]Данные из терминала'!B:B,"buy"),0),2) -> 8.33 | AU20: =ROUND(IF(AL20>0,AVERAGEIFS('[1]Данные из терминала'!N:N,'[1]Данные из терминала'!C:C,AI20),0),2) -> 8.54 | AV20: =IF(AJ20>0,AP20/$AR$42,0) -> 0.0064251302 | AW20: =IF(AK20>0,AQ20/$AR$42,0) -> 0.0044591825 | AX20: =IF(AL20>0,AR20/$AR$42,0) -> 0.010884313 | AY20: =IF(AJ20>0,VLOOKUP(AI20,[1]Сводная!A:E,5,0),0) -> 0 | AZ20: =IF(AK20>0,VLOOKUP(AI20,[1]Сводная!A:B,2,0),0) -> 0 | BA20: =ROUND(IF(AJ20>0,AVERAGEIFS('[1]Данные из терминала'!L:L,'[1]Данные из терминала'!C:C,AI20,'[1]Данные из терминала'!B:B,"sell"),0),1) -> 0 | BB20: =ROUND(IF(AK20>0,AVERAGEIFS('[1]Данные из терминала'!L:L,'[1]Данные из терминала'!C:C,AI20,'[1]Данные из терминала'!B:B,"buy"),0),1) -> 0 | BC20: =ROUND(IF(AL20>0,AVERAGEIFS('[1]Данные из терминала'!L:L,'[1]Данные из терминала'!C:C,AI20),0),1) -> 0 | BD20: =IF(AJ20>0,VLOOKUP(AI20,[1]Сводная!A:F,6,0),0) -> 16.6 | BE20: =IF(AK20>0,VLOOKUP(AI20,[1]Сводная!A:C,3,0),0) -> 18.9 | BF20: =ROUND(IF(AJ20>0,AVERAGEIFS('[1]Данные из терминала'!M:M,'[1]Данные из терминала'!C:C,AI20,'[1]Данные из терминала'!B:B,"sell"),0),1) -> 14.9 | BG20: =ROUND(IF(AK20>0,AVERAGEIFS('[1]Данные из терминала'!M:M,'[1]Данные из терминала'!C:C,AI20,'[1]Данные из терминала'!B:B,"buy"),0),1) -> 15.1 | BH20: =ROUND(IF(AL20>0,AVERAGEIFS('[1]Данные из терминала'!M:M,'[1]Данные из терминала'!C:C,AI20),0),1) -> 15 | BI20: =IF(AJ20>0,VLOOKUP(AI20,[1]Сводная!A:G,7,0),0) -> 0.63263889 | BJ20: =IF(AK20>0,VLOOKUP(AI20,[1]Сводная!A:D,4,0),0) -> 0.42638889 | BK20: =IF(AJ20>0,AVERAGEIFS('[1]Данные из терминала'!O:O,'[1]Данные из терминала'!C:C,AI20,'[1]Данные из терминала'!B:B,"sell"),0) -> 0.038958333 | BL20: =IF(AK20>0,AVERAGEIFS('[1]Данные из терминала'!O:O,'[1]Данные из терминала'!C:C,AI20,'[1]Данные из терминала'!B:B,"buy"),0) -> 0.060751916 | BM20: =IF(AL20>0,AVERAGEIFS('[1]Данные из терминала'!O:O,'[1]Данные из терминала'!C:C,AI20),0) -> 0.048117955
A21: 2 | B21: =IF(AND($A21>=C$12,C$12>0),0,IF(AND($A21>=C$9,C$9>0),C$10,IF(AND($A21>=C$6,C$6>0),C$7,0))) -> 0 | C21: =IF(AND($A21>=C$12,C$12>0),C$13,C20+B21) -> 15 | E21: =IF(OR($A21<2,AND(G$15>0,$A21>G$15)),0,IF(AND($A21>=G$12,G$12>0),G$13,IF(AND($A21>=G$9,G$9>0),G$10,IF(AND($A21>=G$6,G$6>0),G$7,0)))) -> 0 | F21: =G$2+E21 -> 4 | G21: =G20+F21 -> 4 | I21: =IF(($A21<K$4),1,IF(AND($A21>K$15,K$15>0),I20,IF(AND($A21>=K$12,K$12>0),ROUND(I20+K$13,4),IF(AND($A21>=K$9,K$9>0),ROUND(I20+K$10,4),IF(AND($A21>=K$6,K$6>0),ROUND(I20+K$7,4),K$3))))) -> 1.7 | J21: =IF($A21<K$4, K$2, IF(K$1=0,IF(K$16>0,IF(K$2*K$16<ROUND(J20*I21, 3),K$2*K$16,ROUND(J20*I21, 3)),ROUND(J20*I21, 3)),IF(K$16>0,IF(K$2*K$16<ROUND(K$2*I21, 3),K$2*K$16,ROUND(K$2*I21, 3)),ROUND(K$2*I21, 3)))) -> 0.017 | K21: =K20+ROUND(J21,3) -> 0.027 | M21: =ROUND(C21*O21-K21*$O$6,2) -> 4.5 | N21: =IF($O$10>0,M21/$O$10,0) -> 0.00064285714 | O21: =ROUND(ROUND(K21,2)*$O$4,2) -> 0.3 | P21: =ROUND((ROUND(K20,2)*(G21-G20)*$O$4+P20+J21*$O$6),2) -> 0.4 | Q21: =P21/$O$10 -> 5.7142857e-05 | R21: =ROUND(P21/O21,0) -> 1 | S21: =ROUND(R21/G21,2) -> 0.25 | T21: =R21+C21 -> 16 | U21: =ROUND(T21/G21,2) -> 4 | W21: =ROUND(K21*$O$7,2) -> 5.05 | X21: =ROUND(P21+W21,2) -> 5.45 | Z21: =IF($O$10>0,ROUND($O$10-X21,2),0) -> 6994.55 | AA21: =IF($O$10>0,ROUND(X21/$O$10,2),0) -> 0 | AB21: =IF(AND(Z21>0,$O$4>0),($O$10-P21-W21*$O$8)/O21,0) -> 23332 | AC21: =IF(AB21>0,AB21+G21,0) -> 23336 | AD21: 2 | AF21: =IF(P21>0,ROUND(W21/P21,2),0) -> 12.63 | AG21: =IF($O$10>0,ROUND(W21/$O$10,2),0) -> 0 | AI21: 2 | AJ21: =COUNTIFS('[1]Данные из терминала'!C:C,AI21,'[1]Данные из терминала'!B:B,"sell") -> 63 | AK21: =COUNTIFS('[1]Данные из терминала'!C:C,AI21,'[1]Данные из терминала'!B:B,"buy") -> 54 | AL21: =COUNTIFS('[1]Данные из терминала'!C:C,AI21) -> 117 | AM21: =SUMIFS('[1]Данные из терминала'!E:E,'[1]Данные из терминала'!C:C,AI21,'[1]Данные из терминала'!B:B,"sell") -> 9.1 | AN21: =SUMIFS('[1]Данные из терминала'!E:E,'[1]Данные из терминала'!C:C,AI21,'[1]Данные из терминала'!B:B,"buy") -> 7.94 | AO21: =SUMIFS('[1]Данные из терминала'!E:E,'[1]Данные из терминала'!C:C,AI21) -> 17.04 | AP21: =SUMIFS('[1]Данные из терминала'!N:N,'[1]Данные из терминала'!C:C,AI21,'[1]Данные из терминала'!B:B,"sell") -> 1326.08 | AQ21: =SUMIFS('[1]Данные из терминала'!N:N,'[1]Данные из терминала'!C:C,AI21,'[1]Данные из терминала'!B:B,"buy") -> 1190.48 | AR21: =SUMIFS('[1]Данные из терминала'!N:N,'[1]Данные из терминала'!C:C,AI21) -> 2516.56 | AS21: =ROUND(IF(AJ21>0,AVERAGEIFS('[1]Данные из терминала'!N:N,'[1]Данные из терминала'!C:C,AI21,'[1]Данные из терминала'!B:B,"sell"),0),2) -> 21.05 | AT21: =ROUND(IF(AK21>0,AVERAGEIFS('[1]Данные из терминала'!N:N,'[1]Данные из терминала'!C:C,AI21,'[1]Данные из терминала'!B:B,"buy"),0),2) -> 22.05 | AU21: =ROUND(IF(AL21>0,AVERAGEIFS('[1]Данные из терминала'!N:N,'[1]Данные из терминала'!C:C,AI21),0),2) -> 21.51 | AV21: =IF(AJ21>0,AP21/$AR$42,0) -> 0.012243478 | AW21: =IF(AK21>0,AQ21/$AR$42,0) -> 0.010991506 | AX21: =IF(AL21>0,AR21/$AR$42,0) -> 0.023234984 | AY21: =IF(AJ21>0,VLOOKUP(AI21,[1]Сводная!A:E,5,0),0) -> 16.6 | AZ21: =IF(AK21>0,VLOOKUP(AI21,[1]Сводная!A:B,2,0),0) -> 6.6 | BA21: =ROUND(IF(AJ21>0,AVERAGEIFS('[1]Данные из терминала'!L:L,'[1]Данные из терминала'!C:C,AI21,'[1]Данные из терминала'!B:B,"sell"),0),1) -> 4.5 | BB21: =ROUND(IF(AK21>0,AVERAGEIFS('[1]Данные из терминала'!L:L,'[1]Данные из терминала'!C:C,AI21,'[1]Данные из терминала'!B:B,"buy"),0),1) -> 4.2 | BC21: =ROUND(IF(AL21>0,AVERAGEIFS('[1]Данные из терминала'!L:L,'[1]Данные из терминала'!C:C,AI21),0),1) -> 4.4 | BD21: =IF(AJ21>0,VLOOKUP(AI21,[1]Сводная!A:F,6,0),0) -> 20.5 | BE21: =IF(AK21>0,VLOOKUP(AI21,[1]Сводная!A:C,3,0),0) -> 20.6 | BF21: =ROUND(IF(AJ21>0,AVERAGEIFS('[1]Данные из терминала'!M:M,'[1]Данные из терминала'!C:C,AI21,'[1]Данные из терминала'!B:B,"sell"),0),1) -> 16.5 | BG21: =ROUND(IF(AK21>0,AVERAGEIFS('[1]Данные из терминала'!M:M,'[1]Данные из терминала'!C:C,AI21,'[1]Данные из терминала'!B:B,"buy"),0),1) -> 16.7 | BH21: =ROUND(IF(AL21>0,AVERAGEIFS('[1]Данные из терминала'!M:M,'[1]Данные из терминала'!C:C,AI21),0),1) -> 16.6 | BI21: =IF(AJ21>0,VLOOKUP(AI21,[1]Сводная!A:G,7,0),0) -> 0.71180556 | BJ21: =IF(AK21>0,VLOOKUP(AI21,[1]Сводная!A:D,4,0),0) -> 0.5 | BK21: =IF(AJ21>0,AVERAGEIFS('[1]Данные из терминала'!O:O,'[1]Данные из терминала'!C:C,AI21,'[1]Данные из терминала'!B:B,"sell"),0) -> 0.096571869 | BL21: =IF(AK21>0,AVERAGEIFS('[1]Данные из терминала'!O:O,'[1]Данные из терминала'!C:C,AI21,'[1]Данные из терминала'!B:B,"buy"),0) -> 0.096129115 | BM21: =IF(AL21>0,AVERAGEIFS('[1]Данные из терминала'!O:O,'[1]Данные из терминала'!C:C,AI21),0) -> 0.096367521
A22: 3 | B22: =IF(AND($A22>=C$12,C$12>0),0,IF(AND($A22>=C$9,C$9>0),C$10,IF(AND($A22>=C$6,C$6>0),C$7,0))) -> 0 | C22: =IF(AND($A22>=C$12,C$12>0),C$13,C21+B22) -> 15 | E22: =IF(OR($A22<2,AND(G$15>0,$A22>G$15)),0,IF(AND($A22>=G$12,G$12>0),G$13,IF(AND($A22>=G$9,G$9>0),G$10,IF(AND($A22>=G$6,G$6>0),G$7,0)))) -> 1 | F22: =F21+E22 -> 5 | G22: =G21+F22 -> 9 | I22: =IF(($A22<K$4),1,IF(AND($A22>K$15,K$15>0),I21,IF(AND($A22>=K$12,K$12>0),ROUND(I21+K$13,4),IF(AND($A22>=K$9,K$9>0),ROUND(I21+K$10,4),IF(AND($A22>=K$6,K$6>0),ROUND(I21+K$7,4),K$3))))) -> 1.7 | J22: =IF($A22<K$4, K$2, IF(K$1=0,IF(K$16>0,IF(K$2*K$16<ROUND(J21*I22, 3),K$2*K$16,ROUND(J21*I22, 3)),ROUND(J21*I22, 3)),IF(K$16>0,IF(K$2*K$16<ROUND(K$2*I22, 3),K$2*K$16,ROUND(K$2*I22, 3)),ROUND(K$2*I22, 3)))) -> 0.029 | K22: =K21+ROUND(J22,3) -> 0.056 | M22: =ROUND(C22*O22-K22*$O$6,2) -> 9 | N22: =IF($O$10>0,M22/$O$10,0) -> 0.0012857143 | O22: =ROUND(ROUND(K22,2)*$O$4,2) -> 0.6 | P22: =ROUND((ROUND(K21,2)*(G22-G21)*$O$4+P21+J22*$O$6),2) -> 1.9 | Q22: =P22/$O$10 -> 0.00027142857 | R22: =ROUND(P22/O22,0) -> 3 | S22: =ROUND(R22/G22,2) -> 0.33 | T22: =R22+C22 -> 18 | U22: =ROUND(T22/G22,2) -> 2 | W22: =ROUND(K22*$O$7,2) -> 10.47 | X22: =ROUND(P22+W22,2) -> 12.37 | Z22: =IF($O$10>0,ROUND($O$10-X22,2),0) -> 6987.63 | AA22: =IF($O$10>0,ROUND(X22/$O$10,2),0) -> 0 | AB22: =IF(AND(Z22>0,$O$4>0),($O$10-P22-W22*$O$8)/O22,0) -> 11663.5 | AC22: =IF(AB22>0,AB22+G22,0) -> 11672.5 | AD22: 3 | AF22: =IF(P22>0,ROUND(W22/P22,2),0) -> 5.51 | AG22: =IF($O$10>0,ROUND(W22/$O$10,2),0) -> 0 | AI22: 3 | AJ22: =COUNTIFS('[1]Данные из терминала'!C:C,AI22,'[1]Данные из терминала'!B:B,"sell") -> 59 | AK22: =COUNTIFS('[1]Данные из терминала'!C:C,AI22,'[1]Данные из терминала'!B:B,"buy") -> 47 | AL22: =COUNTIFS('[1]Данные из терминала'!C:C,AI22) -> 106 | AM22: =SUMIFS('[1]Данные из терминала'!E:E,'[1]Данные из терминала'!C:C,AI22,'[1]Данные из терминала'!B:B,"sell") -> 16.11 | AN22: =SUMIFS('[1]Данные из терминала'!E:E,'[1]Данные из терминала'!C:C,AI22,'[1]Данные из терминала'!B:B,"buy") -> 13.35 | AO22: =SUMIFS('[1]Данные из терминала'!E:E,'[1]Данные из терминала'!C:C,AI22) -> 29.46 | AP22: =SUMIFS('[1]Данные из терминала'!N:N,'[1]Данные из терминала'!C:C,AI22,'[1]Данные из терминала'!B:B,"sell") -> 2416.96 | AQ22: =SUMIFS('[1]Данные из терминала'!N:N,'[1]Данные из терминала'!C:C,AI22,'[1]Данные из терминала'!B:B,"buy") -> 2001.96 | AR22: =SUMIFS('[1]Данные из терминала'!N:N,'[1]Данные из терминала'!C:C,AI22) -> 4418.92 | AS22: =ROUND(IF(AJ22>0,AVERAGEIFS('[1]Данные из терминала'!N:N,'[1]Данные из терминала'!C:C,AI22,'[1]Данные из терминала'!B:B,"sell"),0),2) -> 40.97 | AT22: =ROUND(IF(AK22>0,AVERAGEIFS('[1]Данные из терминала'!N:N,'[1]Данные из терминала'!C:C,AI22,'[1]Данные из терминала'!B:B,"buy"),0),2) -> 42.59 | AU22: =ROUND(IF(AL22>0,AVERAGEIFS('[1]Данные из терминала'!N:N,'[1]Данные из терминала'!C:C,AI22),0),2) -> 41.69 | AV22: =IF(AJ22>0,AP22/$AR$42,0) -> 0.022315394 | AW22: =IF(AK22>0,AQ22/$AR$42,0) -> 0.018483767 | AX22: =IF(AL22>0,AR22/$AR$42,0) -> 0.040799161 | AY22: =IF(AJ22>0,VLOOKUP(AI22,[1]Сводная!A:E,5,0),0) -> 14.2 | AZ22: =IF(AK22>0,VLOOKUP(AI22,[1]Сводная!A:B,2,0),0) -> 18 | BA22: =ROUND(IF(AJ22>0,AVERAGEIFS('[1]Данные из терминала'!L:L,'[1]Данные из терминала'!C:C,AI22,'[1]Данные из терминала'!B:B,"sell"),0),1) -> 9.5 | BB22: =ROUND(IF(AK22>0,AVERAGEIFS('[1]Данные из терминала'!L:L,'[1]Данные из терминала'!C:C,AI22,'[1]Данные из терминала'!B:B,"buy"),0),1) -> 9.6 | BC22: =ROUND(IF(AL22>0,AVERAGEIFS('[1]Данные из терминала'!L:L,'[1]Данные из терминала'!C:C,AI22),0),1) -> 9.6 | BD22: =IF(AJ22>0,VLOOKUP(AI22,[1]Сводная!A:F,6,0),0) -> 19.4 | BE22: =IF(AK22>0,VLOOKUP(AI22,[1]Сводная!A:C,3,0),0) -> 22.8 | BF22: =ROUND(IF(AJ22>0,AVERAGEIFS('[1]Данные из терминала'!M:M,'[1]Данные из терминала'!C:C,AI22,'[1]Данные из терминала'!B:B,"sell"),0),1) -> 18.2 | BG22: =ROUND(IF(AK22>0,AVERAGEIFS('[1]Данные из терминала'!M:M,'[1]Данные из терминала'!C:C,AI22,'[1]Данные из терминала'!B:B,"buy"),0),1) -> 18.6 | BH22: =ROUND(IF(AL22>0,AVERAGEIFS('[1]Данные из терминала'!M:M,'[1]Данные из терминала'!C:C,AI22),0),1) -> 18.4 | BI22: =IF(AJ22>0,VLOOKUP(AI22,[1]Сводная!A:G,7,0),0) -> 0.69375 | BJ22: =IF(AK22>0,VLOOKUP(AI22,[1]Сводная!A:D,4,0),0) -> 0.70069444 | BK22: =IF(AJ22>0,AVERAGEIFS('[1]Данные из терминала'!O:O,'[1]Данные из терминала'!C:C,AI22,'[1]Данные из терминала'!B:B,"sell"),0) -> 0.15143597 | BL22: =IF(AK22>0,AVERAGEIFS('[1]Данные из терминала'!O:O,'[1]Данные из терминала'!C:C,AI22,'[1]Данные из терминала'!B:B,"buy"),0) -> 0.13478132 | BM22: =IF(AL22>0,AVERAGEIFS('[1]Данные из терминала'!O:O,'[1]Данные из терминала'!C:C,AI22),0) -> 0.14405136
A23: 4 | B23: =IF(AND($A23>=C$12,C$12>0),0,IF(AND($A23>=C$9,C$9>0),C$10,IF(AND($A23>=C$6,C$6>0),C$7,0))) -> 0 | C23: =IF(AND($A23>=C$12,C$12>0),C$13,C22+B23) -> 15 | E23: =IF(OR($A23<2,AND(G$15>0,$A23>G$15)),0,IF(AND($A23>=G$12,G$12>0),G$13,IF(AND($A23>=G$9,G$9>0),G$10,IF(AND($A23>=G$6,G$6>0),G$7,0)))) -> 1 | F23: =F22+E23 -> 6 | G23: =G22+F23 -> 15 | I23: =IF(($A23<K$4),1,IF(AND($A23>K$15,K$15>0),I22,IF(AND($A23>=K$12,K$12>0),ROUND(I22+K$13,4),IF(AND($A23>=K$9,K$9>0),ROUND(I22+K$10,4),IF(AND($A23>=K$6,K$6>0),ROUND(I22+K$7,4),K$3))))) -> 1.7 | J23: =IF($A23<K$4, K$2, IF(K$1=0,IF(K$16>0,IF(K$2*K$16<ROUND(J22*I23, 3),K$2*K$16,ROUND(J22*I23, 3)),ROUND(J22*I23, 3)),IF(K$16>0,IF(K$2*K$16<ROUND(K$2*I23, 3),K$2*K$16,ROUND(K$2*I23, 3)),ROUND(K$2*I23, 3)))) -> 0.049 | K23: =K22+ROUND(J23,3) -> 0.105 | M23: =ROUND(C23*O23-K23*$O$6,2) -> 16.5 | N23: =IF($O$10>0,M23/$O$10,0) -> 0.0023571429 | O23: =ROUND(ROUND(K23,2)*$O$4,2) -> 1.1 | P23: =ROUND((ROUND(K22,2)*(G23-G22)*$O$4+P22+J23*$O$6),2) -> 5.5 | Q23: =P23/$O$10 -> 0.00078571429 | R23: =ROUND(P23/O23,0) -> 5 | S23: =ROUND(R23/G23,2) -> 0.33 | T23: =R23+C23 -> 20 | U23: =ROUND(T23/G23,2) -> 1.33 | W23: =ROUND(K23*$O$7,2) -> 19.64 | X23: =ROUND(P23+W23,2) -> 25.14 | Z23: =IF($O$10>0,ROUND($O$10-X23,2),0) -> 6974.86 | AA23: =IF($O$10>0,ROUND(X23/$O$10,2),0) -> 0 | AB23: =IF(AND(Z23>0,$O$4>0),($O$10-P23-W23*$O$8)/O23,0) -> 6358.6364 | AC23: =IF(AB23>0,AB23+G23,0) -> 6373.6364 | AD23: 4 | AF23: =IF(P23>0,ROUND(W23/P23,2),0) -> 3.57 | AG23: =IF($O$10>0,ROUND(W23/$O$10,2),0) -> 0 | AI23: 4 | AJ23: =COUNTIFS('[1]Данные из терминала'!C:C,AI23,'[1]Данные из терминала'!B:B,"sell") -> 49 | AK23: =COUNTIFS('[1]Данные из терминала'!C:C,AI23,'[1]Данные из терминала'!B:B,"buy") -> 31 | AL23: =COUNTIFS('[1]Данные из терминала'!C:C,AI23) -> 80 | AM23: =SUMIFS('[1]Данные из терминала'!E:E,'[1]Данные из терминала'!C:C,AI23,'[1]Данные из терминала'!B:B,"sell") -> 27.26 | AN23: =SUMIFS('[1]Данные из терминала'!E:E,'[1]Данные из терминала'!C:C,AI23,'[1]Данные из терминала'!B:B,"buy") -> 17.04 | AO23: =SUMIFS('[1]Данные из терминала'!E:E,'[1]Данные из терминала'!C:C,AI23) -> 44.3 | AP23: =SUMIFS('[1]Данные из терминала'!N:N,'[1]Данные из терминала'!C:C,AI23,'[1]Данные из терминала'!B:B,"sell") -> 4091.29 | AQ23: =SUMIFS('[1]Данные из терминала'!N:N,'[1]Данные из терминала'!C:C,AI23,'[1]Данные из терминала'!B:B,"buy") -> 2554.68 | AR23: =SUMIFS('[1]Данные из терминала'!N:N,'[1]Данные из терминала'!C:C,AI23) -> 6645.97 | AS23: =ROUND(IF(AJ23>0,AVERAGEIFS('[1]Данные из терминала'!N:N,'[1]Данные из терминала'!C:C,AI23,'[1]Данные из терминала'!B:B,"sell"),0),2) -> 83.5 | AT23: =ROUND(IF(AK23>0,AVERAGEIFS('[1]Данные из терминала'!N:N,'[1]Данные из терминала'!C:C,AI23,'[1]Данные из терминала'!B:B,"buy"),0),2) -> 82.41 | AU23: =ROUND(IF(AL23>0,AVERAGEIFS('[1]Данные из терминала'!N:N,'[1]Данные из терминала'!C:C,AI23),0),2) -> 83.07 | AV23: =IF(AJ23>0,AP23/$AR$42,0) -> 0.037774207 | AW23: =IF(AK23>0,AQ23/$AR$42,0) -> 0.02358694 | AX23: =IF(AL23>0,AR23/$AR$42,0) -> 0.061361147 | AY23: =IF(AJ23>0,VLOOKUP(AI23,[1]Сводная!A:E,5,0),0) -> 17.3 | AZ23: =IF(AK23>0,VLOOKUP(AI23,[1]Сводная!A:B,2,0),0) -> 16.7 | BA23: =ROUND(IF(AJ23>0,AVERAGEIFS('[1]Данные из терминала'!L:L,'[1]Данные из терминала'!C:C,AI23,'[1]Данные из терминала'!B:B,"sell"),0),1) -> 15.6 | BB23: =ROUND(IF(AK23>0,AVERAGEIFS('[1]Данные из терминала'!L:L,'[1]Данные из терминала'!C:C,AI23,'[1]Данные из терминала'!B:B,"buy"),0),1) -> 15.6 | BC23: =ROUND(IF(AL23>0,AVERAGEIFS('[1]Данные из терминала'!L:L,'[1]Данные из терминала'!C:C,AI23),0),1) -> 15.6 | BD23: =IF(AJ23>0,VLOOKUP(AI23,[1]Сводная!A:F,6,0),0) -> 20.9 | BE23: =IF(AK23>0,VLOOKUP(AI23,[1]Сводная!A:C,3,0),0) -> 24 | BF23: =ROUND(IF(AJ23>0,AVERAGEIFS('[1]Данные из терминала'!M:M,'[1]Данные из терминала'!C:C,AI23,'[1]Данные из терминала'!B:B,"sell"),0),1) -> 19.8 | BG23: =ROUND(IF(AK23>0,AVERAGEIFS('[1]Данные из терминала'!M:M,'[1]Данные из терминала'!C:C,AI23,'[1]Данные из терминала'!B:B,"buy"),0),1) -> 20.3 | BH23: =ROUND(IF(AL23>0,AVERAGEIFS('[1]Данные из терминала'!M:M,'[1]Данные из терминала'!C:C,AI23),0),1) -> 20 | BI23: =IF(AJ23>0,VLOOKUP(AI23,[1]Сводная!A:G,7,0),0) -> 1.4375 | BJ23: =IF(AK23>0,VLOOKUP(AI23,[1]Сводная!A:D,4,0),0) -> 0.83958333 | BK23: =IF(AJ23>0,AVERAGEIFS('[1]Данные из терминала'!O:O,'[1]Данные из терминала'!C:C,AI23,'[1]Данные из терминала'!B:B,"sell"),0) -> 0.26074263 | BL23: =IF(AK23>0,AVERAGEIFS('[1]Данные из терминала'!O:O,'[1]Данные из терминала'!C:C,AI23,'[1]Данные из терминала'!B:B,"buy"),0) -> 0.25020161 | BM23: =IF(AL23>0,AVERAGEIFS('[1]Данные из терминала'!O:O,'[1]Данные из терминала'!C:C,AI23),0) -> 0.25665799
A24: 5 | B24: =IF(AND($A24>=C$12,C$12>0),0,IF(AND($A24>=C$9,C$9>0),C$10,IF(AND($A24>=C$6,C$6>0),C$7,0))) -> -1 | C24: =IF(AND($A24>=C$12,C$12>0),C$13,C23+B24) -> 14 | E24: =IF(OR($A24<2,AND(G$15>0,$A24>G$15)),0,IF(AND($A24>=G$12,G$12>0),G$13,IF(AND($A24>=G$9,G$9>0),G$10,IF(AND($A24>=G$6,G$6>0),G$7,0)))) -> 1 | F24: =F23+E24 -> 7 | G24: =G23+F24 -> 22 | I24: =IF(($A24<K$4),1,IF(AND($A24>K$15,K$15>0),I23,IF(AND($A24>=K$12,K$12>0),ROUND(I23+K$13,4),IF(AND($A24>=K$9,K$9>0),ROUND(I23+K$10,4),IF(AND($A24>=K$6,K$6>0),ROUND(I23+K$7,4),K$3))))) -> 1.7 | J24: =IF($A24<K$4, K$2, IF(K$1=0,IF(K$16>0,IF(K$2*K$16<ROUND(J23*I24, 3),K$2*K$16,ROUND(J23*I24, 3)),ROUND(J23*I24, 3)),IF(K$16>0,IF(K$2*K$16<ROUND(K$2*I24, 3),K$2*K$16,ROUND(K$2*I24, 3)),ROUND(K$2*I24, 3)))) -> 0.083 | K24: =K23+ROUND(J24,3) -> 0.188 | M24: =ROUND(C24*O24-K24*$O$6,2) -> 26.6 | N24: =IF($O$10>0,M24/$O$10,0) -> 0.0038 | O24: =ROUND(ROUND(K24,2)*$O$4,2) -> 1.9 | P24: =ROUND((ROUND(K23,2)*(G24-G23)*$O$4+P23+J24*$O$6),2) -> 13.2 | Q24: =P24/$O$10 -> 0.0018857143 | R24: =ROUND(P24/O24,0) -> 7 | S24: =ROUND(R24/G24,2) -> 0.32 | T24: =R24+C24 -> 21 | U24: =ROUND(T24/G24,2) -> 0.95 | W24: =ROUND(K24*$O$7,2) -> 35.16 | X24: =ROUND(P24+W24,2) -> 48.36 | Z24: =IF($O$10>0,ROUND($O$10-X24,2),0) -> 6951.64 | AA24: =IF($O$10>0,ROUND(X24/$O$10,2),0) -> 0.01 | AB24: =IF(AND(Z24>0,$O$4>0),($O$10-P24-W24*$O$8)/O24,0) -> 3677.2632 | AC24: =IF(AB24>0,AB24+G24,0) -> 3699.2632 | AD24: 5 | AF24: =IF(P24>0,ROUND(W24/P24,2),0) -> 2.66 | AG24: =IF($O$10>0,ROUND(W24/$O$10,2),0) -> 0.01 | AI24: 5 | AJ24: =COUNTIFS('[1]Данные из терминала'!C:C,AI24,'[1]Данные из терминала'!B:B,"sell") -> 38 | AK24: =COUNTIFS('[1]Данные из терминала'!C:C,AI24,'[1]Данные из терминала'!B:B,"buy") -> 43 | AL24: =COUNTIFS('[1]Данные из терминала'!C:C,AI24) -> 81 | AM24: =SUMIFS('[1]Данные из терминала'!E:E,'[1]Данные из терминала'!C:C,AI24,'[1]Данные из терминала'!B:B,"sell") -> 42.24 | AN24: =SUMIFS('[1]Данные из терминала'!E:E,'[1]Данные из терминала'!C:C,AI24,'[1]Данные из терминала'!B:B,"buy") -> 47.36 | AO24: =SUMIFS('[1]Данные из терминала'!E:E,'[1]Данные из терминала'!C:C,AI24) -> 89.6 | AP24: =SUMIFS('[1]Данные из терминала'!N:N,'[1]Данные из терминала'!C:C,AI24,'[1]Данные из терминала'!B:B,"sell") -> 5914.88 | AQ24: =SUMIFS('[1]Данные из терминала'!N:N,'[1]Данные из терминала'!C:C,AI24,'[1]Данные из терминала'!B:B,"buy") -> 6628.52 | AR24: =SUMIFS('[1]Данные из терминала'!N:N,'[1]Данные из терминала'!C:C,AI24) -> 12543.4 | AS24: =ROUND(IF(AJ24>0,AVERAGEIFS('[1]Данные из терминала'!N:N,'[1]Данные из терминала'!C:C,AI24,'[1]Данные из терминала'!B:B,"sell"),0),2) -> 155.65 | AT24: =ROUND(IF(AK24>0,AVERAGEIFS('[1]Данные из терминала'!N:N,'[1]Данные из терминала'!C:C,AI24,'[1]Данные из терминала'!B:B,"buy"),0),2) -> 154.15 | AU24: =ROUND(IF(AL24>0,AVERAGEIFS('[1]Данные из терминала'!N:N,'[1]Данные из терминала'!C:C,AI24),0),2) -> 154.86 | AV24: =IF(AJ24>0,AP24/$AR$42,0) -> 0.054611113 | AW24: =IF(AK24>0,AQ24/$AR$42,0) -> 0.061200034 | AX24: =IF(AL24>0,AR24/$AR$42,0) -> 0.11581115 | AY24: =IF(AJ24>0,VLOOKUP(AI24,[1]Сводная!A:E,5,0),0) -> 25.4 | AZ24: =IF(AK24>0,VLOOKUP(AI24,[1]Сводная!A:B,2,0),0) -> 32.5 | BA24: =ROUND(IF(AJ24>0,AVERAGEIFS('[1]Данные из терминала'!L:L,'[1]Данные из терминала'!C:C,AI24,'[1]Данные из терминала'!B:B,"sell"),0),1) -> 23 | BB24: =ROUND(IF(AK24>0,AVERAGEIFS('[1]Данные из терминала'!L:L,'[1]Данные из терминала'!C:C,AI24,'[1]Данные из терминала'!B:B,"buy"),0),1) -> 23.1 | BC24: =ROUND(IF(AL24>0,AVERAGEIFS('[1]Данные из терминала'!L:L,'[1]Данные из терминала'!C:C,AI24),0),1) -> 23.1 | BD24: =IF(AJ24>0,VLOOKUP(AI24,[1]Сводная!A:F,6,0),0) -> 21.5 | BE24: =IF(AK24>0,VLOOKUP(AI24,[1]Сводная!A:C,3,0),0) -> 24.9 | BF24: =ROUND(IF(AJ24>0,AVERAGEIFS('[1]Данные из терминала'!M:M,'[1]Данные из терминала'!C:C,AI24,'[1]Данные из терминала'!B:B,"sell"),0),1) -> 20.7 | BG24: =ROUND(IF(AK24>0,AVERAGEIFS('[1]Данные из терминала'!M:M,'[1]Данные из терминала'!C:C,AI24,'[1]Данные из терминала'!B:B,"buy"),0),1) -> 21.3 | BH24: =ROUND(IF(AL24>0,AVERAGEIFS('[1]Данные из терминала'!M:M,'[1]Данные из терминала'!C:C,AI24),0),1) -> 21 | BI24: =IF(AJ24>0,VLOOKUP(AI24,[1]Сводная!A:G,7,0),0) -> 1.0180556 | BJ24: =IF(AK24>0,VLOOKUP(AI24,[1]Сводная!A:D,4,0),0) -> 0.81944444 | BK24: =IF(AJ24>0,AVERAGEIFS('[1]Данные из терминала'!O:O,'[1]Данные из терминала'!C:C,AI24,'[1]Данные из терминала'!B:B,"sell"),0) -> 0.35498904 | BL24: =IF(AK24>0,AVERAGEIFS('[1]Данные из терминала'!O:O,'[1]Данные из терминала'!C:C,AI24,'[1]Данные из терминала'!B:B,"buy"),0) -> 0.27881137 | BM24: =IF(AL24>0,AVERAGEIFS('[1]Данные из терминала'!O:O,'[1]Данные из терминала'!C:C,AI24),0) -> 0.31454904
A25: 6 | B25: =IF(AND($A25>=C$12,C$12>0),0,IF(AND($A25>=C$9,C$9>0),C$10,IF(AND($A25>=C$6,C$6>0),C$7,0))) -> -1 | C25: =IF(AND($A25>=C$12,C$12>0),C$13,C24+B25) -> 13 | E25: =IF(OR($A25<2,AND(G$15>0,$A25>G$15)),0,IF(AND($A25>=G$12,G$12>0),G$13,IF(AND($A25>=G$9,G$9>0),G$10,IF(AND($A25>=G$6,G$6>0),G$7,0)))) -> 1 | F25: =F24+E25 -> 8 | G25: =G24+F25 -> 30 | I25: =IF(($A25<K$4),1,IF(AND($A25>K$15,K$15>0),I24,IF(AND($A25>=K$12,K$12>0),ROUND(I24+K$13,4),IF(AND($A25>=K$9,K$9>0),ROUND(I24+K$10,4),IF(AND($A25>=K$6,K$6>0),ROUND(I24+K$7,4),K$3))))) -> 1.6 | J25: =IF($A25<K$4, K$2, IF(K$1=0,IF(K$16>0,IF(K$2*K$16<ROUND(J24*I25, 3),K$2*K$16,ROUND(J24*I25, 3)),ROUND(J24*I25, 3)),IF(K$16>0,IF(K$2*K$16<ROUND(K$2*I25, 3),K$2*K$16,ROUND(K$2*I25, 3)),ROUND(K$2*I25, 3)))) -> 0.133 | K25: =K24+ROUND(J25,3) -> 0.321 | M25: =ROUND(C25*O25-K25*$O$6,2) -> 41.6 | N25: =IF($O$10>0,M25/$O$10,0) -> 0.0059428571 | O25: =ROUND(ROUND(K25,2)*$O$4,2) -> 3.2 | P25: =ROUND((ROUND(K24,2)*(G25-G24)*$O$4+P24+J25*$O$6),2) -> 28.4 | Q25: =P25/$O$10 -> 0.0040571429 | R25: =ROUND(P25/O25,0) -> 9 | S25: =ROUND(R25/G25,2) -> 0.3 | T25: =R25+C25 -> 22 | U25: =ROUND(T25/G25,2) -> 0.73 | W25: =ROUND(K25*$O$7,2) -> 60.03 | X25: =ROUND(P25+W25,2) -> 88.43 | Z25: =IF($O$10>0,ROUND($O$10-X25,2),0) -> 6911.57 | AA25: =IF($O$10>0,ROUND(X25/$O$10,2),0) -> 0.01 | AB25: =IF(AND(Z25>0,$O$4>0),($O$10-P25-W25*$O$8)/O25,0) -> 2178.625 | AC25: =IF(AB25>0,AB25+G25,0) -> 2208.625 | AD25: 6 | AF25: =IF(P25>0,ROUND(W25/P25,2),0) -> 2.11 | AG25: =IF($O$10>0,ROUND(W25/$O$10,2),0) -> 0.01 | AI25: 6 | AJ25: =COUNTIFS('[1]Данные из терминала'!C:C,AI25,'[1]Данные из терминала'!B:B,"sell") -> 26 | AK25: =COUNTIFS('[1]Данные из терминала'!C:C,AI25,'[1]Данные из терминала'!B:B,"buy") -> 22 | AL25: =COUNTIFS('[1]Данные из терминала'!C:C,AI25) -> 48 | AM25: =SUMIFS('[1]Данные из терминала'!E:E,'[1]Данные из терминала'!C:C,AI25,'[1]Данные из терминала'!B:B,"sell") -> 42.21 | AN25: =SUMIFS('[1]Данные из терминала'!E:E,'[1]Данные из терминала'!C:C,AI25,'[1]Данные из терминала'!B:B,"buy") -> 38.69 | AO25: =SUMIFS('[1]Данные из терминала'!E:E,'[1]Данные из терминала'!C:C,AI25) -> 80.9 | AP25: =SUMIFS('[1]Данные из терминала'!N:N,'[1]Данные из терминала'!C:C,AI25,'[1]Данные из терминала'!B:B,"sell") -> 5484.86 | AQ25: =SUMIFS('[1]Данные из терминала'!N:N,'[1]Данные из терминала'!C:C,AI25,'[1]Данные из терминала'!B:B,"buy") -> 5027.93 | AR25: =SUMIFS('[1]Данные из терминала'!N:N,'[1]Данные из терминала'!C:C,AI25) -> 10512.79 | AS25: =ROUND(IF(AJ25>0,AVERAGEIFS('[1]Данные из терминала'!N:N,'[1]Данные из терминала'!C:C,AI25,'[1]Данные из терминала'!B:B,"sell"),0),2) -> 210.96 | AT25: =ROUND(IF(AK25>0,AVERAGEIFS('[1]Данные из терминала'!N:N,'[1]Данные из терминала'!C:C,AI25,'[1]Данные из терминала'!B:B,"buy"),0),2) -> 228.54 | AU25: =ROUND(IF(AL25>0,AVERAGEIFS('[1]Данные из терминала'!N:N,'[1]Данные из терминала'!C:C,AI25),0),2) -> 219.02 | AV25: =IF(AJ25>0,AP25/$AR$42,0) -> 0.05064081 | AW25: =IF(AK25>0,AQ25/$AR$42,0) -> 0.04642205 | AX25: =IF(AL25>0,AR25/$AR$42,0) -> 0.09706286 | AY25: =IF(AJ25>0,VLOOKUP(AI25,[1]Сводная!A:E,5,0),0) -> 45.1 | AZ25: =IF(AK25>0,VLOOKUP(AI25,[1]Сводная!A:B,2,0),0) -> 33.2 | BA25: =ROUND(IF(AJ25>0,AVERAGEIFS('[1]Данные из терминала'!L:L,'[1]Данные из терминала'!C:C,AI25,'[1]Данные из терминала'!B:B,"sell"),0),1) -> 31.6 | BB25: =ROUND(IF(AK25>0,AVERAGEIFS('[1]Данные из терминала'!L:L,'[1]Данные из терминала'!C:C,AI25,'[1]Данные из терминала'!B:B,"buy"),0),1) -> 31 | BC25: =ROUND(IF(AL25>0,AVERAGEIFS('[1]Данные из терминала'!L:L,'[1]Данные из терминала'!C:C,AI25),0),1) -> 31.3 | BD25: =IF(AJ25>0,VLOOKUP(AI25,[1]Сводная!A:F,6,0),0) -> 24.2 | BE25: =IF(AK25>0,VLOOKUP(AI25,[1]Сводная!A:C,3,0),0) -> 26.1 | BF25: =ROUND(IF(AJ25>0,AVERAGEIFS('[1]Данные из терминала'!M:M,'[1]Данные из терминала'!C:C,AI25,'[1]Данные из терминала'!B:B,"sell"),0),1) -> 21.7 | BG25: =ROUND(IF(AK25>0,AVERAGEIFS('[1]Данные из терминала'!M:M,'[1]Данные из терминала'!C:C,AI25,'[1]Данные из терминала'!B:B,"buy"),0),1) -> 22.6 | BH25: =ROUND(IF(AL25>0,AVERAGEIFS('[1]Данные из терминала'!M:M,'[1]Данные из терминала'!C:C,AI25),0),1) -> 22.1 | BI25: =IF(AJ25>0,VLOOKUP(AI25,[1]Сводная!A:G,7,0),0) -> 0.94166667 | BJ25: =IF(AK25>0,VLOOKUP(AI25,[1]Сводная!A:D,4,0),0) -> 1.2652778 | BK25: =IF(AJ25>0,AVERAGEIFS('[1]Данные из терминала'!O:O,'[1]Данные из терминала'!C:C,AI25,'[1]Данные из терминала'!B:B,"sell"),0) -> 0.35136218 | BL25: =IF(AK25>0,AVERAGEIFS('[1]Данные из терминала'!O:O,'[1]Данные из терминала'!C:C,AI25,'[1]Данные из терминала'!B:B,"buy"),0) -> 0.48671086 | BM25: =IF(AL25>0,AVERAGEIFS('[1]Данные из терминала'!O:O,'[1]Данные из терминала'!C:C,AI25),0) -> 0.41339699
A26: 7 | B26: =IF(AND($A26>=C$12,C$12>0),0,IF(AND($A26>=C$9,C$9>0),C$10,IF(AND($A26>=C$6,C$6>0),C$7,0))) -> -1 | C26: =IF(AND($A26>=C$12,C$12>0),C$13,C25+B26) -> 12 | E26: =IF(OR($A26<2,AND(G$15>0,$A26>G$15)),0,IF(AND($A26>=G$12,G$12>0),G$13,IF(AND($A26>=G$9,G$9>0),G$10,IF(AND($A26>=G$6,G$6>0),G$7,0)))) -> 1 | F26: =F25+E26 -> 9 | G26: =G25+F26 -> 39 | I26: =IF(($A26<K$4),1,IF(AND($A26>K$15,K$15>0),I25,IF(AND($A26>=K$12,K$12>0),ROUND(I25+K$13,4),IF(AND($A26>=K$9,K$9>0),ROUND(I25+K$10,4),IF(AND($A26>=K$6,K$6>0),ROUND(I25+K$7,4),K$3))))) -> 1.5 | J26: =IF($A26<K$4, K$2, IF(K$1=0,IF(K$16>0,IF(K$2*K$16<ROUND(J25*I26, 3),K$2*K$16,ROUND(J25*I26, 3)),ROUND(J25*I26, 3)),IF(K$16>0,IF(K$2*K$16<ROUND(K$2*I26, 3),K$2*K$16,ROUND(K$2*I26, 3)),ROUND(K$2*I26, 3)))) -> 0.2 | K26: =K25+ROUND(J26,3) -> 0.521 | M26: =ROUND(C26*O26-K26*$O$6,2) -> 62.4 | N26: =IF($O$10>0,M26/$O$10,0) -> 0.0089142857 | O26: =ROUND(ROUND(K26,2)*$O$4,2) -> 5.2 | P26: =ROUND((ROUND(K25,2)*(G26-G25)*$O$4+P25+J26*$O$6),2) -> 57.2 | Q26: =P26/$O$10 -> 0.0081714286 | R26: =ROUND(P26/O26,0) -> 11 | S26: =ROUND(R26/G26,2) -> 0.28 | T26: =R26+C26 -> 23 | U26: =ROUND(T26/G26,2) -> 0.59 | W26: =ROUND(K26*$O$7,2) -> 97.43 | X26: =ROUND(P26+W26,2) -> 154.63 | Z26: =IF($O$10>0,ROUND($O$10-X26,2),0) -> 6845.37 | AA26: =IF($O$10>0,ROUND(X26/$O$10,2),0) -> 0.02 | AB26: =IF(AND(Z26>0,$O$4>0),($O$10-P26-W26*$O$8)/O26,0) -> 1335.1538 | AC26: =IF(AB26>0,AB26+G26,0) -> 1374.1538 | AD26: 7 | AF26: =IF(P26>0,ROUND(W26/P26,2),0) -> 1.7 | AG26: =IF($O$10>0,ROUND(W26/$O$10,2),0) -> 0.01 | AI26: 7 | AJ26: =COUNTIFS('[1]Данные из терминала'!C:C,AI26,'[1]Данные из терминала'!B:B,"sell") -> 23 | AK26: =COUNTIFS('[1]Данные из терминала'!C:C,AI26,'[1]Данные из терминала'!B:B,"buy") -> 12 | AL26: =COUNTIFS('[1]Данные из терминала'!C:C,AI26) -> 35 | AM26: =SUMIFS('[1]Данные из терминала'!E:E,'[1]Данные из терминала'!C:C,AI26,'[1]Данные из терминала'!B:B,"sell") -> 67.94 | AN26: =SUMIFS('[1]Данные из терминала'!E:E,'[1]Данные из терминала'!C:C,AI26,'[1]Данные из терминала'!B:B,"buy") -> 29.79 | AO26: =SUMIFS('[1]Данные из терминала'!E:E,'[1]Данные из терминала'!C:C,AI26) -> 97.73 | AP26: =SUMIFS('[1]Данные из терминала'!N:N,'[1]Данные из терминала'!C:C,AI26,'[1]Данные из терминала'!B:B,"sell") -> 8152.23 | AQ26: =SUMIFS('[1]Данные из терминала'!N:N,'[1]Данные из терминала'!C:C,AI26,'[1]Данные из терминала'!B:B,"buy") -> 3573.67 | AR26: =SUMIFS('[1]Данные из терминала'!N:N,'[1]Данные из терминала'!C:C,AI26) -> 11725.9 | AS26: =ROUND(IF(AJ26>0,AVERAGEIFS('[1]Данные из терминала'!N:N,'[1]Данные из терминала'!C:C,AI26,'[1]Данные из терминала'!B:B,"sell"),0),2) -> 354.44 | AT26: =ROUND(IF(AK26>0,AVERAGEIFS('[1]Данные из терминала'!N:N,'[1]Данные из терминала'!C:C,AI26,'[1]Данные из терминала'!B:B,"buy"),0),2) -> 297.81 | AU26: =ROUND(IF(AL26>0,AVERAGEIFS('[1]Данные из терминала'!N:N,'[1]Данные из терминала'!C:C,AI26),0),2) -> 335.03 | AV26: =IF(AJ26>0,AP26/$AR$42,0) -> 0.075268198 | AW26: =IF(AK26>0,AQ26/$AR$42,0) -> 0.032995107 | AX26: =IF(AL26>0,AR26/$AR$42,0) -> 0.1082633 | AY26: =IF(AJ26>0,VLOOKUP(AI26,[1]Сводная!A:E,5,0),0) -> 44.2 | AZ26: =IF(AK26>0,VLOOKUP(AI26,[1]Сводная!A:B,2,0),0) -> 46.6 | BA26: =ROUND(IF(AJ26>0,AVERAGEIFS('[1]Данные из терминала'!L:L,'[1]Данные из терминала'!C:C,AI26,'[1]Данные из терминала'!B:B,"sell"),0),1) -> 40.8 | BB26: =ROUND(IF(AK26>0,AVERAGEIFS('[1]Данные из терминала'!L:L,'[1]Данные из терминала'!C:C,AI26,'[1]Данные из терминала'!B:B,"buy"),0),1) -> 41.2 | BC26: =ROUND(IF(AL26>0,AVERAGEIFS('[1]Данные из терминала'!L:L,'[1]Данные из терминала'!C:C,AI26),0),1) -> 41 | BD26: =IF(AJ26>0,VLOOKUP(AI26,[1]Сводная!A:F,6,0),0) -> 24.1 | BE26: =IF(AK26>0,VLOOKUP(AI26,[1]Сводная!A:C,3,0),0) -> 25.6 | BF26: =ROUND(IF(AJ26>0,AVERAGEIFS('[1]Данные из терминала'!M:M,'[1]Данные из терминала'!C:C,AI26,'[1]Данные из терминала'!B:B,"sell"),0),1) -> 23.1 | BG26: =ROUND(IF(AK26>0,AVERAGEIFS('[1]Данные из терминала'!M:M,'[1]Данные из терминала'!C:C,AI26,'[1]Данные из терминала'!B:B,"buy"),0),1) -> 23.8 | BH26: =ROUND(IF(AL26>0,AVERAGEIFS('[1]Данные из терминала'!M:M,'[1]Данные из терминала'!C:C,AI26),0),1) -> 23.3 | BI26: =IF(AJ26>0,VLOOKUP(AI26,[1]Сводная!A:G,7,0),0) -> 1.88125 | BJ26: =IF(AK26>0,VLOOKUP(AI26,[1]Сводная!A:D,4,0),0) -> 1.36875 | BK26: =IF(AJ26>0,AVERAGEIFS('[1]Данные из терминала'!O:O,'[1]Данные из терминала'!C:C,AI26,'[1]Данные из терминала'!B:B,"sell"),0) -> 0.53242754 | BL26: =IF(AK26>0,AVERAGEIFS('[1]Данные из терминала'!O:O,'[1]Данные из терминала'!C:C,AI26,'[1]Данные из терминала'!B:B,"buy"),0) -> 0.56325231 | BM26: =IF(AL26>0,AVERAGEIFS('[1]Данные из терминала'!O:O,'[1]Данные из терминала'!C:C,AI26),0) -> 0.54299603 | BO26: 2
A27: 8 | B27: =IF(AND($A27>=C$12,C$12>0),0,IF(AND($A27>=C$9,C$9>0),C$10,IF(AND($A27>=C$6,C$6>0),C$7,0))) -> -1 | C27: =IF(AND($A27>=C$12,C$12>0),C$13,C26+B27) -> 11 | E27: =IF(OR($A27<2,AND(G$15>0,$A27>G$15)),0,IF(AND($A27>=G$12,G$12>0),G$13,IF(AND($A27>=G$9,G$9>0),G$10,IF(AND($A27>=G$6,G$6>0),G$7,0)))) -> 1 | F27: =F26+E27 -> 10 | G27: =G26+F27 -> 49 | I27: =IF(($A27<K$4),1,IF(AND($A27>K$15,K$15>0),I26,IF(AND($A27>=K$12,K$12>0),ROUND(I26+K$13,4),IF(AND($A27>=K$9,K$9>0),ROUND(I26+K$10,4),IF(AND($A27>=K$6,K$6>0),ROUND(I26+K$7,4),K$3))))) -> 1.51 | J27: =IF($A27<K$4, K$2, IF(K$1=0,IF(K$16>0,IF(K$2*K$16<ROUND(J26*I27, 3),K$2*K$16,ROUND(J26*I27, 3)),ROUND(J26*I27, 3)),IF(K$16>0,IF(K$2*K$16<ROUND(K$2*I27, 3),K$2*K$16,ROUND(K$2*I27, 3)),ROUND(K$2*I27, 3)))) -> 0.302 | K27: =K26+ROUND(J27,3) -> 0.823 | M27: =ROUND(C27*O27-K27*$O$6,2) -> 90.2 | N27: =IF($O$10>0,M27/$O$10,0) -> 0.012885714 | O27: =ROUND(ROUND(K27,2)*$O$4,2) -> 8.2 | P27: =ROUND((ROUND(K26,2)*(G27-G26)*$O$4+P26+J27*$O$6),2) -> 109.2 | Q27: =P27/$O$10 -> 0.0156 | R27: =ROUND(P27/O27,0) -> 13 | S27: =ROUND(R27/G27,2) -> 0.27 | T27: =R27+C27 -> 24 | U27: =ROUND(T27/G27,2) -> 0.49 | W27: =ROUND(K27*$O$7,2) -> 153.9 | X27: =ROUND(P27+W27,2) -> 263.1 | Z27: =IF($O$10>0,ROUND($O$10-X27,2),0) -> 6736.9 | AA27: =IF($O$10>0,ROUND(X27/$O$10,2),0) -> 0.04 | AB27: =IF(AND(Z27>0,$O$4>0),($O$10-P27-W27*$O$8)/O27,0) -> 840.34146 | AC27: =IF(AB27>0,AB27+G27,0) -> 889.34146 | AD27: 8 | AF27: =IF(P27>0,ROUND(W27/P27,2),0) -> 1.41 | AG27: =IF($O$10>0,ROUND(W27/$O$10,2),0) -> 0.02 | AI27: 8 | AJ27: =COUNTIFS('[1]Данные из терминала'!C:C,AI27,'[1]Данные из терминала'!B:B,"sell") -> 12 | AK27: =COUNTIFS('[1]Данные из терминала'!C:C,AI27,'[1]Данные из терминала'!B:B,"buy") -> 7 | AL27: =COUNTIFS('[1]Данные из терминала'!C:C,AI27) -> 19 | AM27: =SUMIFS('[1]Данные из терминала'!E:E,'[1]Данные из терминала'!C:C,AI27,'[1]Данные из терминала'!B:B,"sell") -> 51.19 | AN27: =SUMIFS('[1]Данные из терминала'!E:E,'[1]Данные из терминала'!C:C,AI27,'[1]Данные из терминала'!B:B,"buy") -> 26.4 | AO27: =SUMIFS('[1]Данные из терминала'!E:E,'[1]Данные из терминала'!C:C,AI27) -> 77.59 | AP27: =SUMIFS('[1]Данные из терминала'!N:N,'[1]Данные из терминала'!C:C,AI27,'[1]Данные из терминала'!B:B,"sell") -> 5626.18 | AQ27: =SUMIFS('[1]Данные из терминала'!N:N,'[1]Данные из терминала'!C:C,AI27,'[1]Данные из терминала'!B:B,"buy") -> 2903.16 | AR27: =SUMIFS('[1]Данные из терминала'!N:N,'[1]Данные из терминала'!C:C,AI27) -> 8529.34 | AS27: =ROUND(IF(AJ27>0,AVERAGEIFS('[1]Данные из терминала'!N:N,'[1]Данные из терминала'!C:C,AI27,'[1]Данные из терминала'!B:B,"sell"),0),2) -> 468.85 | AT27: =ROUND(IF(AK27>0,AVERAGEIFS('[1]Данные из терминала'!N:N,'[1]Данные из терминала'!C:C,AI27,'[1]Данные из терминала'!B:B,"buy"),0),2) -> 414.74 | AU27: =ROUND(IF(AL27>0,AVERAGEIFS('[1]Данные из терминала'!N:N,'[1]Данные из терминала'!C:C,AI27),0),2) -> 448.91 | AV27: =IF(AJ27>0,AP27/$AR$42,0) -> 0.051945594 | AW27: =IF(AK27>0,AQ27/$AR$42,0) -> 0.026804398 | AX27: =IF(AL27>0,AR27/$AR$42,0) -> 0.078749992 | AY27: =IF(AJ27>0,VLOOKUP(AI27,[1]Сводная!A:E,5,0),0) -> 56.7 | AZ27: =IF(AK27>0,VLOOKUP(AI27,[1]Сводная!A:B,2,0),0) -> 60.4 | BA27: =ROUND(IF(AJ27>0,AVERAGEIFS('[1]Данные из терминала'!L:L,'[1]Данные из терминала'!C:C,AI27,'[1]Данные из терминала'!B:B,"sell"),0),1) -> 51.1 | BB27: =ROUND(IF(AK27>0,AVERAGEIFS('[1]Данные из терминала'!L:L,'[1]Данные из терминала'!C:C,AI27,'[1]Данные из терминала'!B:B,"buy"),0),1) -> 52.3 | BC27: =ROUND(IF(AL27>0,AVERAGEIFS('[1]Данные из терминала'!L:L,'[1]Данные из терминала'!C:C,AI27),0),1) -> 51.5 | BD27: =IF(AJ27>0,VLOOKUP(AI27,[1]Сводная!A:F,6,0),0) -> 25.1 | BE27: =IF(AK27>0,VLOOKUP(AI27,[1]Сводная!A:C,3,0),0) -> 30.8 | BF27: =ROUND(IF(AJ27>0,AVERAGEIFS('[1]Данные из терминала'!M:M,'[1]Данные из терминала'!C:C,AI27,'[1]Данные из терминала'!B:B,"sell"),0),1) -> 24.1 | BG27: =ROUND(IF(AK27>0,AVERAGEIFS('[1]Данные из терминала'!M:M,'[1]Данные из терминала'!C:C,AI27,'[1]Данные из терминала'!B:B,"buy"),0),1) -> 26.1 | BH27: =ROUND(IF(AL27>0,AVERAGEIFS('[1]Данные из терминала'!M:M,'[1]Данные из терминала'!C:C,AI27),0),1) -> 24.8 | BI27: =IF(AJ27>0,VLOOKUP(AI27,[1]Сводная!A:G,7,0),0) -> 0.99791667 | BJ27: =IF(AK27>0,VLOOKUP(AI27,[1]Сводная!A:D,4,0),0) -> 1.1458333 | BK27: =IF(AJ27>0,AVERAGEIFS('[1]Данные из терминала'!O:O,'[1]Данные из терминала'!C:C,AI27,'[1]Данные из терминала'!B:B,"sell"),0) -> 0.52077546 | BL27: =IF(AK27>0,AVERAGEIFS('[1]Данные из терминала'!O:O,'[1]Данные из терминала'!C:C,AI27,'[1]Данные из терминала'!B:B,"buy"),0) -> 0.52986111 | BM27: =IF(AL27>0,AVERAGEIFS('[1]Данные из терминала'!O:O,'[1]Данные из терминала'!C:C,AI27),0) -> 0.52412281
A28: 9 | B28: =IF(AND($A28>=C$12,C$12>0),0,IF(AND($A28>=C$9,C$9>0),C$10,IF(AND($A28>=C$6,C$6>0),C$7,0))) -> -1 | C28: =IF(AND($A28>=C$12,C$12>0),C$13,C27+B28) -> 10 | E28: =IF(OR($A28<2,AND(G$15>0,$A28>G$15)),0,IF(AND($A28>=G$12,G$12>0),G$13,IF(AND($A28>=G$9,G$9>0),G$10,IF(AND($A28>=G$6,G$6>0),G$7,0)))) -> 1 | F28: =F27+E28 -> 11 | G28: =G27+F28 -> 60 | I28: =IF(($A28<K$4),1,IF(AND($A28>K$15,K$15>0),I27,IF(AND($A28>=K$12,K$12>0),ROUND(I27+K$13,4),IF(AND($A28>=K$9,K$9>0),ROUND(I27+K$10,4),IF(AND($A28>=K$6,K$6>0),ROUND(I27+K$7,4),K$3))))) -> 1.52 | J28: =IF($A28<K$4, K$2, IF(K$1=0,IF(K$16>0,IF(K$2*K$16<ROUND(J27*I28, 3),K$2*K$16,ROUND(J27*I28, 3)),ROUND(J27*I28, 3)),IF(K$16>0,IF(K$2*K$16<ROUND(K$2*I28, 3),K$2*K$16,ROUND(K$2*I28, 3)),ROUND(K$2*I28, 3)))) -> 0.459 | K28: =K27+ROUND(J28,3) -> 1.282 | M28: =ROUND(C28*O28-K28*$O$6,2) -> 128 | N28: =IF($O$10>0,M28/$O$10,0) -> 0.018285714 | O28: =ROUND(ROUND(K28,2)*$O$4,2) -> 12.8 | P28: =ROUND((ROUND(K27,2)*(G28-G27)*$O$4+P27+J28*$O$6),2) -> 199.4 | Q28: =P28/$O$10 -> 0.028485714 | R28: =ROUND(P28/O28,0) -> 16 | S28: =ROUND(R28/G28,2) -> 0.27 | T28: =R28+C28 -> 26 | U28: =ROUND(T28/G28,2) -> 0.43 | W28: =ROUND(K28*$O$7,2) -> 239.73 | X28: =ROUND(P28+W28,2) -> 439.13 | Z28: =IF($O$10>0,ROUND($O$10-X28,2),0) -> 6560.87 | AA28: =IF($O$10>0,ROUND(X28/$O$10,2),0) -> 0.06 | AB28: =IF(AND(Z28>0,$O$4>0),($O$10-P28-W28*$O$8)/O28,0) -> 531.29688 | AC28: =IF(AB28>0,AB28+G28,0) -> 591.29688 | AD28: 9 | AF28: =IF(P28>0,ROUND(W28/P28,2),0) -> 1.2 | AG28: =IF($O$10>0,ROUND(W28/$O$10,2),0) -> 0.03 | AI28: 9 | AJ28: =COUNTIFS('[1]Данные из терминала'!C:C,AI28,'[1]Данные из терминала'!B:B,"sell") -> 5 | AK28: =COUNTIFS('[1]Данные из терминала'!C:C,AI28,'[1]Данные из терминала'!B:B,"buy") -> 12 | AL28: =COUNTIFS('[1]Данные из терминала'!C:C,AI28) -> 17 | AM28: =SUMIFS('[1]Данные из терминала'!E:E,'[1]Данные из терминала'!C:C,AI28,'[1]Данные из терминала'!B:B,"sell") -> 25.72 | AN28: =SUMIFS('[1]Данные из терминала'!E:E,'[1]Данные из терминала'!C:C,AI28,'[1]Данные из терминала'!B:B,"buy") -> 68.15 | AO28: =SUMIFS('[1]Данные из терминала'!E:E,'[1]Данные из терминала'!C:C,AI28) -> 93.87 | AP28: =SUMIFS('[1]Данные из терминала'!N:N,'[1]Данные из терминала'!C:C,AI28,'[1]Данные из терминала'!B:B,"sell") -> 2570.86 | AQ28: =SUMIFS('[1]Данные из терминала'!N:N,'[1]Данные из терминала'!C:C,AI28,'[1]Данные из терминала'!B:B,"buy") -> 1943.93 | AR28: =SUMIFS('[1]Данные из терминала'!N:N,'[1]Данные из терминала'!C:C,AI28) -> 4514.79 | AS28: =ROUND(IF(AJ28>0,AVERAGEIFS('[1]Данные из терминала'!N:N,'[1]Данные из терминала'!C:C,AI28,'[1]Данные из терминала'!B:B,"sell"),0),2) -> 514.17 | AT28: =ROUND(IF(AK28>0,AVERAGEIFS('[1]Данные из терминала'!N:N,'[1]Данные из терминала'!C:C,AI28,'[1]Данные из терминала'!B:B,"buy"),0),2) -> 161.99 | AU28: =ROUND(IF(AL28>0,AVERAGEIFS('[1]Данные из терминала'!N:N,'[1]Данные из терминала'!C:C,AI28),0),2) -> 265.58 | AV28: =IF(AJ28>0,AP28/$AR$42,0) -> 0.023736327 | AW28: =IF(AK28>0,AQ28/$AR$42,0) -> 0.017947986 | AX28: =IF(AL28>0,AR28/$AR$42,0) -> 0.041684313 | AY28: =IF(AJ28>0,VLOOKUP(AI28,[1]Сводная!A:E,5,0),0) -> 62.2 | AZ28: =IF(AK28>0,VLOOKUP(AI28,[1]Сводная!A:B,2,0),0) -> 72.5 | BA28: =ROUND(IF(AJ28>0,AVERAGEIFS('[1]Данные из терминала'!L:L,'[1]Данные из терминала'!C:C,AI28,'[1]Данные из терминала'!B:B,"sell"),0),1) -> 61.7 | BB28: =ROUND(IF(AK28>0,AVERAGEIFS('[1]Данные из терминала'!L:L,'[1]Данные из терминала'!C:C,AI28,'[1]Данные из терминала'!B:B,"buy"),0),1) -> 62.8 | BC28: =ROUND(IF(AL28>0,AVERAGEIFS('[1]Данные из терминала'!L:L,'[1]Данные из терминала'!C:C,AI28),0),1) -> 62.5 | BD28: =IF(AJ28>0,VLOOKUP(AI28,[1]Сводная!A:F,6,0),0) -> 26.1 | BE28: =IF(AK28>0,VLOOKUP(AI28,[1]Сводная!A:C,3,0),0) -> 30.2 | BF28: =ROUND(IF(AJ28>0,AVERAGEIFS('[1]Данные из терминала'!M:M,'[1]Данные из терминала'!C:C,AI28,'[1]Данные из терминала'!B:B,"sell"),0),1) -> 25.9 | BG28: =ROUND(IF(AK28>0,AVERAGEIFS('[1]Данные из терминала'!M:M,'[1]Данные из терминала'!C:C,AI28,'[1]Данные из терминала'!B:B,"buy"),0),1) -> 24.5 | BH28: =ROUND(IF(AL28>0,AVERAGEIFS('[1]Данные из терминала'!M:M,'[1]Данные из терминала'!C:C,AI28),0),1) -> 24.9 | BI28: =IF(AJ28>0,VLOOKUP(AI28,[1]Сводная!A:G,7,0),0) -> 0.88819444 | BJ28: =IF(AK28>0,VLOOKUP(AI28,[1]Сводная!A:D,4,0),0) -> 2.4597222 | BK28: =IF(AJ28>0,AVERAGEIFS('[1]Данные из терминала'!O:O,'[1]Данные из терминала'!C:C,AI28,'[1]Данные из терминала'!B:B,"sell"),0) -> 0.35166667 | BL28: =IF(AK28>0,AVERAGEIFS('[1]Данные из терминала'!O:O,'[1]Данные из терминала'!C:C,AI28,'[1]Данные из терминала'!B:B,"buy"),0) -> 0.7712963 | BM28: =IF(AL28>0,AVERAGEIFS('[1]Данные из терминала'!O:O,'[1]Данные из терминала'!C:C,AI28),0) -> 0.64787582
A29: 10 | B29: =IF(AND($A29>=C$12,C$12>0),0,IF(AND($A29>=C$9,C$9>0),C$10,IF(AND($A29>=C$6,C$6>0),C$7,0))) -> -2 | C29: =IF(AND($A29>=C$12,C$12>0),C$13,C28+B29) -> 8 | E29: =IF(OR($A29<2,AND(G$15>0,$A29>G$15)),0,IF(AND($A29>=G$12,G$12>0),G$13,IF(AND($A29>=G$9,G$9>0),G$10,IF(AND($A29>=G$6,G$6>0),G$7,0)))) -> 0 | F29: =F28+E29 -> 11 | G29: =G28+F29 -> 71 | I29: =IF(($A29<K$4),1,IF(AND($A29>K$15,K$15>0),I28,IF(AND($A29>=K$12,K$12>0),ROUND(I28+K$13,4),IF(AND($A29>=K$9,K$9>0),ROUND(I28+K$10,4),IF(AND($A29>=K$6,K$6>0),ROUND(I28+K$7,4),K$3))))) -> 1.53 | J29: =IF($A29<K$4, K$2, IF(K$1=0,IF(K$16>0,IF(K$2*K$16<ROUND(J28*I29, 3),K$2*K$16,ROUND(J28*I29, 3)),ROUND(J28*I29, 3)),IF(K$16>0,IF(K$2*K$16<ROUND(K$2*I29, 3),K$2*K$16,ROUND(K$2*I29, 3)),ROUND(K$2*I29, 3)))) -> 0.702 | K29: =K28+ROUND(J29,3) -> 1.984 | M29: =ROUND(C29*O29-K29*$O$6,2) -> 158.4 | N29: =IF($O$10>0,M29/$O$10,0) -> 0.022628571 | O29: =ROUND(ROUND(K29,2)*$O$4,2) -> 19.8 | P29: =ROUND((ROUND(K28,2)*(G29-G28)*$O$4+P28+J29*$O$6),2) -> 340.2 | Q29: =P29/$O$10 -> 0.0486 | R29: =ROUND(P29/O29,0) -> 17 | S29: =ROUND(R29/G29,2) -> 0.24 | T29: =R29+C29 -> 25 | U29: =ROUND(T29/G29,2) -> 0.35 | W29: =ROUND(K29*$O$7,2) -> 371.01 | X29: =ROUND(P29+W29,2) -> 711.21 | Z29: =IF($O$10>0,ROUND($O$10-X29,2),0) -> 6288.79 | AA29: =IF($O$10>0,ROUND(X29/$O$10,2),0) -> 0.1 | AB29: =IF(AND(Z29>0,$O$4>0),($O$10-P29-W29*$O$8)/O29,0) -> 336.35354 | AC29: =IF(AB29>0,AB29+G29,0) -> 407.35354 | AD29: 10 | AF29: =IF(P29>0,ROUND(W29/P29,2),0) -> 1.09 | AG29: =IF($O$10>0,ROUND(W29/$O$10,2),0) -> 0.05 | AI29: 10 | AJ29: =COUNTIFS('[1]Данные из терминала'!C:C,AI29,'[1]Данные из терминала'!B:B,"sell") -> 8 | AK29: =COUNTIFS('[1]Данные из терминала'!C:C,AI29,'[1]Данные из терминала'!B:B,"buy") -> 15 | AL29: =COUNTIFS('[1]Данные из терминала'!C:C,AI29) -> 23 | AM29: =SUMIFS('[1]Данные из терминала'!E:E,'[1]Данные из терминала'!C:C,AI29,'[1]Данные из терминала'!B:B,"sell") -> 95.48 | AN29: =SUMIFS('[1]Данные из терминала'!E:E,'[1]Данные из терминала'!C:C,AI29,'[1]Данные из терминала'!B:B,"buy") -> 176.12 | AO29: =SUMIFS('[1]Данные из терминала'!E:E,'[1]Данные из терминала'!C:C,AI29) -> 271.6 | AP29: =SUMIFS('[1]Данные из терминала'!N:N,'[1]Данные из терминала'!C:C,AI29,'[1]Данные из терминала'!B:B,"sell") -> 7648.83 | AQ29: =SUMIFS('[1]Данные из терминала'!N:N,'[1]Данные из терминала'!C:C,AI29,'[1]Данные из терминала'!B:B,"buy") -> 14099.67 | AR29: =SUMIFS('[1]Данные из терминала'!N:N,'[1]Данные из терминала'!C:C,AI29) -> 21748.5 | AS29: =ROUND(IF(AJ29>0,AVERAGEIFS('[1]Данные из терминала'!N:N,'[1]Данные из терминала'!C:C,AI29,'[1]Данные из терминала'!B:B,"sell"),0),2) -> 956.1 | AT29: =ROUND(IF(AK29>0,AVERAGEIFS('[1]Данные из терминала'!N:N,'[1]Данные из терминала'!C:C,AI29,'[1]Данные из терминала'!B:B,"buy"),0),2) -> 939.98 | AU29: =ROUND(IF(AL29>0,AVERAGEIFS('[1]Данные из терминала'!N:N,'[1]Данные из терминала'!C:C,AI29),0),2) -> 945.59 | AV29: =IF(AJ29>0,AP29/$AR$42,0) -> 0.070620388 | AW29: =IF(AK29>0,AQ29/$AR$42,0) -> 0.13017993 | AX29: =IF(AL29>0,AR29/$AR$42,0) -> 0.20080032 | AY29: =IF(AJ29>0,VLOOKUP(AI29,[1]Сводная!A:E,5,0),0) -> 84.1 | AZ29: =IF(AK29>0,VLOOKUP(AI29,[1]Сводная!A:B,2,0),0) -> 87.8 | BA29: =ROUND(IF(AJ29>0,AVERAGEIFS('[1]Данные из терминала'!L:L,'[1]Данные из терминала'!C:C,AI29,'[1]Данные из терминала'!B:B,"sell"),0),1) -> 74.5 | BB29: =ROUND(IF(AK29>0,AVERAGEIFS('[1]Данные из терминала'!L:L,'[1]Данные из терминала'!C:C,AI29,'[1]Данные из терминала'!B:B,"buy"),0),1) -> 74.6 | BC29: =ROUND(IF(AL29>0,AVERAGEIFS('[1]Данные из терминала'!L:L,'[1]Данные из терминала'!C:C,AI29),0),1) -> 74.6 | BD29: =IF(AJ29>0,VLOOKUP(AI29,[1]Сводная!A:F,6,0),0) -> 26.1 | BE29: =IF(AK29>0,VLOOKUP(AI29,[1]Сводная!A:C,3,0),0) -> 29.8 | BF29: =ROUND(IF(AJ29>0,AVERAGEIFS('[1]Данные из терминала'!M:M,'[1]Данные из терминала'!C:C,AI29,'[1]Данные из терминала'!B:B,"sell"),0),1) -> 25.3 | BG29: =ROUND(IF(AK29>0,AVERAGEIFS('[1]Данные из терминала'!M:M,'[1]Данные из терминала'!C:C,AI29,'[1]Данные из терминала'!B:B,"buy"),0),1) -> 26.7 | BH29: =ROUND(IF(AL29>0,AVERAGEIFS('[1]Данные из терминала'!M:M,'[1]Данные из терминала'!C:C,AI29),0),1) -> 26.2 | BI29: =IF(AJ29>0,VLOOKUP(AI29,[1]Сводная!A:G,7,0),0) -> 1.8305556 | BJ29: =IF(AK29>0,VLOOKUP(AI29,[1]Сводная!A:D,4,0),0) -> 1.7013889 | BK29: =IF(AJ29>0,AVERAGEIFS('[1]Данные из терминала'!O:O,'[1]Данные из терминала'!C:C,AI29,'[1]Данные из терминала'!B:B,"sell"),0) -> 0.97274306 | BL29: =IF(AK29>0,AVERAGEIFS('[1]Данные из терминала'!O:O,'[1]Данные из терминала'!C:C,AI29,'[1]Данные из терминала'!B:B,"buy"),0) -> 1.0204167 | BM29: =IF(AL29>0,AVERAGEIFS('[1]Данные из терминала'!O:O,'[1]Данные из терминала'!C:C,AI29),0) -> 1.0038345
A30: 11 | B30: =IF(AND($A30>=C$12,C$12>0),0,IF(AND($A30>=C$9,C$9>0),C$10,IF(AND($A30>=C$6,C$6>0),C$7,0))) -> -2 | C30: =IF(AND($A30>=C$12,C$12>0),C$13,C29+B30) -> 6 | E30: =IF(OR($A30<2,AND(G$15>0,$A30>G$15)),0,IF(AND($A30>=G$12,G$12>0),G$13,IF(AND($A30>=G$9,G$9>0),G$10,IF(AND($A30>=G$6,G$6>0),G$7,0)))) -> 0 | F30: =F29+E30 -> 11 | G30: =G29+F30 -> 82 | I30: =IF(($A30<K$4),1,IF(AND($A30>K$15,K$15>0),I29,IF(AND($A30>=K$12,K$12>0),ROUND(I29+K$13,4),IF(AND($A30>=K$9,K$9>0),ROUND(I29+K$10,4),IF(AND($A30>=K$6,K$6>0),ROUND(I29+K$7,4),K$3))))) -> 1.54 | J30: =IF($A30<K$4, K$2, IF(K$1=0,IF(K$16>0,IF(K$2*K$16<ROUND(J29*I30, 3),K$2*K$16,ROUND(J29*I30, 3)),ROUND(J29*I30, 3)),IF(K$16>0,IF(K$2*K$16<ROUND(K$2*I30, 3),K$2*K$16,ROUND(K$2*I30, 3)),ROUND(K$2*I30, 3)))) -> 1.081 | K30: =K29+ROUND(J30,3) -> 3.065 | M30: =ROUND(C30*O30-K30*$O$6,2) -> 184.2 | N30: =IF($O$10>0,M30/$O$10,0) -> 0.026314286 | O30: =ROUND(ROUND(K30,2)*$O$4,2) -> 30.7 | P30: =ROUND((ROUND(K29,2)*(G30-G29)*$O$4+P29+J30*$O$6),2) -> 558 | Q30: =P30/$O$10 -> 0.079714286 | R30: =ROUND(P30/O30,0) -> 18 | S30: =ROUND(R30/G30,2) -> 0.22 | T30: =R30+C30 -> 24 | U30: =ROUND(T30/G30,2) -> 0.29 | W30: =ROUND(K30*$O$7,2) -> 573.16 | X30: =ROUND(P30+W30,2) -> 1131.16 | Z30: =IF($O$10>0,ROUND($O$10-X30,2),0) -> 5868.84 | AA30: =IF($O$10>0,ROUND(X30/$O$10,2),0) -> 0.16 | AB30: =IF(AND(Z30>0,$O$4>0),($O$10-P30-W30*$O$8)/O30,0) -> 209.83713 | AC30: =IF(AB30>0,AB30+G30,0) -> 291.83713 | AD30: 11 | AF30: =IF(P30>0,ROUND(W30/P30,2),0) -> 1.03 | AG30: =IF($O$10>0,ROUND(W30/$O$10,2),0) -> 0.08 | AI30: 11 | AJ30: =COUNTIFS('[1]Данные из терминала'!C:C,AI30,'[1]Данные из терминала'!B:B,"sell") -> 4 | AK30: =COUNTIFS('[1]Данные из терминала'!C:C,AI30,'[1]Данные из терминала'!B:B,"buy") -> 3 | AL30: =COUNTIFS('[1]Данные из терминала'!C:C,AI30) -> 7 | AM30: =SUMIFS('[1]Данные из терминала'!E:E,'[1]Данные из терминала'!C:C,AI30,'[1]Данные из терминала'!B:B,"sell") -> 78.97 | AN30: =SUMIFS('[1]Данные из терминала'!E:E,'[1]Данные из терминала'!C:C,AI30,'[1]Данные из терминала'!B:B,"buy") -> 46.12 | AO30: =SUMIFS('[1]Данные из терминала'!E:E,'[1]Данные из терминала'!C:C,AI30) -> 125.09 | AP30: =SUMIFS('[1]Данные из терминала'!N:N,'[1]Данные из терминала'!C:C,AI30,'[1]Данные из терминала'!B:B,"sell") -> 4745.36 | AQ30: =SUMIFS('[1]Данные из терминала'!N:N,'[1]Данные из терминала'!C:C,AI30,'[1]Данные из терминала'!B:B,"buy") -> 2763.77 | AR30: =SUMIFS('[1]Данные из терминала'!N:N,'[1]Данные из терминала'!C:C,AI30) -> 7509.13 | AS30: =ROUND(IF(AJ30>0,AVERAGEIFS('[1]Данные из терминала'!N:N,'[1]Данные из терминала'!C:C,AI30,'[1]Данные из терминала'!B:B,"sell"),0),2) -> 1186.34 | AT30: =ROUND(IF(AK30>0,AVERAGEIFS('[1]Данные из терминала'!N:N,'[1]Данные из терминала'!C:C,AI30,'[1]Данные из терминала'!B:B,"buy"),0),2) -> 921.26 | AU30: =ROUND(IF(AL30>0,AVERAGEIFS('[1]Данные из терминала'!N:N,'[1]Данные из терминала'!C:C,AI30),0),2) -> 1072.73 | AV30: =IF(AJ30>0,AP30/$AR$42,0) -> 0.043813128 | AW30: =IF(AK30>0,AQ30/$AR$42,0) -> 0.025517433 | AX30: =IF(AL30>0,AR30/$AR$42,0) -> 0.069330561 | AY30: =IF(AJ30>0,VLOOKUP(AI30,[1]Сводная!A:E,5,0),0) -> 93.1 | AZ30: =IF(AK30>0,VLOOKUP(AI30,[1]Сводная!A:B,2,0),0) -> 92.2 | BA30: =ROUND(IF(AJ30>0,AVERAGEIFS('[1]Данные из терминала'!L:L,'[1]Данные из терминала'!C:C,AI30,'[1]Данные из терминала'!B:B,"sell"),0),1) -> 87.1 | BB30: =ROUND(IF(AK30>0,AVERAGEIFS('[1]Данные из терминала'!L:L,'[1]Данные из терминала'!C:C,AI30,'[1]Данные из терминала'!B:B,"buy"),0),1) -> 86.8 | BC30: =ROUND(IF(AL30>0,AVERAGEIFS('[1]Данные из терминала'!L:L,'[1]Данные из терминала'!C:C,AI30),0),1) -> 87 | BD30: =IF(AJ30>0,VLOOKUP(AI30,[1]Сводная!A:F,6,0),0) -> 24.8 | BE30: =IF(AK30>0,VLOOKUP(AI30,[1]Сводная!A:C,3,0),0) -> 25.8 | BF30: =ROUND(IF(AJ30>0,AVERAGEIFS('[1]Данные из терминала'!M:M,'[1]Данные из терминала'!C:C,AI30,'[1]Данные из терминала'!B:B,"sell"),0),1) -> 23.7 | BG30: =ROUND(IF(AK30>0,AVERAGEIFS('[1]Данные из терминала'!M:M,'[1]Данные из терминала'!C:C,AI30,'[1]Данные из терминала'!B:B,"buy"),0),1) -> 25.4 | BH30: =ROUND(IF(AL30>0,AVERAGEIFS('[1]Данные из терминала'!M:M,'[1]Данные из терминала'!C:C,AI30),0),1) -> 24.4 | BI30: =IF(AJ30>0,VLOOKUP(AI30,[1]Сводная!A:G,7,0),0) -> 1.0958333 | BJ30: =IF(AK30>0,VLOOKUP(AI30,[1]Сводная!A:D,4,0),0) -> 1.3180556 | BK30: =IF(AJ30>0,AVERAGEIFS('[1]Данные из терминала'!O:O,'[1]Данные из терминала'!C:C,AI30,'[1]Данные из терминала'!B:B,"sell"),0) -> 0.55642361 | BL30: =IF(AK30>0,AVERAGEIFS('[1]Данные из терминала'!O:O,'[1]Данные из терминала'!C:C,AI30,'[1]Данные из терминала'!B:B,"buy"),0) -> 1.1944444 | BM30: =IF(AL30>0,AVERAGEIFS('[1]Данные из терминала'!O:O,'[1]Данные из терминала'!C:C,AI30),0) -> 0.82986111
A31: 12 | B31: =IF(AND($A31>=C$12,C$12>0),0,IF(AND($A31>=C$9,C$9>0),C$10,IF(AND($A31>=C$6,C$6>0),C$7,0))) -> 0 | C31: =IF(AND($A31>=C$12,C$12>0),C$13,C30+B31) -> 3 | E31: =IF(OR($A31<2,AND(G$15>0,$A31>G$15)),0,IF(AND($A31>=G$12,G$12>0),G$13,IF(AND($A31>=G$9,G$9>0),G$10,IF(AND($A31>=G$6,G$6>0),G$7,0)))) -> 0 | F31: =F30+E31 -> 11 | G31: =G30+F31 -> 93 | I31: =IF(($A31<K$4),1,IF(AND($A31>K$15,K$15>0),I30,IF(AND($A31>=K$12,K$12>0),ROUND(I30+K$13,4),IF(AND($A31>=K$9,K$9>0),ROUND(I30+K$10,4),IF(AND($A31>=K$6,K$6>0),ROUND(I30+K$7,4),K$3))))) -> 1.39 | J31: =IF($A31<K$4, K$2, IF(K$1=0,IF(K$16>0,IF(K$2*K$16<ROUND(J30*I31, 3),K$2*K$16,ROUND(J30*I31, 3)),ROUND(J30*I31, 3)),IF(K$16>0,IF(K$2*K$16<ROUND(K$2*I31, 3),K$2*K$16,ROUND(K$2*I31, 3)),ROUND(K$2*I31, 3)))) -> 1.503 | K31: =K30+ROUND(J31,3) -> 4.568 | M31: =ROUND(C31*O31-K31*$O$6,2) -> 137.1 | N31: =IF($O$10>0,M31/$O$10,0) -> 0.019585714 | O31: =ROUND(ROUND(K31,2)*$O$4,2) -> 45.7 | P31: =ROUND((ROUND(K30,2)*(G31-G30)*$O$4+P30+J31*$O$6),2) -> 895.7 | Q31: =P31/$O$10 -> 0.12795714 | R31: =ROUND(P31/O31,0) -> 20 | S31: =ROUND(R31/G31,2) -> 0.22 | T31: =R31+C31 -> 23 | U31: =ROUND(T31/G31,2) -> 0.25 | W31: =ROUND(K31*$O$7,2) -> 854.22 | X31: =ROUND(P31+W31,2) -> 1749.92 | Z31: =IF($O$10>0,ROUND($O$10-X31,2),0) -> 5250.08 | AA31: =IF($O$10>0,ROUND(X31/$O$10,2),0) -> 0.25 | AB31: =IF(AND(Z31>0,$O$4>0),($O$10-P31-W31*$O$8)/O31,0) -> 133.5733 | AC31: =IF(AB31>0,AB31+G31,0) -> 226.5733 | AD31: 12 | AF31: =IF(P31>0,ROUND(W31/P31,2),0) -> 0.95 | AG31: =IF($O$10>0,ROUND(W31/$O$10,2),0) -> 0.12 | AI31: 12 | AJ31: =COUNTIFS('[1]Данные из терминала'!C:C,AI31,'[1]Данные из терминала'!B:B,"sell") -> 0 | AK31: =COUNTIFS('[1]Данные из терминала'!C:C,AI31,'[1]Данные из терминала'!B:B,"buy") -> 3 | AL31: =COUNTIFS('[1]Данные из терминала'!C:C,AI31) -> 3 | AM31: =SUMIFS('[1]Данные из терминала'!E:E,'[1]Данные из терминала'!C:C,AI31,'[1]Данные из терминала'!B:B,"sell") -> 0 | AN31: =SUMIFS('[1]Данные из терминала'!E:E,'[1]Данные из терминала'!C:C,AI31,'[1]Данные из терминала'!B:B,"buy") -> 54.97 | AO31: =SUMIFS('[1]Данные из терминала'!E:E,'[1]Данные из терминала'!C:C,AI31) -> 54.97 | AP31: =SUMIFS('[1]Данные из терминала'!N:N,'[1]Данные из терминала'!C:C,AI31,'[1]Данные из терминала'!B:B,"sell") -> 0 | AQ31: =SUMIFS('[1]Данные из терминала'!N:N,'[1]Данные из терминала'!C:C,AI31,'[1]Данные из терминала'!B:B,"buy") -> 1661.18 | AR31: =SUMIFS('[1]Данные из терминала'!N:N,'[1]Данные из терминала'!C:C,AI31) -> 1661.18 | AS31: =ROUND(IF(AJ31>0,AVERAGEIFS('[1]Данные из терминала'!N:N,'[1]Данные из терминала'!C:C,AI31,'[1]Данные из терминала'!B:B,"sell"),0),2) -> 0 | AT31: =ROUND(IF(AK31>0,AVERAGEIFS('[1]Данные из терминала'!N:N,'[1]Данные из терминала'!C:C,AI31,'[1]Данные из терминала'!B:B,"buy"),0),2) -> 553.73 | AU31: =ROUND(IF(AL31>0,AVERAGEIFS('[1]Данные из терминала'!N:N,'[1]Данные из терминала'!C:C,AI31),0),2) -> 553.73 | AV31: =IF(AJ31>0,AP31/$AR$42,0) -> 0 | AW31: =IF(AK31>0,AQ31/$AR$42,0) -> 0.015337402 | AX31: =IF(AL31>0,AR31/$AR$42,0) -> 0.015337402 | AY31: =IF(AJ31>0,VLOOKUP(AI31,[1]Сводная!A:E,5,0),0) -> 0 | AZ31: =IF(AK31>0,VLOOKUP(AI31,[1]Сводная!A:B,2,0),0) -> 97.8 | BA31: =ROUND(IF(AJ31>0,AVERAGEIFS('[1]Данные из терминала'!L:L,'[1]Данные из терминала'!C:C,AI31,'[1]Данные из терминала'!B:B,"sell"),0),1) -> 0 | BB31: =ROUND(IF(AK31>0,AVERAGEIFS('[1]Данные из терминала'!L:L,'[1]Данные из терминала'!C:C,AI31,'[1]Данные из терминала'!B:B,"buy"),0),1) -> 96.6 | BC31: =ROUND(IF(AL31>0,AVERAGEIFS('[1]Данные из терминала'!L:L,'[1]Данные из терминала'!C:C,AI31),0),1) -> 96.6 | BD31: =IF(AJ31>0,VLOOKUP(AI31,[1]Сводная!A:F,6,0),0) -> 0 | BE31: =IF(AK31>0,VLOOKUP(AI31,[1]Сводная!A:C,3,0),0) -> 27 | BF31: =ROUND(IF(AJ31>0,AVERAGEIFS('[1]Данные из терминала'!M:M,'[1]Данные из терминала'!C:C,AI31,'[1]Данные из терминала'!B:B,"sell"),0),1) -> 0 | BG31: =ROUND(IF(AK31>0,AVERAGEIFS('[1]Данные из терминала'!M:M,'[1]Данные из терминала'!C:C,AI31,'[1]Данные из терминала'!B:B,"buy"),0),1) -> 24.9 | BH31: =ROUND(IF(AL31>0,AVERAGEIFS('[1]Данные из терминала'!M:M,'[1]Данные из терминала'!C:C,AI31),0),1) -> 24.9 | BI31: =IF(AJ31>0,VLOOKUP(AI31,[1]Сводная!A:G,7,0),0) -> 0 | BJ31: =IF(AK31>0,VLOOKUP(AI31,[1]Сводная!A:D,4,0),0) -> 2.7798611 | BK31: =IF(AJ31>0,AVERAGEIFS('[1]Данные из терминала'!O:O,'[1]Данные из терминала'!C:C,AI31,'[1]Данные из терминала'!B:B,"sell"),0) -> 0 | BL31: =IF(AK31>0,AVERAGEIFS('[1]Данные из терминала'!O:O,'[1]Данные из терминала'!C:C,AI31,'[1]Данные из терминала'!B:B,"buy"),0) -> 1.7824074 | BM31: =IF(AL31>0,AVERAGEIFS('[1]Данные из терминала'!O:O,'[1]Данные из терминала'!C:C,AI31),0) -> 1.7824074
