Workbook

Sheet Сводная МОДЕЛЬ 1x1
I1: CalcLotType | J1: =IF(K$1=0,"LastOrder",IF(K$1=1,"MinOrder","ОШИБКА")) -> LastOrder | K1: 0
A2: TakeProffit | B2: =IF(C$2<=0,"д.б. >0","") | C2: 15 | E2: GridStep | F2: =IF(G$2<2,"д.б. >1","") | G2: 4 | I2: MinLot | J2: =IF(K$2<0,"д.б. >0","") | K2: 0.01 | M2: Пара | O2: eurusd | AN2: Статистика сеток из отчета тестера стратегий
I3: Mult | J3: =IF(K$3<0,"д.б. >0","") | K3: 1.7 | M3: Значность | O3: 4
I4: MultStart | J4: =IF(K$4<2,"д.б. >1","") | K4: 2 | M4: Цена пипса, $ | O4: 10 | AN4: (EA) - Setka v1.43 ADX-IMP EURUSD - bespaniki 20190410- 126 points 15steps - 10000USD DD60percent reinvest -OPT 20181015-20190331 - StrategyTester.htm
BO5: 1
A6: TakeProffit_Level1 | C6: 5 | E6: GridLevel | F6: =IF(G$6<0,"д.б. >=0","") | G6: 3 | I6: MultLevel2 | J6: =IF(K$6<0,"д.б. >=0","") | K6: 6 | M6: Комиссия, $ | O6: 0 | AN6: EURUSD
A7: TakeProffit_Level1Corr | C7: -1 | E7: GridStep_AddPips | G7: 1 | I7: MultCorr | J7: =IF(AND(K$6=0,K$7<>0),"д.б. =0","") | K7: -0.1 | M7: Залог 1 лот, $ | O7: 187 | AN7: 1 Минута (M1) 2018.04.09 00:00 - 2019.04.08 23:59 (2018.10.15 - 2019.03.31)
B8: =IF(OR(C$6=1,C$6<0,C$9=1,C$9<0,C$12=1,C$12<0,AND(C$6>1,C$9>1,C$6>=C$9),AND(C$6>1,C$12>1,C$6>=C$12),AND(C$9>1,C$12>1,C$9>=C$12)),"ОШИБКА в № колен","") | F8: =IF(OR(G$6=1,G$6<0,G$9=1,G$9<0,G$12=1,G$12<0,G$15<0,AND(G$6>1,G$9>1,G$6>=G$9),AND(G$6>1,G$12>1,G$6>=G$12),AND(G$9>1,G$12>1,G$9>=G$12),AND(G$6>1,G$15>0,G$6>G$15),AND(G$9>1,G$15>0,G$9>G$15),AND(G$12>1,G$15>0,G$12>G$15)),"ОШИБКА в №№ колен","") | J8: =IF(OR(K$6=1,K$6<0,K$9=1,K$9<0,K$12=1,K$12<0,K$15<0,AND(K$6>0,K$4>=K$6),AND(K$9>0,K$4>=K$9),AND(K$12>0,K$4>=K$12),AND(K$6>1,K$9>1,K$6>=K$9),AND(K$6>1,K$12>1,K$6>=K$12),AND(K$9>1,K$12>1,K$9>=K$12),AND(K$15>0,K$4>K$15),AND(K$6>1,K$15>0,K$6>K$15),AND(K$9>1,K$15>0,K$9>K$15),AND(K$12>1,K$15>0,K$12>K$15)),"ОШИБКА № колен","") | M8: StopOut, % | O8: 0
A9: TakeProffit_Level1_5 | C9: 10 | E9: GridStep_Level2 | G9: 10 | I9: MultLevel3 | J9: =IF(K$9<0,"д.б. >=0","") | K9: 8 | AN9: Начальный депозит | AQ9: 20000
A10: TakeProffit_Level1_5Corr | C10: -2 | E10: GridStep_Level2_AddPips | G10: 0 | I10: MultСorrLevel3 | J10: =IF(AND(K$9=0,K$10<>0),"д.б. =0","") | K10: 0.01 | M10: Депо, $ | O10: 7000
AN11: Чистая прибыль | AQ11: 108308.93
A12: TakeProffit_Level2 | C12: 12 | E12: Grid3 | F12: =IF(G$12<0,"д.б. >=0","") | G12: 0 | I12: Mult3 | J12: =IF(K$12<0,"д.б. >=0","") | K12: 12
A13: TakeProffit_Level2FixPips | C13: 3 | E13: Grid3Add | F13: =IF(AND(G$12=0,G$13<>0),"д.б. =0","") | G13: 0 | I13: Mult3Add | J13: =IF(AND(K$12=0,K$13<>0),"д.б. =0","") | K13: -0.15 | AN13: Максимальная просадка | AQ13: 32954.15 (30.43%)
AJ14: eurusd
E15: GridStop | F15: =IF(G$15<0,"д.б. >=0","") | G15: 0 | I15: MultStop | J15: =IF(K$15<0,"д.б. >=0","") | K15: 12 | AN15: Рентабельность (месяц) | AQ15: 0.98462664 | AS15: (год) | AT15: 10.830893
A16: MaxOpenOrders | C16: 15 | I16: MaxLotCoef | J16: =IF(K$16<0,"д.б. >=0","") | K16: 0
A18: №№ колен | B18: Кор-рект | C18: TP | E18: Коррект | F18: Шаг, пипсов | G18: Сетка пипсов от 1-го ордера | I18: Мульт | J18: Ордер | K18: Лотов сумма | M18: Прибыль | O18: $/пипс | P18: Просадка | R18: Безубыток | T18: ТР | W18: Залог, $ | X18: Просадка + залог, $ (включая комиссию) Min депо | Z18: Св.Маржа = Депо - просадка-залог, $ | AA18: Просадка + залог = %%депо | AB18: Max просадка до StopOut в пипсах от: | AD18: №№ ко-лен | AF18: Залог к просадке (включая комиссию) | AG18: Залог к депо, % | AI18: №№ ко-лен | AJ18: Кол-во сеток | AM18: Суммарный лот сеток | AP18: Общая прибыль | AS18: Средняя прибыль | AV18: % от общей прибыли | AY18: Макс размер сетки в пунктах | BA18: Средний размер сетки в пунктах | BD18: Макс кол-во пунктов до тп сетки | BF18: Среднее кол-во пунктов до тп сетки | BI18: Макс время сетки, Часы:Минуты | BK18: Среднее время существования сетки, Часы:Минуты
M19: $ | N19: % депо | P19: $ | Q19: % депо | R19: Пипсов | S19: %% | T19: Пипсов | U19: %% | AB19: Колена N | AC19: 1го ордера | AJ19: sell | AK19: buy | AL19: sell+buy | AM19: sell | AN19: buy | AO19: sell+buy | AP19: sell | AQ19: buy | AR19: sell+buy | AS19: sell | AT19: buy | AU19: sell+buy | AV19: sell | AW19: buy | AX19: sell+buy | AY19: sell | AZ19: buy | BA19: sell | BB19: buy | BC19: sell+buy | BD19: sell | BE19: buy | BF19: sell | BG19: buy | BH19: sell+buy | BI19: sell | BJ19: buy | BK19: sell | BL19: buy | BM19: sell+buy
A20: 1 | B20: 0 | C20: =C$2 -> 15 | E20: =IF(OR($A20<2,AND(G$15>0,$A20>G$15)),0,IF(AND($A20>=G$12,G$12>0),G$13,IF(AND($A20>=G$9,G$9>0),G$10,IF(AND($A20>=G$6,G$6>0),G$7,0)))) -> 0 | F20: 0 | G20: =F20 -> 0 | I20: =IF(($A20<K$4),1,IF(AND($A20>K$15,K$15>0),I19,IF(AND($A20>=K$12,K$12>0),ROUND(I19+K$13,4),IF(AND($A20>=K$9,K$9>0),ROUND(I19+K$10,4),IF(AND($A20>=K$6,K$6>0),ROUND(I19+K$7,4),K$3))))) -> 1 | J20: =IF($A20<K$4, K$2, IF(K$1=0,IF(K$16>0,IF(K$2*K$16<ROUND(J19*I20, 3),K$2*K$16,ROUND(J19*I20, 3)),ROUND(J19*I20, 3)),IF(K$16>0,IF(K$2*K$16<ROUND(K$2*I20, 3),K$2*K$16,ROUND(K$2*I20, 3)),ROUND(K$2*I20, 3)))) -> 0.01 | K20: =J20 -> 0.01 | M20: =ROUND(C20*O20-K20*$O$6,2) -> 1.5 | N20: =IF($O$10>0,M20/$O$10,0) -> 0.00021428571 | O20: =ROUND(ROUND(K20,2)*$O$4,2) -> 0.1 | P20: =ROUND(J20*$O$6,2) -> 0 | Q20: =P20/$O$10 -> 0 | R20: =ROUND(P20/O20,0) -> 0 | S20: 0 | T20: =R20+C20 -> 15 | U20: 0 | W20: =ROUND(K20*$O$7,2) -> 1.87 | X20: =ROUND(P20+W20,2) -> 1.87 | Z20: =IF($O$10>0,ROUND($O$10-X20,2),0) -> 6998.13 | AA20: =IF($O$10>0,ROUND(X20/$O$10,2),0) -> 0 | AB20: =IF(AND(Z20>0,$O$4>0),($O$10-P20-W20*$O$8)/O20,0) -> 70000 | AC20: =IF(AB20>0,AB20+G20,0) -> 70000 | AD20: 1 | AF20: =IF(P20>0,ROUND(W20/P20,2),0) -> 0 | AG20: =IF($O$10>0,ROUND(W20/$O$10,2),0) -> 0 | AI20: 1 | AJ20: =COUNTIFS('[1]Данные из терминала'!C:C,AI20,'[1]Данные из терминала'!B:B,"sell") -> 80 | AK20: =COUNTIFS('[1]Данные из терминала'!C:C,AI20,'[1]Данные из терминала'!B:B,"buy") -> 58 | AL20: =COUNTIFS('[1]Данные из терминала'!C:C,AI20) -> 138 | AM20: =SUMIFS('[1]Данные из терминала'!E:E,'[1]Данные из терминала'!C:C,AI20,'[1]Данные из терминала'!B:B,"sell") -> 4.64 | AN20: =SUMIFS('[1]Данные из терминала'!E:E,'[1]Данные из терминала'!C:C,AI20,'[1]Данные из терминала'!B:B,"buy") -> 3.22 | AO20: =SUMIFS('[1]Данные из терминала'!E:E,'[1]Данные из терминала'!C:C,AI20) -> 7.86 | AP20: =SUMIFS('[1]Данные из терминала'!N:N,'[1]Данные из терминала'!C:C,AI20,'[1]Данные из терминала'!B:B,"sell") -> 695.9 | AQ20: =SUMIFS('[1]Данные из терминала'!N:N,'[1]Данные из терминала'!C:C,AI20,'[1]Данные из терминала'!B:B,"buy") -> 482.97 | AR20: =SUMIFS('[1]Данные из терминала'!N:N,'[1]Данные из терминала'!C:C,AI20) -> 1178.87 | AS20: =ROUND(IF(AJ20>0,AVERAGEIFS('[1]Данные из терминала'!N:N,'[1]Данные из терминала'!C:C,AI20,'[1]Данные из терминала'!B:B,"sell"),0),2) -> 8.7 | AT20: =ROUND(IF(AK20>0,AVERAGEIFS('[1]Данные из терминала'!N:N,'[1]Данные из терминала'!C:C,AI20,'[1]Данные из терминала'!B:B,"buy"),0),2) -> 8.33 | AU20: =ROUND(IF(AL20>0,AVERAGEIFS('[1]Данные из терминала'!N:N,'[1]Данные из терминала'!C:C,AI20),0),2) -> 8.54 | AV20: =IF(AJ20>0,AP20/$AR$42,0) -> 0.0064251302 | AW20: =IF(AK20>0,AQ20/$AR$42,0) -> 0.0044591825 | AX20: =IF(AL20>0,AR20/$AR$42,0) -> 0.010884313 | AY20: =IF(AJ20>0,VLOOKUP(AI20,[1]Сводная!A:E,5,0),0) -> 0 | AZ20: =IF(AK20>0,VLOOKUP(AI20,[1]Сводная!A:B,2,0),0) -> 0 | BA20: =ROUND(IF(AJ20>0,AVERAGEIFS('[1]Данные из терминала'!L:L,'[1]Данные из терминала'!C:C,AI20,'[1]Данные из терминала'!B:B,"sell"),0),1) -> 0 | BB20: =ROUND(IF(AK20>0,AVERAGEIFS('[1]Данные из терминала'!L:L,'[1]Данные из терминала'!C:C,AI20,'[1]Данные из терминала'!B:B,"buy"),0),1) -> 0 | BC20: =ROUND(IF(AL20>0,AVERAGEIFS('[1]Данные из терминала'!L:L,'[1]Данные из терминала'!C:C,AI20),0),1) -> 0 | BD20: =IF(AJ20>0,VLOOKUP(AI20,[1]Сводная!A:F,6,0),0) -> 16.6 | BE20: =IF(AK20>0,VLOOKUP(AI20,[1]Сводная!A:C,3,0),0) -> 18.9 | BF20: =ROUND(IF(AJ20>0,AVERAGEIFS('[1]Данные из терминала'!M:M,'[1]Данные из терминала'!C:C,AI20,'[1]Данные из терминала'!B:B,"sell"),0),1) -> 14.9 | BG20: =ROUND(IF(AK20>0,AVERAGEIFS('[1]Данные из терминала'!M:M,'[1]Данные из терминала'!C:C,AI20,'[1]Данные из терминала'!B:B,"buy"),0),1) -> 15.1 | BH20: =ROUND(IF(AL20>0,AVERAGEIFS('[1]Данные из терминала'!M:M,'[1]Данные из терминала'!C:C,AI20),0),1) -> 15 | BI20: =IF(AJ20>0,VLOOKUP(AI20,[1]Сводная!A:G,7,0),0) -> 0.63263889 | BJ20: =IF(AK20>0,VLOOKUP(AI20,[1]Сводная!A:D,4,0),0) -> 0.42638889 | BK20: =IF(AJ20>0,AVERAGEIFS('[1]Данные из терминала'!O:O,'[1]Данные из терминала'!C:C,AI20,'[1]Данные из терминала'!B:B,"sell"),0) -> 0.038958333 | BL20: =IF(AK20>0,AVERAGEIFS('[1]Данные из терминала'!O:O,'[1]Данные из терминала'!C:C,AI20,'[1]Данные из терминала'!B:B,"buy"),0) -> 0.060751916 | BM20: =IF(AL20>0,AVERAGEIFS('[1]Данные из терминала'!O:O,'[1]Данные из терминала'!C:C,AI20),0) -> 0.048117955
A21: 2 | B21: =IF(AND($A21>=C$12,C$12>0),0,IF(AND($A21>=C$9,C$9>0),C$10,IF(AND($A21>=C$6,C$6>0),C$7,0))) -> 0 | C21: =IF(AND($A21>=C$12,C$12>0),C$13,C20+B21) -> 15 | E21: =IF(OR($A21<2,AND(G$15>0,$A21>G$15)),0,IF(AND($A21>=G$12,G$12>0),G$13,IF(AND($A21>=G$9,G$9>0),G$10,IF(AND($A21>=G$6,G$6>0),G$7,0)))) -> 0 | F21: =G$2+E21 -> 4 | G21: =G20+F21 -> 4 | I21: =IF(($A21<K$4),1,IF(AND($A21>K$15,K$15>0),I20,IF(AND($A21>=K$12,K$12>0),ROUND(I20+K$13,4),IF(AND($A21>=K$9,K$9>0),ROUND(I20+K$10,4),IF(AND($A21>=K$6,K$6>0),ROUND(I20+K$7,4),K$3))))) -> 1.7 | J21: =IF($A21<K$4, K$2, IF(K$1=0,IF(K$16>0,IF(K$2*K$16<ROUND(J20*I21, 3),K$2*K$16,ROUND(J20*I21, 3)),ROUND(J20*I21, 3)),IF(K$16>0,IF(K$2*K$16<ROUND(K$2*I21, 3),K$2*K$16,ROUND(K$2*I21, 3)),ROUND(K$2*I21, 3)))) -> 0.017 | K21: =K20+ROUND(J21,3) -> 0.027 | M21: =ROUND(C21*O21-K21*$O$6,2) -> 4.5 | N21: =IF($O$10>0,M21/$O$10,0) -> 0.00064285714 | O21: =ROUND(ROUND(K21,2)*$O$4,2) -> 0.3 | P21: =ROUND((ROUND(K20,2)*(G21-G20)*$O$4+P20+J21*$O$6),2) -> 0.4 | Q21: =P21/$O$10 -> 5.7142857e-05 | R21: =ROUND(P21/O21,0) -> 1 | S21: =ROUND(R21/G21,2) -> 0.25 | T21: =R21+C21 -> 16 | U21: =ROUND(T21/G21,2) -> 4 | W21: =ROUND(K21*$O$7,2) -> 5.05 | X21: =ROUND(P21+W21,2) -> 5.45 | Z21: =IF($O$10>0,ROUND($O$10-X21,2),0) -> 6994.55 | AA21: =IF($O$10>0,ROUND(X21/$O$10,2),0) -> 0 | AB21: =IF(AND(Z21>0,$O$4>0),($O$10-P21-W21*$O$8)/O21,0) -> 23332 | AC21: =IF(AB21>0,AB21+G21,0) -> 23336 | AD21: 2 | AF21: =IF(P21>0,ROUND(W21/P21,2),0) -> 12.63 | AG21: =IF($O$10>0,ROUND(W21/$O$10,2),0) -> 0 | AI21: 2 | AJ21: =COUNTIFS('[1]Данные из терминала'!C:C,AI21,'[1]Данные из терминала'!B:B,"sell") -> 63 | AK21: =COUNTIFS('[1]Данные из терминала'!C:C,AI21,'[1]Данные из терминала'!B:B,"buy") -> 54 | AL21: =COUNTIFS('[1]Данные из терминала'!C:C,AI21) -> 117 | AM21: =SUMIFS('[1]Данные из терминала'!E:E,'[1]Данные из терминала'!C:C,AI21,'[1]Данные из терминала'!B:B,"sell") -> 9.1 | AN21: =SUMIFS('[1]Данные из терминала'!E:E,'[1]Данные из терминала'!C:C,AI21,'[1]Данные из терминала'!B:B,"buy") -> 7.94 | AO21: =SUMIFS('[1]Данные из терминала'!E:E,'[1]Данные из терминала'!C:C,AI21) -> 17.04 | AP21: =SUMIFS('[1]Данные из терминала'!N:N,'[1]Данные из терминала'!C:C,AI21,'[1]Данные из терминала'!B:B,"sell") -> 1326.08 | AQ21: =SUMIFS('[1]Данные из терминала'!N:N,'[1]Данные из терминала'!C:C,AI21,'[1]Данные из терминала'!B:B,"buy") -> 1190.48 | AR21: =SUMIFS('[1]Данные из терминала'!N:N,'[1]Данные из терминала'!C:C,AI21) -> 2516.56 | AS21: =ROUND(IF(AJ21>0,AVERAGEIFS('[1]Данные из терминала'!N:N,'[1]Данные из терминала'!C:C,AI21,'[1]Данные из терминала'!B:B,"sell"),0),2) -> 21.05 | AT21: =ROUND(IF(AK21>0,AVERAGEIFS('[1]Данные из терминала'!N:N,'[1]Данные из терминала'!C:C,AI21,'[1]Данные из терминала'!B:B,"buy"),0),2) -> 22.05 | AU21: =ROUND(IF(AL21>0,AVERAGEIFS('[1]Данные из терминала'!N:N,'[1]Данные из терминала'!C:C,AI21),0),2) -> 21.51 | AV21: =IF(AJ21>0,AP21/$AR$42,0) -> 0.012243478 | AW21: =IF(AK21>0,AQ21/$AR$42,0) -> 0.010991506 | AX21: =IF(AL21>0,AR21/$AR$42,0) -> 0.023234984 | AY21: =IF(AJ21>0,VLOOKUP(AI21,[1]Сводная!A:E,5,0),0) -> 16.6 | AZ21: =IF(AK21>0,VLOOKUP(AI21,[1]Сводная!A:B,2,0),0) -> 6.6 | BA21: =ROUND(IF(AJ21>0,AVERAGEIFS('[1]Данные из терминала'!L:L,'[1]Данные из терминала'!C:C,AI21,'[1]Данные из терминала'!B:B,"sell"),0),1) -> 4.5 | BB21: =ROUND(IF(AK21>0,AVERAGEIFS('[1]Данные из терминала'!L:L,'[1]Данные из терминала'!C:C,AI21,'[1]Данные из терминала'!B:B,"buy"),0),1) -> 4.2 | BC21: =ROUND(IF(AL21>0,AVERAGEIFS('[1]Данные из терминала'!L:L,'[1]Данные из терминала'!C:C,AI21),0),1) -> 4.4 | BD21: =IF(AJ21>0,VLOOKUP(AI21,[1]Сводная!A:F,6,0),0) -> 20.5 | BE21: =IF(AK21>0,VLOOKUP(AI21,[1]Сводная!A:C,3,0),0) -> 20.6 | BF21: =ROUND(IF(AJ21>0,AVERAGEIFS('[1]Данные из терминала'!M:M,'[1]Данные из терминала'!C:C,AI21,'[1]Данные из терминала'!B:B,"sell"),0),1) -> 16.5 | BG21: =ROUND(IF(AK21>0,AVERAGEIFS('[1]Данные из терминала'!M:M,'[1]Данные из терминала'!C:C,AI21,'[1]Данные из терминала'!B:B,"buy"),0),1) -> 16.7 | BH21: =ROUND(IF(AL21>0,AVERAGEIFS('[1]Данные из терминала'!M:M,'[1]Данные из терминала'!C:C,AI21),0),1) -> 16.6 | BI21: =IF(AJ21>0,VLOOKUP(AI21,[1]Сводная!A:G,7,0),0) -> 0.71180556 | BJ21: =IF(AK21>0,VLOOKUP(AI21,[1]Сводная!A:D,4,0),0) -> 0.5 | BK21: =IF(AJ21>0,AVERAGEIFS('[1]Данные из терминала'!O:O,'[1]Данные из терминала'!C:C,AI21,'[1]Данные из терминала'!B:B,"sell"),0) -> 0.096571869 | BL21: =IF(AK21>0,AVERAGEIFS('[1]Данные из терминала'!O:O,'[1]Данные из терминала'!C:C,AI21,'[1]Данные из терминала'!B:B,"buy"),0) -> 0.096129115 | BM21: =IF(AL21>0,AVERAGEIFS('[1]Данные из терминала'!O:O,'[1]Данные из терминала'!C:C,AI21),0) -> 0.096367521
A22: 3 | B22: =IF(AND($A22>=C$12,C$12>0),0,IF(AND($A22>=C$9,C$9>0),C$10,IF(AND($A22>=C$6,C$6>0),C$7,0))) -> 0 | C22: =IF(AND($A22>=C$12,C$12>0),C$13,C21+B22) -> 15 | E22: =IF(OR($A22<2,AND(G$15>0,$A22>G$15)),0,IF(AND($A22>=G$12,G$12>0),G$13,IF(AND($A22>=G$9,G$9>0),G$10,IF(AND($A22>=G$6,G$6>0),G$7,0)))) -> 1 | F22: =F21+E22 -> 5 | G22: =G21+F22 -> 9 | I22: =IF(($A22<K$4),1,IF(AND($A22>K$15,K$15>0),I21,IF(AND($A22>=K$12,K$12>0),ROUND(I21+K$13,4),IF(AND($A22>=K$9,K$9>0),ROUND(I21+K$10,4),IF(AND($A22>=K$6,K$6>0),ROUND(I21+K$7,4),K$3))))) -> 1.7 | J22: =IF($A22<K$4, K$2, IF(K$1=0,IF(K$16>0,IF(K$2*K$16<ROUND(J21*I22, 3),K$2*K$16,ROUND(J21*I22, 3)),ROUND(J21*I22, 3)),IF(K$16>0,IF(K$2*K$16<ROUND(K$2*I22, 3),K$2*K$16,ROUND(K$2*I22, 3)),ROUND(K$2*I22, 3)))) -> 0.029 | K22: =K21+ROUND(J22,3) -> 0.056 | M22: =ROUND(C22*O22-K22*$O$6,2) -> 9 | N22: =IF($O$10>0,M22/$O$10,0) -> 0.0012857143 | O22: =ROUND(ROUND(K22,2)*$O$4,2) -> 0.6 | P22: =ROUND((ROUND(K21,2)*(G22-G21)*$O$4+P21+J22*$O$6),2) -> 1.9 | Q22: =P22/$O$10 -> 0.00027142857 | R22: =ROUND(P22/O22,0) -> 3 | S22: =ROUND(R22/G22,2) -> 0.33 | T22: =R22+C22 -> 18 | U22: =ROUND(T22/G22,2) -> 2 | W22: =ROUND(K22*$O$7,2) -> 10.47 | X22: =ROUND(P22+W22,2) -> 12.37 | Z22: =IF($O$10>0,ROUND($O$10-X22,2),0) -> 6987.63 | AA22: =IF($O$10>0,ROUND(X22/$O$10,2),0) -> 0 | AB22: =IF(AND(Z22>0,$O$4>0),($O$10-P22-W22*$O$8)/O22,0) -> 11663.5 | AC22: =IF(AB22>0,AB22+G22,0) -> 11672.5 | AD22: 3 | AF22: =IF(P22>0,ROUND(W22/P22,2),0) -> 5.51 | AG22: =IF($O$10>0,ROUND(W22/$O$10,2),0) -> 0 | AI22: 3 | AJ22: =COUNTIFS('[1]Данные из терминала'!C:C,AI22,'[1]Данные из терминала'!B:B,"sell") -> 59 | AK22: =COUNTIFS('[1]Данные из терминала'!C:C,AI22,'[1]Данные из терминала'!B:B,"buy") -> 47 | AL22: =COUNTIFS('[1]Данные из терминала'!C:C,AI22) -> 106 | AM22: =SUMIFS('[1]Данные из терминала'!E:E,'[1]Данные из терминала'!C:C,AI22,'[1]Данные из терминала'!B:B,"sell") -> 16.11 | AN22: =SUMIFS('[1]Данные из терминала'!E:E,'[1]Данные из терминала'!C:C,AI22,'[1]Данные из терминала'!B:B,"buy") -> 13.35 | AO22: =SUMIFS('[1]Данные из терминала'!E:E,'[1]Данные из терминала'!C:C,AI22) -> 29.46 | AP22: =SUMIFS('[1]Данные из терминала'!N:N,'[1]Данные из терминала'!C:C,AI22,'[1]Данные из терминала'!B:B,"sell") -> 2416.96 | AQ22: =SUMIFS('[1]Данные из терминала'!N:N,'[1]Данные из терминала'!C:C,AI22,'[1]Данные из терминала'!B:B,"buy") -> 2001.96 | AR22: =SUMIFS('[1]Данные из терминала'!N:N,'[1]Данные из терминала'!C:C,AI22) -> 4418.92 | AS22: =ROUND(IF(AJ22>0,AVERAGEIFS('[1]Данные из терминала'!N:N,'[1]Данные из терминала'!C:C,AI22,'[1]Данные из терминала'!B:B,"sell"),0),2) -> 40.97 | AT22: =ROUND(IF(AK22>0,AVERAGEIFS('[1]Данные из терминала'!N:N,'[1]Данные из терминала'!C:C,AI22,'[1]Данные из терминала'!B:B,"buy"),0),2) -> 42.59 | AU22: =ROUND(IF(AL22>0,AVERAGEIFS('[1]Данные из терминала'!N:N,'[1]Данные из терминала'!C:C,AI22),0),2) -> 41.69 | AV22: =IF(AJ22>0,AP22/$AR$42,0) -> 0.022315394 | AW22: =IF(AK22>0,AQ22/$AR$42,0) -> 0.018483767 | AX22: =IF(AL22>0,AR22/$AR$42,0) -> 0.040799161 | AY22: =IF(AJ22>0,VLOOKUP(AI22,[1]Сводная!A:E,5,0),0) -> 14.2 | AZ22: =IF(AK22>0,VLOOKUP(AI22,[1]Сводная!A:B,2,0),0) -> 18 | BA22: =ROUND(IF(AJ22>0,AVERAGEIFS('[1]Данные из терминала'!L:L,'[1]Данные из терминала'!C:C,AI22,'[1]Данные из терминала'!B:B,"sell"),0),1) -> 9.5 | BB22: =ROUND(IF(AK22>0,AVERAGEIFS('[1]Данные из терминала'!L:L,'[1]Данные из терминала'!C:C,AI22,'[1]Данные из терминала'!B:B,"buy"),0),1) -> 9.6 | BC22: =ROUND(IF(AL22>0,AVERAGEIFS('[1]Данные из терминала'!L:L,'[1]Данные из терминала'!C:C,AI22),0),1) -> 9.6 | BD22: =IF(AJ22>0,VLOOKUP(AI22,[1]Сводная!A:F,6,0),0) -> 19.4 | BE22: =IF(AK22>0,VLOOKUP(AI22,[1]Сводная!A:C,3,0),0) -> 22.8 | BF22: =ROUND(IF(AJ22>0,AVERAGEIFS('[1]Данные из терминала'!M:M,'[1]Данные из терминала'!C:C,AI22,'[1]Данные из терминала'!B:B,"sell"),0),1) -> 18.2 | BG22: =ROUND(IF(AK22>0,AVERAGEIFS('[1]Данные из терминала'!M:M,'[1]Данные из терминала'!C:C,AI22,'[1]Данные из терминала'!B:B,"buy"),0),1) -> 18.6 | BH22: =ROUND(IF(AL22>0,AVERAGEIFS('[1]Данные из терминала'!M:M,'[1]Данные из терминала'!C:C,AI22),0),1) -> 18.4 | BI22: =IF(AJ22>0,VLOOKUP(AI22,[1]Сводная!A:G,7,0),0) -> 0.69375 | BJ22: =IF(AK22>0,VLOOKUP(AI22,[1]Сводная!A:D,4,0),0) -> 0.70069444 | BK22: =IF(AJ22>0,AVERAGEIFS('[1]Данные из терминала'!O:O,'[1]Данные из терминала'!C:C,AI22,'[1]Данные из терминала'!B:B,"sell"),0) -> 0.15143597 | BL22: =IF(AK22>0,AVERAGEIFS('[1]Данные из терминала'!O:O,'[1]Данные из терминала'!C:C,AI22,'[1]Данные из терминала'!B:B,"buy"),0) -> 0.13478132 | BM22: =IF(AL22>0,AVERAGEIFS('[1]Данные из терминала'!O:O,'[1]Данные из терминала'!C:C,AI22),0) -> 0.14405136
A23: 4 | B23: =IF(AND($A23>=C$12,C$12>0),0,IF(AND($A23>=C$9,C$9>0),C$10,IF(AND($A23>=C$6,C$6>0),C$7,0))) -> 0 | C23: =IF(AND($A23>=C$12,C$12>0),C$13,C22+B23) -> 15 | E23: =IF(OR($A23<2,AND(G$15>0,$A23>G$15)),0,IF(AND($A23>=G$12,G$12>0),G$13,IF(AND($A23>=G$9,G$9>0),G$10,IF(AND($A23>=G$6,G$6>0),G$7,0)))) -> 1 | F23: =F22+E23 -> 6 | G23: =G22+F23 -> 15 | I23: =IF(($A23<K$4),1,IF(AND($A23>K$15,K$15>0),I22,IF(AND($A23>=K$12,K$12>0),ROUND(I22+K$13,4),IF(AND($A23>=K$9,K$9>0),ROUND(I22+K$10,4),IF(AND($A23>=K$6,K$6>0),ROUND(I22+K$7,4),K$3))))) -> 1.7 | J23: =IF($A23<K$4, K$2, IF(K$1=0,IF(K$16>0,IF(K$2*K$16<ROUND(J22*I23, 3),K$2*K$16,ROUND(J22*I23, 3)),ROUND(J22*I23, 3)),IF(K$16>0,IF(K$2*K$16<ROUND(K$2*I23, 3),K$2*K$16,ROUND(K$2*I23, 3)),ROUND(K$2*I23, 3)))) -> 0.049 | K23: =K22+ROUND(J23,3) -> 0.105 | M23: =ROUND(C23*O23-K23*$O$6,2) -> 16.5 | N23: =IF($O$10>0,M23/$O$10,0) -> 0.0023571429 | O23: =ROUND(ROUND(K23,2)*$O$4,2) -> 1.1 | P23: =ROUND((ROUND(K22,2)*(G23-G22)*$O$4+P22+J23*$O$6),2) -> 5.5 | Q23: =P23/$O$10 -> 0.00078571429 | R23: =ROUND(P23/O23,0) -> 5 | S23: =ROUND(R23/G23,2) -> 0.33 | T23: =R23+C23 -> 20 | U23: =ROUND(T23/G23,2) -> 1.33 | W23: =ROUND(K23*$O$7,2) -> 19.64 | X23: =ROUND(P23+W23,2) -> 25.14 | Z23: =IF($O$10>0,ROUND($O$10-X23,2),0) -> 6974.86 | AA23: =IF($O$10>0,ROUND(X23/$O$10,2),0) -> 0 | AB23: =IF(AND(Z23>0,$O$4>0),($O$10-P23-W23*$O$8)/O23,0) -> 6358.6364 | AC23: =IF(AB23>0,AB23+G23,0) -> 6373.6364 | AD23: 4 | AF23: =IF(P23>0,ROUND(W23/P23,2),0) -> 3.57 | AG23: =IF($O$10>0,ROUND(W23/$O$10,2),0) -> 0 | AI23: 4 | AJ23: =COUNTIFS('[1]Данные из терминала'!C:C,AI23,'[1]Данные из терминала'!B:B,"sell") -> 49 | AK23: =COUNTIFS('[1]Данные из терминала'!C:C,AI23,'[1]Данные из терминала'!B:B,"buy") -> 31 | AL23: =COUNTIFS('[1]Данные из терминала'!C:C,AI23) -> 80 | AM23: =SUMIFS('[1]Данные из терминала'!E:E,'[1]Данные из терминала'!C:C,AI23,'[1]Данные из терминала'!B:B,"sell") -> 27.26 | AN23: =SUMIFS('[1]Данные из терминала'!E:E,'[1]Данные из терминала'!C:C,AI23,'[1]Данные из терминала'!B:B,"buy") -> 17.04 | AO23: =SUMIFS('[1]Данные из терминала'!E:E,'[1]Данные из терминала'!C:C,AI23) -> 44.3 | AP23: =SUMIFS('[1]Данные из терминала'!N:N,'[1]Данные из терминала'!C:C,AI23,'[1]Данные из терминала'!B:B,"sell") -> 4091.29 | AQ23: =SUMIFS('[1]Данные из терминала'!N:N,'[1]Данные из терминала'!C:C,AI23,'[1]Данные из терминала'!B:B,"buy") -> 2554.68 | AR23: =SUMIFS('[1]Данные из терминала'!N:N,'[1]Данные из терминала'!C:C,AI23) -> 6645.97 | AS23: =ROUND(IF(AJ23>0,AVERAGEIFS('[1]Данные из терминала'!N:N,'[1]Данные из терминала'!C:C,AI23,'[1]Данные из терминала'!B:B,"sell"),0),2) -> 83.5 | AT23: =ROUND(IF(AK23>0,AVERAGEIFS('[1]Данные из терминала'!N:N,'[1]Данные из терминала'!C:C,AI23,'[1]Данные из терминала'!B:B,"buy"),0),2) -> 82.41 | AU23: =ROUND(IF(AL23>0,AVERAGEIFS('[1]Данные из терминала'!N:N,'[1]Данные из терминала'!C:C,AI23),0),2) -> 83.07 | AV23: =IF(AJ23>0,AP23/$AR$42,0) -> 0.037774207 | AW23: =IF(AK23>0,AQ23/$AR$42,0) -> 0.02358694 | AX23: =IF(AL23>0,AR23/$AR$42,0) -> 0.061361147 | AY23: =IF(AJ23>0,VLOOKUP(AI23,[1]Сводная!A:E,5,0),0) -> 17.3 | AZ23: =IF(AK23>0,VLOOKUP(AI23,[1]Сводная!A:B,2,0),0) -> 16.7 | BA23: =ROUND(IF(AJ23>0,AVERAGEIFS('[1]Данные из терминала'!L:L,'[1]Данные из терминала'!C:C,AI23,'[1]Данные из терминала'!B:B,"sell"),0),1) -> 15.6 | BB23: =ROUND(IF(AK23>0,AVERAGEIFS('[1]Данные из терминала'!L:L,'[1]Данные из терминала'!C:C,AI23,'[1]Данные из терминала'!B:B,"buy"),0),1) -> 15.6 | BC23: =ROUND(IF(AL23>0,AVERAGEIFS('[1]Данные из терминала'!L:L,'[1]Данные из терминала'!C:C,AI23),0),1) -> 15.6 | BD23: =IF(AJ23>0,VLOOKUP(AI23,[1]Сводная!A:F,6,0),0) -> 20.9 | BE23: =IF(AK23>0,VLOOKUP(AI23,[1]Сводная!A:C,3,0),0) -> 24 | BF23: =ROUND(IF(AJ23>0,AVERAGEIFS('[1]Данные из терминала'!M:M,'[1]Данные из терминала'!C:C,AI23,'[1]Данные из терминала'!B:B,"sell"),0),1) -> 19.8 | BG23: =ROUND(IF(AK23>0,AVERAGEIFS('[1]Данные из терминала'!M:M,'[1]Данные из терминала'!C:C,AI23,'[1]Данные из терминала'!B:B,"buy"),0),1) -> 20.3 | BH23: =ROUND(IF(AL23>0,AVERAGEIFS('[1]Данные из терминала'!M:M,'[1]Данные из терминала'!C:C,AI23),0),1) -> 20 | BI23: =IF(AJ23>0,VLOOKUP(AI23,[1]Сводная!A:G,7,0),0) -> 1.4375 | BJ23: =IF(AK23>0,VLOOKUP(AI23,[1]Сводная!A:D,4,0),0) -> 0.83958333 | BK23: =IF(AJ23>0,AVERAGEIFS('[1]Данные из терминала'!O:O,'[1]Данные из терминала'!C:C,AI23,'[1]Данные из терминала'!B:B,"sell"),0) -> 0.26074263 | BL23: =IF(AK23>0,AVERAGEIFS('[1]Данные из терминала'!O:O,'[1]Данные из терминала'!C:C,AI23,'[1]Данные из терминала'!B:B,"buy"),0) -> 0.25020161 | BM23: =IF(AL23>0,AVERAGEIFS('[1]Данные из терминала'!O:O,'[1]Данные из терминала'!C:C,AI23),0) -> 0.25665799
A24: 5 | B24: =IF(AND($A24>=C$12,C$12>0),0,IF(AND($A24>=C$9,C$9>0),C$10,IF(AND($A24>=C$6,C$6>0),C$7,0))) -> -1 | C24: =IF(AND($A24>=C$12,C$12>0),C$13,C23+B24) -> 14 | E24: =IF(OR($A24<2,AND(G$15>0,$A24>G$15)),0,IF(AND($A24>=G$12,G$12>0),G$13,IF(AND($A24>=G$9,G$9>0),G$10,IF(AND($A24>=G$6,G$6>0),G$7,0)))) -> 1 | F24: =F23+E24 -> 7 | G24: =G23+F24 -> 22 | I24: =IF(($A24<K$4),1,IF(AND($A24>K$15,K$15>0),I23,IF(AND($A24>=K$12,K$12>0),ROUND(I23+K$13,4),IF(AND($A24>=K$9,K$9>0),ROUND(I23+K$10,4),IF(AND($A24>=K$6,K$6>0),ROUND(I23+K$7,4),K$3))))) -> 1.7 | J24: =IF($A24<K$4, K$2, IF(K$1=0,IF(K$16>0,IF(K$2*K$16<ROUND(J23*I24, 3),K$2*K$16,ROUND(J23*I24, 3)),ROUND(J23*I24, 3)),IF(K$16>0,IF(K$2*K$16<ROUND(K$2*I24, 3),K$2*K$16,ROUND(K$2*I24, 3)),ROUND(K$2*I24, 3)))) -> 0.083 | K24: =K23+ROUND(J24,3) -> 0.188 | M24: =ROUND(C24*O24-K24*$O$6,2) -> 26.6 | N24: =IF($O$10>0,M24/$O$10,0) -> 0.0038 | O24: =ROUND(ROUND(K24,2)*$O$4,2) -> 1.9 | P24: =ROUND((ROUND(K23,2)*(G24-G23)*$O$4+P23+J24*$O$6),2) -> 13.2 | Q24: =P24/$O$10 -> 0.0018857143 | R24: =ROUND(P24/O24,0) -> 7 | S24: =ROUND(R24/G24,2) -> 0.32 | T24: =R24+C24 -> 21 | U24: =ROUND(T24/G24,2) -> 0.95 | W24: =ROUND(K24*$O$7,2) -> 35.16 | X24: =ROUND(P24+W24,2) -> 48.36 | Z24: =IF($O$10>0,ROUND($O$10-X24,2),0) -> 6951.64 | AA24: =IF($O$10>0,ROUND(X24/$O$10,2),0) -> 0.01 | AB24: =IF(AND(Z24>0,$O$4>0),($O$10-P24-W24*$O$8)/O24,0) -> 3677.2632 | AC24: =IF(AB24>0,AB24+G24,0) -> 3699.2632 | AD24: 5 | AF24: =IF(P24>0,ROUND(W24/P24,2),0) -> 2.66 | AG24: =IF($O$10>0,ROUND(W24/$O$10,2),0) -> 0.01 | AI24: 5 | AJ24: =COUNTIFS('[1]Данные из терминала'!C:C,AI24,'[1]Данные из терминала'!B:B,"sell") -> 38 | AK24: =COUNTIFS('[1]Данные из терминала'!C:C,AI24,'[1]Данные из терминала'!B:B,"buy") -> 43 | AL24: =COUNTIFS('[1]Данные из терминала'!C:C,AI24) -> 81 | AM24: =SUMIFS('[1]Данные из терминала'!E:E,'[1]Данные из терминала'!C:C,AI24,'[1]Данные из терминала'!B:B,"sell") -> 42.24 | AN24: =SUMIFS('[1]Данные из терминала'!E:E,'[1]Данные из терминала'!C:C,AI24,'[1]Данные из терминала'!B:B,"buy") -> 47.36 | AO24: =SUMIFS('[1]Данные из терминала'!E:E,'[1]Данные из терминала'!C:C,AI24) -> 89.6 | AP24: =SUMIFS('[1]Данные из терминала'!N:N,'[1]Данные из терминала'!C:C,AI24,'[1]Данные из терминала'!B:B,"sell") -> 5914.88 | AQ24: =SUMIFS('[1]Данные из терминала'!N:N,'[1]Данные из терминала'!C:C,AI24,'[1]Данные из терминала'!B:B,"buy") -> 6628.52 | AR24: =SUMIFS('[1]Данные из терминала'!N:N,'[1]Данные из терминала'!C:C,AI24) -> 12543.4 | AS24: =ROUND(IF(AJ24>0,AVERAGEIFS('[1]Данные из терминала'!N:N,'[1]Данные из терминала'!C:C,AI24,'[1]Данные из терминала'!B:B,"sell"),0),2) -> 155.65 | AT24: =ROUND(IF(AK24>0,AVERAGEIFS('[1]Данные из терминала'!N:N,'[1]Данные из терминала'!C:C,AI24,'[1]Данные из терминала'!B:B,"buy"),0),2) -> 154.15 | AU24: =ROUND(IF(AL24>0,AVERAGEIFS('[1]Данные из терминала'!N:N,'[1]Данные из терминала'!C:C,AI24),0),2) -> 154.86 | AV24: =IF(AJ24>0,AP24/$AR$42,0) -> 0.054611113 | AW24: =IF(AK24>0,AQ24/$AR$42,0) -> 0.061200034 | AX24: =IF(AL24>0,AR24/$AR$42,0) -> 0.11581115 | AY24: =IF(AJ24>0,VLOOKUP(AI24,[1]Сводная!A:E,5,0),0) -> 25.4 | AZ24: =IF(AK24>0,VLOOKUP(AI24,[1]Сводная!A:B,2,0),0) -> 32.5 | BA24: =ROUND(IF(AJ24>0,AVERAGEIFS('[1]Данные из терминала'!L:L,'[1]Данные из терминала'!C:C,AI24,'[1]Данные из терминала'!B:B,"sell"),0),1) -> 23 | BB24: =ROUND(IF(AK24>0,AVERAGEIFS('[1]Данные из терминала'!L:L,'[1]Данные из терминала'!C:C,AI24,'[1]Данные из терминала'!B:B,"buy"),0),1) -> 23.1 | BC24: =ROUND(IF(AL24>0,AVERAGEIFS('[1]Данные из терминала'!L:L,'[1]Данные из терминала'!C:C,AI24),0),1) -> 23.1 | BD24: =IF(AJ24>0,VLOOKUP(AI24,[1]Сводная!A:F,6,0),0) -> 21.5 | BE24: =IF(AK24>0,VLOOKUP(AI24,[1]Сводная!A:C,3,0),0) -> 24.9 | BF24: =ROUND(IF(AJ24>0,AVERAGEIFS('[1]Данные из терминала'!M:M,'[1]Данные из терминала'!C:C,AI24,'[1]Данные из терминала'!B:B,"sell"),0),1) -> 20.7 | BG24: =ROUND(IF(AK24>0,AVERAGEIFS('[1]Данные из терминала'!M:M,'[1]Данные из терминала'!C:C,AI24,'[1]Данные из терминала'!B:B,"buy"),0),1) -> 21.3 | BH24: =ROUND(IF(AL24>0,AVERAGEIFS('[1]Данные из терминала'!M:M,'[1]Данные из терминала'!C:C,AI24),0),1) -> 21 | BI24: =IF(AJ24>0,VLOOKUP(AI24,[1]Сводная!A:G,7,0),0) -> 1.0180556 | BJ24: =IF(AK24>0,VLOOKUP(AI24,[1]Сводная!A:D,4,0),0) -> 0.81944444 | BK24: =IF(AJ24>0,AVERAGEIFS('[1]Данные из терминала'!O:O,'[1]Данные из терминала'!C:C,AI24,'[1]Данные из терминала'!B:B,"sell"),0) -> 0.35498904 | BL24: =IF(AK24>0,AVERAGEIFS('[1]Данные из терминала'!O:O,'[1]Данные из терминала'!C:C,AI24,'[1]Данные из терминала'!B:B,"buy"),0) -> 0.27881137 | BM24: =IF(AL24>0,AVERAGEIFS('[1]Данные из терминала'!O:O,'[1]Данные из терминала'!C:C,AI24),0) -> 0.31454904
A25: 6 | B25: =IF(AND($A25>=C$12,C$12>0),0,IF(AND($A25>=C$9,C$9>0),C$10,IF(AND($A25>=C$6,C$6>0),C$7,0))) -> -1 | C25: =IF(AND($A25>=C$12,C$12>0),C$13,C24+B25) -> 13 | E25: =IF(OR($A25<2,AND(G$15>0,$A25>G$15)),0,IF(AND($A25>=G$12,G$12>0),G$13,IF(AND($A25>=G$9,G$9>0),G$10,IF(AND($A25>=G$6,G$6>0),G$7,0)))) -> 1 | F25: =F24+E25 -> 8 | G25: =G24+F25 -> 30 | I25: =IF(($A25<K$4),1,IF(AND($A25>K$15,K$15>0),I24,IF(AND($A25>=K$12,K$12>0),ROUND(I24+K$13,4),IF(AND($A25>=K$9,K$9>0),ROUND(I24+K$10,4),IF(AND($A25>=K$6,K$6>0),ROUND(I24+K$7,4),K$3))))) -> 1.6 | J25: =IF($A25<K$4, K$2, IF(K$1=0,IF(K$16>0,IF(K$2*K$16<ROUND(J24*I25, 3),K$2*K$16,ROUND(J24*I25, 3)),ROUND(J24*I25, 3)),IF(K$16>0,IF(K$2*K$16<ROUND(K$2*I25, 3),K$2*K$16,ROUND(K$2*I25, 3)),ROUND(K$2*I25, 3)))) -> 0.133 | K25: =K24+ROUND(J25,3) -> 0.321 | M25: =ROUND(C25*O25-K25*$O$6,2) -> 41.6 | N25: =IF($O$10>0,M25/$O$10,0) -> 0.0059428571 | O25: =ROUND(ROUND(K25,2)*$O$4,2) -> 3.2 | P25: =ROUND((ROUND(K24,2)*(G25-G24)*$O$4+P24+J25*$O$6),2) -> 28.4 | Q25: =P25/$O$10 -> 0.0040571429 | R25: =ROUND(P25/O25,0) -> 9 | S25: =ROUND(R25/G25,2) -> 0.3 | T25: =R25+C25 -> 22 | U25: =ROUND(T25/G25,2) -> 0.73 | W25: =ROUND(K25*$O$7,2) -> 60.03 | X25: =ROUND(P25+W25,2) -> 88.43 | Z25: =IF($O$10>0,ROUND($O$10-X25,2),0) -> 6911.57 | AA25: =IF($O$10>0,ROUND(X25/$O$10,2),0) -> 0.01 | AB25: =IF(AND(Z25>0,$O$4>0),($O$10-P25-W25*$O$8)/O25,0) -> 2178.625 | AC25: =IF(AB25>0,AB25+G25,0) -> 2208.625 | AD25: 6 | AF25: =IF(P25>0,ROUND(W25/P25,2),0) -> 2.11 | AG25: =IF($O$10>0,ROUND(W25/$O$10,2),0) -> 0.01 | AI25: 6 | AJ25: =COUNTIFS('[1]Данные из терминала'!C:C,AI25,'[1]Данные из терминала'!B:B,"sell") -> 26 | AK25: =COUNTIFS('[1]Данные из терминала'!C:C,AI25,'[1]Данные из терминала'!B:B,"buy") -> 22 | AL25: =COUNTIFS('[1]Данные из терминала'!C:C,AI25) -> 48 | AM25: =SUMIFS('[1]Данные из терминала'!E:E,'[1]Данные из терминала'!C:C,AI25,'[1]Данные из терминала'!B:B,"sell") -> 42.21 | AN25: =SUMIFS('[1]Данные из терминала'!E:E,'[1]Данные из терминала'!C:C,AI25,'[1]Данные из терминала'!B:B,"buy") -> 38.69 | AO25: =SUMIFS('[1]Данные из терминала'!E:E,'[1]Данные из терминала'!C:C,AI25) -> 80.9 | AP25: =SUMIFS('[1]Данные из терминала'!N:N,'[1]Данные из терминала'!C:C,AI25,'[1]Данные из терминала'!B:B,"sell") -> 5484.86 | AQ25: =SUMIFS('[1]Данные из терминала'!N:N,'[1]Данные из терминала'!C:C,AI25,'[1]Данные из терминала'!B:B,"buy") -> 5027.93 | AR25: =SUMIFS('[1]Данные из терминала'!N:N,'[1]Данные из терминала'!C:C,AI25) -> 10512.79 | AS25: =ROUND(IF(AJ25>0,AVERAGEIFS('[1]Данные из терминала'!N:N,'[1]Данные из терминала'!C:C,AI25,'[1]Данные из терминала'!B:B,"sell"),0),2) -> 210.96 | AT25: =ROUND(IF(AK25>0,AVERAGEIFS('[1]Данные из терминала'!N:N,'[1]Данные из терминала'!C:C,AI25,'[1]Данные из терминала'!B:B,"buy"),0),2) -> 228.54 | AU25: =ROUND(IF(AL25>0,AVERAGEIFS('[1]Данные из терминала'!N:N,'[1]Данные из терминала'!C:C,AI25),0),2) -> 219.02 | AV25: =IF(AJ25>0,AP25/$AR$42,0) -> 0.05064081 | AW25: =IF(AK25>0,AQ25/$AR$42,0) -> 0.04642205 | AX25: =IF(AL25>0,AR25/$AR$42,0) -> 0.09706286 | AY25: =IF(AJ25>0,VLOOKUP(AI25,[1]Сводная!A:E,5,0),0) -> 45.1 | AZ25: =IF(AK25>0,VLOOKUP(AI25,[1]Сводная!A:B,2,0),0) -> 33.2 | BA25: =ROUND(IF(AJ25>0,AVERAGEIFS('[1]Данные из терминала'!L:L,'[1]Данные из терминала'!C:C,AI25,'[1]Данные из терминала'!B:B,"sell"),0),1) -> 31.6 | BB25: =ROUND(IF(AK25>0,AVERAGEIFS('[1]Данные из терминала'!L:L,'[1]Данные из терминала'!C:C,AI25,'[1]Данные из терминала'!B:B,"buy"),0),1) -> 31 | BC25: =ROUND(IF(AL25>0,AVERAGEIFS('[1]Данные из терминала'!L:L,'[1]Данные из терминала'!C:C,AI25),0),1) -> 31.3 | BD25: =IF(AJ25>0,VLOOKUP(AI25,[1]Сводная!A:F,6,0),0) -> 24.2 | BE25: =IF(AK25>0,VLOOKUP(AI25,[1]Сводная!A:C,3,0),0) -> 26.1 | BF25: =ROUND(IF(AJ25>0,AVERAGEIFS('[1]Данные из терминала'!M:M,'[1]Данные из терминала'!C:C,AI25,'[1]Данные из терминала'!B:B,"sell"),0),1) -> 21.7 | BG25: =ROUND(IF(AK25>0,AVERAGEIFS('[1]Данные из терминала'!M:M,'[1]Данные из терминала'!C:C,AI25,'[1]Данные из терминала'!B:B,"buy"),0),1) -> 22.6 | BH25: =ROUND(IF(AL25>0,AVERAGEIFS('[1]Данные из терминала'!M:M,'[1]Данные из терминала'!C:C,AI25),0),1) -> 22.1 | BI25: =IF(AJ25>0,VLOOKUP(AI25,[1]Сводная!A:G,7,0),0) -> 0.94166667 | BJ25: =IF(AK25>0,VLOOKUP(AI25,[1]Сводная!A:D,4,0),0) -> 1.2652778 | BK25: =IF(AJ25>0,AVERAGEIFS('[1]Данные из терминала'!O:O,'[1]Данные из терминала'!C:C,AI25,'[1]Данные из терминала'!B:B,"sell"),0) -> 0.35136218 | BL25: =IF(AK25>0,AVERAGEIFS('[1]Данные из терминала'!O:O,'[1]Данные из терминала'!C:C,AI25,'[1]Данные из терминала'!B:B,"buy"),0) -> 0.48671086 | BM25: =IF(AL25>0,AVERAGEIFS('[1]Данные из терминала'!O:O,'[1]Данные из терминала'!C:C,AI25),0) -> 0.41339699
A26: 7 | B26: =IF(AND($A26>=C$12,C$12>0),0,IF(AND($A26>=C$9,C$9>0),C$10,IF(AND($A26>=C$6,C$6>0),C$7,0))) -> -1 | C26: =IF(AND($A26>=C$12,C$12>0),C$13,C25+B26) -> 12 | E26: =IF(OR($A26<2,AND(G$15>0,$A26>G$15)),0,IF(AND($A26>=G$12,G$12>0),G$13,IF(AND($A26>=G$9,G$9>0),G$10,IF(AND($A26>=G$6,G$6>0),G$7,0)))) -> 1 | F26: =F25+E26 -> 9 | G26: =G25+F26 -> 39 | I26: =IF(($A26<K$4),1,IF(AND($A26>K$15,K$15>0),I25,IF(AND($A26>=K$12,K$12>0),ROUND(I25+K$13,4),IF(AND($A26>=K$9,K$9>0),ROUND(I25+K$10,4),IF(AND($A26>=K$6,K$6>0),ROUND(I25+K$7,4),K$3))))) -> 1.5 | J26: =IF($A26<K$4, K$2, IF(K$1=0,IF(K$16>0,IF(K$2*K$16<ROUND(J25*I26, 3),K$2*K$16,ROUND(J25*I26, 3)),ROUND(J25*I26, 3)),IF(K$16>0,IF(K$2*K$16<ROUND(K$2*I26, 3),K$2*K$16,ROUND(K$2*I26, 3)),ROUND(K$2*I26, 3)))) -> 0.2 | K26: =K25+ROUND(J26,3) -> 0.521 | M26: =ROUND(C26*O26-K26*$O$6,2) -> 62.4 | N26: =IF($O$10>0,M26/$O$10,0) -> 0.0089142857 | O26: =ROUND(ROUND(K26,2)*$O$4,2) -> 5.2 | P26: =ROUND((ROUND(K25,2)*(G26-G25)*$O$4+P25+J26*$O$6),2) -> 57.2 | Q26: =P26/$O$10 -> 0.0081714286 | R26: =ROUND(P26/O26,0) -> 11 | S26: =ROUND(R26/G26,2) -> 0.28 | T26: =R26+C26 -> 23 | U26: =ROUND(T26/G26,2) -> 0.59 | W26: =ROUND(K26*$O$7,2) -> 97.43 | X26: =ROUND(P26+W26,2) -> 154.63 | Z26: =IF($O$10>0,ROUND($O$10-X26,2),0) -> 6845.37 | AA26: =IF($O$10>0,ROUND(X26/$O$10,2),0) -> 0.02 | AB26: =IF(AND(Z26>0,$O$4>0),($O$10-P26-W26*$O$8)/O26,0) -> 1335.1538 | AC26: =IF(AB26>0,AB26+G26,0) -> 1374.1538 | AD26: 7 | AF26: =IF(P26>0,ROUND(W26/P26,2),0) -> 1.7 | AG26: =IF($O$10>0,ROUND(W26/$O$10,2),0) -> 0.01 | AI26: 7 | AJ26: =COUNTIFS('[1]Данные из терминала'!C:C,AI26,'[1]Данные из терминала'!B:B,"sell") -> 23 | AK26: =COUNTIFS('[1]Данные из терминала'!C:C,AI26,'[1]Данные из терминала'!B:B,"buy") -> 12 | AL26: =COUNTIFS('[1]Данные из терминала'!C:C,AI26) -> 35 | AM26: =SUMIFS('[1]Данные из терминала'!E:E,'[1]Данные из терминала'!C:C,AI26,'[1]Данные из терминала'!B:B,"sell") -> 67.94 | AN26: =SUMIFS('[1]Данные из терминала'!E:E,'[1]Данные из терминала'!C:C,AI26,'[1]Данные из терминала'!B:B,"buy") -> 29.79 | AO26: =SUMIFS('[1]Данные из терминала'!E:E,'[1]Данные из терминала'!C:C,AI26) -> 97.73 | AP26: =SUMIFS('[1]Данные из терминала'!N:N,'[1]Данные из терминала'!C:C,AI26,'[1]Данные из терминала'!B:B,"sell") -> 8152.23 | AQ26: =SUMIFS('[1]Данные из терминала'!N:N,'[1]Данные из терминала'!C:C,AI26,'[1]Данные из терминала'!B:B,"buy") -> 3573.67 | AR26: =SUMIFS('[1]Данные из терминала'!N:N,'[1]Данные из терминала'!C:C,AI26) -> 11725.9 | AS26: =ROUND(IF(AJ26>0,AVERAGEIFS('[1]Данные из терминала'!N:N,'[1]Данные из терминала'!C:C,AI26,'[1]Данные из терминала'!B:B,"sell"),0),2) -> 354.44 | AT26: =ROUND(IF(AK26>0,AVERAGEIFS('[1]Данные из терминала'!N:N,'[1]Данные из терминала'!C:C,AI26,'[1]Данные из терминала'!B:B,"buy"),0),2) -> 297.81 | AU26: =ROUND(IF(AL26>0,AVERAGEIFS('[1]Данные из терминала'!N:N,'[1]Данные из терминала'!C:C,AI26),0),2) -> 335.03 | AV26: =IF(AJ26>0,AP26/$AR$42,0) -> 0.075268198 | AW26: =IF(AK26>0,AQ26/$AR$42,0) -> 0.032995107 | AX26: =IF(AL26>0,AR26/$AR$42,0) -> 0.1082633 | AY26: =IF(AJ26>0,VLOOKUP(AI26,[1]Сводная!A:E,5,0),0) -> 44.2 | AZ26: =IF(AK26>0,VLOOKUP(AI26,[1]Сводная!A:B,2,0),0) -> 46.6 | BA26: =ROUND(IF(AJ26>0,AVERAGEIFS('[1]Данные из терминала'!L:L,'[1]Данные из терминала'!C:C,AI26,'[1]Данные из терминала'!B:B,"sell"),0),1) -> 40.8 | BB26: =ROUND(IF(AK26>0,AVERAGEIFS('[1]Данные из терминала'!L:L,'[1]Данные из терминала'!C:C,AI26,'[1]Данные из терминала'!B:B,"buy"),0),1) -> 41.2 | BC26: =ROUND(IF(AL26>0,AVERAGEIFS('[1]Данные из терминала'!L:L,'[1]Данные из терминала'!C:C,AI26),0),1) -> 41 | BD26: =IF(AJ26>0,VLOOKUP(AI26,[1]Сводная!A:F,6,0),0) -> 24.1 | BE26: =IF(AK26>0,VLOOKUP(AI26,[1]Сводная!A:C,3,0),0) -> 25.6 | BF26: =ROUND(IF(AJ26>0,AVERAGEIFS('[1]Данные из терминала'!M:M,'[1]Данные из терминала'!C:C,AI26,'[1]Данные из терминала'!B:B,"sell"),0),1) -> 23.1 | BG26: =ROUND(IF(AK26>0,AVERAGEIFS('[1]Данные из терминала'!M:M,'[1]Данные из терминала'!C:C,AI26,'[1]Данные из терминала'!B:B,"buy"),0),1) -> 23.8 | BH26: =ROUND(IF(AL26>0,AVERAGEIFS('[1]Данные из терминала'!M:M,'[1]Данные из терминала'!C:C,AI26),0),1) -> 23.3 | BI26: =IF(AJ26>0,VLOOKUP(AI26,[1]Сводная!A:G,7,0),0) -> 1.88125 | BJ26: =IF(AK26>0,VLOOKUP(AI26,[1]Сводная!A:D,4,0),0) -> 1.36875 | BK26: =IF(AJ26>0,AVERAGEIFS('[1]Данные из терминала'!O:O,'[1]Данные из терминала'!C:C,AI26,'[1]Данные из терминала'!B:B,"sell"),0) -> 0.53242754 | BL26: =IF(AK26>0,AVERAGEIFS('[1]Данные из терминала'!O:O,'[1]Данные из терминала'!C:C,AI26,'[1]Данные из терминала'!B:B,"buy"),0) -> 0.56325231 | BM26: =IF(AL26>0,AVERAGEIFS('[1]Данные из терминала'!O:O,'[1]Данные из терминала'!C:C,AI26),0) -> 0.54299603 | BO26: 2
A27: 8 | B27: =IF(AND($A27>=C$12,C$12>0),0,IF(AND($A27>=C$9,C$9>0),C$10,IF(AND($A27>=C$6,C$6>0),C$7,0))) -> -1 | C27: =IF(AND($A27>=C$12,C$12>0),C$13,C26+B27) -> 11 | E27: =IF(OR($A27<2,AND(G$15>0,$A27>G$15)),0,IF(AND($A27>=G$12,G$12>0),G$13,IF(AND($A27>=G$9,G$9>0),G$10,IF(AND($A27>=G$6,G$6>0),G$7,0)))) -> 1 | F27: =F26+E27 -> 10 | G27: =G26+F27 -> 49 | I27: =IF(($A27<K$4),1,IF(AND($A27>K$15,K$15>0),I26,IF(AND($A27>=K$12,K$12>0),ROUND(I26+K$13,4),IF(AND($A27>=K$9,K$9>0),ROUND(I26+K$10,4),IF(AND($A27>=K$6,K$6>0),ROUND(I26+K$7,4),K$3))))) -> 1.51 | J27: =IF($A27<K$4, K$2, IF(K$1=0,IF(K$16>0,IF(K$2*K$16<ROUND(J26*I27, 3),K$2*K$16,ROUND(J26*I27, 3)),ROUND(J26*I27, 3)),IF(K$16>0,IF(K$2*K$16<ROUND(K$2*I27, 3),K$2*K$16,ROUND(K$2*I27, 3)),ROUND(K$2*I27, 3)))) -> 0.302 | K27: =K26+ROUND(J27,3) -> 0.823 | M27: =ROUND(C27*O27-K27*$O$6,2) -> 90.2 | N27: =IF($O$10>0,M27/$O$10,0) -> 0.012885714 | O27: =ROUND(ROUND(K27,2)*$O$4,2) -> 8.2 | P27: =ROUND((ROUND(K26,2)*(G27-G26)*$O$4+P26+J27*$O$6),2) -> 109.2 | Q27: =P27/$O$10 -> 0.0156 | R27: =ROUND(P27/O27,0) -> 13 | S27: =ROUND(R27/G27,2) -> 0.27 | T27: =R27+C27 -> 24 | U27: =ROUND(T27/G27,2) -> 0.49 | W27: =ROUND(K27*$O$7,2) -> 153.9 | X27: =ROUND(P27+W27,2) -> 263.1 | Z27: =IF($O$10>0,ROUND($O$10-X27,2),0) -> 6736.9 | AA27: =IF($O$10>0,ROUND(X27/$O$10,2),0) -> 0.04 | AB27: =IF(AND(Z27>0,$O$4>0),($O$10-P27-W27*$O$8)/O27,0) -> 840.34146 | AC27: =IF(AB27>0,AB27+G27,0) -> 889.34146 | AD27: 8 | AF27: =IF(P27>0,ROUND(W27/P27,2),0) -> 1.41 | AG27: =IF($O$10>0,ROUND(W27/$O$10,2),0) -> 0.02 | AI27: 8 | AJ27: =COUNTIFS('[1]Данные из терминала'!C:C,AI27,'[1]Данные из терминала'!B:B,"sell") -> 12 | AK27: =COUNTIFS('[1]Данные из терминала'!C:C,AI27,'[1]Данные из терминала'!B:B,"buy") -> 7 | AL27: =COUNTIFS('[1]Данные из терминала'!C:C,AI27) -> 19 | AM27: =SUMIFS('[1]Данные из терминала'!E:E,'[1]Данные из терминала'!C:C,AI27,'[1]Данные из терминала'!B:B,"sell") -> 51.19 | AN27: =SUMIFS('[1]Данные из терминала'!E:E,'[1]Данные из терминала'!C:C,AI27,'[1]Данные из терминала'!B:B,"buy") -> 26.4 | AO27: =SUMIFS('[1]Данные из терминала'!E:E,'[1]Данные из терминала'!C:C,AI27) -> 77.59 | AP27: =SUMIFS('[1]Данные из терминала'!N:N,'[1]Данные из терминала'!C:C,AI27,'[1]Данные из терминала'!B:B,"sell") -> 5626.18 | AQ27: =SUMIFS('[1]Данные из терминала'!N:N,'[1]Данные из терминала'!C:C,AI27,'[1]Данные из терминала'!B:B,"buy") -> 2903.16 | AR27: =SUMIFS('[1]Данные из терминала'!N:N,'[1]Данные из терминала'!C:C,AI27) -> 8529.34 | AS27: =ROUND(IF(AJ27>0,AVERAGEIFS('[1]Данные из терминала'!N:N,'[1]Данные из терминала'!C:C,AI27,'[1]Данные из терминала'!B:B,"sell"),0),2) -> 468.85 | AT27: =ROUND(IF(AK27>0,AVERAGEIFS('[1]Данные из терминала'!N:N,'[1]Данные из терминала'!C:C,AI27,'[1]Данные из терминала'!B:B,"buy"),0),2) -> 414.74 | AU27: =ROUND(IF(AL27>0,AVERAGEIFS('[1]Данные из терминала'!N:N,'[1]Данные из терминала'!C:C,AI27),0),2) -> 448.91 | AV27: =IF(AJ27>0,AP27/$AR$42,0) -> 0.051945594 | AW27: =IF(AK27>0,AQ27/$AR$42,0) -> 0.026804398 | AX27: =IF(AL27>0,AR27/$AR$42,0) -> 0.078749992 | AY27: =IF(AJ27>0,VLOOKUP(AI27,[1]Сводная!A:E,5,0),0) -> 56.7 | AZ27: =IF(AK27>0,VLOOKUP(AI27,[1]Сводная!A:B,2,0),0) -> 60.4 | BA27: =ROUND(IF(AJ27>0,AVERAGEIFS('[1]Данные из терминала'!L:L,'[1]Данные из терминала'!C:C,AI27,'[1]Данные из терминала'!B:B,"sell"),0),1) -> 51.1 | BB27: =ROUND(IF(AK27>0,AVERAGEIFS('[1]Данные из терминала'!L:L,'[1]Данные из терминала'!C:C,AI27,'[1]Данные из терминала'!B:B,"buy"),0),1) -> 52.3 | BC27: =ROUND(IF(AL27>0,AVERAGEIFS('[1]Данные из терминала'!L:L,'[1]Данные из терминала'!C:C,AI27),0),1) -> 51.5 | BD27: =IF(AJ27>0,VLOOKUP(AI27,[1]Сводная!A:F,6,0),0) -> 25.1 | BE27: =IF(AK27>0,VLOOKUP(AI27,[1]Сводная!A:C,3,0),0) -> 30.8 | BF27: =ROUND(IF(AJ27>0,AVERAGEIFS('[1]Данные из терминала'!M:M,'[1]Данные из терминала'!C:C,AI27,'[1]Данные из терминала'!B:B,"sell"),0),1) -> 24.1 | BG27: =ROUND(IF(AK27>0,AVERAGEIFS('[1]Данные из терминала'!M:M,'[1]Данные из терминала'!C:C,AI27,'[1]Данные из терминала'!B:B,"buy"),0),1) -> 26.1 | BH27: =ROUND(IF(AL27>0,AVERAGEIFS('[1]Данные из терминала'!M:M,'[1]Данные из терминала'!C:C,AI27),0),1) -> 24.8 | BI27: =IF(AJ27>0,VLOOKUP(AI27,[1]Сводная!A:G,7,0),0) -> 0.99791667 | BJ27: =IF(AK27>0,VLOOKUP(AI27,[1]Сводная!A:D,4,0),0) -> 1.1458333 | BK27: =IF(AJ27>0,AVERAGEIFS('[1]Данные из терминала'!O:O,'[1]Данные из терминала'!C:C,AI27,'[1]Данные из терминала'!B:B,"sell"),0) -> 0.52077546 | BL27: =IF(AK27>0,AVERAGEIFS('[1]Данные из терминала'!O:O,'[1]Данные из терминала'!C:C,AI27,'[1]Данные из терминала'!B:B,"buy"),0) -> 0.52986111 | BM27: =IF(AL27>0,AVERAGEIFS('[1]Данные из терминала'!O:O,'[1]Данные из терминала'!C:C,AI27),0) -> 0.52412281
A28: 9 | B28: =IF(AND($A28>=C$12,C$12>0),0,IF(AND($A28>=C$9,C$9>0),C$10,IF(AND($A28>=C$6,C$6>0),C$7,0))) -> -1 | C28: =IF(AND($A28>=C$12,C$12>0),C$13,C27+B28) -> 10 | E28: =IF(OR($A28<2,AND(G$15>0,$A28>G$15)),0,IF(AND($A28>=G$12,G$12>0),G$13,IF(AND($A28>=G$9,G$9>0),G$10,IF(AND($A28>=G$6,G$6>0),G$7,0)))) -> 1 | F28: =F27+E28 -> 11 | G28: =G27+F28 -> 60 | I28: =IF(($A28<K$4),1,IF(AND($A28>K$15,K$15>0),I27,IF(AND($A28>=K$12,K$12>0),ROUND(I27+K$13,4),IF(AND($A28>=K$9,K$9>0),ROUND(I27+K$10,4),IF(AND($A28>=K$6,K$6>0),ROUND(I27+K$7,4),K$3))))) -> 1.52 | J28: =IF($A28<K$4, K$2, IF(K$1=0,IF(K$16>0,IF(K$2*K$16<ROUND(J27*I28, 3),K$2*K$16,ROUND(J27*I28, 3)),ROUND(J27*I28, 3)),IF(K$16>0,IF(K$2*K$16<ROUND(K$2*I28, 3),K$2*K$16,ROUND(K$2*I28, 3)),ROUND(K$2*I28, 3)))) -> 0.459 | K28: =K27+ROUND(J28,3) -> 1.282 | M28: =ROUND(C28*O28-K28*$O$6,2) -> 128 | N28: =IF($O$10>0,M28/$O$10,0) -> 0.018285714 | O28: =ROUND(ROUND(K28,2)*$O$4,2) -> 12.8 | P28: =ROUND((ROUND(K27,2)*(G28-G27)*$O$4+P27+J28*$O$6),2) -> 199.4 | Q28: =P28/$O$10 -> 0.028485714 | R28: =ROUND(P28/O28,0) -> 16 | S28: =ROUND(R28/G28,2) -> 0.27 | T28: =R28+C28 -> 26 | U28: =ROUND(T28/G28,2) -> 0.43 | W28: =ROUND(K28*$O$7,2) -> 239.73 | X28: =ROUND(P28+W28,2) -> 439.13 | Z28: =IF($O$10>0,ROUND($O$10-X28,2),0) -> 6560.87 | AA28: =IF($O$10>0,ROUND(X28/$O$10,2),0) -> 0.06 | AB28: =IF(AND(Z28>0,$O$4>0),($O$10-P28-W28*$O$8)/O28,0) -> 531.29688 | AC28: =IF(AB28>0,AB28+G28,0) -> 591.29688 | AD28: 9 | AF28: =IF(P28>0,ROUND(W28/P28,2),0) -> 1.2 | AG28: =IF($O$10>0,ROUND(W28/$O$10,2),0) -> 0.03 | AI28: 9 | AJ28: =COUNTIFS('[1]Данные из терминала'!C:C,AI28,'[1]Данные из терминала'!B:B,"sell") -> 5 | AK28: =COUNTIFS('[1]Данные из терминала'!C:C,AI28,'[1]Данные из терминала'!B:B,"buy") -> 12 | AL28: =COUNTIFS('[1]Данные из терминала'!C:C,AI28) -> 17 | AM28: =SUMIFS('[1]Данные из терминала'!E:E,'[1]Данные из терминала'!C:C,AI28,'[1]Данные из терминала'!B:B,"sell") -> 25.72 | AN28: =SUMIFS('[1]Данные из терминала'!E:E,'[1]Данные из терминала'!C:C,AI28,'[1]Данные из терминала'!B:B,"buy") -> 68.15 | AO28: =SUMIFS('[1]Данные из терминала'!E:E,'[1]Данные из терминала'!C:C,AI28) -> 93.87 | AP28: =SUMIFS('[1]Данные из терминала'!N:N,'[1]Данные из терминала'!C:C,AI28,'[1]Данные из терминала'!B:B,"sell") -> 2570.86 | AQ28: =SUMIFS('[1]Данные из терминала'!N:N,'[1]Данные из терминала'!C:C,AI28,'[1]Данные из терминала'!B:B,"buy") -> 1943.93 | AR28: =SUMIFS('[1]Данные из терминала'!N:N,'[1]Данные из терминала'!C:C,AI28) -> 4514.79 | AS28: =ROUND(IF(AJ28>0,AVERAGEIFS('[1]Данные из терминала'!N:N,'[1]Данные из терминала'!C:C,AI28,'[1]Данные из терминала'!B:B,"sell"),0),2) -> 514.17 | AT28: =ROUND(IF(AK28>0,AVERAGEIFS('[1]Данные из терминала'!N:N,'[1]Данные из терминала'!C:C,AI28,'[1]Данные из терминала'!B:B,"buy"),0),2) -> 161.99 | AU28: =ROUND(IF(AL28>0,AVERAGEIFS('[1]Данные из терминала'!N:N,'[1]Данные из терминала'!C:C,AI28),0),2) -> 265.58 | AV28: =IF(AJ28>0,AP28/$AR$42,0) -> 0.023736327 | AW28: =IF(AK28>0,AQ28/$AR$42,0) -> 0.017947986 | AX28: =IF(AL28>0,AR28/$AR$42,0) -> 0.041684313 | AY28: =IF(AJ28>0,VLOOKUP(AI28,[1]Сводная!A:E,5,0),0) -> 62.2 | AZ28: =IF(AK28>0,VLOOKUP(AI28,[1]Сводная!A:B,2,0),0) -> 72.5 | BA28: =ROUND(IF(AJ28>0,AVERAGEIFS('[1]Данные из терминала'!L:L,'[1]Данные из терминала'!C:C,AI28,'[1]Данные из терминала'!B:B,"sell"),0),1) -> 61.7 | BB28: =ROUND(IF(AK28>0,AVERAGEIFS('[1]Данные из терминала'!L:L,'[1]Данные из терминала'!C:C,AI28,'[1]Данные из терминала'!B:B,"buy"),0),1) -> 62.8 | BC28: =ROUND(IF(AL28>0,AVERAGEIFS('[1]Данные из терминала'!L:L,'[1]Данные из терминала'!C:C,AI28),0),1) -> 62.5 | BD28: =IF(AJ28>0,VLOOKUP(AI28,[1]Сводная!A:F,6,0),0) -> 26.1 | BE28: =IF(AK28>0,VLOOKUP(AI28,[1]Сводная!A:C,3,0),0) -> 30.2 | BF28: =ROUND(IF(AJ28>0,AVERAGEIFS('[1]Данные из терминала'!M:M,'[1]Данные из терминала'!C:C,AI28,'[1]Данные из терминала'!B:B,"sell"),0),1) -> 25.9 | BG28: =ROUND(IF(AK28>0,AVERAGEIFS('[1]Данные из терминала'!M:M,'[1]Данные из терминала'!C:C,AI28,'[1]Данные из терминала'!B:B,"buy"),0),1) -> 24.5 | BH28: =ROUND(IF(AL28>0,AVERAGEIFS('[1]Данные из терминала'!M:M,'[1]Данные из терминала'!C:C,AI28),0),1) -> 24.9 | BI28: =IF(AJ28>0,VLOOKUP(AI28,[1]Сводная!A:G,7,0),0) -> 0.88819444 | BJ28: =IF(AK28>0,VLOOKUP(AI28,[1]Сводная!A:D,4,0),0) -> 2.4597222 | BK28: =IF(AJ28>0,AVERAGEIFS('[1]Данные из терминала'!O:O,'[1]Данные из терминала'!C:C,AI28,'[1]Данные из терминала'!B:B,"sell"),0) -> 0.35166667 | BL28: =IF(AK28>0,AVERAGEIFS('[1]Данные из терминала'!O:O,'[1]Данные из терминала'!C:C,AI28,'[1]Данные из терминала'!B:B,"buy"),0) -> 0.7712963 | BM28: =IF(AL28>0,AVERAGEIFS('[1]Данные из терминала'!O:O,'[1]Данные из терминала'!C:C,AI28),0) -> 0.64787582
A29: 10 | B29: =IF(AND($A29>=C$12,C$12>0),0,IF(AND($A29>=C$9,C$9>0),C$10,IF(AND($A29>=C$6,C$6>0),C$7,0))) -> -2 | C29: =IF(AND($A29>=C$12,C$12>0),C$13,C28+B29) -> 8 | E29: =IF(OR($A29<2,AND(G$15>0,$A29>G$15)),0,IF(AND($A29>=G$12,G$12>0),G$13,IF(AND($A29>=G$9,G$9>0),G$10,IF(AND($A29>=G$6,G$6>0),G$7,0)))) -> 0 | F29: =F28+E29 -> 11 | G29: =G28+F29 -> 71 | I29: =IF(($A29<K$4),1,IF(AND($A29>K$15,K$15>0),I28,IF(AND($A29>=K$12,K$12>0),ROUND(I28+K$13,4),IF(AND($A29>=K$9,K$9>0),ROUND(I28+K$10,4),IF(AND($A29>=K$6,K$6>0),ROUND(I28+K$7,4),K$3))))) -> 1.53 | J29: =IF($A29<K$4, K$2, IF(K$1=0,IF(K$16>0,IF(K$2*K$16<ROUND(J28*I29, 3),K$2*K$16,ROUND(J28*I29, 3)),ROUND(J28*I29, 3)),IF(K$16>0,IF(K$2*K$16<ROUND(K$2*I29, 3),K$2*K$16,ROUND(K$2*I29, 3)),ROUND(K$2*I29, 3)))) -> 0.702 | K29: =K28+ROUND(J29,3) -> 1.984 | M29: =ROUND(C29*O29-K29*$O$6,2) -> 158.4 | N29: =IF($O$10>0,M29/$O$10,0) -> 0.022628571 | O29: =ROUND(ROUND(K29,2)*$O$4,2) -> 19.8 | P29: =ROUND((ROUND(K28,2)*(G29-G28)*$O$4+P28+J29*$O$6),2) -> 340.2 | Q29: =P29/$O$10 -> 0.0486 | R29: =ROUND(P29/O29,0) -> 17 | S29: =ROUND(R29/G29,2) -> 0.24 | T29: =R29+C29 -> 25 | U29: =ROUND(T29/G29,2) -> 0.35 | W29: =ROUND(K29*$O$7,2) -> 371.01 | X29: =ROUND(P29+W29,2) -> 711.21 | Z29: =IF($O$10>0,ROUND($O$10-X29,2),0) -> 6288.79 | AA29: =IF($O$10>0,ROUND(X29/$O$10,2),0) -> 0.1 | AB29: =IF(AND(Z29>0,$O$4>0),($O$10-P29-W29*$O$8)/O29,0) -> 336.35354 | AC29: =IF(AB29>0,AB29+G29,0) -> 407.35354 | AD29: 10 | AF29: =IF(P29>0,ROUND(W29/P29,2),0) -> 1.09 | AG29: =IF($O$10>0,ROUND(W29/$O$10,2),0) -> 0.05 | AI29: 10 | AJ29: =COUNTIFS('[1]Данные из терминала'!C:C,AI29,'[1]Данные из терминала'!B:B,"sell") -> 8 | AK29: =COUNTIFS('[1]Данные из терминала'!C:C,AI29,'[1]Данные из терминала'!B:B,"buy") -> 15 | AL29: =COUNTIFS('[1]Данные из терминала'!C:C,AI29) -> 23 | AM29: =SUMIFS('[1]Данные из терминала'!E:E,'[1]Данные из терминала'!C:C,AI29,'[1]Данные из терминала'!B:B,"sell") -> 95.48 | AN29: =SUMIFS('[1]Данные из терминала'!E:E,'[1]Данные из терминала'!C:C,AI29,'[1]Данные из терминала'!B:B,"buy") -> 176.12 | AO29: =SUMIFS('[1]Данные из терминала'!E:E,'[1]Данные из терминала'!C:C,AI29) -> 271.6 | AP29: =SUMIFS('[1]Данные из терминала'!N:N,'[1]Данные из терминала'!C:C,AI29,'[1]Данные из терминала'!B:B,"sell") -> 7648.83 | AQ29: =SUMIFS('[1]Данные из терминала'!N:N,'[1]Данные из терминала'!C:C,AI29,'[1]Данные из терминала'!B:B,"buy") -> 14099.67 | AR29: =SUMIFS('[1]Данные из терминала'!N:N,'[1]Данные из терминала'!C:C,AI29) -> 21748.5 | AS29: =ROUND(IF(AJ29>0,AVERAGEIFS('[1]Данные из терминала'!N:N,'[1]Данные из терминала'!C:C,AI29,'[1]Данные из терминала'!B:B,"sell"),0),2) -> 956.1 | AT29: =ROUND(IF(AK29>0,AVERAGEIFS('[1]Данные из терминала'!N:N,'[1]Данные из терминала'!C:C,AI29,'[1]Данные из терминала'!B:B,"buy"),0),2) -> 939.98 | AU29: =ROUND(IF(AL29>0,AVERAGEIFS('[1]Данные из терминала'!N:N,'[1]Данные из терминала'!C:C,AI29),0),2) -> 945.59 | AV29: =IF(AJ29>0,AP29/$AR$42,0) -> 0.070620388 | AW29: =IF(AK29>0,AQ29/$AR$42,0) -> 0.13017993 | AX29: =IF(AL29>0,AR29/$AR$42,0) -> 0.20080032 | AY29: =IF(AJ29>0,VLOOKUP(AI29,[1]Сводная!A:E,5,0),0) -> 84.1 | AZ29: =IF(AK29>0,VLOOKUP(AI29,[1]Сводная!A:B,2,0),0) -> 87.8 | BA29: =ROUND(IF(AJ29>0,AVERAGEIFS('[1]Данные из терминала'!L:L,'[1]Данные из терминала'!C:C,AI29,'[1]Данные из терминала'!B:B,"sell"),0),1) -> 74.5 | BB29: =ROUND(IF(AK29>0,AVERAGEIFS('[1]Данные из терминала'!L:L,'[1]Данные из терминала'!C:C,AI29,'[1]Данные из терминала'!B:B,"buy"),0),1) -> 74.6 | BC29: =ROUND(IF(AL29>0,AVERAGEIFS('[1]Данные из терминала'!L:L,'[1]Данные из терминала'!C:C,AI29),0),1) -> 74.6 | BD29: =IF(AJ29>0,VLOOKUP(AI29,[1]Сводная!A:F,6,0),0) -> 26.1 | BE29: =IF(AK29>0,VLOOKUP(AI29,[1]Сводная!A:C,3,0),0) -> 29.8 | BF29: =ROUND(IF(AJ29>0,AVERAGEIFS('[1]Данные из терминала'!M:M,'[1]Данные из терминала'!C:C,AI29,'[1]Данные из терминала'!B:B,"sell"),0),1) -> 25.3 | BG29: =ROUND(IF(AK29>0,AVERAGEIFS('[1]Данные из терминала'!M:M,'[1]Данные из терминала'!C:C,AI29,'[1]Данные из терминала'!B:B,"buy"),0),1) -> 26.7 | BH29: =ROUND(IF(AL29>0,AVERAGEIFS('[1]Данные из терминала'!M:M,'[1]Данные из терминала'!C:C,AI29),0),1) -> 26.2 | BI29: =IF(AJ29>0,VLOOKUP(AI29,[1]Сводная!A:G,7,0),0) -> 1.8305556 | BJ29: =IF(AK29>0,VLOOKUP(AI29,[1]Сводная!A:D,4,0),0) -> 1.7013889 | BK29: =IF(AJ29>0,AVERAGEIFS('[1]Данные из терминала'!O:O,'[1]Данные из терминала'!C:C,AI29,'[1]Данные из терминала'!B:B,"sell"),0) -> 0.97274306 | BL29: =IF(AK29>0,AVERAGEIFS('[1]Данные из терминала'!O:O,'[1]Данные из терминала'!C:C,AI29,'[1]Данные из терминала'!B:B,"buy"),0) -> 1.0204167 | BM29: =IF(AL29>0,AVERAGEIFS('[1]Данные из терминала'!O:O,'[1]Данные из терминала'!C:C,AI29),0) -> 1.0038345
A30: 11 | B30: =IF(AND($A30>=C$12,C$12>0),0,IF(AND($A30>=C$9,C$9>0),C$10,IF(AND($A30>=C$6,C$6>0),C$7,0))) -> -2 | C30: =IF(AND($A30>=C$12,C$12>0),C$13,C29+B30) -> 6 | E30: =IF(OR($A30<2,AND(G$15>0,$A30>G$15)),0,IF(AND($A30>=G$12,G$12>0),G$13,IF(AND($A30>=G$9,G$9>0),G$10,IF(AND($A30>=G$6,G$6>0),G$7,0)))) -> 0 | F30: =F29+E30 -> 11 | G30: =G29+F30 -> 82 | I30: =IF(($A30<K$4),1,IF(AND($A30>K$15,K$15>0),I29,IF(AND($A30>=K$12,K$12>0),ROUND(I29+K$13,4),IF(AND($A30>=K$9,K$9>0),ROUND(I29+K$10,4),IF(AND($A30>=K$6,K$6>0),ROUND(I29+K$7,4),K$3))))) -> 1.54 | J30: =IF($A30<K$4, K$2, IF(K$1=0,IF(K$16>0,IF(K$2*K$16<ROUND(J29*I30, 3),K$2*K$16,ROUND(J29*I30, 3)),ROUND(J29*I30, 3)),IF(K$16>0,IF(K$2*K$16<ROUND(K$2*I30, 3),K$2*K$16,ROUND(K$2*I30, 3)),ROUND(K$2*I30, 3)))) -> 1.081 | K30: =K29+ROUND(J30,3) -> 3.065 | M30: =ROUND(C30*O30-K30*$O$6,2) -> 184.2 | N30: =IF($O$10>0,M30/$O$10,0) -> 0.026314286 | O30: =ROUND(ROUND(K30,2)*$O$4,2) -> 30.7 | P30: =ROUND((ROUND(K29,2)*(G30-G29)*$O$4+P29+J30*$O$6),2) -> 558 | Q30: =P30/$O$10 -> 0.079714286 | R30: =ROUND(P30/O30,0) -> 18 | S30: =ROUND(R30/G30,2) -> 0.22 | T30: =R30+C30 -> 24 | U30: =ROUND(T30/G30,2) -> 0.29 | W30: =ROUND(K30*$O$7,2) -> 573.16 | X30: =ROUND(P30+W30,2) -> 1131.16 | Z30: =IF($O$10>0,ROUND($O$10-X30,2),0) -> 5868.84 | AA30: =IF($O$10>0,ROUND(X30/$O$10,2),0) -> 0.16 | AB30: =IF(AND(Z30>0,$O$4>0),($O$10-P30-W30*$O$8)/O30,0) -> 209.83713 | AC30: =IF(AB30>0,AB30+G30,0) -> 291.83713 | AD30: 11 | AF30: =IF(P30>0,ROUND(W30/P30,2),0) -> 1.03 | AG30: =IF($O$10>0,ROUND(W30/$O$10,2),0) -> 0.08 | AI30: 11 | AJ30: =COUNTIFS('[1]Данные из терминала'!C:C,AI30,'[1]Данные из терминала'!B:B,"sell") -> 4 | AK30: =COUNTIFS('[1]Данные из терминала'!C:C,AI30,'[1]Данные из терминала'!B:B,"buy") -> 3 | AL30: =COUNTIFS('[1]Данные из терминала'!C:C,AI30) -> 7 | AM30: =SUMIFS('[1]Данные из терминала'!E:E,'[1]Данные из терминала'!C:C,AI30,'[1]Данные из терминала'!B:B,"sell") -> 78.97 | AN30: =SUMIFS('[1]Данные из терминала'!E:E,'[1]Данные из терминала'!C:C,AI30,'[1]Данные из терминала'!B:B,"buy") -> 46.12 | AO30: =SUMIFS('[1]Данные из терминала'!E:E,'[1]Данные из терминала'!C:C,AI30) -> 125.09 | AP30: =SUMIFS('[1]Данные из терминала'!N:N,'[1]Данные из терминала'!C:C,AI30,'[1]Данные из терминала'!B:B,"sell") -> 4745.36 | AQ30: =SUMIFS('[1]Данные из терминала'!N:N,'[1]Данные из терминала'!C:C,AI30,'[1]Данные из терминала'!B:B,"buy") -> 2763.77 | AR30: =SUMIFS('[1]Данные из терминала'!N:N,'[1]Данные из терминала'!C:C,AI30) -> 7509.13 | AS30: =ROUND(IF(AJ30>0,AVERAGEIFS('[1]Данные из терминала'!N:N,'[1]Данные из терминала'!C:C,AI30,'[1]Данные из терминала'!B:B,"sell"),0),2) -> 1186.34 | AT30: =ROUND(IF(AK30>0,AVERAGEIFS('[1]Данные из терминала'!N:N,'[1]Данные из терминала'!C:C,AI30,'[1]Данные из терминала'!B:B,"buy"),0),2) -> 921.26 | AU30: =ROUND(IF(AL30>0,AVERAGEIFS('[1]Данные из терминала'!N:N,'[1]Данные из терминала'!C:C,AI30),0),2) -> 1072.73 | AV30: =IF(AJ30>0,AP30/$AR$42,0) -> 0.043813128 | AW30: =IF(AK30>0,AQ30/$AR$42,0) -> 0.025517433 | AX30: =IF(AL30>0,AR30/$AR$42,0) -> 0.069330561 | AY30: =IF(AJ30>0,VLOOKUP(AI30,[1]Сводная!A:E,5,0),0) -> 93.1 | AZ30: =IF(AK30>0,VLOOKUP(AI30,[1]Сводная!A:B,2,0),0) -> 92.2 | BA30: =ROUND(IF(AJ30>0,AVERAGEIFS('[1]Данные из терминала'!L:L,'[1]Данные из терминала'!C:C,AI30,'[1]Данные из терминала'!B:B,"sell"),0),1) -> 87.1 | BB30: =ROUND(IF(AK30>0,AVERAGEIFS('[1]Данные из терминала'!L:L,'[1]Данные из терминала'!C:C,AI30,'[1]Данные из терминала'!B:B,"buy"),0),1) -> 86.8 | BC30: =ROUND(IF(AL30>0,AVERAGEIFS('[1]Данные из терминала'!L:L,'[1]Данные из терминала'!C:C,AI30),0),1) -> 87 | BD30: =IF(AJ30>0,VLOOKUP(AI30,[1]Сводная!A:F,6,0),0) -> 24.8 | BE30: =IF(AK30>0,VLOOKUP(AI30,[1]Сводная!A:C,3,0),0) -> 25.8 | BF30: =ROUND(IF(AJ30>0,AVERAGEIFS('[1]Данные из терминала'!M:M,'[1]Данные из терминала'!C:C,AI30,'[1]Данные из терминала'!B:B,"sell"),0),1) -> 23.7 | BG30: =ROUND(IF(AK30>0,AVERAGEIFS('[1]Данные из терминала'!M:M,'[1]Данные из терминала'!C:C,AI30,'[1]Данные из терминала'!B:B,"buy"),0),1) -> 25.4 | BH30: =ROUND(IF(AL30>0,AVERAGEIFS('[1]Данные из терминала'!M:M,'[1]Данные из терминала'!C:C,AI30),0),1) -> 24.4 | BI30: =IF(AJ30>0,VLOOKUP(AI30,[1]Сводная!A:G,7,0),0) -> 1.0958333 | BJ30: =IF(AK30>0,VLOOKUP(AI30,[1]Сводная!A:D,4,0),0) -> 1.3180556 | BK30: =IF(AJ30>0,AVERAGEIFS('[1]Данные из терминала'!O:O,'[1]Данные из терминала'!C:C,AI30,'[1]Данные из терминала'!B:B,"sell"),0) -> 0.55642361 | BL30: =IF(AK30>0,AVERAGEIFS('[1]Данные из терминала'!O:O,'[1]Данные из терминала'!C:C,AI30,'[1]Данные из терминала'!B:B,"buy"),0) -> 1.1944444 | BM30: =IF(AL30>0,AVERAGEIFS('[1]Данные из терминала'!O:O,'[1]Данные из терминала'!C:C,AI30),0) -> 0.82986111
A31: 12 | B31: =IF(AND($A31>=C$12,C$12>0),0,IF(AND($A31>=C$9,C$9>0),C$10,IF(AND($A31>=C$6,C$6>0),C$7,0))) -> 0 | C31: =IF(AND($A31>=C$12,C$12>0),C$13,C30+B31) -> 3 | E31: =IF(OR($A31<2,AND(G$15>0,$A31>G$15)),0,IF(AND($A31>=G$12,G$12>0),G$13,IF(AND($A31>=G$9,G$9>0),G$10,IF(AND($A31>=G$6,G$6>0),G$7,0)))) -> 0 | F31: =F30+E31 -> 11 | G31: =G30+F31 -> 93 | I31: =IF(($A31<K$4),1,IF(AND($A31>K$15,K$15>0),I30,IF(AND($A31>=K$12,K$12>0),ROUND(I30+K$13,4),IF(AND($A31>=K$9,K$9>0),ROUND(I30+K$10,4),IF(AND($A31>=K$6,K$6>0),ROUND(I30+K$7,4),K$3))))) -> 1.39 | J31: =IF($A31<K$4, K$2, IF(K$1=0,IF(K$16>0,IF(K$2*K$16<ROUND(J30*I31, 3),K$2*K$16,ROUND(J30*I31, 3)),ROUND(J30*I31, 3)),IF(K$16>0,IF(K$2*K$16<ROUND(K$2*I31, 3),K$2*K$16,ROUND(K$2*I31, 3)),ROUND(K$2*I31, 3)))) -> 1.503 | K31: =K30+ROUND(J31,3) -> 4.568 | M31: =ROUND(C31*O31-K31*$O$6,2) -> 137.1 | N31: =IF($O$10>0,M31/$O$10,0) -> 0.019585714 | O31: =ROUND(ROUND(K31,2)*$O$4,2) -> 45.7 | P31: =ROUND((ROUND(K30,2)*(G31-G30)*$O$4+P30+J31*$O$6),2) -> 895.7 | Q31: =P31/$O$10 -> 0.12795714 | R31: =ROUND(P31/O31,0) -> 20 | S31: =ROUND(R31/G31,2) -> 0.22 | T31: =R31+C31 -> 23 | U31: =ROUND(T31/G31,2) -> 0.25 | W31: =ROUND(K31*$O$7,2) -> 854.22 | X31: =ROUND(P31+W31,2) -> 1749.92 | Z31: =IF($O$10>0,ROUND($O$10-X31,2),0) -> 5250.08 | AA31: =IF($O$10>0,ROUND(X31/$O$10,2),0) -> 0.25 | AB31: =IF(AND(Z31>0,$O$4>0),($O$10-P31-W31*$O$8)/O31,0) -> 133.5733 | AC31: =IF(AB31>0,AB31+G31,0) -> 226.5733 | AD31: 12 | AF31: =IF(P31>0,ROUND(W31/P31,2),0) -> 0.95 | AG31: =IF($O$10>0,ROUND(W31/$O$10,2),0) -> 0.12 | AI31: 12 | AJ31: =COUNTIFS('[1]Данные из терминала'!C:C,AI31,'[1]Данные из терминала'!B:B,"sell") -> 0 | AK31: =COUNTIFS('[1]Данные из терминала'!C:C,AI31,'[1]Данные из терминала'!B:B,"buy") -> 3 | AL31: =COUNTIFS('[1]Данные из терминала'!C:C,AI31) -> 3 | AM31: =SUMIFS('[1]Данные из терминала'!E:E,'[1]Данные из терминала'!C:C,AI31,'[1]Данные из терминала'!B:B,"sell") -> 0 | AN31: =SUMIFS('[1]Данные из терминала'!E:E,'[1]Данные из терминала'!C:C,AI31,'[1]Данные из терминала'!B:B,"buy") -> 54.97 | AO31: =SUMIFS('[1]Данные из терминала'!E:E,'[1]Данные из терминала'!C:C,AI31) -> 54.97 | AP31: =SUMIFS('[1]Данные из терминала'!N:N,'[1]Данные из терминала'!C:C,AI31,'[1]Данные из терминала'!B:B,"sell") -> 0 | AQ31: =SUMIFS('[1]Данные из терминала'!N:N,'[1]Данные из терминала'!C:C,AI31,'[1]Данные из терминала'!B:B,"buy") -> 1661.18 | AR31: =SUMIFS('[1]Данные из терминала'!N:N,'[1]Данные из терминала'!C:C,AI31) -> 1661.18 | AS31: =ROUND(IF(AJ31>0,AVERAGEIFS('[1]Данные из терминала'!N:N,'[1]Данные из терминала'!C:C,AI31,'[1]Данные из терминала'!B:B,"sell"),0),2) -> 0 | AT31: =ROUND(IF(AK31>0,AVERAGEIFS('[1]Данные из терминала'!N:N,'[1]Данные из терминала'!C:C,AI31,'[1]Данные из терминала'!B:B,"buy"),0),2) -> 553.73 | AU31: =ROUND(IF(AL31>0,AVERAGEIFS('[1]Данные из терминала'!N:N,'[1]Данные из терминала'!C:C,AI31),0),2) -> 553.73 | AV31: =IF(AJ31>0,AP31/$AR$42,0) -> 0 | AW31: =IF(AK31>0,AQ31/$AR$42,0) -> 0.015337402 | AX31: =IF(AL31>0,AR31/$AR$42,0) -> 0.015337402 | AY31: =IF(AJ31>0,VLOOKUP(AI31,[1]Сводная!A:E,5,0),0) -> 0 | AZ31: =IF(AK31>0,VLOOKUP(AI31,[1]Сводная!A:B,2,0),0) -> 97.8 | BA31: =ROUND(IF(AJ31>0,AVERAGEIFS('[1]Данные из терминала'!L:L,'[1]Данные из терминала'!C:C,AI31,'[1]Данные из терминала'!B:B,"sell"),0),1) -> 0 | BB31: =ROUND(IF(AK31>0,AVERAGEIFS('[1]Данные из терминала'!L:L,'[1]Данные из терминала'!C:C,AI31,'[1]Данные из терминала'!B:B,"buy"),0),1) -> 96.6 | BC31: =ROUND(IF(AL31>0,AVERAGEIFS('[1]Данные из терминала'!L:L,'[1]Данные из терминала'!C:C,AI31),0),1) -> 96.6 | BD31: =IF(AJ31>0,VLOOKUP(AI31,[1]Сводная!A:F,6,0),0) -> 0 | BE31: =IF(AK31>0,VLOOKUP(AI31,[1]Сводная!A:C,3,0),0) -> 27 | BF31: =ROUND(IF(AJ31>0,AVERAGEIFS('[1]Данные из терминала'!M:M,'[1]Данные из терминала'!C:C,AI31,'[1]Данные из терминала'!B:B,"sell"),0),1) -> 0 | BG31: =ROUND(IF(AK31>0,AVERAGEIFS('[1]Данные из терминала'!M:M,'[1]Данные из терминала'!C:C,AI31,'[1]Данные из терминала'!B:B,"buy"),0),1) -> 24.9 | BH31: =ROUND(IF(AL31>0,AVERAGEIFS('[1]Данные из терминала'!M:M,'[1]Данные из терминала'!C:C,AI31),0),1) -> 24.9 | BI31: =IF(AJ31>0,VLOOKUP(AI31,[1]Сводная!A:G,7,0),0) -> 0 | BJ31: =IF(AK31>0,VLOOKUP(AI31,[1]Сводная!A:D,4,0),0) -> 2.7798611 | BK31: =IF(AJ31>0,AVERAGEIFS('[1]Данные из терминала'!O:O,'[1]Данные из терминала'!C:C,AI31,'[1]Данные из терминала'!B:B,"sell"),0) -> 0 | BL31: =IF(AK31>0,AVERAGEIFS('[1]Данные из терминала'!O:O,'[1]Данные из терминала'!C:C,AI31,'[1]Данные из терминала'!B:B,"buy"),0) -> 1.7824074 | BM31: =IF(AL31>0,AVERAGEIFS('[1]Данные из терминала'!O:O,'[1]Данные из терминала'!C:C,AI31),0) -> 1.7824074
A32: 13 | B32: =IF(AND($A32>=C$12,C$12>0),0,IF(AND($A32>=C$9,C$9>0),C$10,IF(AND($A32>=C$6,C$6>0),C$7,0))) -> 0 | C32: =IF(AND($A32>=C$12,C$12>0),C$13,C31+B32) -> 3 | E32: =IF(OR($A32<2,AND(G$15>0,$A32>G$15)),0,IF(AND($A32>=G$12,G$12>0),G$13,IF(AND($A32>=G$9,G$9>0),G$10,IF(AND($A32>=G$6,G$6>0),G$7,0)))) -> 0 | F32: =F31+E32 -> 11 | G32: =G31+F32 -> 104 | I32: =IF(($A32<K$4),1,IF(AND($A32>K$15,K$15>0),I31,IF(AND($A32>=K$12,K$12>0),ROUND(I31+K$13,4),IF(AND($A32>=K$9,K$9>0),ROUND(I31+K$10,4),IF(AND($A32>=K$6,K$6>0),ROUND(I31+K$7,4),K$3))))) -> 1.39 | J32: =IF($A32<K$4, K$2, IF(K$1=0,IF(K$16>0,IF(K$2*K$16<ROUND(J31*I32, 3),K$2*K$16,ROUND(J31*I32, 3)),ROUND(J31*I32, 3)),IF(K$16>0,IF(K$2*K$16<ROUND(K$2*I32, 3),K$2*K$16,ROUND(K$2*I32, 3)),ROUND(K$2*I32, 3)))) -> 2.089 | K32: =K31+ROUND(J32,3) -> 6.657 | M32: =ROUND(C32*O32-K32*$O$6,2) -> 199.8 | N32: =IF($O$10>0,M32/$O$10,0) -> 0.028542857 | O32: =ROUND(ROUND(K32,2)*$O$4,2) -> 66.6 | P32: =ROUND((ROUND(K31,2)*(G32-G31)*$O$4+P31+J32*$O$6),2) -> 1398.4 | Q32: =P32/$O$10 -> 0.19977143 | R32: =ROUND(P32/O32,0) -> 21 | S32: =ROUND(R32/G32,2) -> 0.2 | T32: =R32+C32 -> 24 | U32: =ROUND(T32/G32,2) -> 0.23 | W32: =ROUND(K32*$O$7,2) -> 1244.86 | X32: =ROUND(P32+W32,2) -> 2643.26 | Z32: =IF($O$10>0,ROUND($O$10-X32,2),0) -> 4356.74 | AA32: =IF($O$10>0,ROUND(X32/$O$10,2),0) -> 0.38 | AB32: =IF(AND(Z32>0,$O$4>0),($O$10-P32-W32*$O$8)/O32,0) -> 84.108108 | AC32: =IF(AB32>0,AB32+G32,0) -> 188.10811 | AD32: 13 | AF32: =IF(P32>0,ROUND(W32/P32,2),0) -> 0.89 | AG32: =IF($O$10>0,ROUND(W32/$O$10,2),0) -> 0.18 | AI32: 13 | AJ32: =COUNTIFS('[1]Данные из терминала'!C:C,AI32,'[1]Данные из терминала'!B:B,"sell") -> 4 | AK32: =COUNTIFS('[1]Данные из терминала'!C:C,AI32,'[1]Данные из терминала'!B:B,"buy") -> 2 | AL32: =COUNTIFS('[1]Данные из терминала'!C:C,AI32) -> 6 | AM32: =SUMIFS('[1]Данные из терминала'!E:E,'[1]Данные из терминала'!C:C,AI32,'[1]Данные из терминала'!B:B,"sell") -> 140.17 | AN32: =SUMIFS('[1]Данные из терминала'!E:E,'[1]Данные из терминала'!C:C,AI32,'[1]Данные из терминала'!B:B,"buy") -> 26.72 | AO32: =SUMIFS('[1]Данные из терминала'!E:E,'[1]Данные из терминала'!C:C,AI32) -> 166.89 | AP32: =SUMIFS('[1]Данные из терминала'!N:N,'[1]Данные из терминала'!C:C,AI32,'[1]Данные из терминала'!B:B,"sell") -> 4170.81 | AQ32: =SUMIFS('[1]Данные из терминала'!N:N,'[1]Данные из терминала'!C:C,AI32,'[1]Данные из терминала'!B:B,"buy") -> 805.68 | AR32: =SUMIFS('[1]Данные из терминала'!N:N,'[1]Данные из терминала'!C:C,AI32) -> 4976.49 | AS32: =ROUND(IF(AJ32>0,AVERAGEIFS('[1]Данные из терминала'!N:N,'[1]Данные из терминала'!C:C,AI32,'[1]Данные из терминала'!B:B,"sell"),0),2) -> 1042.7 | AT32: =ROUND(IF(AK32>0,AVERAGEIFS('[1]Данные из терминала'!N:N,'[1]Данные из терминала'!C:C,AI32,'[1]Данные из терминала'!B:B,"buy"),0),2) -> 402.84 | AU32: =ROUND(IF(AL32>0,AVERAGEIFS('[1]Данные из терминала'!N:N,'[1]Данные из терминала'!C:C,AI32),0),2) -> 829.42 | AV32: =IF(AJ32>0,AP32/$AR$42,0) -> 0.038508402 | AW32: =IF(AK32>0,AQ32/$AR$42,0) -> 0.0074387108 | AX32: =IF(AL32>0,AR32/$AR$42,0) -> 0.045947113 | AY32: =IF(AJ32>0,VLOOKUP(AI32,[1]Сводная!A:E,5,0),0) -> 114.2 | AZ32: =IF(AK32>0,VLOOKUP(AI32,[1]Сводная!A:B,2,0),0) -> 106.5 | BA32: =ROUND(IF(AJ32>0,AVERAGEIFS('[1]Данные из терминала'!L:L,'[1]Данные из терминала'!C:C,AI32,'[1]Данные из терминала'!B:B,"sell"),0),1) -> 101.3 | BB32: =ROUND(IF(AK32>0,AVERAGEIFS('[1]Данные из терминала'!L:L,'[1]Данные из терминала'!C:C,AI32,'[1]Данные из терминала'!B:B,"buy"),0),1) -> 106.4 | BC32: =ROUND(IF(AL32>0,AVERAGEIFS('[1]Данные из терминала'!L:L,'[1]Данные из терминала'!C:C,AI32),0),1) -> 103 | BD32: =IF(AJ32>0,VLOOKUP(AI32,[1]Сводная!A:F,6,0),0) -> 26.6 | BE32: =IF(AK32>0,VLOOKUP(AI32,[1]Сводная!A:C,3,0),0) -> 27.1 | BF32: =ROUND(IF(AJ32>0,AVERAGEIFS('[1]Данные из терминала'!M:M,'[1]Данные из терминала'!C:C,AI32,'[1]Данные из терминала'!B:B,"sell"),0),1) -> 14.8 | BG32: =ROUND(IF(AK32>0,AVERAGEIFS('[1]Данные из терминала'!M:M,'[1]Данные из терминала'!C:C,AI32,'[1]Данные из терминала'!B:B,"buy"),0),1) -> 25.8 | BH32: =ROUND(IF(AL32>0,AVERAGEIFS('[1]Данные из терминала'!M:M,'[1]Данные из терминала'!C:C,AI32),0),1) -> 18.4 | BI32: =IF(AJ32>0,VLOOKUP(AI32,[1]Сводная!A:G,7,0),0) -> 2.0347222 | BJ32: =IF(AK32>0,VLOOKUP(AI32,[1]Сводная!A:D,4,0),0) -> 1.78125 | BK32: =IF(AJ32>0,AVERAGEIFS('[1]Данные из терминала'!O:O,'[1]Данные из терминала'!C:C,AI32,'[1]Данные из терминала'!B:B,"sell"),0) -> 1.4342014 | BL32: =IF(AK32>0,AVERAGEIFS('[1]Данные из терминала'!O:O,'[1]Данные из терминала'!C:C,AI32,'[1]Данные из терминала'!B:B,"buy"),0) -> 1.3496528 | BM32: =IF(AL32>0,AVERAGEIFS('[1]Данные из терминала'!O:O,'[1]Данные из терминала'!C:C,AI32),0) -> 1.4060185
A33: 14 | B33: =IF(AND($A33>=C$12,C$12>0),0,IF(AND($A33>=C$9,C$9>0),C$10,IF(AND($A33>=C$6,C$6>0),C$7,0))) -> 0 | C33: =IF(AND($A33>=C$12,C$12>0),C$13,C32+B33) -> 3 | E33: =IF(OR($A33<2,AND(G$15>0,$A33>G$15)),0,IF(AND($A33>=G$12,G$12>0),G$13,IF(AND($A33>=G$9,G$9>0),G$10,IF(AND($A33>=G$6,G$6>0),G$7,0)))) -> 0 | F33: =F32+E33 -> 11 | G33: =G32+F33 -> 115 | I33: =IF(($A33<K$4),1,IF(AND($A33>K$15,K$15>0),I32,IF(AND($A33>=K$12,K$12>0),ROUND(I32+K$13,4),IF(AND($A33>=K$9,K$9>0),ROUND(I32+K$10,4),IF(AND($A33>=K$6,K$6>0),ROUND(I32+K$7,4),K$3))))) -> 1.39 | J33: =IF($A33<K$4, K$2, IF(K$1=0,IF(K$16>0,IF(K$2*K$16<ROUND(J32*I33, 3),K$2*K$16,ROUND(J32*I33, 3)),ROUND(J32*I33, 3)),IF(K$16>0,IF(K$2*K$16<ROUND(K$2*I33, 3),K$2*K$16,ROUND(K$2*I33, 3)),ROUND(K$2*I33, 3)))) -> 2.904 | K33: =K32+ROUND(J33,3) -> 9.561 | M33: =ROUND(C33*O33-K33*$O$6,2) -> 286.8 | N33: =IF($O$10>0,M33/$O$10,0) -> 0.040971429 | O33: =ROUND(ROUND(K33,2)*$O$4,2) -> 95.6 | P33: =ROUND((ROUND(K32,2)*(G33-G32)*$O$4+P32+J33*$O$6),2) -> 2131 | Q33: =P33/$O$10 -> 0.30442857 | R33: =ROUND(P33/O33,0) -> 22 | S33: =ROUND(R33/G33,2) -> 0.19 | T33: =R33+C33 -> 25 | U33: =ROUND(T33/G33,2) -> 0.22 | W33: =ROUND(K33*$O$7,2) -> 1787.91 | X33: =ROUND(P33+W33,2) -> 3918.91 | Z33: =IF($O$10>0,ROUND($O$10-X33,2),0) -> 3081.09 | AA33: =IF($O$10>0,ROUND(X33/$O$10,2),0) -> 0.56 | AB33: =IF(AND(Z33>0,$O$4>0),($O$10-P33-W33*$O$8)/O33,0) -> 50.930962 | AC33: =IF(AB33>0,AB33+G33,0) -> 165.93096 | AD33: 14 | AF33: =IF(P33>0,ROUND(W33/P33,2),0) -> 0.84 | AG33: =IF($O$10>0,ROUND(W33/$O$10,2),0) -> 0.26 | AI33: 14 | AJ33: =COUNTIFS('[1]Данные из терминала'!C:C,AI33,'[1]Данные из терминала'!B:B,"sell") -> 0 | AK33: =COUNTIFS('[1]Данные из терминала'!C:C,AI33,'[1]Данные из терминала'!B:B,"buy") -> 1 | AL33: =COUNTIFS('[1]Данные из терминала'!C:C,AI33) -> 1 | AM33: =SUMIFS('[1]Данные из терминала'!E:E,'[1]Данные из терминала'!C:C,AI33,'[1]Данные из терминала'!B:B,"sell") -> 0 | AN33: =SUMIFS('[1]Данные из терминала'!E:E,'[1]Данные из терминала'!C:C,AI33,'[1]Данные из терминала'!B:B,"buy") -> 95.86 | AO33: =SUMIFS('[1]Данные из терминала'!E:E,'[1]Данные из терминала'!C:C,AI33) -> 95.86 | AP33: =SUMIFS('[1]Данные из терминала'!N:N,'[1]Данные из терминала'!C:C,AI33,'[1]Данные из терминала'!B:B,"sell") -> 0 | AQ33: =SUMIFS('[1]Данные из терминала'!N:N,'[1]Данные из терминала'!C:C,AI33,'[1]Данные из терминала'!B:B,"buy") -> 2854.16 | AR33: =SUMIFS('[1]Данные из терминала'!N:N,'[1]Данные из терминала'!C:C,AI33) -> 2854.16 | AS33: =ROUND(IF(AJ33>0,AVERAGEIFS('[1]Данные из терминала'!N:N,'[1]Данные из терминала'!C:C,AI33,'[1]Данные из терминала'!B:B,"sell"),0),2) -> 0 | AT33: =ROUND(IF(AK33>0,AVERAGEIFS('[1]Данные из терминала'!N:N,'[1]Данные из терминала'!C:C,AI33,'[1]Данные из терминала'!B:B,"buy"),0),2) -> 2854.16 | AU33: =ROUND(IF(AL33>0,AVERAGEIFS('[1]Данные из терминала'!N:N,'[1]Данные из терминала'!C:C,AI33),0),2) -> 2854.16 | AV33: =IF(AJ33>0,AP33/$AR$42,0) -> 0 | AW33: =IF(AK33>0,AQ33/$AR$42,0) -> 0.026351989 | AX33: =IF(AL33>0,AR33/$AR$42,0) -> 0.026351989 | AY33: =IF(AJ33>0,VLOOKUP(AI33,[1]Сводная!A:E,5,0),0) -> 0 | AZ33: =IF(AK33>0,VLOOKUP(AI33,[1]Сводная!A:B,2,0),0) -> 122.7 | BA33: =ROUND(IF(AJ33>0,AVERAGEIFS('[1]Данные из терминала'!L:L,'[1]Данные из терминала'!C:C,AI33,'[1]Данные из терминала'!B:B,"sell"),0),1) -> 0 | BB33: =ROUND(IF(AK33>0,AVERAGEIFS('[1]Данные из терминала'!L:L,'[1]Данные из терминала'!C:C,AI33,'[1]Данные из терминала'!B:B,"buy"),0),1) -> 122.7 | BC33: =ROUND(IF(AL33>0,AVERAGEIFS('[1]Данные из терминала'!L:L,'[1]Данные из терминала'!C:C,AI33),0),1) -> 122.7 | BD33: =IF(AJ33>0,VLOOKUP(AI33,[1]Сводная!A:F,6,0),0) -> 0 | BE33: =IF(AK33>0,VLOOKUP(AI33,[1]Сводная!A:C,3,0),0) -> 27.4 | BF33: =ROUND(IF(AJ33>0,AVERAGEIFS('[1]Данные из терминала'!M:M,'[1]Данные из терминала'!C:C,AI33,'[1]Данные из терминала'!B:B,"sell"),0),1) -> 0 | BG33: =ROUND(IF(AK33>0,AVERAGEIFS('[1]Данные из терминала'!M:M,'[1]Данные из терминала'!C:C,AI33,'[1]Данные из терминала'!B:B,"buy"),0),1) -> 27.4 | BH33: =ROUND(IF(AL33>0,AVERAGEIFS('[1]Данные из терминала'!M:M,'[1]Данные из терминала'!C:C,AI33),0),1) -> 27.4 | BI33: =IF(AJ33>0,VLOOKUP(AI33,[1]Сводная!A:G,7,0),0) -> 0 | BJ33: =IF(AK33>0,VLOOKUP(AI33,[1]Сводная!A:D,4,0),0) -> 1.7798611 | BK33: =IF(AJ33>0,AVERAGEIFS('[1]Данные из терминала'!O:O,'[1]Данные из терминала'!C:C,AI33,'[1]Данные из терминала'!B:B,"sell"),0) -> 0 | BL33: =IF(AK33>0,AVERAGEIFS('[1]Данные из терминала'!O:O,'[1]Данные из терминала'!C:C,AI33,'[1]Данные из терминала'!B:B,"buy"),0) -> 1.7798611 | BM33: =IF(AL33>0,AVERAGEIFS('[1]Данные из терминала'!O:O,'[1]Данные из терминала'!C:C,AI33),0) -> 1.7798611
A34: 15 | B34: =IF(AND($A34>=C$12,C$12>0),0,IF(AND($A34>=C$9,C$9>0),C$10,IF(AND($A34>=C$6,C$6>0),C$7,0))) -> 0 | C34: =IF(AND($A34>=C$12,C$12>0),C$13,C33+B34) -> 3 | E34: =IF(OR($A34<2,AND(G$15>0,$A34>G$15)),0,IF(AND($A34>=G$12,G$12>0),G$13,IF(AND($A34>=G$9,G$9>0),G$10,IF(AND($A34>=G$6,G$6>0),G$7,0)))) -> 0 | F34: =F33+E34 -> 11 | G34: =G33+F34 -> 126 | I34: =IF(($A34<K$4),1,IF(AND($A34>K$15,K$15>0),I33,IF(AND($A34>=K$12,K$12>0),ROUND(I33+K$13,4),IF(AND($A34>=K$9,K$9>0),ROUND(I33+K$10,4),IF(AND($A34>=K$6,K$6>0),ROUND(I33+K$7,4),K$3))))) -> 1.39 | J34: =IF($A34<K$4, K$2, IF(K$1=0,IF(K$16>0,IF(K$2*K$16<ROUND(J33*I34, 3),K$2*K$16,ROUND(J33*I34, 3)),ROUND(J33*I34, 3)),IF(K$16>0,IF(K$2*K$16<ROUND(K$2*I34, 3),K$2*K$16,ROUND(K$2*I34, 3)),ROUND(K$2*I34, 3)))) -> 4.037 | K34: =K33+ROUND(J34,3) -> 13.598 | M34: =ROUND(C34*O34-K34*$O$6,2) -> 408 | N34: =IF($O$10>0,M34/$O$10,0) -> 0.058285714 | O34: =ROUND(ROUND(K34,2)*$O$4,2) -> 136 | P34: =ROUND((ROUND(K33,2)*(G34-G33)*$O$4+P33+J34*$O$6),2) -> 3182.6 | Q34: =P34/$O$10 -> 0.45465714 | R34: =ROUND(P34/O34,0) -> 23 | S34: =ROUND(R34/G34,2) -> 0.18 | T34: =R34+C34 -> 26 | U34: =ROUND(T34/G34,2) -> 0.21 | W34: =ROUND(K34*$O$7,2) -> 2542.83 | X34: =ROUND(P34+W34,2) -> 5725.43 | Z34: =IF($O$10>0,ROUND($O$10-X34,2),0) -> 1274.57 | AA34: =IF($O$10>0,ROUND(X34/$O$10,2),0) -> 0.82 | AB34: =IF(AND(Z34>0,$O$4>0),($O$10-P34-W34*$O$8)/O34,0) -> 28.069118 | AC34: =IF(AB34>0,AB34+G34,0) -> 154.06912 | AD34: 15 | AF34: =IF(P34>0,ROUND(W34/P34,2),0) -> 0.8 | AG34: =IF($O$10>0,ROUND(W34/$O$10,2),0) -> 0.36 | AI34: 15 | AJ34: =COUNTIFS('[1]Данные из терминала'!C:C,AI34,'[1]Данные из терминала'!B:B,"sell") -> 2 | AK34: =COUNTIFS('[1]Данные из терминала'!C:C,AI34,'[1]Данные из терминала'!B:B,"buy") -> 2 | AL34: =COUNTIFS('[1]Данные из терминала'!C:C,AI34) -> 4 | AM34: =SUMIFS('[1]Данные из терминала'!E:E,'[1]Данные из терминала'!C:C,AI34,'[1]Данные из терминала'!B:B,"sell") -> 68.16 | AN34: =SUMIFS('[1]Данные из терминала'!E:E,'[1]Данные из терминала'!C:C,AI34,'[1]Данные из терминала'!B:B,"buy") -> 164.26 | AO34: =SUMIFS('[1]Данные из терминала'!E:E,'[1]Данные из терминала'!C:C,AI34) -> 232.42 | AP34: =SUMIFS('[1]Данные из терминала'!N:N,'[1]Данные из терминала'!C:C,AI34,'[1]Данные из терминала'!B:B,"sell") -> 2044.12 | AQ34: =SUMIFS('[1]Данные из терминала'!N:N,'[1]Данные из терминала'!C:C,AI34,'[1]Данные из терминала'!B:B,"buy") -> 4928.97 | AR34: =SUMIFS('[1]Данные из терминала'!N:N,'[1]Данные из терминала'!C:C,AI34) -> 6973.09 | AS34: =ROUND(IF(AJ34>0,AVERAGEIFS('[1]Данные из терминала'!N:N,'[1]Данные из терминала'!C:C,AI34,'[1]Данные из терминала'!B:B,"sell"),0),2) -> 1022.06 | AT34: =ROUND(IF(AK34>0,AVERAGEIFS('[1]Данные из терминала'!N:N,'[1]Данные из терминала'!C:C,AI34,'[1]Данные из терминала'!B:B,"buy"),0),2) -> 2464.49 | AU34: =ROUND(IF(AL34>0,AVERAGEIFS('[1]Данные из терминала'!N:N,'[1]Данные из терминала'!C:C,AI34),0),2) -> 1743.27 | AV34: =IF(AJ34>0,AP34/$AR$42,0) -> 0.018873023 | AW34: =IF(AK34>0,AQ34/$AR$42,0) -> 0.045508369 | AX34: =IF(AL34>0,AR34/$AR$42,0) -> 0.064381392 | AY34: =IF(AJ34>0,VLOOKUP(AI34,[1]Сводная!A:E,5,0),0) -> 129.1 | AZ34: =IF(AK34>0,VLOOKUP(AI34,[1]Сводная!A:B,2,0),0) -> 162.8 | BA34: =ROUND(IF(AJ34>0,AVERAGEIFS('[1]Данные из терминала'!L:L,'[1]Данные из терминала'!C:C,AI34,'[1]Данные из терминала'!B:B,"sell"),0),1) -> 119.6 | BB34: =ROUND(IF(AK34>0,AVERAGEIFS('[1]Данные из терминала'!L:L,'[1]Данные из терминала'!C:C,AI34,'[1]Данные из терминала'!B:B,"buy"),0),1) -> 145.9 | BC34: =ROUND(IF(AL34>0,AVERAGEIFS('[1]Данные из терминала'!L:L,'[1]Данные из терминала'!C:C,AI34),0),1) -> 132.8 | BD34: =IF(AJ34>0,VLOOKUP(AI34,[1]Сводная!A:F,6,0),0) -> 26.2 | BE34: =IF(AK34>0,VLOOKUP(AI34,[1]Сводная!A:C,3,0),0) -> 37.1 | BF34: =ROUND(IF(AJ34>0,AVERAGEIFS('[1]Данные из терминала'!M:M,'[1]Данные из терминала'!C:C,AI34,'[1]Данные из терминала'!B:B,"sell"),0),1) -> 15.7 | BG34: =ROUND(IF(AK34>0,AVERAGEIFS('[1]Данные из терминала'!M:M,'[1]Данные из терминала'!C:C,AI34,'[1]Данные из терминала'!B:B,"buy"),0),1) -> 32.3 | BH34: =ROUND(IF(AL34>0,AVERAGEIFS('[1]Данные из терминала'!M:M,'[1]Данные из терминала'!C:C,AI34),0),1) -> 24 | BI34: =IF(AJ34>0,VLOOKUP(AI34,[1]Сводная!A:G,7,0),0) -> 1.9 | BJ34: =IF(AK34>0,VLOOKUP(AI34,[1]Сводная!A:D,4,0),0) -> 3.6340278 | BK34: =IF(AJ34>0,AVERAGEIFS('[1]Данные из терминала'!O:O,'[1]Данные из терминала'!C:C,AI34,'[1]Данные из терминала'!B:B,"sell"),0) -> 1.8368056 | BL34: =IF(AK34>0,AVERAGEIFS('[1]Данные из терминала'!O:O,'[1]Данные из терминала'!C:C,AI34,'[1]Данные из терминала'!B:B,"buy"),0) -> 2.2423611 | BM34: =IF(AL34>0,AVERAGEIFS('[1]Данные из терминала'!O:O,'[1]Данные из терминала'!C:C,AI34),0) -> 2.0395833
A35: 16 | B35: =IF(AND($A35>=C$12,C$12>0),0,IF(AND($A35>=C$9,C$9>0),C$10,IF(AND($A35>=C$6,C$6>0),C$7,0))) -> 0 | C35: =IF(AND($A35>=C$12,C$12>0),C$13,C34+B35) -> 3 | E35: =IF(OR($A35<2,AND(G$15>0,$A35>G$15)),0,IF(AND($A35>=G$12,G$12>0),G$13,IF(AND($A35>=G$9,G$9>0),G$10,IF(AND($A35>=G$6,G$6>0),G$7,0)))) -> 0 | F35: =F34+E35 -> 11 | G35: =G34+F35 -> 137 | I35: =IF(($A35<K$4),1,IF(AND($A35>K$15,K$15>0),I34,IF(AND($A35>=K$12,K$12>0),ROUND(I34+K$13,4),IF(AND($A35>=K$9,K$9>0),ROUND(I34+K$10,4),IF(AND($A35>=K$6,K$6>0),ROUND(I34+K$7,4),K$3))))) -> 1.39 | J35: =IF($A35<K$4, K$2, IF(K$1=0,IF(K$16>0,IF(K$2*K$16<ROUND(J34*I35, 3),K$2*K$16,ROUND(J34*I35, 3)),ROUND(J34*I35, 3)),IF(K$16>0,IF(K$2*K$16<ROUND(K$2*I35, 3),K$2*K$16,ROUND(K$2*I35, 3)),ROUND(K$2*I35, 3)))) -> 5.611 | K35: =K34+ROUND(J35,3) -> 19.209 | M35: =ROUND(C35*O35-K35*$O$6,2) -> 576.3 | N35: =IF($O$10>0,M35/$O$10,0) -> 0.082328571 | O35: =ROUND(ROUND(K35,2)*$O$4,2) -> 192.1 | P35: =ROUND((ROUND(K34,2)*(G35-G34)*$O$4+P34+J35*$O$6),2) -> 4678.6 | Q35: =P35/$O$10 -> 0.66837143 | R35: =ROUND(P35/O35,0) -> 24 | S35: =ROUND(R35/G35,2) -> 0.18 | T35: =R35+C35 -> 27 | U35: =ROUND(T35/G35,2) -> 0.2 | W35: =ROUND(K35*$O$7,2) -> 3592.08 | X35: =ROUND(P35+W35,2) -> 8270.68 | Z35: =IF($O$10>0,ROUND($O$10-X35,2),0) -> -1270.68 | AA35: =IF($O$10>0,ROUND(X35/$O$10,2),0) -> 1.18 | AB35: =IF(AND(Z35>0,$O$4>0),($O$10-P35-W35*$O$8)/O35,0) -> 0 | AC35: =IF(AB35>0,AB35+G35,0) -> 0 | AD35: 16 | AF35: =IF(P35>0,ROUND(W35/P35,2),0) -> 0.77 | AG35: =IF($O$10>0,ROUND(W35/$O$10,2),0) -> 0.51 | AI35: 16 | AJ35: =COUNTIFS('[1]Данные из терминала'!C:C,AI35,'[1]Данные из терминала'!B:B,"sell") -> 0 | AK35: =COUNTIFS('[1]Данные из терминала'!C:C,AI35,'[1]Данные из терминала'!B:B,"buy") -> 0 | AL35: =COUNTIFS('[1]Данные из терминала'!C:C,AI35) -> 0 | AM35: =SUMIFS('[1]Данные из терминала'!E:E,'[1]Данные из терминала'!C:C,AI35,'[1]Данные из терминала'!B:B,"sell") -> 0 | AN35: =SUMIFS('[1]Данные из терминала'!E:E,'[1]Данные из терминала'!C:C,AI35,'[1]Данные из терминала'!B:B,"buy") -> 0 | AO35: =SUMIFS('[1]Данные из терминала'!E:E,'[1]Данные из терминала'!C:C,AI35) -> 0 | AP35: =SUMIFS('[1]Данные из терминала'!N:N,'[1]Данные из терминала'!C:C,AI35,'[1]Данные из терминала'!B:B,"sell") -> 0 | AQ35: =SUMIFS('[1]Данные из терминала'!N:N,'[1]Данные из терминала'!C:C,AI35,'[1]Данные из терминала'!B:B,"buy") -> 0 | AR35: =SUMIFS('[1]Данные из терминала'!N:N,'[1]Данные из терминала'!C:C,AI35) -> 0 | AS35: =ROUND(IF(AJ35>0,AVERAGEIFS('[1]Данные из терминала'!N:N,'[1]Данные из терминала'!C:C,AI35,'[1]Данные из терминала'!B:B,"sell"),0),2) -> 0 | AT35: =ROUND(IF(AK35>0,AVERAGEIFS('[1]Данные из терминала'!N:N,'[1]Данные из терминала'!C:C,AI35,'[1]Данные из терминала'!B:B,"buy"),0),2) -> 0 | AU35: =ROUND(IF(AL35>0,AVERAGEIFS('[1]Данные из терминала'!N:N,'[1]Данные из терминала'!C:C,AI35),0),2) -> 0 | AV35: =IF(AJ35>0,AP35/$AR$42,0) -> 0 | AW35: =IF(AK35>0,AQ35/$AR$42,0) -> 0 | AX35: =IF(AL35>0,AR35/$AR$42,0) -> 0 | AY35: =IF(AJ35>0,VLOOKUP(AI35,[1]Сводная!A:E,5,0),0) -> 0 | AZ35: =IF(AK35>0,VLOOKUP(AI35,[1]Сводная!A:B,2,0),0) -> 0 | BA35: =ROUND(IF(AJ35>0,AVERAGEIFS('[1]Данные из терминала'!L:L,'[1]Данные из терминала'!C:C,AI35,'[1]Данные из терминала'!B:B,"sell"),0),1) -> 0 | BB35: =ROUND(IF(AK35>0,AVERAGEIFS('[1]Данные из терминала'!L:L,'[1]Данные из терминала'!C:C,AI35,'[1]Данные из терминала'!B:B,"buy"),0),1) -> 0 | BC35: =ROUND(IF(AL35>0,AVERAGEIFS('[1]Данные из терминала'!L:L,'[1]Данные из терминала'!C:C,AI35),0),1) -> 0 | BD35: =IF(AJ35>0,VLOOKUP(AI35,[1]Сводная!A:F,6,0),0) -> 0 | BE35: =IF(AK35>0,VLOOKUP(AI35,[1]Сводная!A:C,3,0),0) -> 0 | BF35: =ROUND(IF(AJ35>0,AVERAGEIFS('[1]Данные из терминала'!M:M,'[1]Данные из терминала'!C:C,AI35,'[1]Данные из терминала'!B:B,"sell"),0),1) -> 0 | BG35: =ROUND(IF(AK35>0,AVERAGEIFS('[1]Данные из терминала'!M:M,'[1]Данные из терминала'!C:C,AI35,'[1]Данные из терминала'!B:B,"buy"),0),1) -> 0 | BH35: =ROUND(IF(AL35>0,AVERAGEIFS('[1]Данные из терминала'!M:M,'[1]Данные из терминала'!C:C,AI35),0),1) -> 0 | BI35: =IF(AJ35>0,VLOOKUP(AI35,[1]Сводная!A:G,7,0),0) -> 0 | BJ35: =IF(AK35>0,VLOOKUP(AI35,[1]Сводная!A:D,4,0),0) -> 0 | BK35: =IF(AJ35>0,AVERAGEIFS('[1]Данные из терминала'!O:O,'[1]Данные из терминала'!C:C,AI35,'[1]Данные из терминала'!B:B,"sell"),0) -> 0 | BL35: =IF(AK35>0,AVERAGEIFS('[1]Данные из терминала'!O:O,'[1]Данные из терминала'!C:C,AI35,'[1]Данные из терминала'!B:B,"buy"),0) -> 0 | BM35: =IF(AL35>0,AVERAGEIFS('[1]Данные из терминала'!O:O,'[1]Данные из терминала'!C:C,AI35),0) -> 0
A36: 17 | B36: =IF(AND($A36>=C$12,C$12>0),0,IF(AND($A36>=C$9,C$9>0),C$10,IF(AND($A36>=C$6,C$6>0),C$7,0))) -> 0 | C36: =IF(AND($A36>=C$12,C$12>0),C$13,C35+B36) -> 3 | E36: =IF(OR($A36<2,AND(G$15>0,$A36>G$15)),0,IF(AND($A36>=G$12,G$12>0),G$13,IF(AND($A36>=G$9,G$9>0),G$10,IF(AND($A36>=G$6,G$6>0),G$7,0)))) -> 0 | F36: =F35+E36 -> 11 | G36: =G35+F36 -> 148 | I36: =IF(($A36<K$4),1,IF(AND($A36>K$15,K$15>0),I35,IF(AND($A36>=K$12,K$12>0),ROUND(I35+K$13,4),IF(AND($A36>=K$9,K$9>0),ROUND(I35+K$10,4),IF(AND($A36>=K$6,K$6>0),ROUND(I35+K$7,4),K$3))))) -> 1.39 | J36: =IF($A36<K$4, K$2, IF(K$1=0,IF(K$16>0,IF(K$2*K$16<ROUND(J35*I36, 3),K$2*K$16,ROUND(J35*I36, 3)),ROUND(J35*I36, 3)),IF(K$16>0,IF(K$2*K$16<ROUND(K$2*I36, 3),K$2*K$16,ROUND(K$2*I36, 3)),ROUND(K$2*I36, 3)))) -> 7.799 | K36: =K35+ROUND(J36,3) -> 27.008 | M36: =ROUND(C36*O36-K36*$O$6,2) -> 810.3 | N36: =IF($O$10>0,M36/$O$10,0) -> 0.11575714 | O36: =ROUND(ROUND(K36,2)*$O$4,2) -> 270.1 | P36: =ROUND((ROUND(K35,2)*(G36-G35)*$O$4+P35+J36*$O$6),2) -> 6791.7 | Q36: =P36/$O$10 -> 0.97024286 | R36: =ROUND(P36/O36,0) -> 25 | S36: =ROUND(R36/G36,2) -> 0.17 | T36: =R36+C36 -> 28 | U36: =ROUND(T36/G36,2) -> 0.19 | W36: =ROUND(K36*$O$7,2) -> 5050.5 | X36: =ROUND(P36+W36,2) -> 11842.2 | Z36: =IF($O$10>0,ROUND($O$10-X36,2),0) -> -4842.2 | AA36: =IF($O$10>0,ROUND(X36/$O$10,2),0) -> 1.69 | AB36: =IF(AND(Z36>0,$O$4>0),($O$10-P36-W36*$O$8)/O36,0) -> 0 | AC36: =IF(AB36>0,AB36+G36,0) -> 0 | AD36: 17 | AF36: =IF(P36>0,ROUND(W36/P36,2),0) -> 0.74 | AG36: =IF($O$10>0,ROUND(W36/$O$10,2),0) -> 0.72 | AI36: 17 | AJ36: =COUNTIFS('[1]Данные из терминала'!C:C,AI36,'[1]Данные из терминала'!B:B,"sell") -> 0 | AK36: =COUNTIFS('[1]Данные из терминала'!C:C,AI36,'[1]Данные из терминала'!B:B,"buy") -> 0 | AL36: =COUNTIFS('[1]Данные из терминала'!C:C,AI36) -> 0 | AM36: =SUMIFS('[1]Данные из терминала'!E:E,'[1]Данные из терминала'!C:C,AI36,'[1]Данные из терминала'!B:B,"sell") -> 0 | AN36: =SUMIFS('[1]Данные из терминала'!E:E,'[1]Данные из терминала'!C:C,AI36,'[1]Данные из терминала'!B:B,"buy") -> 0 | AO36: =SUMIFS('[1]Данные из терминала'!E:E,'[1]Данные из терминала'!C:C,AI36) -> 0 | AP36: =SUMIFS('[1]Данные из терминала'!N:N,'[1]Данные из терминала'!C:C,AI36,'[1]Данные из терминала'!B:B,"sell") -> 0 | AQ36: =SUMIFS('[1]Данные из терминала'!N:N,'[1]Данные из терминала'!C:C,AI36,'[1]Данные из терминала'!B:B,"buy") -> 0 | AR36: =SUMIFS('[1]Данные из терминала'!N:N,'[1]Данные из терминала'!C:C,AI36) -> 0 | AS36: =ROUND(IF(AJ36>0,AVERAGEIFS('[1]Данные из терминала'!N:N,'[1]Данные из терминала'!C:C,AI36,'[1]Данные из терминала'!B:B,"sell"),0),2) -> 0 | AT36: =ROUND(IF(AK36>0,AVERAGEIFS('[1]Данные из терминала'!N:N,'[1]Данные из терминала'!C:C,AI36,'[1]Данные из терминала'!B:B,"buy"),0),2) -> 0 | AU36: =ROUND(IF(AL36>0,AVERAGEIFS('[1]Данные из терминала'!N:N,'[1]Данные из терминала'!C:C,AI36),0),2) -> 0 | AV36: =IF(AJ36>0,AP36/$AR$42,0) -> 0 | AW36: =IF(AK36>0,AQ36/$AR$42,0) -> 0 | AX36: =IF(AL36>0,AR36/$AR$42,0) -> 0 | AY36: =IF(AJ36>0,VLOOKUP(AI36,[1]Сводная!A:E,5,0),0) -> 0 | AZ36: =IF(AK36>0,VLOOKUP(AI36,[1]Сводная!A:B,2,0),0) -> 0 | BA36: =ROUND(IF(AJ36>0,AVERAGEIFS('[1]Данные из терминала'!L:L,'[1]Данные из терминала'!C:C,AI36,'[1]Данные из терминала'!B:B,"sell"),0),1) -> 0 | BB36: =ROUND(IF(AK36>0,AVERAGEIFS('[1]Данные из терминала'!L:L,'[1]Данные из терминала'!C:C,AI36,'[1]Данные из терминала'!B:B,"buy"),0),1) -> 0 | BC36: =ROUND(IF(AL36>0,AVERAGEIFS('[1]Данные из терминала'!L:L,'[1]Данные из терминала'!C:C,AI36),0),1) -> 0 | BD36: =IF(AJ36>0,VLOOKUP(AI36,[1]Сводная!A:F,6,0),0) -> 0 | BE36: =IF(AK36>0,VLOOKUP(AI36,[1]Сводная!A:C,3,0),0) -> 0 | BF36: =ROUND(IF(AJ36>0,AVERAGEIFS('[1]Данные из терминала'!M:M,'[1]Данные из терминала'!C:C,AI36,'[1]Данные из терминала'!B:B,"sell"),0),1) -> 0 | BG36: =ROUND(IF(AK36>0,AVERAGEIFS('[1]Данные из терминала'!M:M,'[1]Данные из терминала'!C:C,AI36,'[1]Данные из терминала'!B:B,"buy"),0),1) -> 0 | BH36: =ROUND(IF(AL36>0,AVERAGEIFS('[1]Данные из терминала'!M:M,'[1]Данные из терминала'!C:C,AI36),0),1) -> 0 | BI36: =IF(AJ36>0,VLOOKUP(AI36,[1]Сводная!A:G,7,0),0) -> 0 | BJ36: =IF(AK36>0,VLOOKUP(AI36,[1]Сводная!A:D,4,0),0) -> 0 | BK36: =IF(AJ36>0,AVERAGEIFS('[1]Данные из терминала'!O:O,'[1]Данные из терминала'!C:C,AI36,'[1]Данные из терминала'!B:B,"sell"),0) -> 0 | BL36: =IF(AK36>0,AVERAGEIFS('[1]Данные из терминала'!O:O,'[1]Данные из терминала'!C:C,AI36,'[1]Данные из терминала'!B:B,"buy"),0) -> 0 | BM36: =IF(AL36>0,AVERAGEIFS('[1]Данные из терминала'!O:O,'[1]Данные из терминала'!C:C,AI36),0) -> 0
A37: 18 | B37: =IF(AND($A37>=C$12,C$12>0),0,IF(AND($A37>=C$9,C$9>0),C$10,IF(AND($A37>=C$6,C$6>0),C$7,0))) -> 0 | C37: =IF(AND($A37>=C$12,C$12>0),C$13,C36+B37) -> 3 | E37: =IF(OR($A37<2,AND(G$15>0,$A37>G$15)),0,IF(AND($A37>=G$12,G$12>0),G$13,IF(AND($A37>=G$9,G$9>0),G$10,IF(AND($A37>=G$6,G$6>0),G$7,0)))) -> 0 | F37: =F36+E37 -> 11 | G37: =G36+F37 -> 159 | I37: =IF(($A37<K$4),1,IF(AND($A37>K$15,K$15>0),I36,IF(AND($A37>=K$12,K$12>0),ROUND(I36+K$13,4),IF(AND($A37>=K$9,K$9>0),ROUND(I36+K$10,4),IF(AND($A37>=K$6,K$6>0),ROUND(I36+K$7,4),K$3))))) -> 1.39 | J37: =IF($A37<K$4, K$2, IF(K$1=0,IF(K$16>0,IF(K$2*K$16<ROUND(J36*I37, 3),K$2*K$16,ROUND(J36*I37, 3)),ROUND(J36*I37, 3)),IF(K$16>0,IF(K$2*K$16<ROUND(K$2*I37, 3),K$2*K$16,ROUND(K$2*I37, 3)),ROUND(K$2*I37, 3)))) -> 10.841 | K37: =K36+ROUND(J37,3) -> 37.849 | M37: =ROUND(C37*O37-K37*$O$6,2) -> 1135.5 | N37: =IF($O$10>0,M37/$O$10,0) -> 0.16221429 | O37: =ROUND(ROUND(K37,2)*$O$4,2) -> 378.5 | P37: =ROUND((ROUND(K36,2)*(G37-G36)*$O$4+P36+J37*$O$6),2) -> 9762.8 | Q37: =P37/$O$10 -> 1.3946857 | R37: =ROUND(P37/O37,0) -> 26 | S37: =ROUND(R37/G37,2) -> 0.16 | T37: =R37+C37 -> 29 | U37: =ROUND(T37/G37,2) -> 0.18 | W37: =ROUND(K37*$O$7,2) -> 7077.76 | X37: =ROUND(P37+W37,2) -> 16840.56 | Z37: =IF($O$10>0,ROUND($O$10-X37,2),0) -> -9840.56 | AA37: =IF($O$10>0,ROUND(X37/$O$10,2),0) -> 2.41 | AB37: =IF(AND(Z37>0,$O$4>0),($O$10-P37-W37*$O$8)/O37,0) -> 0 | AC37: =IF(AB37>0,AB37+G37,0) -> 0 | AD37: 18 | AF37: =IF(P37>0,ROUND(W37/P37,2),0) -> 0.72 | AG37: =IF($O$10>0,ROUND(W37/$O$10,2),0) -> 1.01 | AI37: 18 | AJ37: =COUNTIFS('[1]Данные из терминала'!C:C,AI37,'[1]Данные из терминала'!B:B,"sell") -> 0 | AK37: =COUNTIFS('[1]Данные из терминала'!C:C,AI37,'[1]Данные из терминала'!B:B,"buy") -> 0 | AL37: =COUNTIFS('[1]Данные из терминала'!C:C,AI37) -> 0 | AM37: =SUMIFS('[1]Данные из терминала'!E:E,'[1]Данные из терминала'!C:C,AI37,'[1]Данные из терминала'!B:B,"sell") -> 0 | AN37: =SUMIFS('[1]Данные из терминала'!E:E,'[1]Данные из терминала'!C:C,AI37,'[1]Данные из терминала'!B:B,"buy") -> 0 | AO37: =SUMIFS('[1]Данные из терминала'!E:E,'[1]Данные из терминала'!C:C,AI37) -> 0 | AP37: =SUMIFS('[1]Данные из терминала'!N:N,'[1]Данные из терминала'!C:C,AI37,'[1]Данные из терминала'!B:B,"sell") -> 0 | AQ37: =SUMIFS('[1]Данные из терминала'!N:N,'[1]Данные из терминала'!C:C,AI37,'[1]Данные из терминала'!B:B,"buy") -> 0 | AR37: =SUMIFS('[1]Данные из терминала'!N:N,'[1]Данные из терминала'!C:C,AI37) -> 0 | AS37: =ROUND(IF(AJ37>0,AVERAGEIFS('[1]Данные из терминала'!N:N,'[1]Данные из терминала'!C:C,AI37,'[1]Данные из терминала'!B:B,"sell"),0),2) -> 0 | AT37: =ROUND(IF(AK37>0,AVERAGEIFS('[1]Данные из терминала'!N:N,'[1]Данные из терминала'!C:C,AI37,'[1]Данные из терминала'!B:B,"buy"),0),2) -> 0 | AU37: =ROUND(IF(AL37>0,AVERAGEIFS('[1]Данные из терминала'!N:N,'[1]Данные из терминала'!C:C,AI37),0),2) -> 0 | AV37: =IF(AJ37>0,AP37/$AR$42,0) -> 0 | AW37: =IF(AK37>0,AQ37/$AR$42,0) -> 0 | AX37: =IF(AL37>0,AR37/$AR$42,0) -> 0 | AY37: =IF(AJ37>0,VLOOKUP(AI37,[1]Сводная!A:E,5,0),0) -> 0 | AZ37: =IF(AK37>0,VLOOKUP(AI37,[1]Сводная!A:B,2,0),0) -> 0 | BA37: =ROUND(IF(AJ37>0,AVERAGEIFS('[1]Данные из терминала'!L:L,'[1]Данные из терминала'!C:C,AI37,'[1]Данные из терминала'!B:B,"sell"),0),1) -> 0 | BB37: =ROUND(IF(AK37>0,AVERAGEIFS('[1]Данные из терминала'!L:L,'[1]Данные из терминала'!C:C,AI37,'[1]Данные из терминала'!B:B,"buy"),0),1) -> 0 | BC37: =ROUND(IF(AL37>0,AVERAGEIFS('[1]Данные из терминала'!L:L,'[1]Данные из терминала'!C:C,AI37),0),1) -> 0 | BD37: =IF(AJ37>0,VLOOKUP(AI37,[1]Сводная!A:F,6,0),0) -> 0 | BE37: =IF(AK37>0,VLOOKUP(AI37,[1]Сводная!A:C,3,0),0) -> 0 | BF37: =ROUND(IF(AJ37>0,AVERAGEIFS('[1]Данные из терминала'!M:M,'[1]Данные из терминала'!C:C,AI37,'[1]Данные из терминала'!B:B,"sell"),0),1) -> 0 | BG37: =ROUND(IF(AK37>0,AVERAGEIFS('[1]Данные из терминала'!M:M,'[1]Данные из терминала'!C:C,AI37,'[1]Данные из терминала'!B:B,"buy"),0),1) -> 0 | BH37: =ROUND(IF(AL37>0,AVERAGEIFS('[1]Данные из терминала'!M:M,'[1]Данные из терминала'!C:C,AI37),0),1) -> 0 | BI37: =IF(AJ37>0,VLOOKUP(AI37,[1]Сводная!A:G,7,0),0) -> 0 | BJ37: =IF(AK37>0,VLOOKUP(AI37,[1]Сводная!A:D,4,0),0) -> 0 | BK37: =IF(AJ37>0,AVERAGEIFS('[1]Данные из терминала'!O:O,'[1]Данные из терминала'!C:C,AI37,'[1]Данные из терминала'!B:B,"sell"),0) -> 0 | BL37: =IF(AK37>0,AVERAGEIFS('[1]Данные из терминала'!O:O,'[1]Данные из терминала'!C:C,AI37,'[1]Данные из терминала'!B:B,"buy"),0) -> 0 | BM37: =IF(AL37>0,AVERAGEIFS('[1]Данные из терминала'!O:O,'[1]Данные из терминала'!C:C,AI37),0) -> 0
A38: 19 | B38: =IF(AND($A38>=C$12,C$12>0),0,IF(AND($A38>=C$9,C$9>0),C$10,IF(AND($A38>=C$6,C$6>0),C$7,0))) -> 0 | C38: =IF(AND($A38>=C$12,C$12>0),C$13,C37+B38) -> 3 | E38: =IF(OR($A38<2,AND(G$15>0,$A38>G$15)),0,IF(AND($A38>=G$12,G$12>0),G$13,IF(AND($A38>=G$9,G$9>0),G$10,IF(AND($A38>=G$6,G$6>0),G$7,0)))) -> 0 | F38: =F37+E38 -> 11 | G38: =G37+F38 -> 170 | I38: =IF(($A38<K$4),1,IF(AND($A38>K$15,K$15>0),I37,IF(AND($A38>=K$12,K$12>0),ROUND(I37+K$13,4),IF(AND($A38>=K$9,K$9>0),ROUND(I37+K$10,4),IF(AND($A38>=K$6,K$6>0),ROUND(I37+K$7,4),K$3))))) -> 1.39 | J38: =IF($A38<K$4, K$2, IF(K$1=0,IF(K$16>0,IF(K$2*K$16<ROUND(J37*I38, 3),K$2*K$16,ROUND(J37*I38, 3)),ROUND(J37*I38, 3)),IF(K$16>0,IF(K$2*K$16<ROUND(K$2*I38, 3),K$2*K$16,ROUND(K$2*I38, 3)),ROUND(K$2*I38, 3)))) -> 15.069 | K38: =K37+ROUND(J38,3) -> 52.918 | M38: =ROUND(C38*O38-K38*$O$6,2) -> 1587.6 | N38: =IF($O$10>0,M38/$O$10,0) -> 0.2268 | O38: =ROUND(ROUND(K38,2)*$O$4,2) -> 529.2 | P38: =ROUND((ROUND(K37,2)*(G38-G37)*$O$4+P37+J38*$O$6),2) -> 13926.3 | Q38: =P38/$O$10 -> 1.9894714 | R38: =ROUND(P38/O38,0) -> 26 | S38: =ROUND(R38/G38,2) -> 0.15 | T38: =R38+C38 -> 29 | U38: =ROUND(T38/G38,2) -> 0.17 | W38: =ROUND(K38*$O$7,2) -> 9895.67 | X38: =ROUND(P38+W38,2) -> 23821.97 | Z38: =IF($O$10>0,ROUND($O$10-X38,2),0) -> -16821.97 | AA38: =IF($O$10>0,ROUND(X38/$O$10,2),0) -> 3.4 | AB38: =IF(AND(Z38>0,$O$4>0),($O$10-P38-W38*$O$8)/O38,0) -> 0 | AC38: =IF(AB38>0,AB38+G38,0) -> 0 | AD38: 19 | AF38: =IF(P38>0,ROUND(W38/P38,2),0) -> 0.71 | AG38: =IF($O$10>0,ROUND(W38/$O$10,2),0) -> 1.41 | AI38: 19 | AJ38: =COUNTIFS('[1]Данные из терминала'!C:C,AI38,'[1]Данные из терминала'!B:B,"sell") -> 0 | AK38: =COUNTIFS('[1]Данные из терминала'!C:C,AI38,'[1]Данные из терминала'!B:B,"buy") -> 0 | AL38: =COUNTIFS('[1]Данные из терминала'!C:C,AI38) -> 0 | AM38: =SUMIFS('[1]Данные из терминала'!E:E,'[1]Данные из терминала'!C:C,AI38,'[1]Данные из терминала'!B:B,"sell") -> 0 | AN38: =SUMIFS('[1]Данные из терминала'!E:E,'[1]Данные из терминала'!C:C,AI38,'[1]Данные из терминала'!B:B,"buy") -> 0 | AO38: =SUMIFS('[1]Данные из терминала'!E:E,'[1]Данные из терминала'!C:C,AI38) -> 0 | AP38: =SUMIFS('[1]Данные из терминала'!N:N,'[1]Данные из терминала'!C:C,AI38,'[1]Данные из терминала'!B:B,"sell") -> 0 | AQ38: =SUMIFS('[1]Данные из терминала'!N:N,'[1]Данные из терминала'!C:C,AI38,'[1]Данные из терминала'!B:B,"buy") -> 0 | AR38: =SUMIFS('[1]Данные из терминала'!N:N,'[1]Данные из терминала'!C:C,AI38) -> 0 | AS38: =ROUND(IF(AJ38>0,AVERAGEIFS('[1]Данные из терминала'!N:N,'[1]Данные из терминала'!C:C,AI38,'[1]Данные из терминала'!B:B,"sell"),0),2) -> 0 | AT38: =ROUND(IF(AK38>0,AVERAGEIFS('[1]Данные из терминала'!N:N,'[1]Данные из терминала'!C:C,AI38,'[1]Данные из терминала'!B:B,"buy"),0),2) -> 0 | AU38: =ROUND(IF(AL38>0,AVERAGEIFS('[1]Данные из терминала'!N:N,'[1]Данные из терминала'!C:C,AI38),0),2) -> 0 | AV38: =IF(AJ38>0,AP38/$AR$42,0) -> 0 | AW38: =IF(AK38>0,AQ38/$AR$42,0) -> 0 | AX38: =IF(AL38>0,AR38/$AR$42,0) -> 0 | AY38: =IF(AJ38>0,VLOOKUP(AI38,[1]Сводная!A:E,5,0),0) -> 0 | AZ38: =IF(AK38>0,VLOOKUP(AI38,[1]Сводная!A:B,2,0),0) -> 0 | BA38: =ROUND(IF(AJ38>0,AVERAGEIFS('[1]Данные из терминала'!L:L,'[1]Данные из терминала'!C:C,AI38,'[1]Данные из терминала'!B:B,"sell"),0),1) -> 0 | BB38: =ROUND(IF(AK38>0,AVERAGEIFS('[1]Данные из терминала'!L:L,'[1]Данные из терминала'!C:C,AI38,'[1]Данные из терминала'!B:B,"buy"),0),1) -> 0 | BC38: =ROUND(IF(AL38>0,AVERAGEIFS('[1]Данные из терминала'!L:L,'[1]Данные из терминала'!C:C,AI38),0),1) -> 0 | BD38: =IF(AJ38>0,VLOOKUP(AI38,[1]Сводная!A:F,6,0),0) -> 0 | BE38: =IF(AK38>0,VLOOKUP(AI38,[1]Сводная!A:C,3,0),0) -> 0 | BF38: =ROUND(IF(AJ38>0,AVERAGEIFS('[1]Данные из терминала'!M:M,'[1]Данные из терминала'!C:C,AI38,'[1]Данные из терминала'!B:B,"sell"),0),1) -> 0 | BG38: =ROUND(IF(AK38>0,AVERAGEIFS('[1]Данные из терминала'!M:M,'[1]Данные из терминала'!C:C,AI38,'[1]Данные из терминала'!B:B,"buy"),0),1) -> 0 | BH38: =ROUND(IF(AL38>0,AVERAGEIFS('[1]Данные из терминала'!M:M,'[1]Данные из терминала'!C:C,AI38),0),1) -> 0 | BI38: =IF(AJ38>0,VLOOKUP(AI38,[1]Сводная!A:G,7,0),0) -> 0 | BJ38: =IF(AK38>0,VLOOKUP(AI38,[1]Сводная!A:D,4,0),0) -> 0 | BK38: =IF(AJ38>0,AVERAGEIFS('[1]Данные из терминала'!O:O,'[1]Данные из терминала'!C:C,AI38,'[1]Данные из терминала'!B:B,"sell"),0) -> 0 | BL38: =IF(AK38>0,AVERAGEIFS('[1]Данные из терминала'!O:O,'[1]Данные из терминала'!C:C,AI38,'[1]Данные из терминала'!B:B,"buy"),0) -> 0 | BM38: =IF(AL38>0,AVERAGEIFS('[1]Данные из терминала'!O:O,'[1]Данные из терминала'!C:C,AI38),0) -> 0
A39: 20 | B39: =IF(AND($A39>=C$12,C$12>0),0,IF(AND($A39>=C$9,C$9>0),C$10,IF(AND($A39>=C$6,C$6>0),C$7,0))) -> 0 | C39: =IF(AND($A39>=C$12,C$12>0),C$13,C38+B39) -> 3 | E39: =IF(OR($A39<2,AND(G$15>0,$A39>G$15)),0,IF(AND($A39>=G$12,G$12>0),G$13,IF(AND($A39>=G$9,G$9>0),G$10,IF(AND($A39>=G$6,G$6>0),G$7,0)))) -> 0 | F39: =F38+E39 -> 11 | G39: =G38+F39 -> 181 | I39: =IF(($A39<K$4),1,IF(AND($A39>K$15,K$15>0),I38,IF(AND($A39>=K$12,K$12>0),ROUND(I38+K$13,4),IF(AND($A39>=K$9,K$9>0),ROUND(I38+K$10,4),IF(AND($A39>=K$6,K$6>0),ROUND(I38+K$7,4),K$3))))) -> 1.39 | J39: =IF($A39<K$4, K$2, IF(K$1=0,IF(K$16>0,IF(K$2*K$16<ROUND(J38*I39, 3),K$2*K$16,ROUND(J38*I39, 3)),ROUND(J38*I39, 3)),IF(K$16>0,IF(K$2*K$16<ROUND(K$2*I39, 3),K$2*K$16,ROUND(K$2*I39, 3)),ROUND(K$2*I39, 3)))) -> 20.946 | K39: =K38+ROUND(J39,3) -> 73.864 | M39: =ROUND(C39*O39-K39*$O$6,2) -> 2215.8 | N39: =IF($O$10>0,M39/$O$10,0) -> 0.31654286 | O39: =ROUND(ROUND(K39,2)*$O$4,2) -> 738.6 | P39: =ROUND((ROUND(K38,2)*(G39-G38)*$O$4+P38+J39*$O$6),2) -> 19747.5 | Q39: =P39/$O$10 -> 2.8210714 | R39: =ROUND(P39/O39,0) -> 27 | S39: =ROUND(R39/G39,2) -> 0.15 | T39: =R39+C39 -> 30 | U39: =ROUND(T39/G39,2) -> 0.17 | W39: =ROUND(K39*$O$7,2) -> 13812.57 | X39: =ROUND(P39+W39,2) -> 33560.07 | Z39: =IF($O$10>0,ROUND($O$10-X39,2),0) -> -26560.07 | AA39: =IF($O$10>0,ROUND(X39/$O$10,2),0) -> 4.79 | AB39: =IF(AND(Z39>0,$O$4>0),($O$10-P39-W39*$O$8)/O39,0) -> 0 | AC39: =IF(AB39>0,AB39+G39,0) -> 0 | AD39: 20 | AF39: =IF(P39>0,ROUND(W39/P39,2),0) -> 0.7 | AG39: =IF($O$10>0,ROUND(W39/$O$10,2),0) -> 1.97 | AI39: 20 | AJ39: =COUNTIFS('[1]Данные из терминала'!C:C,AI39,'[1]Данные из терминала'!B:B,"sell") -> 0 | AK39: =COUNTIFS('[1]Данные из терминала'!C:C,AI39,'[1]Данные из терминала'!B:B,"buy") -> 0 | AL39: =COUNTIFS('[1]Данные из терминала'!C:C,AI39) -> 0 | AM39: =SUMIFS('[1]Данные из терминала'!E:E,'[1]Данные из терминала'!C:C,AI39,'[1]Данные из терминала'!B:B,"sell") -> 0 | AN39: =SUMIFS('[1]Данные из терминала'!E:E,'[1]Данные из терминала'!C:C,AI39,'[1]Данные из терминала'!B:B,"buy") -> 0 | AO39: =SUMIFS('[1]Данные из терминала'!E:E,'[1]Данные из терминала'!C:C,AI39) -> 0 | AP39: =SUMIFS('[1]Данные из терминала'!N:N,'[1]Данные из терминала'!C:C,AI39,'[1]Данные из терминала'!B:B,"sell") -> 0 | AQ39: =SUMIFS('[1]Данные из терминала'!N:N,'[1]Данные из терминала'!C:C,AI39,'[1]Данные из терминала'!B:B,"buy") -> 0 | AR39: =SUMIFS('[1]Данные из терминала'!N:N,'[1]Данные из терминала'!C:C,AI39) -> 0 | AS39: =ROUND(IF(AJ39>0,AVERAGEIFS('[1]Данные из терминала'!N:N,'[1]Данные из терминала'!C:C,AI39,'[1]Данные из терминала'!B:B,"sell"),0),2) -> 0 | AT39: =ROUND(IF(AK39>0,AVERAGEIFS('[1]Данные из терминала'!N:N,'[1]Данные из терминала'!C:C,AI39,'[1]Данные из терминала'!B:B,"buy"),0),2) -> 0 | AU39: =ROUND(IF(AL39>0,AVERAGEIFS('[1]Данные из терминала'!N:N,'[1]Данные из терминала'!C:C,AI39),0),2) -> 0 | AV39: =IF(AJ39>0,AP39/$AR$42,0) -> 0 | AW39: =IF(AK39>0,AQ39/$AR$42,0) -> 0 | AX39: =IF(AL39>0,AR39/$AR$42,0) -> 0 | AY39: =IF(AJ39>0,VLOOKUP(AI39,[1]Сводная!A:E,5,0),0) -> 0 | AZ39: =IF(AK39>0,VLOOKUP(AI39,[1]Сводная!A:B,2,0),0) -> 0 | BA39: =ROUND(IF(AJ39>0,AVERAGEIFS('[1]Данные из терминала'!L:L,'[1]Данные из терминала'!C:C,AI39,'[1]Данные из терминала'!B:B,"sell"),0),1) -> 0 | BB39: =ROUND(IF(AK39>0,AVERAGEIFS('[1]Данные из терминала'!L:L,'[1]Данные из терминала'!C:C,AI39,'[1]Данные из терминала'!B:B,"buy"),0),1) -> 0 | BC39: =ROUND(IF(AL39>0,AVERAGEIFS('[1]Данные из терминала'!L:L,'[1]Данные из терминала'!C:C,AI39),0),1) -> 0 | BD39: =IF(AJ39>0,VLOOKUP(AI39,[1]Сводная!A:F,6,0),0) -> 0 | BE39: =IF(AK39>0,VLOOKUP(AI39,[1]Сводная!A:C,3,0),0) -> 0 | BF39: =ROUND(IF(AJ39>0,AVERAGEIFS('[1]Данные из терминала'!M:M,'[1]Данные из терминала'!C:C,AI39,'[1]Данные из терминала'!B:B,"sell"),0),1) -> 0 | BG39: =ROUND(IF(AK39>0,AVERAGEIFS('[1]Данные из терминала'!M:M,'[1]Данные из терминала'!C:C,AI39,'[1]Данные из терминала'!B:B,"buy"),0),1) -> 0 | BH39: =ROUND(IF(AL39>0,AVERAGEIFS('[1]Данные из терминала'!M:M,'[1]Данные из терминала'!C:C,AI39),0),1) -> 0 | BI39: =IF(AJ39>0,VLOOKUP(AI39,[1]Сводная!A:G,7,0),0) -> 0 | BJ39: =IF(AK39>0,VLOOKUP(AI39,[1]Сводная!A:D,4,0),0) -> 0 | BK39: =IF(AJ39>0,AVERAGEIFS('[1]Данные из терминала'!O:O,'[1]Данные из терминала'!C:C,AI39,'[1]Данные из терминала'!B:B,"sell"),0) -> 0 | BL39: =IF(AK39>0,AVERAGEIFS('[1]Данные из терминала'!O:O,'[1]Данные из терминала'!C:C,AI39,'[1]Данные из терминала'!B:B,"buy"),0) -> 0 | BM39: =IF(AL39>0,AVERAGEIFS('[1]Данные из терминала'!O:O,'[1]Данные из терминала'!C:C,AI39),0) -> 0
AI42: ИТОГО: | AJ42: =SUM(AJ20:AJ39) -> 373 | AK42: =SUM(AK20:AK39) -> 312 | AL42: =SUM(AL20:AL39) -> 685 | AM42: =SUM(AM20:AM39) -> 669.19 | AN42: =SUM(AN20:AN39) -> 815.99 | AO42: =SUM(AO20:AO39) -> 1485.18 | AP42: =SUM(AP20:AP39) -> 54888.36 | AQ42: =SUM(AQ20:AQ39) -> 53420.73 | AR42: =SUM(AR20:AR39) -> 108309.09
B43: 1 | F43: 2 | J43: 3 | M43: 4 | W43: 5 | AA43: 6 | AF43: 7 | AW43: 8
A45: AddComment | C45: =VLOOKUP(A45,[1]SET_import!$A:$B,2,0) -> 0
I46: S_CalcLotType | K46: =VLOOKUP(I46,[1]SET_import!$A:$B,2,0) -> 0
A47: S_TakeProffit | C47: =VLOOKUP(A47,[1]SET_import!$A:$B,2,0) -> 15 | E47: S_GridStep | G47: =VLOOKUP(E47,[1]SET_import!$A:$B,2,0) -> 4 | I47: S_MinLot | K47: =VLOOKUP(I47,[1]SET_import!$A:$B,2,0) -> 0.01
I48: S_Mult | K48: =VLOOKUP(I48,[1]SET_import!$A:$B,2,0) -> 1.7
I49: S_MultStart | K49: =VLOOKUP(I49,[1]SET_import!$A:$B,2,0) -> 2
A51: S_TakeProffit_Level1 | C51: =VLOOKUP(A51,[1]SET_import!$A:$B,2,0) -> 5 | E51: S_GridLevel | G51: =VLOOKUP(E51,[1]SET_import!$A:$B,2,0) -> 3 | I51: S_MultLevel2 | K51: =VLOOKUP(I51,[1]SET_import!$A:$B,2,0) -> 6
A52: S_TakeProffit_Level1Corr | C52: =VLOOKUP(A52,[1]SET_import!$A:$B,2,0) -> -1 | E52: S_GridStep_AddPips | G52: =VLOOKUP(E52,[1]SET_import!$A:$B,2,0) -> 1 | I52: S_MultCorr | K52: =VLOOKUP(I52,[1]SET_import!$A:$B,2,0) -> -0.1
A54: S_TakeProffit_Level1_5 | C54: =VLOOKUP(A54,[1]SET_import!$A:$B,2,0) -> 10 | E54: S_GridStep_Level2 | G54: =VLOOKUP(E54,[1]SET_import!$A:$B,2,0) -> 10 | I54: S_MultLevel3 | K54: =VLOOKUP(I54,[1]SET_import!$A:$B,2,0) -> 8
A55: S_TakeProffit_Level1_5Corr | C55: =VLOOKUP(A55,[1]SET_import!$A:$B,2,0) -> -2 | E55: S_GridStep_Level2_AddPips | G55: =VLOOKUP(E55,[1]SET_import!$A:$B,2,0) -> 0 | I55: S_MultСorrLevel3 | K55: =VLOOKUP(I55,[1]SET_import!$A:$B,2,0) -> 0.01
A57: S_TakeProffit_Level2 | C57: =VLOOKUP(A57,[1]SET_import!$A:$B,2,0) -> 12 | E57: S_Grid3 | G57: =VLOOKUP(E57,[1]SET_import!$A:$B,2,0) -> 0 | I57: S_Mult3 | K57: =VLOOKUP(I57,[1]SET_import!$A:$B,2,0) -> 12
A58: S_TakeProffit_Level2FixPips | C58: =VLOOKUP(A58,[1]SET_import!$A:$B,2,0) -> 3 | E58: S_Grid3Add | G58: =VLOOKUP(E58,[1]SET_import!$A:$B,2,0) -> 0 | I58: S_Mult3Add | K58: =VLOOKUP(I58,[1]SET_import!$A:$B,2,0) -> -0.15
E60: S_GridStop | G60: =VLOOKUP(E60,[1]SET_import!$A:$B,2,0) -> 0 | I60: S_MultStop | K60: =VLOOKUP(I60,[1]SET_import!$A:$B,2,0) -> 12
A61: S_MaxOpenOrders | C61: =VLOOKUP(A61,[1]SET_import!$A:$B,2,0) -> 15 | I61: S_MaxLotCoef | K61: =VLOOKUP(I61,[1]SET_import!$A:$B,2,0) -> 0
A63: ReflectSellSettingsToBuy | C63: =VLOOKUP(A63,[1]SET_import!$A:$B,2,0) -> 1
I65: B_CalcLotType | K65: =VLOOKUP(I65,[1]SET_import!$A:$B,2,0) -> 0
A66: B_TakeProffit | C66: =VLOOKUP(A66,[1]SET_import!$A:$B,2,0) -> 14 | E66: B_GridStep | G66: =VLOOKUP(E66,[1]SET_import!$A:$B,2,0) -> 16 | I66: B_MinLot | K66: =VLOOKUP(I66,[1]SET_import!$A:$B,2,0) -> 0.01
I67: B_Mult | K67: =VLOOKUP(I67,[1]SET_import!$A:$B,2,0) -> 1.4
I68: B_MultStart | K68: =VLOOKUP(I68,[1]SET_import!$A:$B,2,0) -> 3
A70: B_TakeProffit_Level1 | C70: =VLOOKUP(A70,[1]SET_import!$A:$B,2,0) -> 6 | E70: B_GridLevel | G70: =VLOOKUP(E70,[1]SET_import!$A:$B,2,0) -> 6 | I70: B_MultLevel2 | K70: =VLOOKUP(I70,[1]SET_import!$A:$B,2,0) -> 11
A71: B_TakeProffit_Level1Corr | C71: =VLOOKUP(A71,[1]SET_import!$A:$B,2,0) -> 1 | E71: B_GridStep_AddPips | G71: =VLOOKUP(E71,[1]SET_import!$A:$B,2,0) -> 1 | I71: B_MultCorr | K71: =VLOOKUP(I71,[1]SET_import!$A:$B,2,0) -> 0.02
A73: B_TakeProffit_Level1_5 | C73: =VLOOKUP(A73,[1]SET_import!$A:$B,2,0) -> 0 | E73: B_GridStep_Level2 | G73: =VLOOKUP(E73,[1]SET_import!$A:$B,2,0) -> 10 | I73: B_MultLevel3 | K73: =VLOOKUP(I73,[1]SET_import!$A:$B,2,0) -> 0
A74: B_TakeProffit_Level1_5Corr | C74: =VLOOKUP(A74,[1]SET_import!$A:$B,2,0) -> 0 | E74: B_GridStep_Level2_AddPips | G74: =VLOOKUP(E74,[1]SET_import!$A:$B,2,0) -> 6 | I74: B_MultСorrLevel3 | K74: =VLOOKUP(I74,[1]SET_import!$A:$B,2,0) -> 0
A76: B_TakeProffit_Level2 | C76: =VLOOKUP(A76,[1]SET_import!$A:$B,2,0) -> 0 | E76: B_Grid3 | G76: =VLOOKUP(E76,[1]SET_import!$A:$B,2,0) -> 0 | I76: B_Mult3 | K76: =VLOOKUP(I76,[1]SET_import!$A:$B,2,0) -> 0
A77: B_TakeProffit_Level2FixPips | C77: =VLOOKUP(A77,[1]SET_import!$A:$B,2,0) -> 0 | E77: B_Grid3Add | G77: =VLOOKUP(E77,[1]SET_import!$A:$B,2,0) -> 0 | I77: B_Mult3Add | K77: =VLOOKUP(I77,[1]SET_import!$A:$B,2,0) -> 0
E79: B_GridStop | G79: =VLOOKUP(E79,[1]SET_import!$A:$B,2,0) -> 0 | I79: B_MultStop | K79: =VLOOKUP(I79,[1]SET_import!$A:$B,2,0) -> 0
A80: B_MaxOpenOrders | C80: =VLOOKUP(A80,[1]SET_import!$A:$B,2,0) -> 15 | I80: B_MaxLotCoef | K80: =VLOOKUP(I80,[1]SET_import!$A:$B,2,0) -> 0
