Workbook

Sheet Тень кукла
A1: eurusd | B1: 7 | C1: 7 | D1: 7 | E1: 7 | F1: 7 | G1: -21 | H1: 7 | I1: 7 | J1: 7 | K1: 7
A2: =SUM(B1:K3) -> 42
A3: 5
A4: gbpusd | B4: 7 | C4: 7 | D4: 7 | E4: 7 | F4: 7 | G4: 7 | H4: 7 | I4: 7 | J4: 7 | K4: 7
A5: =SUM(B4:K9) -> 101 | B5: -21 | C5: 7 | D5: 7 | E5: 7 | F5: 7 | G5: 7 | H5: 7 | I5: 7 | J5: -21 | K5: 7
A6: 10 | B6: 7 | C6: 7 | D6: -21 | E6: 7 | F6: 7 | G6: 7 | H6: 7 | I6: 7 | J6: -21 | K6: 10
B7: 10 | C7: 10 | D7: 10 | E7: -20 | F7: 10 | G7: 10 | H7: 10 | I7: -20 | J7: 10 | K7: 10
B8: 10 | C8: 10 | D8: -20 | E8: 10 | F8: -20 | G8: 10 | H8: -20 | I8: -20
A10: =SUM(A2,A5,) -> 143 | B10: + | C10: =COUNTIF(B1:K9,">0")/COUNT(B1:K9) -> 0.81034483 | D10: - | E10: =COUNTIF(B1:K9,"<0")/COUNT(B1:K9) -> 0.18965517
A14: usdjpy | B14: 7 | C14: -21 | D14: 7 | E14: -21 | F14: -21
A15: =SUM(B14:I15) -> -49
A16: nzdusd | B16: 7 | C16: -21 | D16: 7 | E16: 7 | F16: 7 | G16: -21
A17: =SUM(B16:K18) -> -14
A19: usdcad | B19: 7 | C19: -21 | D19: 7 | E19: 7 | F19: 7 | G19: 7 | H19: -21 | I19: -21
A20: =SUM(B19:K21) -> -28
A21: 0.50
A22: audusd | B22: 7 | C22: -21 | D22: 7 | E22: 7 | F22: 7 | G22: 7 | H22: 7 | I22: 7 | J22: 7 | K22: -21
A23: =SUM(B22:K24) -> -7 | B23: -21
A24: 0.35

Sheet Лист1
A1: -15 | B1: 15 | C1: -15

Sheet Лист2
A1: =IF('Тень кукла'!#REF!>0,'Тень кукла'!#REF!,0) -> #REF! | B1: =IF('Тень кукла'!#REF!>0,'Тень кукла'!#REF!,0) -> #REF! | C1: =IF('Тень кукла'!#REF!>0,'Тень кукла'!#REF!,0) -> #REF! | D1: =IF('Тень кукла'!#REF!>0,'Тень кукла'!#REF!,0) -> #REF! | E1: =IF('Тень кукла'!#REF!>0,'Тень кукла'!#REF!,0) -> #REF! | F1: =IF('Тень кукла'!#REF!>0,'Тень кукла'!#REF!,0) -> #REF! | G1: =IF('Тень кукла'!#REF!>0,'Тень кукла'!#REF!,0) -> #REF! | H1: =IF('Тень кукла'!#REF!>0,'Тень кукла'!#REF!,0) -> #REF! | ... J1: =IF('Тень кукла'!#REF!>0,'Тень кукла'!#REF!,0) -> #REF! | K1: =IF('Тень кукла'!L1>0,'Тень кукла'!L1,0) -> 0 | L1: =IF('Тень кукла'!M1>0,'Тень кукла'!M1,0) -> 0
A2: =IF('Тень кукла'!#REF!>0,'Тень кукла'!#REF!,0) -> #REF! | B2: =IF('Тень кукла'!#REF!>0,'Тень кукла'!#REF!,0) -> #REF! | C2: =IF('Тень кукла'!#REF!>0,'Тень кукла'!#REF!,0) -> #REF! | D2: =IF('Тень кукла'!#REF!>0,'Тень кукла'!#REF!,0) -> #REF! | E2: =IF('Тень кукла'!#REF!>0,'Тень кукла'!#REF!,0) -> #REF! | F2: =IF('Тень кукла'!#REF!>0,'Тень кукла'!#REF!,0) -> #REF! | G2: =IF('Тень кукла'!#REF!>0,'Тень кукла'!#REF!,0) -> #REF! | H2: =IF('Тень кукла'!#REF!>0,'Тень кукла'!#REF!,0) -> #REF! | ... J2: =IF('Тень кукла'!#REF!>0,'Тень кукла'!#REF!,0) -> #REF! | K2: =IF('Тень кукла'!L2>0,'Тень кукла'!L2,0) -> 0 | L2: =IF('Тень кукла'!M2>0,'Тень кукла'!M2,0) -> 0
A3: =IF('Тень кукла'!#REF!>0,'Тень кукла'!#REF!,0) -> #REF! | B3: =IF('Тень кукла'!#REF!>0,'Тень кукла'!#REF!,0) -> #REF! | C3: =IF('Тень кукла'!#REF!>0,'Тень кукла'!#REF!,0) -> #REF! | D3: =IF('Тень кукла'!#REF!>0,'Тень кукла'!#REF!,0) -> #REF! | E3: =IF('Тень кукла'!#REF!>0,'Тень кукла'!#REF!,0) -> #REF! | F3: =IF('Тень кукла'!#REF!>0,'Тень кукла'!#REF!,0) -> #REF! | G3: =IF('Тень кукла'!#REF!>0,'Тень кукла'!#REF!,0) -> #REF! | H3: =IF('Тень кукла'!#REF!>0,'Тень кукла'!#REF!,0) -> #REF! | ... J3: =IF('Тень кукла'!#REF!>0,'Тень кукла'!#REF!,0) -> #REF! | K3: =IF('Тень кукла'!L3>0,'Тень кукла'!L3,0) -> 0 | L3: =IF('Тень кукла'!M3>0,'Тень кукла'!M3,0) -> 0
A4: =IF('Тень кукла'!B1>0,'Тень кукла'!B1,0) -> 7 | B4: =IF('Тень кукла'!C1>0,'Тень кукла'!C1,0) -> 7 | C4: =IF('Тень кукла'!D1>0,'Тень кукла'!D1,0) -> 7 | D4: =IF('Тень кукла'!E1>0,'Тень кукла'!E1,0) -> 7 | E4: =IF('Тень кукла'!F1>0,'Тень кукла'!F1,0) -> 7 | F4: =IF('Тень кукла'!G1>0,'Тень кукла'!G1,0) -> 0 | G4: =IF('Тень кукла'!H1>0,'Тень кукла'!H1,0) -> 7 | H4: =IF('Тень кукла'!I1>0,'Тень кукла'!I1,0) -> 7 | ... J4: =IF('Тень кукла'!K1>0,'Тень кукла'!K1,0) -> 7 | K4: =IF('Тень кукла'!L4>0,'Тень кукла'!L4,0) -> 0 | L4: =IF('Тень кукла'!M4>0,'Тень кукла'!M4,0) -> 0
A5: =IF('Тень кукла'!B2>0,'Тень кукла'!B2,0) -> 0 | B5: =IF('Тень кукла'!C2>0,'Тень кукла'!C2,0) -> 0 | C5: =IF('Тень кукла'!D2>0,'Тень кукла'!D2,0) -> 0 | D5: =IF('Тень кукла'!E2>0,'Тень кукла'!E2,0) -> 0 | E5: =IF('Тень кукла'!F2>0,'Тень кукла'!F2,0) -> 0 | F5: =IF('Тень кукла'!G2>0,'Тень кукла'!G2,0) -> 0 | G5: =IF('Тень кукла'!H2>0,'Тень кукла'!H2,0) -> 0 | H5: =IF('Тень кукла'!I2>0,'Тень кукла'!I2,0) -> 0 | ... J5: =IF('Тень кукла'!K2>0,'Тень кукла'!K2,0) -> 0 | K5: =IF('Тень кукла'!L5>0,'Тень кукла'!L5,0) -> 0 | L5: =IF('Тень кукла'!M5>0,'Тень кукла'!M5,0) -> 0
A6: =IF('Тень кукла'!B3>0,'Тень кукла'!B3,0) -> 0 | B6: =IF('Тень кукла'!C3>0,'Тень кукла'!C3,0) -> 0 | C6: =IF('Тень кукла'!D3>0,'Тень кукла'!D3,0) -> 0 | D6: =IF('Тень кукла'!E3>0,'Тень кукла'!E3,0) -> 0 | E6: =IF('Тень кукла'!F3>0,'Тень кукла'!F3,0) -> 0 | F6: =IF('Тень кукла'!G3>0,'Тень кукла'!G3,0) -> 0 | G6: =IF('Тень кукла'!H3>0,'Тень кукла'!H3,0) -> 0 | H6: =IF('Тень кукла'!I3>0,'Тень кукла'!I3,0) -> 0 | ... J6: =IF('Тень кукла'!K3>0,'Тень кукла'!K3,0) -> 0 | K6: =IF('Тень кукла'!L6>0,'Тень кукла'!L6,0) -> 0 | L6: =IF('Тень кукла'!M6>0,'Тень кукла'!M6,0) -> 0
A7: =IF('Тень кукла'!B4>0,'Тень кукла'!B4,0) -> 7 | B7: =IF('Тень кукла'!C4>0,'Тень кукла'!C4,0) -> 7 | C7: =IF('Тень кукла'!D4>0,'Тень кукла'!D4,0) -> 7 | D7: =IF('Тень кукла'!E4>0,'Тень кукла'!E4,0) -> 7 | E7: =IF('Тень кукла'!F4>0,'Тень кукла'!F4,0) -> 7 | F7: =IF('Тень кукла'!G4>0,'Тень кукла'!G4,0) -> 7 | G7: =IF('Тень кукла'!H4>0,'Тень кукла'!H4,0) -> 7 | H7: =IF('Тень кукла'!I4>0,'Тень кукла'!I4,0) -> 7 | ... J7: =IF('Тень кукла'!K4>0,'Тень кукла'!K4,0) -> 7 | K7: =IF('Тень кукла'!L10>0,'Тень кукла'!L10,0) -> 0 | L7: =IF('Тень кукла'!M10>0,'Тень кукла'!M10,0) -> 0
A8: =IF('Тень кукла'!B5>0,'Тень кукла'!B5,0) -> 0 | B8: =IF('Тень кукла'!C5>0,'Тень кукла'!C5,0) -> 7 | C8: =IF('Тень кукла'!D5>0,'Тень кукла'!D5,0) -> 7 | D8: =IF('Тень кукла'!E5>0,'Тень кукла'!E5,0) -> 7 | E8: =IF('Тень кукла'!F5>0,'Тень кукла'!F5,0) -> 7 | F8: =IF('Тень кукла'!G5>0,'Тень кукла'!G5,0) -> 7 | G8: =IF('Тень кукла'!H5>0,'Тень кукла'!H5,0) -> 7 | H8: =IF('Тень кукла'!I5>0,'Тень кукла'!I5,0) -> 7 | ... J8: =IF('Тень кукла'!K5>0,'Тень кукла'!K5,0) -> 7 | K8: =IF('Тень кукла'!L11>0,'Тень кукла'!L11,0) -> 0 | L8: =IF('Тень кукла'!M11>0,'Тень кукла'!M11,0) -> 0
A9: =IF('Тень кукла'!B6>0,'Тень кукла'!B6,0) -> 7 | B9: =IF('Тень кукла'!C6>0,'Тень кукла'!C6,0) -> 7 | C9: =IF('Тень кукла'!D6>0,'Тень кукла'!D6,0) -> 0 | D9: =IF('Тень кукла'!E6>0,'Тень кукла'!E6,0) -> 7 | E9: =IF('Тень кукла'!F6>0,'Тень кукла'!F6,0) -> 7 | F9: =IF('Тень кукла'!G6>0,'Тень кукла'!G6,0) -> 7 | G9: =IF('Тень кукла'!H6>0,'Тень кукла'!H6,0) -> 7 | H9: =IF('Тень кукла'!I6>0,'Тень кукла'!I6,0) -> 7 | ... J9: =IF('Тень кукла'!K6>0,'Тень кукла'!K6,0) -> 10 | K9: =IF('Тень кукла'!L12>0,'Тень кукла'!L12,0) -> 0 | L9: =IF('Тень кукла'!M12>0,'Тень кукла'!M12,0) -> 0
A10: =IF('Тень кукла'!#REF!>0,'Тень кукла'!#REF!,0) -> #REF! | B10: =IF('Тень кукла'!#REF!>0,'Тень кукла'!#REF!,0) -> #REF! | C10: =IF('Тень кукла'!#REF!>0,'Тень кукла'!#REF!,0) -> #REF! | D10: =IF('Тень кукла'!#REF!>0,'Тень кукла'!#REF!,0) -> #REF! | E10: =IF('Тень кукла'!#REF!>0,'Тень кукла'!#REF!,0) -> #REF! | F10: =IF('Тень кукла'!#REF!>0,'Тень кукла'!#REF!,0) -> #REF! | G10: =IF('Тень кукла'!#REF!>0,'Тень кукла'!#REF!,0) -> #REF! | H10: =IF('Тень кукла'!#REF!>0,'Тень кукла'!#REF!,0) -> #REF! | ... J10: =IF('Тень кукла'!#REF!>0,'Тень кукла'!#REF!,0) -> #REF! | K10: =IF('Тень кукла'!L13>0,'Тень кукла'!L13,0) -> 0 | L10: =IF('Тень кукла'!M13>0,'Тень кукла'!M13,0) -> 0
A11: =IF('Тень кукла'!#REF!>0,'Тень кукла'!#REF!,0) -> #REF! | B11: =IF('Тень кукла'!#REF!>0,'Тень кукла'!#REF!,0) -> #REF! | C11: =IF('Тень кукла'!#REF!>0,'Тень кукла'!#REF!,0) -> #REF! | D11: =IF('Тень кукла'!#REF!>0,'Тень кукла'!#REF!,0) -> #REF! | E11: =IF('Тень кукла'!#REF!>0,'Тень кукла'!#REF!,0) -> #REF! | F11: =IF('Тень кукла'!#REF!>0,'Тень кукла'!#REF!,0) -> #REF! | G11: =IF('Тень кукла'!#REF!>0,'Тень кукла'!#REF!,0) -> #REF! | H11: =IF('Тень кукла'!#REF!>0,'Тень кукла'!#REF!,0) -> #REF! | ... J11: =IF('Тень кукла'!#REF!>0,'Тень кукла'!#REF!,0) -> #REF! | K11: =IF('Тень кукла'!L14>0,'Тень кукла'!L14,0) -> 0 | L11: =IF('Тень кукла'!M14>0,'Тень кукла'!M14,0) -> 0
A12: =IF('Тень кукла'!#REF!>0,'Тень кукла'!#REF!,0) -> #REF! | B12: =IF('Тень кукла'!#REF!>0,'Тень кукла'!#REF!,0) -> #REF! | C12: =IF('Тень кукла'!#REF!>0,'Тень кукла'!#REF!,0) -> #REF! | D12: =IF('Тень кукла'!#REF!>0,'Тень кукла'!#REF!,0) -> #REF! | E12: =IF('Тень кукла'!#REF!>0,'Тень кукла'!#REF!,0) -> #REF! | F12: =IF('Тень кукла'!#REF!>0,'Тень кукла'!#REF!,0) -> #REF! | G12: =IF('Тень кукла'!#REF!>0,'Тень кукла'!#REF!,0) -> #REF! | H12: =IF('Тень кукла'!#REF!>0,'Тень кукла'!#REF!,0) -> #REF! | ... J12: =IF('Тень кукла'!#REF!>0,'Тень кукла'!#REF!,0) -> #REF! | K12: =IF('Тень кукла'!L15>0,'Тень кукла'!L15,0) -> 0 | L12: =IF('Тень кукла'!M15>0,'Тень кукла'!M15,0) -> 0
A13: =IF('Тень кукла'!#REF!>0,'Тень кукла'!#REF!,0) -> #REF! | B13: =IF('Тень кукла'!#REF!>0,'Тень кукла'!#REF!,0) -> #REF! | C13: =IF('Тень кукла'!#REF!>0,'Тень кукла'!#REF!,0) -> #REF! | D13: =IF('Тень кукла'!#REF!>0,'Тень кукла'!#REF!,0) -> #REF! | E13: =IF('Тень кукла'!#REF!>0,'Тень кукла'!#REF!,0) -> #REF! | F13: =IF('Тень кукла'!#REF!>0,'Тень кукла'!#REF!,0) -> #REF! | G13: =IF('Тень кукла'!#REF!>0,'Тень кукла'!#REF!,0) -> #REF! | H13: =IF('Тень кукла'!#REF!>0,'Тень кукла'!#REF!,0) -> #REF! | ... J13: =IF('Тень кукла'!#REF!>0,'Тень кукла'!#REF!,0) -> #REF! | K13: =IF('Тень кукла'!L16>0,'Тень кукла'!L16,0) -> 0 | L13: =IF('Тень кукла'!M16>0,'Тень кукла'!M16,0) -> 0
A14: =IF('Тень кукла'!#REF!>0,'Тень кукла'!#REF!,0) -> #REF! | B14: =IF('Тень кукла'!#REF!>0,'Тень кукла'!#REF!,0) -> #REF! | C14: =IF('Тень кукла'!#REF!>0,'Тень кукла'!#REF!,0) -> #REF! | D14: =IF('Тень кукла'!#REF!>0,'Тень кукла'!#REF!,0) -> #REF! | E14: =IF('Тень кукла'!#REF!>0,'Тень кукла'!#REF!,0) -> #REF! | F14: =IF('Тень кукла'!#REF!>0,'Тень кукла'!#REF!,0) -> #REF! | G14: =IF('Тень кукла'!#REF!>0,'Тень кукла'!#REF!,0) -> #REF! | H14: =IF('Тень кукла'!#REF!>0,'Тень кукла'!#REF!,0) -> #REF! | ... J14: =IF('Тень кукла'!#REF!>0,'Тень кукла'!#REF!,0) -> #REF! | K14: =IF('Тень кукла'!L17>0,'Тень кукла'!L17,0) -> 0 | L14: =IF('Тень кукла'!M17>0,'Тень кукла'!M17,0) -> 0
A15: =IF('Тень кукла'!#REF!>0,'Тень кукла'!#REF!,0) -> #REF! | B15: =IF('Тень кукла'!#REF!>0,'Тень кукла'!#REF!,0) -> #REF! | C15: =IF('Тень кукла'!#REF!>0,'Тень кукла'!#REF!,0) -> #REF! | D15: =IF('Тень кукла'!#REF!>0,'Тень кукла'!#REF!,0) -> #REF! | E15: =IF('Тень кукла'!#REF!>0,'Тень кукла'!#REF!,0) -> #REF! | F15: =IF('Тень кукла'!#REF!>0,'Тень кукла'!#REF!,0) -> #REF! | G15: =IF('Тень кукла'!#REF!>0,'Тень кукла'!#REF!,0) -> #REF! | H15: =IF('Тень кукла'!#REF!>0,'Тень кукла'!#REF!,0) -> #REF! | ... J15: =IF('Тень кукла'!#REF!>0,'Тень кукла'!#REF!,0) -> #REF! | K15: =IF('Тень кукла'!L18>0,'Тень кукла'!L18,0) -> 0 | L15: =IF('Тень кукла'!M18>0,'Тень кукла'!M18,0) -> 0
A16: =IF('Тень кукла'!B10>0,'Тень кукла'!B10,0) -> + | B16: =IF('Тень кукла'!C10>0,'Тень кукла'!C10,0) -> 0.81034483 | C16: =IF('Тень кукла'!D10>0,'Тень кукла'!D10,0) -> - | D16: =IF('Тень кукла'!E10>0,'Тень кукла'!E10,0) -> 0.18965517 | E16: =IF('Тень кукла'!F10>0,'Тень кукла'!F10,0) -> 0 | F16: =IF('Тень кукла'!G10>0,'Тень кукла'!G10,0) -> 0 | G16: =IF('Тень кукла'!H10>0,'Тень кукла'!H10,0) -> 0 | H16: =IF('Тень кукла'!I10>0,'Тень кукла'!I10,0) -> 0 | ... J16: =IF('Тень кукла'!K10>0,'Тень кукла'!K10,0) -> 0 | K16: =IF('Тень кукла'!L19>0,'Тень кукла'!L19,0) -> 0 | L16: =IF('Тень кукла'!M19>0,'Тень кукла'!M19,0) -> 0
A17: =IF('Тень кукла'!B11>0,'Тень кукла'!B11,0) -> 0 | B17: =IF('Тень кукла'!C11>0,'Тень кукла'!C11,0) -> 0 | C17: =IF('Тень кукла'!D11>0,'Тень кукла'!D11,0) -> 0 | D17: =IF('Тень кукла'!E11>0,'Тень кукла'!E11,0) -> 0 | E17: =IF('Тень кукла'!F11>0,'Тень кукла'!F11,0) -> 0 | F17: =IF('Тень кукла'!G11>0,'Тень кукла'!G11,0) -> 0 | G17: =IF('Тень кукла'!H11>0,'Тень кукла'!H11,0) -> 0 | H17: =IF('Тень кукла'!I11>0,'Тень кукла'!I11,0) -> 0 | ... J17: =IF('Тень кукла'!K11>0,'Тень кукла'!K11,0) -> 0 | K17: =IF('Тень кукла'!L20>0,'Тень кукла'!L20,0) -> 0 | L17: =IF('Тень кукла'!M20>0,'Тень кукла'!M20,0) -> 0
A18: =IF('Тень кукла'!B12>0,'Тень кукла'!B12,0) -> 0 | B18: =IF('Тень кукла'!C12>0,'Тень кукла'!C12,0) -> 0 | C18: =IF('Тень кукла'!D12>0,'Тень кукла'!D12,0) -> 0 | D18: =IF('Тень кукла'!E12>0,'Тень кукла'!E12,0) -> 0 | E18: =IF('Тень кукла'!F12>0,'Тень кукла'!F12,0) -> 0 | F18: =IF('Тень кукла'!G12>0,'Тень кукла'!G12,0) -> 0 | G18: =IF('Тень кукла'!H12>0,'Тень кукла'!H12,0) -> 0 | H18: =IF('Тень кукла'!I12>0,'Тень кукла'!I12,0) -> 0 | ... J18: =IF('Тень кукла'!K12>0,'Тень кукла'!K12,0) -> 0 | K18: =IF('Тень кукла'!L21>0,'Тень кукла'!L21,0) -> 0 | L18: =IF('Тень кукла'!M21>0,'Тень кукла'!M21,0) -> 0 | M18: =SUM(A1:L18) -> #REF!

Sheet Qqealert v3
